{"text_format":"1","workbook":"xlsx","n_sheets":9,"sheets":["title","sum","all","Y2","opt","opt2","s","H","ino"],"not_rendered":{"charts":7,"images":7,"macros":1,"external_links":0,"defined_names":8,"comments":2,"pivot_tables":0},"unopened":[],"bounds":{"document_bytes":16777216,"sheet_cells":100000,"rows_first":2000,"rows_last":500,"rows_between":2000,"halvings":0,"cell_chars":16384,"cell_head_chars":4096},"cells_cut":0,"cells_raw":0,"read":"whole","date_system":"1900"}

{"sheet":"title","index":0,"n_rows":147,"n_cols":12,"rows_kept":147,"cut":false,"hidden":false,"merged":[]}
[]
[]
[]
[]
[]
[]
[null," Options Analysis Software for Excel"]
[null,null,"DEMO datafeed limited"]
[]
[]
[null,"COPYRIGHT 2022     ALL RIGHTS RESERVED"]
[null,"              STAR RESEARCH, INC."]
[null,null,"http://www.optionstar.com"]
[]
[]
[]
[]
[]
[null,"END USER LICENSE AGREEMENT:"]
[null,"I AGREE THAT BY USING THIS SOFTWARE,  I WILL NOT HOLD THE DEVELOPER OR  "]
[null,"STAR RESEARCH INC. LIABLE FOR ANY TRADING DECISIONS MADE BY USING OPTIONSTAR."]
[]
[null,"* Data feed web downloads are subject to change.  Data is believed to be accurate, but use it at your"]
[null,"   own risk."]
[]
[null,"Star Research Inc. provides to you Optionstar as is and with all faults; and disclaims all"]
[null,"warranties and conditions whether express implied or statutory including but not limited to any"]
[null,"(if any) warranties or conditions of or related to: title non-infringement merchantability fitness"]
[null,"for a particular purpose lack of viruses accuracy or completeness of responses results lack of "]
[null,"negligence or lack of workmanlike effort quiet enjoyment quiet possession and correspondence to"]
[null,"description."]
[]
[null,"The entire risk arising out of use or performance of Optionstar remains with you."]
[null,"In no event shall Star Research Inc. be liable for any"]
[null,"special incidental indirect or consequential damages whatsoever (including but not limited to"]
[null,"damages for: loss of profits and failure to meet any duty (including of good faith or reasonable care) "]
[null,"or negligence arising out of or in any way related to use of or inability to use the software."]
[]
[]
[null,"STREAMER: QUICK SETUP <td-ameritrade THINK or SWIM accounts>"]
[]
[null,"1. Open and Login to TOS platform"]
[null,"2  Select datafeed stocks1, click update button D4"]
[]
[]
[]
[]
[]
[]
[]
[]
[]
[]
[]
[]
[]
[]
[]
[]
[]
[]
[]
[]
[]
[]
[]
[]
[null,"3 Select datafeed:  tos stream (acct reqd)"]
[]
[]
[]
[]
[]
[]
[]
[]
[]
[]
[]
[]
[]
[]
[]
[]
[]
[]
[]
[]
[]
[]
[]
[]
[]
[]
[]
[]
[]
[]
[]
[]
[]
[]
[]
[]
[]
[]
[]
[]
[]
[]
[]
[]
[]
[]
[]
[]
[]
[]
[]
[null,"STREAMER: QUICK SETUP <IB>"]
[]
[]
[null,"1.  Download and install the latest version of TWS API onto your PC."]
[null,"http://interactivebrokers.github.io/#"]
[null,"  Click on Proprietary API tab, download latest version"]
[null,"2.   Login to TWS workstation and enable dde,  Menu: Edit, Global Config, API"]
[null,"http://www.interactivebrokers.com/en/software/twsDisclaimer.php?ib_entity=llc"]
[null,"   OR if you don't yet have an IB account.. Start tws demo"]
[null,"http://www.interactivebrokers.com/en/software/twsDisclaimer.php?twsdemo=1"]
[null,"    enable dde:  Menu: Edit, Global Config, API"]
[]
[]
[null,"3. Type in underlying symbol in green cell b2"]
[null,"4. Select ib stream (acct reqd): realtime stream (ib)"]
[null,"5. Type in your IB Username in cell b7",null,null,null,null,null,null,null,null,"6. Click on the update options button. d4"]
[]
[]
[]
[]
[]
[null,null,null,null,null,null,null,null,null,null,"7. Click update stream button d8"]
[]
[]
[null,"Trouble shooting if update stream button d8 hangs up.."]
[null,"1. make sure you have enable dde's in tws",null,null,null,null,null,null,null,null,null,"2. windows 7, tws browser based:"]
[null,null,null,null,null,null,null,null,null,null,null,"    make sure you are running 64bit java"]
[null,null,null,null,null,null,null,null,null,null,null,"http://www.java.com/en/download/manual.jsp"]

{"sheet":"sum","index":1,"n_rows":514,"n_cols":62,"rows_kept":514,"cut":false,"hidden":false,"merged":[]}
[{"$f":"VLOOKUP(C2,$AG$225:$AH$233,2)","v":10},"symbol","price","expiration",{"$f":"s!F2","v":"12:16PM EDT"},"CUSTOM SPREAD",null,null,null,null,null,{"$f":"1-NORMSDIST(LN(ABS(B8)/$C$2)/(B6*SQRT((D2-NOW())/365)))","v":0.5},{"$f":"NORMSDIST(LN(ABS(B8)/$C$2)/(B6*SQRT((D2-NOW())/365)))","v":0.5},null,1,{"$f":"VLOOKUP($O$1,all!$P$2:$R$6,3)","v":0},1,1,null,null,null,null,null,null,null,null,{"$f":"C2/10","v":16.791999999999998},null,null,{"$f":"all!AQ1","v":1},{"$f":"all!AP3","v":1},1,{"$f":"NOW()","v":"2022-08-28T09:32:01.130"},{"$f":"Q3","v":83.95999999999998},{"$f":"(AJ1-AH1)/2+AH1","v":92.35599999999998},{"$f":"R3","v":100.75199999999998},{"$f":"(AL1-AJ1)/2+AJ1","v":109.14799999999998},{"$f":"S3","v":117.54399999999998},{"$f":"(AN1-AL1)/2+AL1","v":125.93999999999998},{"$f":"T3","v":134.33599999999998},{"$f":"(AP1-AN1)/2+AN1","v":142.73199999999997},{"$f":"U3","v":151.12799999999999},{"$f":"(AR1-AP1)/2+AP1","v":159.524},{"$f":"V3","v":167.92},{"$f":"(AT1-AR1)/2+AR1","v":176.31599999999997},{"$f":"W3","v":184.71199999999999},{"$f":"(AV1-AT1)/2+AT1","v":193.108},{"$f":"X3","v":201.50399999999999},{"$f":"(AX1-AV1)/2+AV1","v":209.89999999999998},{"$f":"Y3","v":218.29599999999999},{"$f":"(AZ1-AX1)/2+AX1","v":226.69200000000001},{"$f":"Z3","v":235.08799999999999},{"$f":"(BB1-AZ1)/2+AZ1","v":243.48399999999998},{"$f":"AA3","v":251.88},null,"strike interv",null,4]
[null,"AAPL",167.92,"2022-09-16",{"$f":"LEFT(B2,(LEN(B2)-2))&RIGHT(B2,1)","v":"AAL"},null,null,"contract units",null,100,null,"commission per contract",null,1,null,null,"Profit and (Loss) AT:",null,{"$f":"VLOOKUP(R1,AF1:AG8,2)","v":"2022-08-28T09:32:01.130"},null,null,null,null,null,"           Price Interval:",null,{"$f":"C2/10","v":16.791999999999998},null,null,null,null,2,{"$f":"AG1+($AG$8-$AG$1)/8","v":"2022-08-30T17:20:30.989"},{"$f":"IF(AND($AF$18<5,OR($J4=0,$K4=0)),0,AH18)","v":-17700},{"$f":"IF(AND($AF$18<5,OR($J4=0,$K4=0)),0,AI18)","v":-17700},-17700,-17700,-17700,-17700,-17700,-17700,-17700,-17700,-17700,-17700,-17700,-17700,-17700,-17700,-17700,-17700,-17700,-17700,-17700,null,0,1E-3,"=VLOOKUP($C$2,$BD$2:$BE$13,2)"]
[null,null,null,null,{"$f":"NOW()","v":"2022-08-28T09:32:01.130"},null,null,"qty","expiration","strike","prem","theo","Implied Volatility","time value","delta","cost",{"$f":"R3-$AA$2","v":83.95999999999998},{"$f":"S3-$AA$2","v":100.75199999999998},{"$f":"T3-$AA$2","v":117.54399999999998},{"$f":"U3-$AA$2","v":134.33599999999998},{"$f":"V3-$AA$2","v":151.12799999999999},{"$f":"C2","v":167.92},{"$f":"V3+$AA$2","v":184.71199999999999},{"$f":"W3+$AA$2","v":201.50399999999999},{"$f":"X3+$AA$2","v":218.29599999999999},{"$f":"Y3+$AA$2","v":235.08799999999999},{"$f":"Z3+$AA$2","v":251.88},null,null,null,null,3,"2022-09-02T01:09:00.847",{"$f":"IF(AND($AF$26<5,OR($J5=0,$K5=0)),0,AH26)","v":16390},{"$f":"IF(AND($AF$26<5,OR($J5=0,$K5=0)),0,AI26)","v":16390},16390,16390,16390,16390,16390,16390,16390,16390,16390,16390,16390,16390,16390,16390,16390,16390,16390,16390,16390,null,0.1,0.01]
[null,null,null,null,null,1,"buy call",1,{"$f":"AC4","v":"2022-09-16"},370,177,{"$f":"IF(OR(K4=\"\",K4=0),\"\",PB(IF(AF18<=2,\"C\",\"P\"),$C$2,J4,($I$4-NOW())/365,$C$6,$D$6,$B$6))","v":0},{"$f":"IF(L4=\"\",\"\",V(IF(AF18<=2,\"C\",\"P\"),$C$2,J4,($I$4-NOW())/365,$C$6,$D$6,K4))","v":1.999969482421875},{"$f":"IF(OR($AF$18>4,K4=\"\"),\"\",IF(OR($AF$18=1,$AF$18=3),1,-1)*IF($AF$18>2,IF(J4<=$C$2,K4,K4-(J4-$C$2)),IF(J4>=$C$2,K4,K4-($C$2-J4))))","v":177},{"$f":"IF(L4=\"\",\"\",IF($AF$18=5,1*H4,IF($AF$18=6,-1*H4,IF($O$1=1,D(IF($AF$18<=2,\"C\",\"P\"),$C$2,J4,($D$2-NOW())/365,$C$6,$D$6,$B$6),Chg(IF($AF$18<=2,\"C\",\"P\"),VLOOKUP($O$1,all!$P$2:$R$6,3),$C$2,J4,($D$2-NOW())/365,$C$6,$D$6,$B$6)/IF($O$1>2,100,1))*H4*IF(OR($AF$18=1,$AF$18=3),1,-1))))","v":0},{"$f":"IF(K4=\"\",0,IF($AF$18>4,$C$2,K4)*(H4*$J$2)*IF(OR($AF$18=1,$AF$18=3,$AF$18=5),1,-1)+(H4*$N$2))","v":17701},{"$f":"IF(AND($AF$18<5,OR($J4=0,$K4=0)),0,AH71)","v":-17698.957641850833},{"$f":"IF(AND($AF$18<5,OR($J4=0,$K4=0)),0,AJ71)","v":-17695.09500772291},{"$f":"IF(AND($AF$18<5,OR($J4=0,$K4=0)),0,AL71)","v":-17683.747377372198},{"$f":"IF(AND($AF$18<5,OR($J4=0,$K4=0)),0,AN71)","v":-17657.680893344008},{"$f":"IF(AND($AF$18<5,OR($J4=0,$K4=0)),0,AP71)","v":-17607.378818730704},{"$f":"IF(AND($AF$18<5,OR($J4=0,$K4=0)),0,AR71)","v":-17521.9637948989},{"$f":"IF(AND($AF$18<5,OR($J4=0,$K4=0)),0,AT71)","v":-17390.285711611014},{"$f":"IF(AND($AF$18<5,OR($J4=0,$K4=0)),0,AV71)","v":-17201.902317568969},{"$f":"IF(AND($AF$18<5,OR($J4=0,$K4=0)),0,AX71)","v":-16947.806256671891},{"$f":"IF(AND($AF$18<5,OR($J4=0,$K4=0)),0,AZ71)","v":-16620.86053685809},{"$f":"IF(AND($AF$18<5,OR($J4=0,$K4=0)),0,BB71)","v":-16215.971561993194},96,{"$f":"IF(AB4=\"\",\"\",IF(AB4<105,$D$2,$D$116))","v":"2022-09-16"},{"$f":"IF(AB4=\"\",\"\",VLOOKUP($AB4,all!$A$6:$D$214,2))","v":370},{"$f":"IF(AB4=\"\",\"\",VLOOKUP($AB4,all!$A$6:$D$214,IF(AF18<=2,3,4)))","v":177},4,"2022-09-04T08:57:30.706",{"$f":"IF(AND($AF$34<5,OR($J6=0,$K6=0)),0,AH34)","v":15044},{"$f":"IF(AND($AF$34<5,OR($J6=0,$K6=0)),0,AI34)","v":15044},15044,15044,15044,15044,15044,15044,15044,15044,15044,15044,15044,15044,15044,15044,15044,15044,15044,15044,15044,null,5,0.25]
[null,"volatility","interest","dividend",null,2,null,1,"2022-09-16",390,163.9,{"$f":"IF(OR(K5=\"\",K5=0),\"\",PB(IF(AF26<=2,\"C\",\"P\"),$C$2,J5,($I$5-NOW())/365,$C$6,$D$6,$B$6))","v":0},{"$f":"IF(L5=\"\",\"\",V(IF(AF26<=2,\"C\",\"P\"),$C$2,J5,($I$5-NOW())/365,$C$6,$D$6,K5))","v":1.999969482421875},{"$f":"IF(OR($AF$26>4,K5=\"\"),\"\",IF(OR($AF$26=1,$AF$26=3),1,-1)*IF($AF$26>2,IF(J5<=$C$2,K5,K5-(J5-$C$2)),IF(J5>=$C$2,K5,K5-($C$2-J5))))","v":-163.9},{"$f":"IF(L5=\"\",\"\",IF($AF$26=5,1*H5,IF($AF$26=6,-1*H5,IF($O$1=1,D(IF($AF$26<=2,\"C\",\"P\"),$C$2,J5,($D$2-NOW())/365,$C$6,$D$6,$B$6),Chg(IF($AF$26<=2,\"C\",\"P\"),VLOOKUP($O$1,all!$P$2:$R$6,3),$C$2,J5,($D$2-NOW())/365,$C$6,$D$6,$B$6)/IF($O$1>2,100,1))*H5*IF(OR($AF$26=1,$AF$26=3),1,-1))))","v":0},{"$f":"IF(K5=\"\",0,IF($AF$26=0,0,IF($AF$26>4,$C$2,K5)*(H5*$J$2)*IF(OR($AF$26=1,$AF$26=3,$AF$26=5),1,-1)+(H5*$N$2)))","v":-16389},{"$f":"IF(AND($AF$26<5,OR($J5=0,$K5=0)),0,AH79)","v":16389.316176237411},{"$f":"IF(AND($AF$26<5,OR($J5=0,$K5=0)),0,AJ79)","v":16386.644834213846},{"$f":"IF(AND($AF$26<5,OR($J5=0,$K5=0)),0,AL79)","v":16378.491190970402},{"$f":"IF(AND($AF$26<5,OR($J5=0,$K5=0)),0,AN79)","v":16359.140611020828},{"$f":"IF(AND($AF$26<5,OR($J5=0,$K5=0)),0,AP79)","v":16320.728623123017},{"$f":"IF(AND($AF$26<5,OR($J5=0,$K5=0)),0,AR79)","v":16253.868001109171},{"$f":"IF(AND($AF$26<5,OR($J5=0,$K5=0)),0,AT79)","v":16148.509689889042},{"$f":"IF(AND($AF$26<5,OR($J5=0,$K5=0)),0,AV79)","v":15994.804341675415},{"$f":"IF(AND($AF$26<5,OR($J5=0,$K5=0)),0,AX79)","v":15783.812090162002},{"$f":"IF(AND($AF$26<5,OR($J5=0,$K5=0)),0,AZ79)","v":15507.99449670672},{"$f":"IF(AND($AF$26<5,OR($J5=0,$K5=0)),0,BB79)","v":15161.485679939335},98,"2022-09-16",{"$f":"IF(AB5=\"\",\"\",VLOOKUP($AB5,all!$A$6:$D$214,2))","v":390},{"$f":"IF(AB5=\"\",\"\",VLOOKUP($AB5,all!$A$6:$D$214,IF(AF26<=2,3,4)))","v":163.9},5,"2022-09-06T16:46:00.565",{"$f":"IF(AND($AF$42<5,OR($J7=0,$K7=0)),0,AH42)","v":-15044},{"$f":"IF(AND($AF$42<5,OR($J7=0,$K7=0)),0,AI42)","v":-15044},-15044,-15044,-15044,-15044,-15044,-15044,-15044,-15044,-15044,-15044,-15044,-15044,-15044,-15044,-15044,-15044,-15044,-15044,-15044,null,10,0.25]
[null,0.23897626810714645,0.01,0.02,null,3,null,1,"2022-09-16",410,150.44,{"$f":"IF(OR(K6=\"\",K6=0),\"\",PB(IF(AF34<=2,\"C\",\"P\"),$C$2,J6,($I$6-NOW())/365,$C$6,$D$6,$B$6))","v":0},{"$f":"IF(L6=\"\",\"\",V(IF(AF34<=2,\"C\",\"P\"),$C$2,J6,($I$6-NOW())/365,$C$6,$D$6,K6))","v":1.999969482421875},{"$f":"IF(OR($AF$34>4,K6=\"\",K6=0),\"\",IF(OR($AF$34=1,$AF$34=3),1,-1)*IF($AF$34>2,IF(J6<=$C$2,K6,K6-(J6-$C$2)),IF(J6>=$C$2,K6,K6-($C$2-J6))))","v":-150.44},{"$f":"IF(L6=\"\",\"\",IF($AF$34=5,1*H6,IF($AF$34=6,-1*H6,IF($O$1=1,D(IF($AF$34<=2,\"C\",\"P\"),$C$2,J6,($D$2-NOW())/365,$C$6,$D$6,$B$6),Chg(IF($AF$34<=2,\"C\",\"P\"),VLOOKUP($O$1,all!$P$2:$R$6,3),$C$2,J6,($D$2-NOW())/365,$C$6,$D$6,$B$6)/IF($O$1>2,100,1))*H6*IF(OR($AF$34=1,$AF$34=3),1,-1))))","v":0},{"$f":"IF(K6=\"\",0,IF($AF$34=0,0,IF($AF$34>4,$C$2,K6)*(H6*$J$2)*IF(OR($AF$34=1,$AF$34=3,$AF$34=5),1,-1)+(H6*$N$2)))","v":-15043},{"$f":"IF(AND($AF$34<5,OR($J6=0,$K6=0)),0,AH87)","v":15043.546981203048},{"$f":"IF(AND($AF$34<5,OR($J6=0,$K6=0)),0,AJ87)","v":15041.68675562002},{"$f":"IF(AND($AF$34<5,OR($J6=0,$K6=0)),0,AL87)","v":15035.798101508504},{"$f":"IF(AND($AF$34<5,OR($J6=0,$K6=0)),0,AN87)","v":15021.380826062163},{"$f":"IF(AND($AF$34<5,OR($J6=0,$K6=0)),0,AP87)","v":14991.978059133509},{"$f":"IF(AND($AF$34<5,OR($J6=0,$K6=0)),0,AR87)","v":14939.570694965456},{"$f":"IF(AND($AF$34<5,OR($J6=0,$K6=0)),0,AT87)","v":14855.232845904307},{"$f":"IF(AND($AF$34<5,OR($J6=0,$K6=0)),0,AV87)","v":14729.860220442668},{"$f":"IF(AND($AF$34<5,OR($J6=0,$K6=0)),0,AX87)","v":14554.827487858533},{"$f":"IF(AND($AF$34<5,OR($J6=0,$K6=0)),0,AZ87)","v":14322.494655513396},{"$f":"IF(AND($AF$34<5,OR($J6=0,$K6=0)),0,BB87)","v":14026.537222184905},100,"2022-09-16",{"$f":"IF(AB6=\"\",\"\",VLOOKUP($AB6,all!$A$6:$D$214,2))","v":410},{"$f":"IF(AB6=\"\",\"\",VLOOKUP($AB6,all!$A$6:$D$214,IF(AF34<=2,3,4)))","v":150.44},6,"2022-09-09T00:34:30.424",{"$f":"IF(AND($AF$50<5,OR($J8=0,$K8=0)),0,AH50)","v":0},{"$f":"IF(AND($AF$50<5,OR($J8=0,$K8=0)),0,AI50)","v":0},0,0,0,0,0,0,0,0,0,0,0,0,0,0,0,0,0,0,0,null,20,0.5]
[null,"target price","probability",null,{"$f":"IF(C4=\"\",\"\",YEAR(C4)-2000&IF(MONTH(C4)<10,\"0\",\"\")&MONTH(C4)&IF(DAY(C4)<10,\"0\",\"\")&DAY(C4))","v":""},4,null,1,"2022-09-16",410,150.44,{"$f":"IF(OR(K7=\"\",K7=0),\"\",PB(IF(AF42<=2,\"C\",\"P\"),$C$2,J7,($I$7-NOW())/365,$C$6,$D$6,$B$6))","v":0},{"$f":"IF(L7=\"\",\"\",V(IF(AF42<=2,\"C\",\"P\"),$C$2,J7,($I$7-NOW())/365,$C$6,$D$6,K7))","v":1.999969482421875},{"$f":"IF(OR($AF$42>4,K7=\"\"),\"\",IF(OR($AF$42=1,$AF$42=3),1,-1)*IF($AF$42>2,IF(J7<=$C$2,K7,K7-(J7-$C$2)),IF(J7>=$C$2,K7,K7-($C$2-J7))))","v":150.44},{"$f":"IF(L7=\"\",\"\",IF($AF$42=5,1*H7,IF($AF$42=6,-1*H7,IF($O$1=1,D(IF($AF$42<=2,\"C\",\"P\"),$C$2,J7,($D$2-NOW())/365,$C$6,$D$6,$B$6),Chg(IF($AF$42<=2,\"C\",\"P\"),VLOOKUP($O$1,all!$P$2:$R$6,3),$C$2,J7,($D$2-NOW())/365,$C$6,$D$6,$B$6)/IF($O$1>2,100,1))*H7*IF(OR($AF$42=1,$AF$42=3),1,-1))))","v":0},{"$f":"IF(K7=\"\",0,IF($AF$42=0,0,IF($AF$42>4,$C$2,K7)*(H7*$J$2)*IF(OR($AF$42=1,$AF$42=3,$AF$42=5),1,-1)+(H7*$N$2)))","v":15045},{"$f":"IF(AND($AF$42<5,OR($J7=0,$K7=0)),0,AH95)","v":-15043.546981203048},{"$f":"IF(AND($AF$42<5,OR($J7=0,$K7=0)),0,AJ95)","v":-15041.68675562002},{"$f":"IF(AND($AF$42<5,OR($J7=0,$K7=0)),0,AL95)","v":-15035.798101508504},{"$f":"IF(AND($AF$42<5,OR($J7=0,$K7=0)),0,AN95)","v":-15021.380826062163},{"$f":"IF(AND($AF$42<5,OR($J7=0,$K7=0)),0,AP95)","v":-14991.978059133509},{"$f":"IF(AND($AF$42<5,OR($J7=0,$K7=0)),0,AR95)","v":-14939.570694965456},{"$f":"IF(AND($AF$42<5,OR($J7=0,$K7=0)),0,AT95)","v":-14855.232845904307},{"$f":"IF(AND($AF$42<5,OR($J7=0,$K7=0)),0,AV95)","v":-14729.860220442668},{"$f":"IF(AND($AF$42<5,OR($J7=0,$K7=0)),0,AX95)","v":-14554.827487858533},{"$f":"IF(AND($AF$42<5,OR($J7=0,$K7=0)),0,AZ95)","v":-14322.494655513396},{"$f":"IF(AND($AF$42<5,OR($J7=0,$K7=0)),0,BB95)","v":-14026.537222184905},100,"2022-09-16",{"$f":"IF(AB7=\"\",\"\",VLOOKUP($AB7,all!$A$6:$D$214,2))","v":410},{"$f":"IF(AB7=\"\",\"\",VLOOKUP($AB7,all!$A$6:$D$214,IF(AF42<=2,3,4)))","v":150.44},7,"2022-09-11T08:23:00.283",{"$f":"IF(AND($AF$58<5,OR($J9=0,$K9=0)),0,AH58)","v":0},{"$f":"IF(AND($AF$58<5,OR($J9=0,$K9=0)),0,AI58)","v":0},0,0,0,0,0,0,0,0,0,0,0,0,0,0,0,0,0,0,0,null,50,0.5]
[{"$f":"VLOOKUP($C$2,$BD$2:$BE$13,2)","v":1},{"$f":"C2","v":167.92},{"$f":"IF(B8>C2,IF(all!$T$1=1,L1,CONCATENATE(MID(TEXT(L1/(1-L1),\"00/00\"),FIND(\"/\",TEXT(L1/(1-L1),\"00/00\"))+1,2),\" to \",LEFT(TEXT(L1/(1-L1),\"00/00\"),FIND(\"/\",TEXT(L1/(1-L1),\"00/00\"))-1))),IF(all!$T$1=1,M1,CONCATENATE(MID(TEXT(M1/(1-M1),\"00/00\"),FIND(\"/\",TEXT(M1/(1-M1),\"00/00\"))+1,2),\" to \",LEFT(TEXT(M1/(1-M1),\"00/00\"),FIND(\"/\",TEXT(M1/(1-M1),\"00/00\"))-1))))","v":0.5},null,{"$f":"IF(C4=\"\",\"\",YEAR(C4)&IF(MONTH(C4)<10,\"0\",\"\")&MONTH(C4)&IF(DAY(C4)<10,\"0\",\"\")&DAY(C4))","v":""},5,null,null,"","","",{"$f":"IF(OR(K8=\"\",K8=0),\"\",PB(IF(AF50<=2,\"C\",\"P\"),$C$2,J8,($I$8-NOW())/365,$C$6,$D$6,$B$6))","v":""},{"$f":"IF(L8=\"\",\"\",V(IF(AF50<=2,\"C\",\"P\"),$C$2,J8,($I$8-NOW())/365,$C$6,$D$6,K8))","v":""},{"$f":"IF(OR($AF$50>4,K8=\"\"),\"\",IF(OR($AF$50=1,$AF$50=3),1,-1)*IF($AF$50>2,IF(J8<=$C$2,K8,K8-(J8-$C$2)),IF(J8>=$C$2,K8,K8-($C$2-J8))))","v":""},{"$f":"IF(L8=\"\",\"\",IF($AF$50=5,1*H8,IF($AF$50=6,-1*H8,IF($O$1=1,D(IF($AF$50<=2,\"C\",\"P\"),$C$2,J8,($D$2-NOW())/365,$C$6,$D$6,$B$6),Chg(IF($AF$50<=2,\"C\",\"P\"),VLOOKUP($O$1,all!$P$2:$R$6,3),$C$2,J8,($D$2-NOW())/365,$C$6,$D$6,$B$6)/IF($O$1>2,100,1))*H8*IF(OR($AF$50=1,$AF$50=3),1,-1))))","v":""},{"$f":"IF(K8=\"\",0,IF($AF$50>4,$C$2,K8)*(H8*$J$2)*IF(OR($AF$50=1,$AF$50=3,$AF$50=5),1,-1)+(H8*$N$2))","v":0},{"$f":"IF(AND($AF$50<5,OR($J8=0,$K8=0)),0,AH103)","v":0},{"$f":"IF(AND($AF$50<5,OR($J8=0,$K8=0)),0,AJ103)","v":0},{"$f":"IF(AND($AF$50<5,OR($J8=0,$K8=0)),0,AL103)","v":0},{"$f":"IF(AND($AF$50<5,OR($J8=0,$K8=0)),0,AN103)","v":0},{"$f":"IF(AND($AF$50<5,OR($J8=0,$K8=0)),0,AP103)","v":0},{"$f":"IF(AND($AF$50<5,OR($J8=0,$K8=0)),0,AR103)","v":0},{"$f":"IF(AND($AF$50<5,OR($J8=0,$K8=0)),0,AT103)","v":0},{"$f":"IF(AND($AF$50<5,OR($J8=0,$K8=0)),0,AV103)","v":0},{"$f":"IF(AND($AF$50<5,OR($J8=0,$K8=0)),0,AX103)","v":0},{"$f":"IF(AND($AF$50<5,OR($J8=0,$K8=0)),0,AZ103)","v":0},{"$f":"IF(AND($AF$50<5,OR($J8=0,$K8=0)),0,BB103)","v":0},null,"",{"$f":"IF(AB8=\"\",\"\",VLOOKUP($AB8,all!$A$6:$D$214,2))","v":""},{"$f":"IF(AB8=\"\",\"\",VLOOKUP($AB8,all!$A$6:$D$214,IF(AF50<=2,3,4)))","v":""},8,{"$f":"MAX(D2,I4:I9)","v":"2022-09-16"},{"$f":"IF($Q$1=1,AH9,IF($P$10<0,0,AH9/$P$10))","v":-1310},{"$f":"IF($Q$1=1,AI9,IF($P$10<0,0,AI9/$P$10))","v":-1310},-1310,-1310,-1310,-1310,-1310,-1310,-1310,-1310,-1310,-1310,-1310,-1310,-1310,-1310,-1310,-1310,-1310,-1310,-1310,null,100,1]
[{"$f":"IF(C2<500,MROUND(C2*0.75,5),MROUND(C2*0.75,50))","v":125},{"$f":"'Y2'!Z2","v":"AAPL"},null,null,null,6,null,null,"","","",{"$f":"IF(OR(K9=\"\",K9=0),\"\",PB(IF(AF58<=2,\"C\",\"P\"),$C$2,J9,($I$9-NOW())/365,$C$6,$D$6,$B$6))","v":""},{"$f":"IF(L9=\"\",\"\",V(IF(AF58<=2,\"C\",\"P\"),$C$2,J9,($I$9-NOW())/365,$C$6,$D$6,K9))","v":""},{"$f":"IF(OR($AF$58>4,K9=\"\"),\"\",IF(OR($AF$58=1,$AF$58=3),1,-1)*IF($AF$58>2,IF(J9<=$C$2,K9,K9-(J9-$C$2)),IF(J9>=$C$2,K9,K9-($C$2-J9))))","v":""},{"$f":"IF(L9=\"\",\"\",IF($AF$58=5,1*H9,IF($AF$58=6,-1*H9,IF($O$1=1,D(IF($AF$58<=2,\"C\",\"P\"),$C$2,J9,($D$2-NOW())/365,$C$6,$D$6,$B$6),Chg(IF($AF$58<=2,\"C\",\"P\"),VLOOKUP($O$1,all!$P$2:$R$6,3),$C$2,J9,($D$2-NOW())/365,$C$6,$D$6,$B$6)/IF($O$1>2,100,1))*H9*IF(OR($AF$58=1,$AF$58=3),1,-1))))","v":""},{"$f":"IF(K9=\"\",0,IF($AF$58>4,$C$2,K9)*(H9*$J$2)*IF(OR($AF$58=1,$AF$58=3,$AF$58=5),1,-1)+(H9*$N$2))","v":0},{"$f":"IF(AND($AF$50<5,OR($J9=0,$K9=0)),0,AH111)","v":0},{"$f":"IF(AND($AF$50<5,OR($J9=0,$K9=0)),0,AJ111)","v":0},{"$f":"IF(AND($AF$50<5,OR($J9=0,$K9=0)),0,AL111)","v":0},{"$f":"IF(AND($AF$50<5,OR($J9=0,$K9=0)),0,AN111)","v":0},{"$f":"IF(AND($AF$50<5,OR($J9=0,$K9=0)),0,AP111)","v":0},{"$f":"IF(AND($AF$50<5,OR($J9=0,$K9=0)),0,AR111)","v":0},{"$f":"IF(AND($AF$50<5,OR($J9=0,$K9=0)),0,AT111)","v":0},{"$f":"IF(AND($AF$50<5,OR($J9=0,$K9=0)),0,AV111)","v":0},{"$f":"IF(AND($AF$50<5,OR($J9=0,$K9=0)),0,AX111)","v":0},{"$f":"IF(AND($AF$50<5,OR($J9=0,$K9=0)),0,AZ111)","v":0},{"$f":"IF(AND($AF$50<5,OR($J9=0,$K9=0)),0,BB111)","v":0},null,"",{"$f":"IF(AB9=\"\",\"\",VLOOKUP($AB9,all!$A$6:$D$214,2))","v":""},{"$f":"IF(AB9=\"\",\"\",VLOOKUP($AB9,all!$A$6:$D$214,IF(AF58<=2,3,4)))","v":""},null,null,{"$f":"ROUND(SUM(AH2:AH7),1)","v":-1310},{"$f":"ROUND(SUM(AI2:AI7),1)","v":-1310},-1310,-1310,-1310,-1310,-1310,-1310,-1310,-1310,-1310,-1310,-1310,-1310,-1310,-1310,-1310,-1310,-1310,-1310,-1310,null,250,2.5]
[null,null,null,null,null,null,null,null,null,null,null,null,"total spread:",{"$f":"SUM(N4:N9)","v":13.099999999999994},{"$f":"SUM(O4:O9)","v":0},{"$f":"SUM(P4:P9)","v":1314},{"$f":"AH113","v":-1309.5999999999999},{"$f":"AJ113","v":-1308.5},{"$f":"AL113","v":-1305.3},{"$f":"AN113","v":-1298.5},{"$f":"AP113","v":-1286.7},{"$f":"AR113","v":-1268.0999999999999},{"$f":"AT113","v":-1241.8},{"$f":"AV113","v":-1207.0999999999999},{"$f":"AX113","v":-1164},{"$f":"AZ113","v":-1112.9000000000001},{"$f":"BB113","v":-1054.5},null,null,null,null,null,null,"PL AT EXPIRATION",null,null,null,null,null,null,null,null,null,null,null,null,null,null,null,null,null,null,null,null,null,500,5]
["OPTIONS CHAIN",null,null,null,null,"SPREADS GENERATOR",null,{"$f":"IF(AC13=\"c\",I11,IF(ISERROR(MATCH(H13,$A$14:$A$113,1)),0,MATCH(H13,$A$14:$A$113,1)))","v":53},{"$f":"IF(ISERROR(MATCH(H13,$A$119:$A$217,1)),0,MATCH(H13,$A$119:$A$217,1)+105)","v":126},{"$f":"IF(ISERROR(MATCH(J13,$A$14:$A$113,1)),0,MATCH(J13,$A$14:$A$113,1))","v":55},null,{"$f":"IF(ISERROR(IF(L13=0,0,MATCH(L13,$A$14:$A$113,1))),0,IF(L13=0,0,MATCH(L13,$A$14:$A$113,1)))","v":59},null,{"$f":"IF(ISERROR(IF(N13=0,0,MATCH(N13,$A$14:$A$113,1))),0,IF(N13=0,0,MATCH(N13,$A$14:$A$113,1)))","v":61},null,null,null,null,null,{"$f":"VLOOKUP($F$13,$F$14:$AE$513,15)","v":0},null,null,null,null,{"$f":"IF(Y13=0,0,1)","v":1},{"$f":"IF(Z13=0,0,IF(AC13=\"x\",2,1))","v":1},{"$f":"IF(AA13=0,0,IF($AC$13=\"m\",2,1))","v":1},{"$f":"IF(AB13=0,0,IF($AC$13=\"m\",2,1))","v":1},null,null,null,null,null,{"$f":"Q3","v":83.95999999999998},{"$f":"AI1","v":92.35599999999998},{"$f":"R3","v":100.75199999999998},{"$f":"AK1","v":109.14799999999998},{"$f":"S3","v":117.54399999999998},{"$f":"AM1","v":125.93999999999998},{"$f":"T3","v":134.33599999999998},{"$f":"AO1","v":142.73199999999997},{"$f":"U3","v":151.12799999999999},{"$f":"AQ1","v":159.524},{"$f":"V3","v":167.92},{"$f":"AS1","v":176.31599999999997},{"$f":"W3","v":184.71199999999999},{"$f":"AU1","v":193.108},{"$f":"X3","v":201.50399999999999},{"$f":"AW1","v":209.89999999999998},{"$f":"Y3","v":218.29599999999999},{"$f":"AY1","v":226.69200000000001},{"$f":"Z3","v":235.08799999999999},{"$f":"BA1","v":243.48399999999998},{"$f":"AA3","v":251.88},null,1000,10]
["STRIKE","CALLS",{"$f":"IF(#REF!=\"?\",COUNTIF(#REF!,\"?\"),0)","v":{"$error":"#REF!"}},"PUTS",{"$f":"MATCH(C2,$A$14:$A$113)","v":56},null,"custom","strike 1","prem 1","strike 2","prem 2","strike 3","prem 3","strike 4","prem 4","max risk(cost)","max reward","breakeven","be 2","prob of profit","rew / risk","prob x rr","cost","max return",1,2,3,4,"2x",null,null,1,"buy call _/",{"$f":"$H$4*$J$2*IF($J$4<AH$11,AH$11-$J$4-$K$4,-$K$4)","v":-17700},-17700,-17700,-17700,-17700,-17700,-17700,-17700,-17700,-17700,-17700,-17700,-17700,-17700,-17700,-17700,-17700,-17700,-17700,-17700,-17700,null,5000,50]
[null,"prem","theo","prem","theo",85,{"$f":"VLOOKUP($F$13,$F$14:$AE$513,2)","v":"butterfly call _/'''\\_  (b160c+s165c + s175c+b180c)"},{"$f":"VLOOKUP($F$13,$F$14:$AE$553,3)","v":160},{"$f":"VLOOKUP($F$13,$F$14:$AE$553,4)","v":9.75},{"$f":"VLOOKUP($F$13,$F$14:$AE$553,5)","v":165},{"$f":"VLOOKUP($F$13,$F$14:$AE$553,6)","v":6.13},{"$f":"VLOOKUP($F$13,$F$14:$AE$553,7)","v":175},{"$f":"VLOOKUP($F$13,$F$14:$AE$553,8)","v":1.4},{"$f":"VLOOKUP($F$13,$F$14:$AE$553,9)","v":180},{"$f":"VLOOKUP($F$13,$F$14:$AE$553,10)","v":0.49},{"$f":"VLOOKUP($F$13,$F$14:$AE$553,11)","v":0},{"$f":"VLOOKUP($F$13,$F$14:$AE$553,12)","v":0},{"$f":"VLOOKUP($F$13,$F$14:$AE$553,13)","v":0},{"$f":"VLOOKUP($F$13,$F$14:$AE$553,14)","v":0},{"$f":"IF(all!$T$1=1,T11,CONCATENATE(MID(TEXT(T11/(1-T11),\"00/00\"),FIND(\"/\",TEXT(T11/(1-T11),\"00/00\"))+1,2),\" to \",LEFT(TEXT(T11/(1-T11),\"00/00\"),FIND(\"/\",TEXT(T11/(1-T11),\"00/00\"))-1)))","v":0},{"$f":"VLOOKUP($F$13,$F$14:$AE$553,16)","v":0},{"$f":"VLOOKUP($F$13,$F$14:$AE$553,17)","v":0},{"$f":"VLOOKUP($F$13,$F$14:$AE$553,18)","v":102.71},{"$f":"VLOOKUP($F$13,$F$14:$AE$553,19)","v":0},{"$f":"VLOOKUP($F$13,$F$14:$AE$553,20)","v":1},{"$f":"VLOOKUP($F$13,$F$14:$AE$553,21)","v":2},{"$f":"VLOOKUP($F$13,$F$14:$AE$553,22)","v":2},{"$f":"VLOOKUP($F$13,$F$14:$AE$553,23)","v":1},{"$f":"VLOOKUP($F$13,$F$14:$AE$553,24)","v":0},null,null,2,"sell call  '''\\",{"$f":"-AH12","v":17700},{"$f":"-AI12","v":17700},17700,17700,17700,17700,17700,17700,17700,17700,17700,17700,17700,17700,17700,17700,17700,17700,17700,17700,17700,null,10000,100]
[{"$f":"IF(OR('Y2'!$W$1=6,('Y2'!$W$1=7)),IF(OFFSET(#REF!,$C$12,0)=\"?\",\"\",OFFSET(#REF!,$C$12,0)),'Y2'!AA7)","v":40},{"$f":"IF(OR('Y2'!$W$1=6,('Y2'!$W$1=7)),IF(A14=\"\",\"\",MAX(AVERAGE(OFFSET(#REF!,$C$12,0),OFFSET(#REF!,$C$12,0)),0)),'Y2'!AB7)","v":127},{"$f":"IF(all!$AQ$1=1,all!AR6,IF(all!$AQ$1=2,all!AT6*100,IF(all!$AQ$1=3,all!AV6,all!AX6)))","v":127.76930281757714},{"$f":"IF(OR('Y2'!$W$1=6,('Y2'!$W$1=7)),IF(A14=\"\",\"\",MAX(AVERAGE(OFFSET(#REF!,$C$12,0),OFFSET(#REF!,$C$12,0)),0)),'Y2'!AC7)","v":0.01},{"$f":"IF(all!$AP$3=1,all!AS6,IF(all!$AP$3=2,all!AU6*100,IF(all!$AP$3=3,all!AW6,all!AY6)))","v":0},null,{"$f":"CONCATENATE(\"\")","v":""},null,null,null,null,null,null,null,null,null,null,null,null,null,null,null,null,null,null,null,null,null,null,null,null,3,"buy put \\_",{"$f":"$H$4*$J$2*IF($J$4>AH$11,$J$4-AH$11-$K$4,-$K$4)","v":10904.000000000002},10064.400000000001,9224.8000000000047,8385.2000000000025,7545.6000000000022,6706,5866.4000000000015,5026.8000000000029,4187.2000000000016,3347.6,2508.0000000000014,1668.4000000000026,828.80000000000109,-10.800000000000409,-850.39999999999907,-1689.9999999999977,-2529.5999999999995,-3369.2000000000007,-4208.7999999999993,-5048.3999999999978,-5888]
[{"$f":"IF(OR('Y2'!$W$1=6,('Y2'!$W$1=7)),IF(OFFSET(#REF!,$C$12,0)=\"?\",\"\",OFFSET(#REF!,$C$12,0)),'Y2'!AA8)","v":41.25},{"$f":"IF(OR('Y2'!$W$1=6,('Y2'!$W$1=7)),IF(A15=\"\",\"\",MAX(AVERAGE(OFFSET(#REF!,$C$12,0),OFFSET(#REF!,$C$12,0)),0)),'Y2'!AB8)","v":125.95},{"$f":"IF(all!$AQ$1=1,all!AR7,IF(all!$AQ$1=2,all!AT7*100,IF(all!$AQ$1=3,all!AV7,all!AX7)))","v":126.51993972209533},{"$f":"IF(OR('Y2'!$W$1=6,('Y2'!$W$1=7)),IF(A15=\"\",\"\",MAX(AVERAGE(OFFSET(#REF!,$C$12,0),OFFSET(#REF!,$C$12,0)),0)),'Y2'!AC8)","v":0.01},{"$f":"IF(all!$AP$3=1,all!AS7,IF(all!$AP$3=2,all!AU7*100,IF(all!$AP$3=3,all!AW7,all!AY7)))","v":0},null,null,null,null,null,null,null,null,null,null,null,null,null,null,null,null,null,null,null,null,null,null,null,null,null,null,4,"sell put /'''",{"$f":"-AH14","v":-10904.000000000002},{"$f":"-AI14","v":-10064.400000000001},-9224.8000000000047,-8385.2000000000025,-7545.6000000000022,-6706,-5866.4000000000015,-5026.8000000000029,-4187.2000000000016,-3347.6,-2508.0000000000014,-1668.4000000000026,-828.80000000000109,10.800000000000409,850.39999999999907,1689.9999999999977,2529.5999999999995,3369.2000000000007,4208.7999999999993,5048.3999999999978,5888]
[{"$f":"IF(OR('Y2'!$W$1=6,('Y2'!$W$1=7)),IF(OFFSET(#REF!,$C$12,0)=\"?\",\"\",OFFSET(#REF!,$C$12,0)),'Y2'!AA9)","v":42.5},{"$f":"IF(OR('Y2'!$W$1=6,('Y2'!$W$1=7)),IF(A16=\"\",\"\",MAX(AVERAGE(OFFSET(#REF!,$C$12,0),OFFSET(#REF!,$C$12,0)),0)),'Y2'!AB9)","v":125.1},{"$f":"IF(all!$AQ$1=1,all!AR8,IF(all!$AQ$1=2,all!AT8*100,IF(all!$AQ$1=3,all!AV8,all!AX8)))","v":125.270576642528},{"$f":"IF(OR('Y2'!$W$1=6,('Y2'!$W$1=7)),IF(A16=\"\",\"\",MAX(AVERAGE(OFFSET(#REF!,$C$12,0),OFFSET(#REF!,$C$12,0)),0)),'Y2'!AC9)","v":0.02},{"$f":"IF(all!$AP$3=1,all!AS8,IF(all!$AP$3=2,all!AU8*100,IF(all!$AP$3=3,all!AW8,all!AY8)))","v":0},null,null,null,null,null,null,null,null,null,null,null,null,null,null,null,null,null,null,null,null,null,null,null,null,null,null,5,"buy under \\",{"$f":"$H$4*$J$2*(AH$11-$C$2)","v":-8396},-7556.4000000000005,-6716.8000000000011,-5877.2000000000007,-5037.6000000000004,-4198,-3358.4000000000005,-2518.8000000000015,-1679.2000000000003,-839.59999999999866,0,839.59999999999866,1679.2000000000003,2518.8000000000015,3358.4000000000005,4197.9999999999991,5037.6000000000004,5877.2000000000016,6716.8000000000011,7556.4,8396]
[{"$f":"IF(OR('Y2'!$W$1=6,('Y2'!$W$1=7)),IF(OFFSET(#REF!,$C$12,0)=\"?\",\"\",OFFSET(#REF!,$C$12,0)),'Y2'!AA10)","v":43.75},{"$f":"IF(OR('Y2'!$W$1=6,('Y2'!$W$1=7)),IF(A17=\"\",\"\",MAX(AVERAGE(OFFSET(#REF!,$C$12,0),OFFSET(#REF!,$C$12,0)),0)),'Y2'!AB10)","v":123.7},{"$f":"IF(all!$AQ$1=1,all!AR9,IF(all!$AQ$1=2,all!AT9*100,IF(all!$AQ$1=3,all!AV9,all!AX9)))","v":124.02121356664566},{"$f":"IF(OR('Y2'!$W$1=6,('Y2'!$W$1=7)),IF(A17=\"\",\"\",MAX(AVERAGE(OFFSET(#REF!,$C$12,0),OFFSET(#REF!,$C$12,0)),0)),'Y2'!AC10)","v":0.01},{"$f":"IF(all!$AP$3=1,all!AS9,IF(all!$AP$3=2,all!AU9*100,IF(all!$AP$3=3,all!AW9,all!AY9)))","v":0},null,null,null,null,null,null,null,null,null,null,null,null,null,null,null,null,null,null,null,null,null,null,null,null,null,null,6,"sell under /",{"$f":"-AH16","v":8396},{"$f":"-AI16","v":7556.4000000000005},6716.8000000000011,5877.2000000000007,5037.6000000000004,4198,3358.4000000000005,2518.8000000000015,1679.2000000000003,839.59999999999866,0,-839.59999999999866,-1679.2000000000003,-2518.8000000000015,-3358.4000000000005,-4197.9999999999991,-5037.6000000000004,-5877.2000000000016,-6716.8000000000011,-7556.4,-8396]
[{"$f":"IF(OR('Y2'!$W$1=6,('Y2'!$W$1=7)),IF(OFFSET(#REF!,$C$12,0)=\"?\",\"\",OFFSET(#REF!,$C$12,0)),'Y2'!AA11)","v":45},{"$f":"IF(OR('Y2'!$W$1=6,('Y2'!$W$1=7)),IF(A18=\"\",\"\",MAX(AVERAGE(OFFSET(#REF!,$C$12,0),OFFSET(#REF!,$C$12,0)),0)),'Y2'!AB11)","v":122.85},{"$f":"IF(all!$AQ$1=1,all!AR10,IF(all!$AQ$1=2,all!AT10*100,IF(all!$AQ$1=3,all!AV10,all!AX10)))","v":122.77185048610957},{"$f":"IF(OR('Y2'!$W$1=6,('Y2'!$W$1=7)),IF(A18=\"\",\"\",MAX(AVERAGE(OFFSET(#REF!,$C$12,0),OFFSET(#REF!,$C$12,0)),0)),'Y2'!AC11)","v":0.01},{"$f":"IF(all!$AP$3=1,all!AS10,IF(all!$AP$3=2,all!AU10*100,IF(all!$AP$3=3,all!AW10,all!AY10)))","v":0},null,null,null,null,null,null,null,null,null,null,null,null,null,null,null,null,null,null,null,null,null,null,null,null,null,null,1,"one",{"$f":"IF($AF$18=0,0,VLOOKUP($AF$18,$AF$12:$BB$17,AH$116))","v":-17700},{"$f":"IF($AF$18=0,0,VLOOKUP($AF$18,$AF$12:$BB$17,AI$116))","v":-17700},-17700,-17700,-17700,-17700,-17700,-17700,-17700,-17700,-17700,-17700,-17700,-17700,-17700,-17700,-17700,-17700,-17700,-17700,-17700]
[{"$f":"IF(OR('Y2'!$W$1=6,('Y2'!$W$1=7)),IF(OFFSET(#REF!,$C$12,0)=\"?\",\"\",OFFSET(#REF!,$C$12,0)),'Y2'!AA12)","v":46.25},{"$f":"IF(OR('Y2'!$W$1=6,('Y2'!$W$1=7)),IF(A19=\"\",\"\",MAX(AVERAGE(OFFSET(#REF!,$C$12,0),OFFSET(#REF!,$C$12,0)),0)),'Y2'!AB12)","v":127.55},{"$f":"IF(all!$AQ$1=1,all!AR11,IF(all!$AQ$1=2,all!AT11*100,IF(all!$AQ$1=3,all!AV11,all!AX11)))","v":121.52248740281379},{"$f":"IF(OR('Y2'!$W$1=6,('Y2'!$W$1=7)),IF(A19=\"\",\"\",MAX(AVERAGE(OFFSET(#REF!,$C$12,0),OFFSET(#REF!,$C$12,0)),0)),'Y2'!AC12)","v":0.01},{"$f":"IF(all!$AP$3=1,all!AS11,IF(all!$AP$3=2,all!AU11*100,IF(all!$AP$3=3,all!AW11,all!AY11)))","v":0}]
[{"$f":"IF(OR('Y2'!$W$1=6,('Y2'!$W$1=7)),IF(OFFSET(#REF!,$C$12,0)=\"?\",\"\",OFFSET(#REF!,$C$12,0)),'Y2'!AA13)","v":47.5},{"$f":"IF(OR('Y2'!$W$1=6,('Y2'!$W$1=7)),IF(A20=\"\",\"\",MAX(AVERAGE(OFFSET(#REF!,$C$12,0),OFFSET(#REF!,$C$12,0)),0)),'Y2'!AB13)","v":119.2},{"$f":"IF(all!$AQ$1=1,all!AR12,IF(all!$AQ$1=2,all!AT12*100,IF(all!$AQ$1=3,all!AV12,all!AX12)))","v":120.27312432318703},{"$f":"IF(OR('Y2'!$W$1=6,('Y2'!$W$1=7)),IF(A20=\"\",\"\",MAX(AVERAGE(OFFSET(#REF!,$C$12,0),OFFSET(#REF!,$C$12,0)),0)),'Y2'!AC13)","v":0.01},{"$f":"IF(all!$AP$3=1,all!AS12,IF(all!$AP$3=2,all!AU12*100,IF(all!$AP$3=3,all!AW12,all!AY12)))","v":0},null,null,null,null,null,null,null,null,null,null,null,null,null,null,null,null,null,null,null,null,null,null,null,null,null,null,1,"buy call _/",{"$f":"$H$5*$J$2*IF($J$5<AH$11,AH$11-$J$5-$K$5,-$K$5)","v":-16390},-16390,-16390,-16390,-16390,-16390,-16390,-16390,-16390,-16390,-16390,-16390,-16390,-16390,-16390,-16390,-16390,-16390,-16390,-16390,-16390]
[{"$f":"IF(OR('Y2'!$W$1=6,('Y2'!$W$1=7)),IF(OFFSET(#REF!,$C$12,0)=\"?\",\"\",OFFSET(#REF!,$C$12,0)),'Y2'!AA14)","v":48.75},{"$f":"IF(OR('Y2'!$W$1=6,('Y2'!$W$1=7)),IF(A21=\"\",\"\",MAX(AVERAGE(OFFSET(#REF!,$C$12,0),OFFSET(#REF!,$C$12,0)),0)),'Y2'!AB14)","v":123.05},{"$f":"IF(all!$AQ$1=1,all!AR13,IF(all!$AQ$1=2,all!AT13*100,IF(all!$AQ$1=3,all!AV13,all!AX13)))","v":119.023761234451},{"$f":"IF(OR('Y2'!$W$1=6,('Y2'!$W$1=7)),IF(A21=\"\",\"\",MAX(AVERAGE(OFFSET(#REF!,$C$12,0),OFFSET(#REF!,$C$12,0)),0)),'Y2'!AC14)","v":0.01},{"$f":"IF(all!$AP$3=1,all!AS13,IF(all!$AP$3=2,all!AU13*100,IF(all!$AP$3=3,all!AW13,all!AY13)))","v":0},null,null,null,null,null,null,null,null,null,null,null,null,null,null,null,null,null,null,null,null,null,null,null,null,null,null,2,"sell call  '''\\",{"$f":"-AH20","v":16390},16390,16390,16390,16390,16390,16390,16390,16390,16390,16390,16390,16390,16390,16390,16390,16390,16390,16390,16390,16390]
[{"$f":"IF(OR('Y2'!$W$1=6,('Y2'!$W$1=7)),IF(OFFSET(#REF!,$C$12,0)=\"?\",\"\",OFFSET(#REF!,$C$12,0)),'Y2'!AA15)","v":50},{"$f":"IF(OR('Y2'!$W$1=6,('Y2'!$W$1=7)),IF(A22=\"\",\"\",MAX(AVERAGE(OFFSET(#REF!,$C$12,0),OFFSET(#REF!,$C$12,0)),0)),'Y2'!AB15)","v":116.8},{"$f":"IF(all!$AQ$1=1,all!AR14,IF(all!$AQ$1=2,all!AT14*100,IF(all!$AQ$1=3,all!AV14,all!AX14)))","v":117.77439815392682},{"$f":"IF(OR('Y2'!$W$1=6,('Y2'!$W$1=7)),IF(A22=\"\",\"\",MAX(AVERAGE(OFFSET(#REF!,$C$12,0),OFFSET(#REF!,$C$12,0)),0)),'Y2'!AC15)","v":0.01},{"$f":"IF(all!$AP$3=1,all!AS14,IF(all!$AP$3=2,all!AU14*100,IF(all!$AP$3=3,all!AW14,all!AY14)))","v":0},null,null,null,null,null,null,null,null,null,null,null,null,null,null,null,null,null,null,null,null,null,null,null,null,null,null,3,"buy put \\_",{"$f":"$H$5*$J$2*IF($J$5>AH$11,$J$5-AH$11-$K$5,-$K$5)","v":14214.000000000002},13374.4,12534.800000000005,11695.200000000003,10855.6,10016,9176.4000000000015,8336.8000000000029,7497.2000000000007,6657.5999999999995,5818.0000000000009,4978.4000000000024,4138.8,3299.1999999999989,2459.6000000000004,1620.0000000000018,780.4000000000002,-59.200000000001296,-898.8,-1738.3999999999987,-2578]
[{"$f":"IF(OR('Y2'!$W$1=6,('Y2'!$W$1=7)),IF(OFFSET(#REF!,$C$12,0)=\"?\",\"\",OFFSET(#REF!,$C$12,0)),'Y2'!AA16)","v":52.5},{"$f":"IF(OR('Y2'!$W$1=6,('Y2'!$W$1=7)),IF(A23=\"\",\"\",MAX(AVERAGE(OFFSET(#REF!,$C$12,0),OFFSET(#REF!,$C$12,0)),0)),'Y2'!AB16)","v":115.35},{"$f":"IF(all!$AQ$1=1,all!AR15,IF(all!$AQ$1=2,all!AT15*100,IF(all!$AQ$1=3,all!AV15,all!AX15)))","v":115.27567198926486},{"$f":"IF(OR('Y2'!$W$1=6,('Y2'!$W$1=7)),IF(A23=\"\",\"\",MAX(AVERAGE(OFFSET(#REF!,$C$12,0),OFFSET(#REF!,$C$12,0)),0)),'Y2'!AC16)","v":0.02},{"$f":"IF(all!$AP$3=1,all!AS15,IF(all!$AP$3=2,all!AU15*100,IF(all!$AP$3=3,all!AW15,all!AY15)))","v":0},null,null,null,null,null,null,null,null,null,null,null,null,null,null,null,null,null,null,null,null,null,null,null,null,null,null,4,"sell put /'''",{"$f":"-AH22","v":-14214.000000000002},-13374.4,-12534.800000000005,-11695.200000000003,-10855.6,-10016,-9176.4000000000015,-8336.8000000000029,-7497.2000000000007,-6657.5999999999995,-5818.0000000000009,-4978.4000000000024,-4138.8,-3299.1999999999989,-2459.6000000000004,-1620.0000000000018,-780.4000000000002,59.200000000001296,898.8,1738.3999999999987,2578]
[{"$f":"IF(OR('Y2'!$W$1=6,('Y2'!$W$1=7)),IF(OFFSET(#REF!,$C$12,0)=\"?\",\"\",OFFSET(#REF!,$C$12,0)),'Y2'!AA17)","v":55},{"$f":"IF(OR('Y2'!$W$1=6,('Y2'!$W$1=7)),IF(A24=\"\",\"\",MAX(AVERAGE(OFFSET(#REF!,$C$12,0),OFFSET(#REF!,$C$12,0)),0)),'Y2'!AB17)","v":111.7},{"$f":"IF(all!$AQ$1=1,all!AR16,IF(all!$AQ$1=2,all!AT16*100,IF(all!$AQ$1=3,all!AV16,all!AX16)))","v":112.77694582908227},{"$f":"IF(OR('Y2'!$W$1=6,('Y2'!$W$1=7)),IF(A24=\"\",\"\",MAX(AVERAGE(OFFSET(#REF!,$C$12,0),OFFSET(#REF!,$C$12,0)),0)),'Y2'!AC17)","v":0.01},{"$f":"IF(all!$AP$3=1,all!AS16,IF(all!$AP$3=2,all!AU16*100,IF(all!$AP$3=3,all!AW16,all!AY16)))","v":0},null,null,null,null,null,null,null,null,null,null,null,null,null,null,null,null,null,null,null,null,null,null,null,null,null,null,5,"buy under \\",{"$f":"$H$5*$J$2*(AH$11-$C$2)","v":-8396},-7556.4000000000005,-6716.8000000000011,-5877.2000000000007,-5037.6000000000004,-4198,-3358.4000000000005,-2518.8000000000015,-1679.2000000000003,-839.59999999999866,0,839.59999999999866,1679.2000000000003,2518.8000000000015,3358.4000000000005,4197.9999999999991,5037.6000000000004,5877.2000000000016,6716.8000000000011,7556.4,8396]
[{"$f":"IF(OR('Y2'!$W$1=6,('Y2'!$W$1=7)),IF(OFFSET(#REF!,$C$12,0)=\"?\",\"\",OFFSET(#REF!,$C$12,0)),'Y2'!AA18)","v":57.5},{"$f":"IF(OR('Y2'!$W$1=6,('Y2'!$W$1=7)),IF(A25=\"\",\"\",MAX(AVERAGE(OFFSET(#REF!,$C$12,0),OFFSET(#REF!,$C$12,0)),0)),'Y2'!AB18)","v":110.55},{"$f":"IF(all!$AQ$1=1,all!AR17,IF(all!$AQ$1=2,all!AT17*100,IF(all!$AQ$1=3,all!AV17,all!AX17)))","v":110.2782196688521},{"$f":"IF(OR('Y2'!$W$1=6,('Y2'!$W$1=7)),IF(A25=\"\",\"\",MAX(AVERAGE(OFFSET(#REF!,$C$12,0),OFFSET(#REF!,$C$12,0)),0)),'Y2'!AC18)","v":0.01},{"$f":"IF(all!$AP$3=1,all!AS17,IF(all!$AP$3=2,all!AU17*100,IF(all!$AP$3=3,all!AW17,all!AY17)))","v":0},null,null,null,null,null,null,null,null,null,null,null,null,null,null,null,null,null,null,null,null,null,null,null,null,null,null,6,"sell under /",{"$f":"-AH24","v":8396},{"$f":"-AI24","v":7556.4000000000005},6716.8000000000011,5877.2000000000007,5037.6000000000004,4198,3358.4000000000005,2518.8000000000015,1679.2000000000003,839.59999999999866,0,-839.59999999999866,-1679.2000000000003,-2518.8000000000015,-3358.4000000000005,-4197.9999999999991,-5037.6000000000004,-5877.2000000000016,-6716.8000000000011,-7556.4,-8396]
[{"$f":"IF(OR('Y2'!$W$1=6,('Y2'!$W$1=7)),IF(OFFSET(#REF!,$C$12,0)=\"?\",\"\",OFFSET(#REF!,$C$12,0)),'Y2'!AA19)","v":60},{"$f":"IF(OR('Y2'!$W$1=6,('Y2'!$W$1=7)),IF(A26=\"\",\"\",MAX(AVERAGE(OFFSET(#REF!,$C$12,0),OFFSET(#REF!,$C$12,0)),0)),'Y2'!AB19)","v":107.6},{"$f":"IF(all!$AQ$1=1,all!AR18,IF(all!$AQ$1=2,all!AT18*100,IF(all!$AQ$1=3,all!AV18,all!AX18)))","v":107.77949350420596},{"$f":"IF(OR('Y2'!$W$1=6,('Y2'!$W$1=7)),IF(A26=\"\",\"\",MAX(AVERAGE(OFFSET(#REF!,$C$12,0),OFFSET(#REF!,$C$12,0)),0)),'Y2'!AC19)","v":0.01},{"$f":"IF(all!$AP$3=1,all!AS18,IF(all!$AP$3=2,all!AU18*100,IF(all!$AP$3=3,all!AW18,all!AY18)))","v":0},null,null,null,null,null,null,null,null,null,null,null,null,null,null,null,null,null,null,null,null,null,null,null,null,null,null,2,"one",{"$f":"IF($AF$26=0,0,VLOOKUP($AF$26,$AF$20:$BB$25,AH116))","v":16390},{"$f":"IF($AF$26=0,0,VLOOKUP($AF$26,$AF$20:$BB$25,AI116))","v":16390},16390,16390,16390,16390,16390,16390,16390,16390,16390,16390,16390,16390,16390,16390,16390,16390,16390,16390,16390]
[{"$f":"IF(OR('Y2'!$W$1=6,('Y2'!$W$1=7)),IF(OFFSET(#REF!,$C$12,0)=\"?\",\"\",OFFSET(#REF!,$C$12,0)),'Y2'!AA20)","v":62.5},{"$f":"IF(OR('Y2'!$W$1=6,('Y2'!$W$1=7)),IF(A27=\"\",\"\",MAX(AVERAGE(OFFSET(#REF!,$C$12,0),OFFSET(#REF!,$C$12,0)),0)),'Y2'!AB20)","v":104.6},{"$f":"IF(all!$AQ$1=1,all!AR19,IF(all!$AQ$1=2,all!AT19*100,IF(all!$AQ$1=3,all!AV19,all!AX19)))","v":105.2807673456519},{"$f":"IF(OR('Y2'!$W$1=6,('Y2'!$W$1=7)),IF(A27=\"\",\"\",MAX(AVERAGE(OFFSET(#REF!,$C$12,0),OFFSET(#REF!,$C$12,0)),0)),'Y2'!AC20)","v":0.01},{"$f":"IF(all!$AP$3=1,all!AS19,IF(all!$AP$3=2,all!AU19*100,IF(all!$AP$3=3,all!AW19,all!AY19)))","v":0}]
[{"$f":"IF(OR('Y2'!$W$1=6,('Y2'!$W$1=7)),IF(OFFSET(#REF!,$C$12,0)=\"?\",\"\",OFFSET(#REF!,$C$12,0)),'Y2'!AA21)","v":65},{"$f":"IF(OR('Y2'!$W$1=6,('Y2'!$W$1=7)),IF(A28=\"\",\"\",MAX(AVERAGE(OFFSET(#REF!,$C$12,0),OFFSET(#REF!,$C$12,0)),0)),'Y2'!AB21)","v":102.93},{"$f":"IF(all!$AQ$1=1,all!AR20,IF(all!$AQ$1=2,all!AT20*100,IF(all!$AQ$1=3,all!AV20,all!AX20)))","v":102.78204117929801},{"$f":"IF(OR('Y2'!$W$1=6,('Y2'!$W$1=7)),IF(A28=\"\",\"\",MAX(AVERAGE(OFFSET(#REF!,$C$12,0),OFFSET(#REF!,$C$12,0)),0)),'Y2'!AC21)","v":0.01},{"$f":"IF(all!$AP$3=1,all!AS20,IF(all!$AP$3=2,all!AU20*100,IF(all!$AP$3=3,all!AW20,all!AY20)))","v":0},null,null,null,null,null,null,null,null,null,null,null,null,null,null,null,null,null,null,null,null,null,null,null,null,null,null,1,"buy call _/",{"$f":"$H$6*$J$2*IF($J$6<AH$11,AH$11-$J$6-$K$6,-$K$6)","v":-15044},-15044,-15044,-15044,-15044,-15044,-15044,-15044,-15044,-15044,-15044,-15044,-15044,-15044,-15044,-15044,-15044,-15044,-15044,-15044,-15044]
[{"$f":"IF(OR('Y2'!$W$1=6,('Y2'!$W$1=7)),IF(OFFSET(#REF!,$C$12,0)=\"?\",\"\",OFFSET(#REF!,$C$12,0)),'Y2'!AA22)","v":67.5},{"$f":"IF(OR('Y2'!$W$1=6,('Y2'!$W$1=7)),IF(A29=\"\",\"\",MAX(AVERAGE(OFFSET(#REF!,$C$12,0),OFFSET(#REF!,$C$12,0)),0)),'Y2'!AB22)","v":99.6},{"$f":"IF(all!$AQ$1=1,all!AR21,IF(all!$AQ$1=2,all!AT21*100,IF(all!$AQ$1=3,all!AV21,all!AX21)))","v":100.2833150172571},{"$f":"IF(OR('Y2'!$W$1=6,('Y2'!$W$1=7)),IF(A29=\"\",\"\",MAX(AVERAGE(OFFSET(#REF!,$C$12,0),OFFSET(#REF!,$C$12,0)),0)),'Y2'!AC22)","v":0.04},{"$f":"IF(all!$AP$3=1,all!AS21,IF(all!$AP$3=2,all!AU21*100,IF(all!$AP$3=3,all!AW21,all!AY21)))","v":0},null,null,null,null,null,null,null,null,null,null,null,null,null,null,null,null,null,null,null,null,null,null,null,null,null,null,2,"sell call  '''\\",{"$f":"-AH28","v":15044},15044,15044,15044,15044,15044,15044,15044,15044,15044,15044,15044,15044,15044,15044,15044,15044,15044,15044,15044,15044]
[{"$f":"IF(OR('Y2'!$W$1=6,('Y2'!$W$1=7)),IF(OFFSET(#REF!,$C$12,0)=\"?\",\"\",OFFSET(#REF!,$C$12,0)),'Y2'!AA23)","v":70},{"$f":"IF(OR('Y2'!$W$1=6,('Y2'!$W$1=7)),IF(A30=\"\",\"\",MAX(AVERAGE(OFFSET(#REF!,$C$12,0),OFFSET(#REF!,$C$12,0)),0)),'Y2'!AB23)","v":101.8},{"$f":"IF(all!$AQ$1=1,all!AR22,IF(all!$AQ$1=2,all!AT22*100,IF(all!$AQ$1=3,all!AV22,all!AX22)))","v":97.784588849306374},{"$f":"IF(OR('Y2'!$W$1=6,('Y2'!$W$1=7)),IF(A30=\"\",\"\",MAX(AVERAGE(OFFSET(#REF!,$C$12,0),OFFSET(#REF!,$C$12,0)),0)),'Y2'!AC23)","v":0.02},{"$f":"IF(all!$AP$3=1,all!AS22,IF(all!$AP$3=2,all!AU22*100,IF(all!$AP$3=3,all!AW22,all!AY22)))","v":0},null,null,null,null,null,null,null,null,null,null,null,null,null,null,null,null,null,null,null,null,null,null,null,null,null,null,3,"buy put \\_",{"$f":"$H$6*$J$2*IF($J$6>AH$11,$J$6-AH$11-$K$6,-$K$6)","v":17560.000000000004},16720.400000000001,15880.800000000005,15041.200000000004,14201.600000000002,13362,12522.4,11682.800000000003,10843.2,10003.6,9164.0000000000018,8324.4000000000033,7484.8000000000011,6645.2,5805.6000000000013,4966.0000000000027,4126.4000000000015,3286.7999999999993,2447.2000000000007,1607.6000000000022,768.00000000000068]
[{"$f":"IF(OR('Y2'!$W$1=6,('Y2'!$W$1=7)),IF(OFFSET(#REF!,$C$12,0)=\"?\",\"\",OFFSET(#REF!,$C$12,0)),'Y2'!AA24)","v":72.5},{"$f":"IF(OR('Y2'!$W$1=6,('Y2'!$W$1=7)),IF(A31=\"\",\"\",MAX(AVERAGE(OFFSET(#REF!,$C$12,0),OFFSET(#REF!,$C$12,0)),0)),'Y2'!AB24)","v":95.7},{"$f":"IF(all!$AQ$1=1,all!AR23,IF(all!$AQ$1=2,all!AT23*100,IF(all!$AQ$1=3,all!AV23,all!AX23)))","v":95.285862688123302},{"$f":"IF(OR('Y2'!$W$1=6,('Y2'!$W$1=7)),IF(A31=\"\",\"\",MAX(AVERAGE(OFFSET(#REF!,$C$12,0),OFFSET(#REF!,$C$12,0)),0)),'Y2'!AC24)","v":0.01},{"$f":"IF(all!$AP$3=1,all!AS23,IF(all!$AP$3=2,all!AU23*100,IF(all!$AP$3=3,all!AW23,all!AY23)))","v":0},null,null,null,null,null,null,null,null,null,null,null,null,null,null,null,null,null,null,null,null,null,null,null,null,null,null,4,"sell put /'''",{"$f":"-AH30","v":-17560.000000000004},-16720.400000000001,-15880.800000000005,-15041.200000000004,-14201.600000000002,-13362,-12522.4,-11682.800000000003,-10843.2,-10003.6,-9164.0000000000018,-8324.4000000000033,-7484.8000000000011,-6645.2,-5805.6000000000013,-4966.0000000000027,-4126.4000000000015,-3286.7999999999993,-2447.2000000000007,-1607.6000000000022,-768.00000000000068]
[{"$f":"IF(OR('Y2'!$W$1=6,('Y2'!$W$1=7)),IF(OFFSET(#REF!,$C$12,0)=\"?\",\"\",OFFSET(#REF!,$C$12,0)),'Y2'!AA25)","v":75},{"$f":"IF(OR('Y2'!$W$1=6,('Y2'!$W$1=7)),IF(A32=\"\",\"\",MAX(AVERAGE(OFFSET(#REF!,$C$12,0),OFFSET(#REF!,$C$12,0)),0)),'Y2'!AB25)","v":92.45},{"$f":"IF(all!$AQ$1=1,all!AR24,IF(all!$AQ$1=2,all!AT24*100,IF(all!$AQ$1=3,all!AV24,all!AX24)))","v":92.787136527734688},{"$f":"IF(OR('Y2'!$W$1=6,('Y2'!$W$1=7)),IF(A32=\"\",\"\",MAX(AVERAGE(OFFSET(#REF!,$C$12,0),OFFSET(#REF!,$C$12,0)),0)),'Y2'!AC25)","v":0.01},{"$f":"IF(all!$AP$3=1,all!AS24,IF(all!$AP$3=2,all!AU24*100,IF(all!$AP$3=3,all!AW24,all!AY24)))","v":0},null,null,null,null,null,null,null,null,null,null,null,null,null,null,null,null,null,null,null,null,null,null,null,null,null,null,5,"buy under \\",{"$f":"$H$6*$J$2*(AH$11-$C$2)","v":-8396},-7556.4000000000005,-6716.8000000000011,-5877.2000000000007,-5037.6000000000004,-4198,-3358.4000000000005,-2518.8000000000015,-1679.2000000000003,-839.59999999999866,0,839.59999999999866,1679.2000000000003,2518.8000000000015,3358.4000000000005,4197.9999999999991,5037.6000000000004,5877.2000000000016,6716.8000000000011,7556.4,8396]
[{"$f":"IF(OR('Y2'!$W$1=6,('Y2'!$W$1=7)),IF(OFFSET(#REF!,$C$12,0)=\"?\",\"\",OFFSET(#REF!,$C$12,0)),'Y2'!AA26)","v":76.25},{"$f":"IF(OR('Y2'!$W$1=6,('Y2'!$W$1=7)),IF(A33=\"\",\"\",MAX(AVERAGE(OFFSET(#REF!,$C$12,0),OFFSET(#REF!,$C$12,0)),0)),'Y2'!AB26)","v":91.35},{"$f":"IF(all!$AQ$1=1,all!AR25,IF(all!$AQ$1=2,all!AT25*100,IF(all!$AQ$1=3,all!AV25,all!AX25)))","v":91.537773445467082},{"$f":"IF(OR('Y2'!$W$1=6,('Y2'!$W$1=7)),IF(A33=\"\",\"\",MAX(AVERAGE(OFFSET(#REF!,$C$12,0),OFFSET(#REF!,$C$12,0)),0)),'Y2'!AC26)","v":0.01},{"$f":"IF(all!$AP$3=1,all!AS25,IF(all!$AP$3=2,all!AU25*100,IF(all!$AP$3=3,all!AW25,all!AY25)))","v":0},"no","custom","buy strike","prem","sell strike","prem","strike 3","prem 3","strike 4","prem 4","max risk(cost)","max reward","breakeven","be 2","prob of profit","rew / risk","prob x rr","cost","max return",1,2,3,4,"2x",null,"match",6,"sell under /",{"$f":"-AH32","v":8396},{"$f":"-AI32","v":7556.4000000000005},6716.8000000000011,5877.2000000000007,5037.6000000000004,4198,3358.4000000000005,2518.8000000000015,1679.2000000000003,839.59999999999866,0,-839.59999999999866,-1679.2000000000003,-2518.8000000000015,-3358.4000000000005,-4197.9999999999991,-5037.6000000000004,-5877.2000000000016,-6716.8000000000011,-7556.4,-8396]
[{"$f":"IF(OR('Y2'!$W$1=6,('Y2'!$W$1=7)),IF(OFFSET(#REF!,$C$12,0)=\"?\",\"\",OFFSET(#REF!,$C$12,0)),'Y2'!AA27)","v":77.5},{"$f":"IF(OR('Y2'!$W$1=6,('Y2'!$W$1=7)),IF(A34=\"\",\"\",MAX(AVERAGE(OFFSET(#REF!,$C$12,0),OFFSET(#REF!,$C$12,0)),0)),'Y2'!AB27)","v":89.85},{"$f":"IF(all!$AQ$1=1,all!AR26,IF(all!$AQ$1=2,all!AT26*100,IF(all!$AQ$1=3,all!AV26,all!AX26)))","v":90.288410367298567},{"$f":"IF(OR('Y2'!$W$1=6,('Y2'!$W$1=7)),IF(A34=\"\",\"\",MAX(AVERAGE(OFFSET(#REF!,$C$12,0),OFFSET(#REF!,$C$12,0)),0)),'Y2'!AC27)","v":0.01},{"$f":"IF(all!$AP$3=1,all!AS26,IF(all!$AP$3=2,all!AU26*100,IF(all!$AP$3=3,all!AW26,all!AY26)))","v":0},1,{"$f":"IF($AE34=1,VLOOKUP($F34,all!$E$14:$AD$553,3),\"\")","v":"strangle otm /\\ (s170c+s170p) "},{"$f":"IF($AE34=1,VLOOKUP($F34,all!$E$14:$AD$553,4),\"\")","v":170},{"$f":"IF($AE34=1,VLOOKUP($F34,all!$E$14:$AD$553,5),\"\")","v":3.3},{"$f":"IF($AE34=1,VLOOKUP($F34,all!$E$14:$AD$553,6),\"\")","v":170},{"$f":"IF($AE34=1,VLOOKUP($F34,all!$E$14:$AD$553,7),\"\")","v":5.45},{"$f":"IF($AE34=1,VLOOKUP($F34,all!$E$14:$AD$553,8),\"\")","v":0},{"$f":"IF($AE34=1,VLOOKUP($F34,all!$E$14:$AD$553,9),\"\")","v":0},{"$f":"IF($AE34=1,VLOOKUP($F34,all!$E$14:$AD$553,10),\"\")","v":0},{"$f":"IF($AE34=1,VLOOKUP($F34,all!$E$14:$AD$553,11),\"\")","v":0},{"$f":"IF($AE34=1,VLOOKUP($F34,all!$E$14:$AD$553,12),\"\")","v":"unlim risk"},{"$f":"IF($AE34=1,VLOOKUP($F34,all!$E$14:$AD$553,13),\"\")","v":875},{"$f":"IF($AE34=1,VLOOKUP($F34,all!$E$14:$AD$553,14),\"\")","v":161.25},{"$f":"IF($AE34=1,VLOOKUP($F34,all!$E$14:$AD$553,15),\"\")","v":178.75},{"$f":"IF($AE34=1,VLOOKUP($F34,all!$E$14:$AD$553,16),\"\")","v":0.6504207056109067},{"$f":"IF($AE34=1,VLOOKUP($F34,all!$E$14:$AD$553,17),\"\")","v":"unlim risk"},{"$f":"IF($AE34=1,VLOOKUP($F34,all!$E$14:$AD$553,18),\"\")","v":"unlim risk"},{"$f":"IF($AE34=1,VLOOKUP($F34,all!$E$14:$AD$553,19),\"\")","v":16792},{"$f":"IF($AE34=1,VLOOKUP($F34,all!$E$14:$AD$553,20),\"\")","v":5.2108146736541211E-2},{"$f":"IF($AE34=1,VLOOKUP($F34,all!$E$14:$AD$553,21),\"\")","v":2},{"$f":"IF($AE34=1,VLOOKUP($F34,all!$E$14:$AD$553,22),\"\")","v":4},{"$f":"IF($AE34=1,VLOOKUP($F34,all!$E$14:$AD$553,23),\"\")","v":0},{"$f":"IF($AE34=1,VLOOKUP($F34,all!$E$14:$AD$553,24),\"\")","v":0},{"$f":"IF($AE34=1,VLOOKUP($F34,all!$E$14:$AD$553,25),\"\")","v":0},null,{"$f":"COUNTIF(all!$E$14:$E$553,F34)","v":1},2,"one",{"$f":"IF($AF$34=0,0,VLOOKUP($AF$34,$AF$28:$BB$33,AH116))","v":15044},{"$f":"IF($AF$34=0,0,VLOOKUP($AF$34,$AF$28:$BB$33,AI116))","v":15044},15044,15044,15044,15044,15044,15044,15044,15044,15044,15044,15044,15044,15044,15044,15044,15044,15044,15044,15044]
[{"$f":"IF(OR('Y2'!$W$1=6,('Y2'!$W$1=7)),IF(OFFSET(#REF!,$C$12,0)=\"?\",\"\",OFFSET(#REF!,$C$12,0)),'Y2'!AA28)","v":78.75},{"$f":"IF(OR('Y2'!$W$1=6,('Y2'!$W$1=7)),IF(A35=\"\",\"\",MAX(AVERAGE(OFFSET(#REF!,$C$12,0),OFFSET(#REF!,$C$12,0)),0)),'Y2'!AB28)","v":89.5},{"$f":"IF(all!$AQ$1=1,all!AR27,IF(all!$AQ$1=2,all!AT27*100,IF(all!$AQ$1=3,all!AV27,all!AX27)))","v":89.039047280955643},{"$f":"IF(OR('Y2'!$W$1=6,('Y2'!$W$1=7)),IF(A35=\"\",\"\",MAX(AVERAGE(OFFSET(#REF!,$C$12,0),OFFSET(#REF!,$C$12,0)),0)),'Y2'!AC28)","v":0.01},{"$f":"IF(all!$AP$3=1,all!AS27,IF(all!$AP$3=2,all!AU27*100,IF(all!$AP$3=3,all!AW27,all!AY27)))","v":0},2,{"$f":"IF($AE35=1,VLOOKUP($F35,all!$E$14:$AD$553,3),\"\")","v":"strangle otm /\\ (s172.5c+s167.5p) "},{"$f":"IF($AE35=1,VLOOKUP($F35,all!$E$14:$AD$553,4),\"\")","v":172.5},{"$f":"IF($AE35=1,VLOOKUP($F35,all!$E$14:$AD$553,5),\"\")","v":2.21},{"$f":"IF($AE35=1,VLOOKUP($F35,all!$E$14:$AD$553,6),\"\")","v":167.5},{"$f":"IF($AE35=1,VLOOKUP($F35,all!$E$14:$AD$553,7),\"\")","v":4.25},{"$f":"IF($AE35=1,VLOOKUP($F35,all!$E$14:$AD$553,8),\"\")","v":0},{"$f":"IF($AE35=1,VLOOKUP($F35,all!$E$14:$AD$553,9),\"\")","v":0},{"$f":"IF($AE35=1,VLOOKUP($F35,all!$E$14:$AD$553,10),\"\")","v":0},{"$f":"IF($AE35=1,VLOOKUP($F35,all!$E$14:$AD$553,11),\"\")","v":0},{"$f":"IF($AE35=1,VLOOKUP($F35,all!$E$14:$AD$553,12),\"\")","v":"unlim risk"},{"$f":"IF($AE35=1,VLOOKUP($F35,all!$E$14:$AD$553,13),\"\")","v":646},{"$f":"IF($AE35=1,VLOOKUP($F35,all!$E$14:$AD$553,14),\"\")","v":161.04},{"$f":"IF($AE35=1,VLOOKUP($F35,all!$E$14:$AD$553,15),\"\")","v":178.96},{"$f":"IF($AE35=1,VLOOKUP($F35,all!$E$14:$AD$553,16),\"\")","v":0.66200383406761276},{"$f":"IF($AE35=1,VLOOKUP($F35,all!$E$14:$AD$553,17),\"\")","v":"unlim risk"},{"$f":"IF($AE35=1,VLOOKUP($F35,all!$E$14:$AD$553,18),\"\")","v":"unlim risk"},{"$f":"IF($AE35=1,VLOOKUP($F35,all!$E$14:$AD$553,19),\"\")","v":16792},{"$f":"IF($AE35=1,VLOOKUP($F35,all!$E$14:$AD$553,20),\"\")","v":3.847070033349214E-2},{"$f":"IF($AE35=1,VLOOKUP($F35,all!$E$14:$AD$553,21),\"\")","v":2},{"$f":"IF($AE35=1,VLOOKUP($F35,all!$E$14:$AD$553,22),\"\")","v":4},{"$f":"IF($AE35=1,VLOOKUP($F35,all!$E$14:$AD$553,23),\"\")","v":0},{"$f":"IF($AE35=1,VLOOKUP($F35,all!$E$14:$AD$553,24),\"\")","v":0},{"$f":"IF($AE35=1,VLOOKUP($F35,all!$E$14:$AD$553,25),\"\")","v":0},null,{"$f":"COUNTIF(all!$E$14:$E$553,F35)","v":1}]
[{"$f":"IF(OR('Y2'!$W$1=6,('Y2'!$W$1=7)),IF(OFFSET(#REF!,$C$12,0)=\"?\",\"\",OFFSET(#REF!,$C$12,0)),'Y2'!AA29)","v":80},{"$f":"IF(OR('Y2'!$W$1=6,('Y2'!$W$1=7)),IF(A36=\"\",\"\",MAX(AVERAGE(OFFSET(#REF!,$C$12,0),OFFSET(#REF!,$C$12,0)),0)),'Y2'!AB29)","v":87.6},{"$f":"IF(all!$AQ$1=1,all!AR28,IF(all!$AQ$1=2,all!AT28*100,IF(all!$AQ$1=3,all!AV28,all!AX28)))","v":87.789684199522114},{"$f":"IF(OR('Y2'!$W$1=6,('Y2'!$W$1=7)),IF(A36=\"\",\"\",MAX(AVERAGE(OFFSET(#REF!,$C$12,0),OFFSET(#REF!,$C$12,0)),0)),'Y2'!AC29)","v":0.01},{"$f":"IF(all!$AP$3=1,all!AS28,IF(all!$AP$3=2,all!AU28*100,IF(all!$AP$3=3,all!AW28,all!AY28)))","v":0},3,{"$f":"IF($AE36=1,VLOOKUP($F36,all!$E$14:$AD$553,3),\"\")","v":"strangle otm /\\ (s175c+s165p) "},{"$f":"IF($AE36=1,VLOOKUP($F36,all!$E$14:$AD$553,4),\"\")","v":175},{"$f":"IF($AE36=1,VLOOKUP($F36,all!$E$14:$AD$553,5),\"\")","v":1.4},{"$f":"IF($AE36=1,VLOOKUP($F36,all!$E$14:$AD$553,6),\"\")","v":165},{"$f":"IF($AE36=1,VLOOKUP($F36,all!$E$14:$AD$553,7),\"\")","v":3.26},{"$f":"IF($AE36=1,VLOOKUP($F36,all!$E$14:$AD$553,8),\"\")","v":0},{"$f":"IF($AE36=1,VLOOKUP($F36,all!$E$14:$AD$553,9),\"\")","v":0},{"$f":"IF($AE36=1,VLOOKUP($F36,all!$E$14:$AD$553,10),\"\")","v":0},{"$f":"IF($AE36=1,VLOOKUP($F36,all!$E$14:$AD$553,11),\"\")","v":0},{"$f":"IF($AE36=1,VLOOKUP($F36,all!$E$14:$AD$553,12),\"\")","v":"unlim risk"},{"$f":"IF($AE36=1,VLOOKUP($F36,all!$E$14:$AD$553,13),\"\")","v":466},{"$f":"IF($AE36=1,VLOOKUP($F36,all!$E$14:$AD$553,14),\"\")","v":160.34},{"$f":"IF($AE36=1,VLOOKUP($F36,all!$E$14:$AD$553,15),\"\")","v":179.66},{"$f":"IF($AE36=1,VLOOKUP($F36,all!$E$14:$AD$553,16),\"\")","v":0.69887275767738011},{"$f":"IF($AE36=1,VLOOKUP($F36,all!$E$14:$AD$553,17),\"\")","v":"unlim risk"},{"$f":"IF($AE36=1,VLOOKUP($F36,all!$E$14:$AD$553,18),\"\")","v":"unlim risk"},{"$f":"IF($AE36=1,VLOOKUP($F36,all!$E$14:$AD$553,19),\"\")","v":16792},{"$f":"IF($AE36=1,VLOOKUP($F36,all!$E$14:$AD$553,20),\"\")","v":2.7751310147689376E-2},{"$f":"IF($AE36=1,VLOOKUP($F36,all!$E$14:$AD$553,21),\"\")","v":2},{"$f":"IF($AE36=1,VLOOKUP($F36,all!$E$14:$AD$553,22),\"\")","v":4},{"$f":"IF($AE36=1,VLOOKUP($F36,all!$E$14:$AD$553,23),\"\")","v":0},{"$f":"IF($AE36=1,VLOOKUP($F36,all!$E$14:$AD$553,24),\"\")","v":0},{"$f":"IF($AE36=1,VLOOKUP($F36,all!$E$14:$AD$553,25),\"\")","v":0},null,{"$f":"COUNTIF(all!$E$14:$E$553,F36)","v":1},1,"buy call _/",{"$f":"$H$7*$J$2*IF($J$7<AH$11,AH$11-$J$7-$K$7,-$K$7)","v":-15044},{"$f":"$H$7*$J$2*IF($J$7<AI$11,AI$11-$J$7-$K$7,-$K$7)","v":-15044},-15044,-15044,-15044,-15044,-15044,-15044,-15044,-15044,-15044,-15044,-15044,-15044,-15044,-15044,-15044,-15044,-15044,-15044,-15044]
[{"$f":"IF(OR('Y2'!$W$1=6,('Y2'!$W$1=7)),IF(OFFSET(#REF!,$C$12,0)=\"?\",\"\",OFFSET(#REF!,$C$12,0)),'Y2'!AA30)","v":81.25},{"$f":"IF(OR('Y2'!$W$1=6,('Y2'!$W$1=7)),IF(A37=\"\",\"\",MAX(AVERAGE(OFFSET(#REF!,$C$12,0),OFFSET(#REF!,$C$12,0)),0)),'Y2'!AB30)","v":87},{"$f":"IF(all!$AQ$1=1,all!AR29,IF(all!$AQ$1=2,all!AT29*100,IF(all!$AQ$1=3,all!AV29,all!AX29)))","v":86.540321122120318},{"$f":"IF(OR('Y2'!$W$1=6,('Y2'!$W$1=7)),IF(A37=\"\",\"\",MAX(AVERAGE(OFFSET(#REF!,$C$12,0),OFFSET(#REF!,$C$12,0)),0)),'Y2'!AC30)","v":0.01},{"$f":"IF(all!$AP$3=1,all!AS29,IF(all!$AP$3=2,all!AU29*100,IF(all!$AP$3=3,all!AW29,all!AY29)))","v":0},4,{"$f":"IF($AE37=1,VLOOKUP($F37,all!$E$14:$AD$553,3),\"\")","v":"strangle otm /\\ (s177.5c+s162.5p) "},{"$f":"IF($AE37=1,VLOOKUP($F37,all!$E$14:$AD$553,4),\"\")","v":177.5},{"$f":"IF($AE37=1,VLOOKUP($F37,all!$E$14:$AD$553,5),\"\")","v":0.84},{"$f":"IF($AE37=1,VLOOKUP($F37,all!$E$14:$AD$553,6),\"\")","v":162.5},{"$f":"IF($AE37=1,VLOOKUP($F37,all!$E$14:$AD$553,7),\"\")","v":2.4500000000000002},{"$f":"IF($AE37=1,VLOOKUP($F37,all!$E$14:$AD$553,8),\"\")","v":0},{"$f":"IF($AE37=1,VLOOKUP($F37,all!$E$14:$AD$553,9),\"\")","v":0},{"$f":"IF($AE37=1,VLOOKUP($F37,all!$E$14:$AD$553,10),\"\")","v":0},{"$f":"IF($AE37=1,VLOOKUP($F37,all!$E$14:$AD$553,11),\"\")","v":0},{"$f":"IF($AE37=1,VLOOKUP($F37,all!$E$14:$AD$553,12),\"\")","v":"unlim risk"},{"$f":"IF($AE37=1,VLOOKUP($F37,all!$E$14:$AD$553,13),\"\")","v":329},{"$f":"IF($AE37=1,VLOOKUP($F37,all!$E$14:$AD$553,14),\"\")","v":159.21},{"$f":"IF($AE37=1,VLOOKUP($F37,all!$E$14:$AD$553,15),\"\")","v":180.79},{"$f":"IF($AE37=1,VLOOKUP($F37,all!$E$14:$AD$553,16),\"\")","v":0.75271471050760641},{"$f":"IF($AE37=1,VLOOKUP($F37,all!$E$14:$AD$553,17),\"\")","v":"unlim risk"},{"$f":"IF($AE37=1,VLOOKUP($F37,all!$E$14:$AD$553,18),\"\")","v":"unlim risk"},{"$f":"IF($AE37=1,VLOOKUP($F37,all!$E$14:$AD$553,19),\"\")","v":16792},{"$f":"IF($AE37=1,VLOOKUP($F37,all!$E$14:$AD$553,20),\"\")","v":1.9592663172939496E-2},{"$f":"IF($AE37=1,VLOOKUP($F37,all!$E$14:$AD$553,21),\"\")","v":2},{"$f":"IF($AE37=1,VLOOKUP($F37,all!$E$14:$AD$553,22),\"\")","v":4},{"$f":"IF($AE37=1,VLOOKUP($F37,all!$E$14:$AD$553,23),\"\")","v":0},{"$f":"IF($AE37=1,VLOOKUP($F37,all!$E$14:$AD$553,24),\"\")","v":0},{"$f":"IF($AE37=1,VLOOKUP($F37,all!$E$14:$AD$553,25),\"\")","v":0},null,{"$f":"COUNTIF(all!$E$14:$E$553,F37)","v":1},2,"sell call  '''\\",{"$f":"-AH36","v":15044},{"$f":"-AI36","v":15044},15044,15044,15044,15044,15044,15044,15044,15044,15044,15044,15044,15044,15044,15044,15044,15044,15044,15044,15044]
[{"$f":"IF(OR('Y2'!$W$1=6,('Y2'!$W$1=7)),IF(OFFSET(#REF!,$C$12,0)=\"?\",\"\",OFFSET(#REF!,$C$12,0)),'Y2'!AA31)","v":82.5},{"$f":"IF(OR('Y2'!$W$1=6,('Y2'!$W$1=7)),IF(A38=\"\",\"\",MAX(AVERAGE(OFFSET(#REF!,$C$12,0),OFFSET(#REF!,$C$12,0)),0)),'Y2'!AB31)","v":85.45},{"$f":"IF(all!$AQ$1=1,all!AR30,IF(all!$AQ$1=2,all!AT30*100,IF(all!$AQ$1=3,all!AV30,all!AX30)))","v":85.290958035852668},{"$f":"IF(OR('Y2'!$W$1=6,('Y2'!$W$1=7)),IF(A38=\"\",\"\",MAX(AVERAGE(OFFSET(#REF!,$C$12,0),OFFSET(#REF!,$C$12,0)),0)),'Y2'!AC31)","v":0.01},{"$f":"IF(all!$AP$3=1,all!AS30,IF(all!$AP$3=2,all!AU30*100,IF(all!$AP$3=3,all!AW30,all!AY30)))","v":0},5,{"$f":"IF($AE38=1,VLOOKUP($F38,all!$E$14:$AD$553,3),\"\")","v":"strangle otm /\\ (s180c+s160p) "},{"$f":"IF($AE38=1,VLOOKUP($F38,all!$E$14:$AD$553,4),\"\")","v":180},{"$f":"IF($AE38=1,VLOOKUP($F38,all!$E$14:$AD$553,5),\"\")","v":0.49},{"$f":"IF($AE38=1,VLOOKUP($F38,all!$E$14:$AD$553,6),\"\")","v":160},{"$f":"IF($AE38=1,VLOOKUP($F38,all!$E$14:$AD$553,7),\"\")","v":1.85},{"$f":"IF($AE38=1,VLOOKUP($F38,all!$E$14:$AD$553,8),\"\")","v":0},{"$f":"IF($AE38=1,VLOOKUP($F38,all!$E$14:$AD$553,9),\"\")","v":0},{"$f":"IF($AE38=1,VLOOKUP($F38,all!$E$14:$AD$553,10),\"\")","v":0},{"$f":"IF($AE38=1,VLOOKUP($F38,all!$E$14:$AD$553,11),\"\")","v":0},{"$f":"IF($AE38=1,VLOOKUP($F38,all!$E$14:$AD$553,12),\"\")","v":"unlim risk"},{"$f":"IF($AE38=1,VLOOKUP($F38,all!$E$14:$AD$553,13),\"\")","v":234},{"$f":"IF($AE38=1,VLOOKUP($F38,all!$E$14:$AD$553,14),\"\")","v":157.66},{"$f":"IF($AE38=1,VLOOKUP($F38,all!$E$14:$AD$553,15),\"\")","v":182.34},{"$f":"IF($AE38=1,VLOOKUP($F38,all!$E$14:$AD$553,16),\"\")","v":0.81534357257874412},{"$f":"IF($AE38=1,VLOOKUP($F38,all!$E$14:$AD$553,17),\"\")","v":"unlim risk"},{"$f":"IF($AE38=1,VLOOKUP($F38,all!$E$14:$AD$553,18),\"\")","v":"unlim risk"},{"$f":"IF($AE38=1,VLOOKUP($F38,all!$E$14:$AD$553,19),\"\")","v":16792},{"$f":"IF($AE38=1,VLOOKUP($F38,all!$E$14:$AD$553,20),\"\")","v":1.3935207241543592E-2},{"$f":"IF($AE38=1,VLOOKUP($F38,all!$E$14:$AD$553,21),\"\")","v":2},{"$f":"IF($AE38=1,VLOOKUP($F38,all!$E$14:$AD$553,22),\"\")","v":4},{"$f":"IF($AE38=1,VLOOKUP($F38,all!$E$14:$AD$553,23),\"\")","v":0},{"$f":"IF($AE38=1,VLOOKUP($F38,all!$E$14:$AD$553,24),\"\")","v":0},{"$f":"IF($AE38=1,VLOOKUP($F38,all!$E$14:$AD$553,25),\"\")","v":0},null,{"$f":"COUNTIF(all!$E$14:$E$553,F38)","v":1},3,"buy put \\_",{"$f":"$H$7*$J$2*IF($J$7>AH$11,$J$7-AH$11-$K$7,-$K$7)","v":17560.000000000004},{"$f":"$H$7*$J$2*IF($J$7>AI$11,$J$7-AI$11-$K$7,-$K$7)","v":16720.400000000001},15880.800000000005,15041.200000000004,14201.600000000002,13362,12522.4,11682.800000000003,10843.2,10003.6,9164.0000000000018,8324.4000000000033,7484.8000000000011,6645.2,5805.6000000000013,4966.0000000000027,4126.4000000000015,3286.7999999999993,2447.2000000000007,1607.6000000000022,768.00000000000068]
[{"$f":"IF(OR('Y2'!$W$1=6,('Y2'!$W$1=7)),IF(OFFSET(#REF!,$C$12,0)=\"?\",\"\",OFFSET(#REF!,$C$12,0)),'Y2'!AA32)","v":83.75},{"$f":"IF(OR('Y2'!$W$1=6,('Y2'!$W$1=7)),IF(A39=\"\",\"\",MAX(AVERAGE(OFFSET(#REF!,$C$12,0),OFFSET(#REF!,$C$12,0)),0)),'Y2'!AB32)","v":83.05},{"$f":"IF(all!$AQ$1=1,all!AR31,IF(all!$AQ$1=2,all!AT31*100,IF(all!$AQ$1=3,all!AV31,all!AX31)))","v":84.04159495921364},{"$f":"IF(OR('Y2'!$W$1=6,('Y2'!$W$1=7)),IF(A39=\"\",\"\",MAX(AVERAGE(OFFSET(#REF!,$C$12,0),OFFSET(#REF!,$C$12,0)),0)),'Y2'!AC32)","v":0.01},{"$f":"IF(all!$AP$3=1,all!AS31,IF(all!$AP$3=2,all!AU31*100,IF(all!$AP$3=3,all!AW31,all!AY31)))","v":0},6,{"$f":"IF($AE39=1,VLOOKUP($F39,all!$E$14:$AD$553,3),\"\")","v":"strangle otm /\\ (s182.5c+s157.5p) "},{"$f":"IF($AE39=1,VLOOKUP($F39,all!$E$14:$AD$553,4),\"\")","v":182.5},{"$f":"IF($AE39=1,VLOOKUP($F39,all!$E$14:$AD$553,5),\"\")","v":0.28000000000000003},{"$f":"IF($AE39=1,VLOOKUP($F39,all!$E$14:$AD$553,6),\"\")","v":157.5},{"$f":"IF($AE39=1,VLOOKUP($F39,all!$E$14:$AD$553,7),\"\")","v":1.36},{"$f":"IF($AE39=1,VLOOKUP($F39,all!$E$14:$AD$553,8),\"\")","v":0},{"$f":"IF($AE39=1,VLOOKUP($F39,all!$E$14:$AD$553,9),\"\")","v":0},{"$f":"IF($AE39=1,VLOOKUP($F39,all!$E$14:$AD$553,10),\"\")","v":0},{"$f":"IF($AE39=1,VLOOKUP($F39,all!$E$14:$AD$553,11),\"\")","v":0},{"$f":"IF($AE39=1,VLOOKUP($F39,all!$E$14:$AD$553,12),\"\")","v":"unlim risk"},{"$f":"IF($AE39=1,VLOOKUP($F39,all!$E$14:$AD$553,13),\"\")","v":164},{"$f":"IF($AE39=1,VLOOKUP($F39,all!$E$14:$AD$553,14),\"\")","v":155.86000000000001},{"$f":"IF($AE39=1,VLOOKUP($F39,all!$E$14:$AD$553,15),\"\")","v":184.14000000000001},{"$f":"IF($AE39=1,VLOOKUP($F39,all!$E$14:$AD$553,16),\"\")","v":0.87271415676598263},{"$f":"IF($AE39=1,VLOOKUP($F39,all!$E$14:$AD$553,17),\"\")","v":"unlim risk"},{"$f":"IF($AE39=1,VLOOKUP($F39,all!$E$14:$AD$553,18),\"\")","v":"unlim risk"},{"$f":"IF($AE39=1,VLOOKUP($F39,all!$E$14:$AD$553,19),\"\")","v":16792},{"$f":"IF($AE39=1,VLOOKUP($F39,all!$E$14:$AD$553,20),\"\")","v":9.7665555026202958E-3},{"$f":"IF($AE39=1,VLOOKUP($F39,all!$E$14:$AD$553,21),\"\")","v":2},{"$f":"IF($AE39=1,VLOOKUP($F39,all!$E$14:$AD$553,22),\"\")","v":4},{"$f":"IF($AE39=1,VLOOKUP($F39,all!$E$14:$AD$553,23),\"\")","v":0},{"$f":"IF($AE39=1,VLOOKUP($F39,all!$E$14:$AD$553,24),\"\")","v":0},{"$f":"IF($AE39=1,VLOOKUP($F39,all!$E$14:$AD$553,25),\"\")","v":0},null,{"$f":"COUNTIF(all!$E$14:$E$553,F39)","v":1},4,"sell put /'''",{"$f":"-AH38","v":-17560.000000000004},{"$f":"-AI38","v":-16720.400000000001},-15880.800000000005,-15041.200000000004,-14201.600000000002,-13362,-12522.4,-11682.800000000003,-10843.2,-10003.6,-9164.0000000000018,-8324.4000000000033,-7484.8000000000011,-6645.2,-5805.6000000000013,-4966.0000000000027,-4126.4000000000015,-3286.7999999999993,-2447.2000000000007,-1607.6000000000022,-768.00000000000068]
[{"$f":"IF(OR('Y2'!$W$1=6,('Y2'!$W$1=7)),IF(OFFSET(#REF!,$C$12,0)=\"?\",\"\",OFFSET(#REF!,$C$12,0)),'Y2'!AA33)","v":85},{"$f":"IF(OR('Y2'!$W$1=6,('Y2'!$W$1=7)),IF(A40=\"\",\"\",MAX(AVERAGE(OFFSET(#REF!,$C$12,0),OFFSET(#REF!,$C$12,0)),0)),'Y2'!AB33)","v":82.4},{"$f":"IF(all!$AQ$1=1,all!AR32,IF(all!$AQ$1=2,all!AT32*100,IF(all!$AQ$1=3,all!AV32,all!AX32)))","v":82.792231872993526},{"$f":"IF(OR('Y2'!$W$1=6,('Y2'!$W$1=7)),IF(A40=\"\",\"\",MAX(AVERAGE(OFFSET(#REF!,$C$12,0),OFFSET(#REF!,$C$12,0)),0)),'Y2'!AC33)","v":0.01},{"$f":"IF(all!$AP$3=1,all!AS32,IF(all!$AP$3=2,all!AU32*100,IF(all!$AP$3=3,all!AW32,all!AY32)))","v":0},7,{"$f":"IF($AE40=1,VLOOKUP($F40,all!$E$14:$AD$553,3),\"\")","v":"strangle otm /\\ (s185c+s155p) "},{"$f":"IF($AE40=1,VLOOKUP($F40,all!$E$14:$AD$553,4),\"\")","v":185},{"$f":"IF($AE40=1,VLOOKUP($F40,all!$E$14:$AD$553,5),\"\")","v":0.15},{"$f":"IF($AE40=1,VLOOKUP($F40,all!$E$14:$AD$553,6),\"\")","v":155},{"$f":"IF($AE40=1,VLOOKUP($F40,all!$E$14:$AD$553,7),\"\")","v":1.01},{"$f":"IF($AE40=1,VLOOKUP($F40,all!$E$14:$AD$553,8),\"\")","v":0},{"$f":"IF($AE40=1,VLOOKUP($F40,all!$E$14:$AD$553,9),\"\")","v":0},{"$f":"IF($AE40=1,VLOOKUP($F40,all!$E$14:$AD$553,10),\"\")","v":0},{"$f":"IF($AE40=1,VLOOKUP($F40,all!$E$14:$AD$553,11),\"\")","v":0},{"$f":"IF($AE40=1,VLOOKUP($F40,all!$E$14:$AD$553,12),\"\")","v":"unlim risk"},{"$f":"IF($AE40=1,VLOOKUP($F40,all!$E$14:$AD$553,13),\"\")","v":115.99999999999999},{"$f":"IF($AE40=1,VLOOKUP($F40,all!$E$14:$AD$553,14),\"\")","v":153.84},{"$f":"IF($AE40=1,VLOOKUP($F40,all!$E$14:$AD$553,15),\"\")","v":186.16},{"$f":"IF($AE40=1,VLOOKUP($F40,all!$E$14:$AD$553,16),\"\")","v":0.91975065970440983},{"$f":"IF($AE40=1,VLOOKUP($F40,all!$E$14:$AD$553,17),\"\")","v":"unlim risk"},{"$f":"IF($AE40=1,VLOOKUP($F40,all!$E$14:$AD$553,18),\"\")","v":"unlim risk"},{"$f":"IF($AE40=1,VLOOKUP($F40,all!$E$14:$AD$553,19),\"\")","v":16792},{"$f":"IF($AE40=1,VLOOKUP($F40,all!$E$14:$AD$553,20),\"\")","v":6.908051453072891E-3},{"$f":"IF($AE40=1,VLOOKUP($F40,all!$E$14:$AD$553,21),\"\")","v":2},{"$f":"IF($AE40=1,VLOOKUP($F40,all!$E$14:$AD$553,22),\"\")","v":4},{"$f":"IF($AE40=1,VLOOKUP($F40,all!$E$14:$AD$553,23),\"\")","v":0},{"$f":"IF($AE40=1,VLOOKUP($F40,all!$E$14:$AD$553,24),\"\")","v":0},{"$f":"IF($AE40=1,VLOOKUP($F40,all!$E$14:$AD$553,25),\"\")","v":0},null,{"$f":"COUNTIF(all!$E$14:$E$553,F40)","v":1},5,"buy under \\",{"$f":"$H$7*$J$2*(AH$11-$C$2)","v":-8396},{"$f":"$H$7*$J$2*(AI$11-$C$2)","v":-7556.4000000000005},-6716.8000000000011,-5877.2000000000007,-5037.6000000000004,-4198,-3358.4000000000005,-2518.8000000000015,-1679.2000000000003,-839.59999999999866,0,839.59999999999866,1679.2000000000003,2518.8000000000015,3358.4000000000005,4197.9999999999991,5037.6000000000004,5877.2000000000016,6716.8000000000011,7556.4,8396]
[{"$f":"IF(OR('Y2'!$W$1=6,('Y2'!$W$1=7)),IF(OFFSET(#REF!,$C$12,0)=\"?\",\"\",OFFSET(#REF!,$C$12,0)),'Y2'!AA34)","v":86.25},{"$f":"IF(OR('Y2'!$W$1=6,('Y2'!$W$1=7)),IF(A41=\"\",\"\",MAX(AVERAGE(OFFSET(#REF!,$C$12,0),OFFSET(#REF!,$C$12,0)),0)),'Y2'!AB34)","v":81.400000000000006},{"$f":"IF(all!$AQ$1=1,all!AR33,IF(all!$AQ$1=2,all!AT33*100,IF(all!$AQ$1=3,all!AV33,all!AX33)))","v":81.542868791563961},{"$f":"IF(OR('Y2'!$W$1=6,('Y2'!$W$1=7)),IF(A41=\"\",\"\",MAX(AVERAGE(OFFSET(#REF!,$C$12,0),OFFSET(#REF!,$C$12,0)),0)),'Y2'!AC34)","v":0.01},{"$f":"IF(all!$AP$3=1,all!AS33,IF(all!$AP$3=2,all!AU33*100,IF(all!$AP$3=3,all!AW33,all!AY33)))","v":0},8,{"$f":"IF($AE41=1,VLOOKUP($F41,all!$E$14:$AD$553,3),\"\")","v":"strangle otm /\\ (s187.5c+s152.5p) "},{"$f":"IF($AE41=1,VLOOKUP($F41,all!$E$14:$AD$553,4),\"\")","v":187.5},{"$f":"IF($AE41=1,VLOOKUP($F41,all!$E$14:$AD$553,5),\"\")","v":0.1},{"$f":"IF($AE41=1,VLOOKUP($F41,all!$E$14:$AD$553,6),\"\")","v":152.5},{"$f":"IF($AE41=1,VLOOKUP($F41,all!$E$14:$AD$553,7),\"\")","v":0.8},{"$f":"IF($AE41=1,VLOOKUP($F41,all!$E$14:$AD$553,8),\"\")","v":0},{"$f":"IF($AE41=1,VLOOKUP($F41,all!$E$14:$AD$553,9),\"\")","v":0},{"$f":"IF($AE41=1,VLOOKUP($F41,all!$E$14:$AD$553,10),\"\")","v":0},{"$f":"IF($AE41=1,VLOOKUP($F41,all!$E$14:$AD$553,11),\"\")","v":0},{"$f":"IF($AE41=1,VLOOKUP($F41,all!$E$14:$AD$553,12),\"\")","v":"unlim risk"},{"$f":"IF($AE41=1,VLOOKUP($F41,all!$E$14:$AD$553,13),\"\")","v":90},{"$f":"IF($AE41=1,VLOOKUP($F41,all!$E$14:$AD$553,14),\"\")","v":151.6},{"$f":"IF($AE41=1,VLOOKUP($F41,all!$E$14:$AD$553,15),\"\")","v":188.4},{"$f":"IF($AE41=1,VLOOKUP($F41,all!$E$14:$AD$553,16),\"\")","v":0.95450052652822426},{"$f":"IF($AE41=1,VLOOKUP($F41,all!$E$14:$AD$553,17),\"\")","v":"unlim risk"},{"$f":"IF($AE41=1,VLOOKUP($F41,all!$E$14:$AD$553,18),\"\")","v":"unlim risk"},{"$f":"IF($AE41=1,VLOOKUP($F41,all!$E$14:$AD$553,19),\"\")","v":16792},{"$f":"IF($AE41=1,VLOOKUP($F41,all!$E$14:$AD$553,20),\"\")","v":5.3596950929013813E-3},{"$f":"IF($AE41=1,VLOOKUP($F41,all!$E$14:$AD$553,21),\"\")","v":2},{"$f":"IF($AE41=1,VLOOKUP($F41,all!$E$14:$AD$553,22),\"\")","v":4},{"$f":"IF($AE41=1,VLOOKUP($F41,all!$E$14:$AD$553,23),\"\")","v":0},{"$f":"IF($AE41=1,VLOOKUP($F41,all!$E$14:$AD$553,24),\"\")","v":0},{"$f":"IF($AE41=1,VLOOKUP($F41,all!$E$14:$AD$553,25),\"\")","v":0},null,{"$f":"COUNTIF(all!$E$14:$E$553,F41)","v":1},6,"sell under /",{"$f":"-AH40","v":8396},{"$f":"-AI40","v":7556.4000000000005},6716.8000000000011,5877.2000000000007,5037.6000000000004,4198,3358.4000000000005,2518.8000000000015,1679.2000000000003,839.59999999999866,0,-839.59999999999866,-1679.2000000000003,-2518.8000000000015,-3358.4000000000005,-4197.9999999999991,-5037.6000000000004,-5877.2000000000016,-6716.8000000000011,-7556.4,-8396]
[{"$f":"IF(OR('Y2'!$W$1=6,('Y2'!$W$1=7)),IF(OFFSET(#REF!,$C$12,0)=\"?\",\"\",OFFSET(#REF!,$C$12,0)),'Y2'!AA35)","v":87.5},{"$f":"IF(OR('Y2'!$W$1=6,('Y2'!$W$1=7)),IF(A42=\"\",\"\",MAX(AVERAGE(OFFSET(#REF!,$C$12,0),OFFSET(#REF!,$C$12,0)),0)),'Y2'!AB35)","v":79.75},{"$f":"IF(all!$AQ$1=1,all!AR34,IF(all!$AQ$1=2,all!AT34*100,IF(all!$AQ$1=3,all!AV34,all!AX34)))","v":80.293505711707482},{"$f":"IF(OR('Y2'!$W$1=6,('Y2'!$W$1=7)),IF(A42=\"\",\"\",MAX(AVERAGE(OFFSET(#REF!,$C$12,0),OFFSET(#REF!,$C$12,0)),0)),'Y2'!AC35)","v":0.01},{"$f":"IF(all!$AP$3=1,all!AS34,IF(all!$AP$3=2,all!AU34*100,IF(all!$AP$3=3,all!AW34,all!AY34)))","v":0},9,{"$f":"IF($AE42=1,VLOOKUP($F42,all!$E$14:$AD$553,3),\"\")","v":"strangle otm /\\ (s190c+s150p) "},{"$f":"IF($AE42=1,VLOOKUP($F42,all!$E$14:$AD$553,4),\"\")","v":190},{"$f":"IF($AE42=1,VLOOKUP($F42,all!$E$14:$AD$553,5),\"\")","v":7.0000000000000007E-2},{"$f":"IF($AE42=1,VLOOKUP($F42,all!$E$14:$AD$553,6),\"\")","v":150},{"$f":"IF($AE42=1,VLOOKUP($F42,all!$E$14:$AD$553,7),\"\")","v":0.56999999999999995},{"$f":"IF($AE42=1,VLOOKUP($F42,all!$E$14:$AD$553,8),\"\")","v":0},{"$f":"IF($AE42=1,VLOOKUP($F42,all!$E$14:$AD$553,9),\"\")","v":0},{"$f":"IF($AE42=1,VLOOKUP($F42,all!$E$14:$AD$553,10),\"\")","v":0},{"$f":"IF($AE42=1,VLOOKUP($F42,all!$E$14:$AD$553,11),\"\")","v":0},{"$f":"IF($AE42=1,VLOOKUP($F42,all!$E$14:$AD$553,12),\"\")","v":"unlim risk"},{"$f":"IF($AE42=1,VLOOKUP($F42,all!$E$14:$AD$553,13),\"\")","v":63.999999999999993},{"$f":"IF($AE42=1,VLOOKUP($F42,all!$E$14:$AD$553,14),\"\")","v":149.36000000000001},{"$f":"IF($AE42=1,VLOOKUP($F42,all!$E$14:$AD$553,15),\"\")","v":190.64},{"$f":"IF($AE42=1,VLOOKUP($F42,all!$E$14:$AD$553,16),\"\")","v":0.97570219393017033},{"$f":"IF($AE42=1,VLOOKUP($F42,all!$E$14:$AD$553,17),\"\")","v":"unlim risk"},{"$f":"IF($AE42=1,VLOOKUP($F42,all!$E$14:$AD$553,18),\"\")","v":"unlim risk"},{"$f":"IF($AE42=1,VLOOKUP($F42,all!$E$14:$AD$553,19),\"\")","v":16792},{"$f":"IF($AE42=1,VLOOKUP($F42,all!$E$14:$AD$553,20),\"\")","v":3.8113387327298708E-3},{"$f":"IF($AE42=1,VLOOKUP($F42,all!$E$14:$AD$553,21),\"\")","v":2},{"$f":"IF($AE42=1,VLOOKUP($F42,all!$E$14:$AD$553,22),\"\")","v":4},{"$f":"IF($AE42=1,VLOOKUP($F42,all!$E$14:$AD$553,23),\"\")","v":0},{"$f":"IF($AE42=1,VLOOKUP($F42,all!$E$14:$AD$553,24),\"\")","v":0},{"$f":"IF($AE42=1,VLOOKUP($F42,all!$E$14:$AD$553,25),\"\")","v":0},null,{"$f":"COUNTIF(all!$E$14:$E$553,F42)","v":1},1,"one",{"$f":"IF($AF$42=0,0,VLOOKUP($AF$42,$AF$36:$BB$41,AH116))","v":-15044},{"$f":"IF($AF$42=0,0,VLOOKUP($AF$42,$AF$36:$BB$41,AI116))","v":-15044},-15044,-15044,-15044,-15044,-15044,-15044,-15044,-15044,-15044,-15044,-15044,-15044,-15044,-15044,-15044,-15044,-15044,-15044,-15044]
[{"$f":"IF(OR('Y2'!$W$1=6,('Y2'!$W$1=7)),IF(OFFSET(#REF!,$C$12,0)=\"?\",\"\",OFFSET(#REF!,$C$12,0)),'Y2'!AA36)","v":90},{"$f":"IF(OR('Y2'!$W$1=6,('Y2'!$W$1=7)),IF(A43=\"\",\"\",MAX(AVERAGE(OFFSET(#REF!,$C$12,0),OFFSET(#REF!,$C$12,0)),0)),'Y2'!AB36)","v":77.349999999999994},{"$f":"IF(all!$AQ$1=1,all!AR35,IF(all!$AQ$1=2,all!AT35*100,IF(all!$AQ$1=3,all!AV35,all!AX35)))","v":77.794779552725572},{"$f":"IF(OR('Y2'!$W$1=6,('Y2'!$W$1=7)),IF(A43=\"\",\"\",MAX(AVERAGE(OFFSET(#REF!,$C$12,0),OFFSET(#REF!,$C$12,0)),0)),'Y2'!AC36)","v":0.01},{"$f":"IF(all!$AP$3=1,all!AS35,IF(all!$AP$3=2,all!AU35*100,IF(all!$AP$3=3,all!AW35,all!AY35)))","v":0},10,{"$f":"IF($AE43=1,VLOOKUP($F43,all!$E$14:$AD$553,3),\"\")","v":"strangle otm /\\ (s192.5c+s145p) "},{"$f":"IF($AE43=1,VLOOKUP($F43,all!$E$14:$AD$553,4),\"\")","v":192.5},{"$f":"IF($AE43=1,VLOOKUP($F43,all!$E$14:$AD$553,5),\"\")","v":0.05},{"$f":"IF($AE43=1,VLOOKUP($F43,all!$E$14:$AD$553,6),\"\")","v":145},{"$f":"IF($AE43=1,VLOOKUP($F43,all!$E$14:$AD$553,7),\"\")","v":0.33},{"$f":"IF($AE43=1,VLOOKUP($F43,all!$E$14:$AD$553,8),\"\")","v":0},{"$f":"IF($AE43=1,VLOOKUP($F43,all!$E$14:$AD$553,9),\"\")","v":0},{"$f":"IF($AE43=1,VLOOKUP($F43,all!$E$14:$AD$553,10),\"\")","v":0},{"$f":"IF($AE43=1,VLOOKUP($F43,all!$E$14:$AD$553,11),\"\")","v":0},{"$f":"IF($AE43=1,VLOOKUP($F43,all!$E$14:$AD$553,12),\"\")","v":"unlim risk"},{"$f":"IF($AE43=1,VLOOKUP($F43,all!$E$14:$AD$553,13),\"\")","v":38},{"$f":"IF($AE43=1,VLOOKUP($F43,all!$E$14:$AD$553,14),\"\")","v":144.62},{"$f":"IF($AE43=1,VLOOKUP($F43,all!$E$14:$AD$553,15),\"\")","v":192.88000000000002},{"$f":"IF($AE43=1,VLOOKUP($F43,all!$E$14:$AD$553,16),\"\")","v":0.99208199618973059},{"$f":"IF($AE43=1,VLOOKUP($F43,all!$E$14:$AD$553,17),\"\")","v":"unlim risk"},{"$f":"IF($AE43=1,VLOOKUP($F43,all!$E$14:$AD$553,18),\"\")","v":"unlim risk"},{"$f":"IF($AE43=1,VLOOKUP($F43,all!$E$14:$AD$553,19),\"\")","v":16792},{"$f":"IF($AE43=1,VLOOKUP($F43,all!$E$14:$AD$553,20),\"\")","v":2.2629823725583611E-3},{"$f":"IF($AE43=1,VLOOKUP($F43,all!$E$14:$AD$553,21),\"\")","v":2},{"$f":"IF($AE43=1,VLOOKUP($F43,all!$E$14:$AD$553,22),\"\")","v":4},{"$f":"IF($AE43=1,VLOOKUP($F43,all!$E$14:$AD$553,23),\"\")","v":0},{"$f":"IF($AE43=1,VLOOKUP($F43,all!$E$14:$AD$553,24),\"\")","v":0},{"$f":"IF($AE43=1,VLOOKUP($F43,all!$E$14:$AD$553,25),\"\")","v":0},null,{"$f":"COUNTIF(all!$E$14:$E$553,F43)","v":1}]
[{"$f":"IF(OR('Y2'!$W$1=6,('Y2'!$W$1=7)),IF(OFFSET(#REF!,$C$12,0)=\"?\",\"\",OFFSET(#REF!,$C$12,0)),'Y2'!AA37)","v":92.5},{"$f":"IF(OR('Y2'!$W$1=6,('Y2'!$W$1=7)),IF(A44=\"\",\"\",MAX(AVERAGE(OFFSET(#REF!,$C$12,0),OFFSET(#REF!,$C$12,0)),0)),'Y2'!AB37)","v":75.599999999999994},{"$f":"IF(all!$AQ$1=1,all!AR36,IF(all!$AQ$1=2,all!AT36*100,IF(all!$AQ$1=3,all!AV36,all!AX36)))","v":75.296053391352359},{"$f":"IF(OR('Y2'!$W$1=6,('Y2'!$W$1=7)),IF(A44=\"\",\"\",MAX(AVERAGE(OFFSET(#REF!,$C$12,0),OFFSET(#REF!,$C$12,0)),0)),'Y2'!AC37)","v":0.01},{"$f":"IF(all!$AP$3=1,all!AS36,IF(all!$AP$3=2,all!AU36*100,IF(all!$AP$3=3,all!AW36,all!AY36)))","v":0},11,{"$f":"IF($AE44=1,VLOOKUP($F44,all!$E$14:$AD$553,3),\"\")","v":"strangle otm /\\ (s195c+s140p) "},{"$f":"IF($AE44=1,VLOOKUP($F44,all!$E$14:$AD$553,4),\"\")","v":195},{"$f":"IF($AE44=1,VLOOKUP($F44,all!$E$14:$AD$553,5),\"\")","v":0.04},{"$f":"IF($AE44=1,VLOOKUP($F44,all!$E$14:$AD$553,6),\"\")","v":140},{"$f":"IF($AE44=1,VLOOKUP($F44,all!$E$14:$AD$553,7),\"\")","v":0.2},{"$f":"IF($AE44=1,VLOOKUP($F44,all!$E$14:$AD$553,8),\"\")","v":0},{"$f":"IF($AE44=1,VLOOKUP($F44,all!$E$14:$AD$553,9),\"\")","v":0},{"$f":"IF($AE44=1,VLOOKUP($F44,all!$E$14:$AD$553,10),\"\")","v":0},{"$f":"IF($AE44=1,VLOOKUP($F44,all!$E$14:$AD$553,11),\"\")","v":0},{"$f":"IF($AE44=1,VLOOKUP($F44,all!$E$14:$AD$553,12),\"\")","v":"unlim risk"},{"$f":"IF($AE44=1,VLOOKUP($F44,all!$E$14:$AD$553,13),\"\")","v":24.000000000000004},{"$f":"IF($AE44=1,VLOOKUP($F44,all!$E$14:$AD$553,14),\"\")","v":139.76},{"$f":"IF($AE44=1,VLOOKUP($F44,all!$E$14:$AD$553,15),\"\")","v":195.23999999999998},{"$f":"IF($AE44=1,VLOOKUP($F44,all!$E$14:$AD$553,16),\"\")","v":0.99706351853512354},{"$f":"IF($AE44=1,VLOOKUP($F44,all!$E$14:$AD$553,17),\"\")","v":"unlim risk"},{"$f":"IF($AE44=1,VLOOKUP($F44,all!$E$14:$AD$553,18),\"\")","v":"unlim risk"},{"$f":"IF($AE44=1,VLOOKUP($F44,all!$E$14:$AD$553,19),\"\")","v":16792},{"$f":"IF($AE44=1,VLOOKUP($F44,all!$E$14:$AD$553,20),\"\")","v":1.429252024773702E-3},{"$f":"IF($AE44=1,VLOOKUP($F44,all!$E$14:$AD$553,21),\"\")","v":2},{"$f":"IF($AE44=1,VLOOKUP($F44,all!$E$14:$AD$553,22),\"\")","v":4},{"$f":"IF($AE44=1,VLOOKUP($F44,all!$E$14:$AD$553,23),\"\")","v":0},{"$f":"IF($AE44=1,VLOOKUP($F44,all!$E$14:$AD$553,24),\"\")","v":0},{"$f":"IF($AE44=1,VLOOKUP($F44,all!$E$14:$AD$553,25),\"\")","v":0},null,{"$f":"COUNTIF(all!$E$14:$E$553,F44)","v":1},1,"buy call _/",{"$f":"$H$8*$J$2*IF($J$8<AH$11,AH$11-$J$8-$K$8,-$K$8)","v":{"$error":"#VALUE!"}},{"$f":"$H$8*$J$2*IF($J$8<AI$11,AI$11-$J$8-$K$8,-$K$8)","v":{"$error":"#VALUE!"}},{"$error":"#VALUE!"},{"$error":"#VALUE!"},{"$error":"#VALUE!"},{"$error":"#VALUE!"},{"$error":"#VALUE!"},{"$error":"#VALUE!"},{"$error":"#VALUE!"},{"$error":"#VALUE!"},{"$error":"#VALUE!"},{"$error":"#VALUE!"},{"$error":"#VALUE!"},{"$error":"#VALUE!"},{"$error":"#VALUE!"},{"$error":"#VALUE!"},{"$error":"#VALUE!"},{"$error":"#VALUE!"},{"$error":"#VALUE!"},{"$error":"#VALUE!"},{"$error":"#VALUE!"}]
[{"$f":"IF(OR('Y2'!$W$1=6,('Y2'!$W$1=7)),IF(OFFSET(#REF!,$C$12,0)=\"?\",\"\",OFFSET(#REF!,$C$12,0)),'Y2'!AA38)","v":95},{"$f":"IF(OR('Y2'!$W$1=6,('Y2'!$W$1=7)),IF(A45=\"\",\"\",MAX(AVERAGE(OFFSET(#REF!,$C$12,0),OFFSET(#REF!,$C$12,0)),0)),'Y2'!AB38)","v":72.94},{"$f":"IF(all!$AQ$1=1,all!AR37,IF(all!$AQ$1=2,all!AT37*100,IF(all!$AQ$1=3,all!AV37,all!AX37)))","v":72.797327223845286},{"$f":"IF(OR('Y2'!$W$1=6,('Y2'!$W$1=7)),IF(A45=\"\",\"\",MAX(AVERAGE(OFFSET(#REF!,$C$12,0),OFFSET(#REF!,$C$12,0)),0)),'Y2'!AC38)","v":0.01},{"$f":"IF(all!$AP$3=1,all!AS37,IF(all!$AP$3=2,all!AU37*100,IF(all!$AP$3=3,all!AW37,all!AY37)))","v":0},12,{"$f":"IF($AE45=1,VLOOKUP($F45,all!$E$14:$AD$553,3),\"\")","v":"strangle itm /\\ (s167.5c+s172.5p)"},{"$f":"IF($AE45=1,VLOOKUP($F45,all!$E$14:$AD$553,4),\"\")","v":167.5},{"$f":"IF($AE45=1,VLOOKUP($F45,all!$E$14:$AD$553,5),\"\")","v":4.5999999999999996},{"$f":"IF($AE45=1,VLOOKUP($F45,all!$E$14:$AD$553,6),\"\")","v":172.5},{"$f":"IF($AE45=1,VLOOKUP($F45,all!$E$14:$AD$553,7),\"\")","v":6.85},{"$f":"IF($AE45=1,VLOOKUP($F45,all!$E$14:$AD$553,8),\"\")","v":0},{"$f":"IF($AE45=1,VLOOKUP($F45,all!$E$14:$AD$553,9),\"\")","v":0},{"$f":"IF($AE45=1,VLOOKUP($F45,all!$E$14:$AD$553,10),\"\")","v":0},{"$f":"IF($AE45=1,VLOOKUP($F45,all!$E$14:$AD$553,11),\"\")","v":0},{"$f":"IF($AE45=1,VLOOKUP($F45,all!$E$14:$AD$553,12),\"\")","v":"unlim risk"},{"$f":"IF($AE45=1,VLOOKUP($F45,all!$E$14:$AD$553,13),\"\")","v":644.99999999999989},{"$f":"IF($AE45=1,VLOOKUP($F45,all!$E$14:$AD$553,14),\"\")","v":161.05000000000001},{"$f":"IF($AE45=1,VLOOKUP($F45,all!$E$14:$AD$553,15),\"\")","v":178.95},{"$f":"IF($AE45=1,VLOOKUP($F45,all!$E$14:$AD$553,16),\"\")","v":0.66145770354295674},{"$f":"IF($AE45=1,VLOOKUP($F45,all!$E$14:$AD$553,17),\"\")","v":"unlim risk"},{"$f":"IF($AE45=1,VLOOKUP($F45,all!$E$14:$AD$553,18),\"\")","v":"unlim risk"},{"$f":"IF($AE45=1,VLOOKUP($F45,all!$E$14:$AD$553,19),\"\")","v":16792},{"$f":"IF($AE45=1,VLOOKUP($F45,all!$E$14:$AD$553,20),\"\")","v":3.8411148165793225E-2},{"$f":"IF($AE45=1,VLOOKUP($F45,all!$E$14:$AD$553,21),\"\")","v":2},{"$f":"IF($AE45=1,VLOOKUP($F45,all!$E$14:$AD$553,22),\"\")","v":4},{"$f":"IF($AE45=1,VLOOKUP($F45,all!$E$14:$AD$553,23),\"\")","v":0},{"$f":"IF($AE45=1,VLOOKUP($F45,all!$E$14:$AD$553,24),\"\")","v":0},{"$f":"IF($AE45=1,VLOOKUP($F45,all!$E$14:$AD$553,25),\"\")","v":0},null,{"$f":"COUNTIF(all!$E$14:$E$553,F45)","v":1},2,"sell call  '''\\",{"$f":"-AH44","v":{"$error":"#VALUE!"}},{"$f":"-AI44","v":{"$error":"#VALUE!"}},{"$error":"#VALUE!"},{"$error":"#VALUE!"},{"$error":"#VALUE!"},{"$error":"#VALUE!"},{"$error":"#VALUE!"},{"$error":"#VALUE!"},{"$error":"#VALUE!"},{"$error":"#VALUE!"},{"$error":"#VALUE!"},{"$error":"#VALUE!"},{"$error":"#VALUE!"},{"$error":"#VALUE!"},{"$error":"#VALUE!"},{"$error":"#VALUE!"},{"$error":"#VALUE!"},{"$error":"#VALUE!"},{"$error":"#VALUE!"},{"$error":"#VALUE!"},{"$error":"#VALUE!"}]
[{"$f":"IF(OR('Y2'!$W$1=6,('Y2'!$W$1=7)),IF(OFFSET(#REF!,$C$12,0)=\"?\",\"\",OFFSET(#REF!,$C$12,0)),'Y2'!AA39)","v":97.5},{"$f":"IF(OR('Y2'!$W$1=6,('Y2'!$W$1=7)),IF(A46=\"\",\"\",MAX(AVERAGE(OFFSET(#REF!,$C$12,0),OFFSET(#REF!,$C$12,0)),0)),'Y2'!AB39)","v":74.150000000000006},{"$f":"IF(all!$AQ$1=1,all!AR38,IF(all!$AQ$1=2,all!AT38*100,IF(all!$AQ$1=3,all!AV38,all!AX38)))","v":70.298601062472073},{"$f":"IF(OR('Y2'!$W$1=6,('Y2'!$W$1=7)),IF(A46=\"\",\"\",MAX(AVERAGE(OFFSET(#REF!,$C$12,0),OFFSET(#REF!,$C$12,0)),0)),'Y2'!AC39)","v":0.01},{"$f":"IF(all!$AP$3=1,all!AS38,IF(all!$AP$3=2,all!AU38*100,IF(all!$AP$3=3,all!AW38,all!AY38)))","v":0},13,{"$f":"IF($AE46=1,VLOOKUP($F46,all!$E$14:$AD$553,3),\"\")","v":"strangle itm /\\ (s165c+s175p)"},{"$f":"IF($AE46=1,VLOOKUP($F46,all!$E$14:$AD$553,4),\"\")","v":165},{"$f":"IF($AE46=1,VLOOKUP($F46,all!$E$14:$AD$553,5),\"\")","v":6.13},{"$f":"IF($AE46=1,VLOOKUP($F46,all!$E$14:$AD$553,6),\"\")","v":175},{"$f":"IF($AE46=1,VLOOKUP($F46,all!$E$14:$AD$553,7),\"\")","v":8.6},{"$f":"IF($AE46=1,VLOOKUP($F46,all!$E$14:$AD$553,8),\"\")","v":0},{"$f":"IF($AE46=1,VLOOKUP($F46,all!$E$14:$AD$553,9),\"\")","v":0},{"$f":"IF($AE46=1,VLOOKUP($F46,all!$E$14:$AD$553,10),\"\")","v":0},{"$f":"IF($AE46=1,VLOOKUP($F46,all!$E$14:$AD$553,11),\"\")","v":0},{"$f":"IF($AE46=1,VLOOKUP($F46,all!$E$14:$AD$553,12),\"\")","v":"unlim risk"},{"$f":"IF($AE46=1,VLOOKUP($F46,all!$E$14:$AD$553,13),\"\")","v":472.99999999999994},{"$f":"IF($AE46=1,VLOOKUP($F46,all!$E$14:$AD$553,14),\"\")","v":160.27000000000001},{"$f":"IF($AE46=1,VLOOKUP($F46,all!$E$14:$AD$553,15),\"\")","v":179.73},{"$f":"IF($AE46=1,VLOOKUP($F46,all!$E$14:$AD$553,16),\"\")","v":0.70241173466849727},{"$f":"IF($AE46=1,VLOOKUP($F46,all!$E$14:$AD$553,17),\"\")","v":"unlim risk"},{"$f":"IF($AE46=1,VLOOKUP($F46,all!$E$14:$AD$553,18),\"\")","v":"unlim risk"},{"$f":"IF($AE46=1,VLOOKUP($F46,all!$E$14:$AD$553,19),\"\")","v":16792},{"$f":"IF($AE46=1,VLOOKUP($F46,all!$E$14:$AD$553,20),\"\")","v":2.8168175321581702E-2},{"$f":"IF($AE46=1,VLOOKUP($F46,all!$E$14:$AD$553,21),\"\")","v":2},{"$f":"IF($AE46=1,VLOOKUP($F46,all!$E$14:$AD$553,22),\"\")","v":4},{"$f":"IF($AE46=1,VLOOKUP($F46,all!$E$14:$AD$553,23),\"\")","v":0},{"$f":"IF($AE46=1,VLOOKUP($F46,all!$E$14:$AD$553,24),\"\")","v":0},{"$f":"IF($AE46=1,VLOOKUP($F46,all!$E$14:$AD$553,25),\"\")","v":0},null,{"$f":"COUNTIF(all!$E$14:$E$553,F46)","v":1},3,"buy put \\_",{"$f":"$H$8*$J$2*IF($J$8>AH$11,$J$8-AH$11-$K$8,-$K$8)","v":{"$error":"#VALUE!"}},{"$f":"$H$8*$J$2*IF($J$8>AI$11,$J$8-AI$11-$K$8,-$K$8)","v":{"$error":"#VALUE!"}},{"$error":"#VALUE!"},{"$error":"#VALUE!"},{"$error":"#VALUE!"},{"$error":"#VALUE!"},{"$error":"#VALUE!"},{"$error":"#VALUE!"},{"$error":"#VALUE!"},{"$error":"#VALUE!"},{"$error":"#VALUE!"},{"$error":"#VALUE!"},{"$error":"#VALUE!"},{"$error":"#VALUE!"},{"$error":"#VALUE!"},{"$error":"#VALUE!"},{"$error":"#VALUE!"},{"$error":"#VALUE!"},{"$error":"#VALUE!"},{"$error":"#VALUE!"},{"$error":"#VALUE!"}]
[{"$f":"IF(OR('Y2'!$W$1=6,('Y2'!$W$1=7)),IF(OFFSET(#REF!,$C$12,0)=\"?\",\"\",OFFSET(#REF!,$C$12,0)),'Y2'!AA40)","v":100},{"$f":"IF(OR('Y2'!$W$1=6,('Y2'!$W$1=7)),IF(A47=\"\",\"\",MAX(AVERAGE(OFFSET(#REF!,$C$12,0),OFFSET(#REF!,$C$12,0)),0)),'Y2'!AB40)","v":67.7},{"$f":"IF(all!$AQ$1=1,all!AR39,IF(all!$AQ$1=2,all!AT39*100,IF(all!$AQ$1=3,all!AV39,all!AX39)))","v":67.799874902561015},{"$f":"IF(OR('Y2'!$W$1=6,('Y2'!$W$1=7)),IF(A47=\"\",\"\",MAX(AVERAGE(OFFSET(#REF!,$C$12,0),OFFSET(#REF!,$C$12,0)),0)),'Y2'!AC40)","v":0.01},{"$f":"IF(all!$AP$3=1,all!AS39,IF(all!$AP$3=2,all!AU39*100,IF(all!$AP$3=3,all!AW39,all!AY39)))","v":0},14,{"$f":"IF($AE47=1,VLOOKUP($F47,all!$E$14:$AD$553,3),\"\")","v":"strangle itm /\\ (s162.5c+s177.5p)"},{"$f":"IF($AE47=1,VLOOKUP($F47,all!$E$14:$AD$553,4),\"\")","v":162.5},{"$f":"IF($AE47=1,VLOOKUP($F47,all!$E$14:$AD$553,5),\"\")","v":7.9},{"$f":"IF($AE47=1,VLOOKUP($F47,all!$E$14:$AD$553,6),\"\")","v":177.5},{"$f":"IF($AE47=1,VLOOKUP($F47,all!$E$14:$AD$553,7),\"\")","v":11},{"$f":"IF($AE47=1,VLOOKUP($F47,all!$E$14:$AD$553,8),\"\")","v":0},{"$f":"IF($AE47=1,VLOOKUP($F47,all!$E$14:$AD$553,9),\"\")","v":0},{"$f":"IF($AE47=1,VLOOKUP($F47,all!$E$14:$AD$553,10),\"\")","v":0},{"$f":"IF($AE47=1,VLOOKUP($F47,all!$E$14:$AD$553,11),\"\")","v":0},{"$f":"IF($AE47=1,VLOOKUP($F47,all!$E$14:$AD$553,12),\"\")","v":"unlim risk"},{"$f":"IF($AE47=1,VLOOKUP($F47,all!$E$14:$AD$553,13),\"\")","v":390.00000000000006},{"$f":"IF($AE47=1,VLOOKUP($F47,all!$E$14:$AD$553,14),\"\")","v":158.6},{"$f":"IF($AE47=1,VLOOKUP($F47,all!$E$14:$AD$553,15),\"\")","v":181.4},{"$f":"IF($AE47=1,VLOOKUP($F47,all!$E$14:$AD$553,16),\"\")","v":0.77888798519583791},{"$f":"IF($AE47=1,VLOOKUP($F47,all!$E$14:$AD$553,17),\"\")","v":"unlim risk"},{"$f":"IF($AE47=1,VLOOKUP($F47,all!$E$14:$AD$553,18),\"\")","v":"unlim risk"},{"$f":"IF($AE47=1,VLOOKUP($F47,all!$E$14:$AD$553,19),\"\")","v":16792},{"$f":"IF($AE47=1,VLOOKUP($F47,all!$E$14:$AD$553,20),\"\")","v":2.3225345402572657E-2},{"$f":"IF($AE47=1,VLOOKUP($F47,all!$E$14:$AD$553,21),\"\")","v":2},{"$f":"IF($AE47=1,VLOOKUP($F47,all!$E$14:$AD$553,22),\"\")","v":4},{"$f":"IF($AE47=1,VLOOKUP($F47,all!$E$14:$AD$553,23),\"\")","v":0},{"$f":"IF($AE47=1,VLOOKUP($F47,all!$E$14:$AD$553,24),\"\")","v":0},{"$f":"IF($AE47=1,VLOOKUP($F47,all!$E$14:$AD$553,25),\"\")","v":0},null,{"$f":"COUNTIF(all!$E$14:$E$553,F47)","v":1},4,"sell put /'''",{"$f":"-AH46","v":{"$error":"#VALUE!"}},{"$f":"-AI46","v":{"$error":"#VALUE!"}},{"$error":"#VALUE!"},{"$error":"#VALUE!"},{"$error":"#VALUE!"},{"$error":"#VALUE!"},{"$error":"#VALUE!"},{"$error":"#VALUE!"},{"$error":"#VALUE!"},{"$error":"#VALUE!"},{"$error":"#VALUE!"},{"$error":"#VALUE!"},{"$error":"#VALUE!"},{"$error":"#VALUE!"},{"$error":"#VALUE!"},{"$error":"#VALUE!"},{"$error":"#VALUE!"},{"$error":"#VALUE!"},{"$error":"#VALUE!"},{"$error":"#VALUE!"},{"$error":"#VALUE!"}]
[{"$f":"IF(OR('Y2'!$W$1=6,('Y2'!$W$1=7)),IF(OFFSET(#REF!,$C$12,0)=\"?\",\"\",OFFSET(#REF!,$C$12,0)),'Y2'!AA41)","v":102.5},{"$f":"IF(OR('Y2'!$W$1=6,('Y2'!$W$1=7)),IF(A48=\"\",\"\",MAX(AVERAGE(OFFSET(#REF!,$C$12,0),OFFSET(#REF!,$C$12,0)),0)),'Y2'!AB41)","v":69.67},{"$f":"IF(all!$AQ$1=1,all!AR40,IF(all!$AQ$1=2,all!AT40*100,IF(all!$AQ$1=3,all!AV40,all!AX40)))","v":65.301148732979584},{"$f":"IF(OR('Y2'!$W$1=6,('Y2'!$W$1=7)),IF(A48=\"\",\"\",MAX(AVERAGE(OFFSET(#REF!,$C$12,0),OFFSET(#REF!,$C$12,0)),0)),'Y2'!AC41)","v":0.01},{"$f":"IF(all!$AP$3=1,all!AS40,IF(all!$AP$3=2,all!AU40*100,IF(all!$AP$3=3,all!AW40,all!AY40)))","v":0},15,{"$f":"IF($AE48=1,VLOOKUP($F48,all!$E$14:$AD$553,3),\"\")","v":"strangle itm /\\ (s160c+s180p)"},{"$f":"IF($AE48=1,VLOOKUP($F48,all!$E$14:$AD$553,4),\"\")","v":160},{"$f":"IF($AE48=1,VLOOKUP($F48,all!$E$14:$AD$553,5),\"\")","v":9.75},{"$f":"IF($AE48=1,VLOOKUP($F48,all!$E$14:$AD$553,6),\"\")","v":180},{"$f":"IF($AE48=1,VLOOKUP($F48,all!$E$14:$AD$553,7),\"\")","v":13.05},{"$f":"IF($AE48=1,VLOOKUP($F48,all!$E$14:$AD$553,8),\"\")","v":0},{"$f":"IF($AE48=1,VLOOKUP($F48,all!$E$14:$AD$553,9),\"\")","v":0},{"$f":"IF($AE48=1,VLOOKUP($F48,all!$E$14:$AD$553,10),\"\")","v":0},{"$f":"IF($AE48=1,VLOOKUP($F48,all!$E$14:$AD$553,11),\"\")","v":0},{"$f":"IF($AE48=1,VLOOKUP($F48,all!$E$14:$AD$553,12),\"\")","v":"unlim risk"},{"$f":"IF($AE48=1,VLOOKUP($F48,all!$E$14:$AD$553,13),\"\")","v":280.00000000000006},{"$f":"IF($AE48=1,VLOOKUP($F48,all!$E$14:$AD$553,14),\"\")","v":157.19999999999999},{"$f":"IF($AE48=1,VLOOKUP($F48,all!$E$14:$AD$553,15),\"\")","v":182.8},{"$f":"IF($AE48=1,VLOOKUP($F48,all!$E$14:$AD$553,16),\"\")","v":0.83151751550716602},{"$f":"IF($AE48=1,VLOOKUP($F48,all!$E$14:$AD$553,17),\"\")","v":"unlim risk"},{"$f":"IF($AE48=1,VLOOKUP($F48,all!$E$14:$AD$553,18),\"\")","v":"unlim risk"},{"$f":"IF($AE48=1,VLOOKUP($F48,all!$E$14:$AD$553,19),\"\")","v":16792},{"$f":"IF($AE48=1,VLOOKUP($F48,all!$E$14:$AD$553,20),\"\")","v":1.6674606955693189E-2},{"$f":"IF($AE48=1,VLOOKUP($F48,all!$E$14:$AD$553,21),\"\")","v":2},{"$f":"IF($AE48=1,VLOOKUP($F48,all!$E$14:$AD$553,22),\"\")","v":4},{"$f":"IF($AE48=1,VLOOKUP($F48,all!$E$14:$AD$553,23),\"\")","v":0},{"$f":"IF($AE48=1,VLOOKUP($F48,all!$E$14:$AD$553,24),\"\")","v":0},{"$f":"IF($AE48=1,VLOOKUP($F48,all!$E$14:$AD$553,25),\"\")","v":0},null,{"$f":"COUNTIF(all!$E$14:$E$553,F48)","v":1},5,"buy under \\",{"$f":"$H$8*$J$2*(AH$11-$C$2)","v":0},{"$f":"$H$8*$J$2*(AI$11-$C$2)","v":0},0,0,0,0,0,0,0,0,0,0,0,0,0,0,0,0,0,0,0]
[{"$f":"IF(OR('Y2'!$W$1=6,('Y2'!$W$1=7)),IF(OFFSET(#REF!,$C$12,0)=\"?\",\"\",OFFSET(#REF!,$C$12,0)),'Y2'!AA42)","v":105},{"$f":"IF(OR('Y2'!$W$1=6,('Y2'!$W$1=7)),IF(A49=\"\",\"\",MAX(AVERAGE(OFFSET(#REF!,$C$12,0),OFFSET(#REF!,$C$12,0)),0)),'Y2'!AB42)","v":63},{"$f":"IF(all!$AQ$1=1,all!AR41,IF(all!$AQ$1=2,all!AT41*100,IF(all!$AQ$1=3,all!AV41,all!AX41)))","v":62.802422575237969},{"$f":"IF(OR('Y2'!$W$1=6,('Y2'!$W$1=7)),IF(A49=\"\",\"\",MAX(AVERAGE(OFFSET(#REF!,$C$12,0),OFFSET(#REF!,$C$12,0)),0)),'Y2'!AC42)","v":0.02},{"$f":"IF(all!$AP$3=1,all!AS41,IF(all!$AP$3=2,all!AU41*100,IF(all!$AP$3=3,all!AW41,all!AY41)))","v":0},16,{"$f":"IF($AE49=1,VLOOKUP($F49,all!$E$14:$AD$553,3),\"\")","v":"strangle itm /\\ (s157.5c+s182.5p)"},{"$f":"IF($AE49=1,VLOOKUP($F49,all!$E$14:$AD$553,4),\"\")","v":157.5},{"$f":"IF($AE49=1,VLOOKUP($F49,all!$E$14:$AD$553,5),\"\")","v":11.45},{"$f":"IF($AE49=1,VLOOKUP($F49,all!$E$14:$AD$553,6),\"\")","v":182.5},{"$f":"IF($AE49=1,VLOOKUP($F49,all!$E$14:$AD$553,7),\"\")","v":15.05},{"$f":"IF($AE49=1,VLOOKUP($F49,all!$E$14:$AD$553,8),\"\")","v":0},{"$f":"IF($AE49=1,VLOOKUP($F49,all!$E$14:$AD$553,9),\"\")","v":0},{"$f":"IF($AE49=1,VLOOKUP($F49,all!$E$14:$AD$553,10),\"\")","v":0},{"$f":"IF($AE49=1,VLOOKUP($F49,all!$E$14:$AD$553,11),\"\")","v":0},{"$f":"IF($AE49=1,VLOOKUP($F49,all!$E$14:$AD$553,12),\"\")","v":"unlim risk"},{"$f":"IF($AE49=1,VLOOKUP($F49,all!$E$14:$AD$553,13),\"\")","v":150},{"$f":"IF($AE49=1,VLOOKUP($F49,all!$E$14:$AD$553,14),\"\")","v":156},{"$f":"IF($AE49=1,VLOOKUP($F49,all!$E$14:$AD$553,15),\"\")","v":184},{"$f":"IF($AE49=1,VLOOKUP($F49,all!$E$14:$AD$553,16),\"\")","v":0.86880654209993913},{"$f":"IF($AE49=1,VLOOKUP($F49,all!$E$14:$AD$553,17),\"\")","v":"unlim risk"},{"$f":"IF($AE49=1,VLOOKUP($F49,all!$E$14:$AD$553,18),\"\")","v":"unlim risk"},{"$f":"IF($AE49=1,VLOOKUP($F49,all!$E$14:$AD$553,19),\"\")","v":16792},{"$f":"IF($AE49=1,VLOOKUP($F49,all!$E$14:$AD$553,20),\"\")","v":8.9328251548356358E-3},{"$f":"IF($AE49=1,VLOOKUP($F49,all!$E$14:$AD$553,21),\"\")","v":2},{"$f":"IF($AE49=1,VLOOKUP($F49,all!$E$14:$AD$553,22),\"\")","v":4},{"$f":"IF($AE49=1,VLOOKUP($F49,all!$E$14:$AD$553,23),\"\")","v":0},{"$f":"IF($AE49=1,VLOOKUP($F49,all!$E$14:$AD$553,24),\"\")","v":0},{"$f":"IF($AE49=1,VLOOKUP($F49,all!$E$14:$AD$553,25),\"\")","v":0},null,{"$f":"COUNTIF(all!$E$14:$E$553,F49)","v":1},6,"sell under /",{"$f":"-AH48","v":0},{"$f":"-AI48","v":0},0,0,0,0,0,0,0,0,0,0,0,0,0,0,0,0,0,0,0]
[{"$f":"IF(OR('Y2'!$W$1=6,('Y2'!$W$1=7)),IF(OFFSET(#REF!,$C$12,0)=\"?\",\"\",OFFSET(#REF!,$C$12,0)),'Y2'!AA43)","v":107.5},{"$f":"IF(OR('Y2'!$W$1=6,('Y2'!$W$1=7)),IF(A50=\"\",\"\",MAX(AVERAGE(OFFSET(#REF!,$C$12,0),OFFSET(#REF!,$C$12,0)),0)),'Y2'!AB43)","v":60},{"$f":"IF(all!$AQ$1=1,all!AR42,IF(all!$AQ$1=2,all!AT42*100,IF(all!$AQ$1=3,all!AV42,all!AX42)))","v":60.303696410153876},{"$f":"IF(OR('Y2'!$W$1=6,('Y2'!$W$1=7)),IF(A50=\"\",\"\",MAX(AVERAGE(OFFSET(#REF!,$C$12,0),OFFSET(#REF!,$C$12,0)),0)),'Y2'!AC43)","v":0.02},{"$f":"IF(all!$AP$3=1,all!AS42,IF(all!$AP$3=2,all!AU42*100,IF(all!$AP$3=3,all!AW42,all!AY42)))","v":-6.6950552226966844E-15},17,{"$f":"IF($AE50=1,VLOOKUP($F50,all!$E$14:$AD$553,3),\"\")","v":"strangle itm /\\ (s155c+s185p)"},{"$f":"IF($AE50=1,VLOOKUP($F50,all!$E$14:$AD$553,4),\"\")","v":155},{"$f":"IF($AE50=1,VLOOKUP($F50,all!$E$14:$AD$553,5),\"\")","v":13.49},{"$f":"IF($AE50=1,VLOOKUP($F50,all!$E$14:$AD$553,6),\"\")","v":185},{"$f":"IF($AE50=1,VLOOKUP($F50,all!$E$14:$AD$553,7),\"\")","v":17.45},{"$f":"IF($AE50=1,VLOOKUP($F50,all!$E$14:$AD$553,8),\"\")","v":0},{"$f":"IF($AE50=1,VLOOKUP($F50,all!$E$14:$AD$553,9),\"\")","v":0},{"$f":"IF($AE50=1,VLOOKUP($F50,all!$E$14:$AD$553,10),\"\")","v":0},{"$f":"IF($AE50=1,VLOOKUP($F50,all!$E$14:$AD$553,11),\"\")","v":0},{"$f":"IF($AE50=1,VLOOKUP($F50,all!$E$14:$AD$553,12),\"\")","v":"unlim risk"},{"$f":"IF($AE50=1,VLOOKUP($F50,all!$E$14:$AD$553,13),\"\")","v":93.999999999999943},{"$f":"IF($AE50=1,VLOOKUP($F50,all!$E$14:$AD$553,14),\"\")","v":154.06},{"$f":"IF($AE50=1,VLOOKUP($F50,all!$E$14:$AD$553,15),\"\")","v":185.94},{"$f":"IF($AE50=1,VLOOKUP($F50,all!$E$14:$AD$553,16),\"\")","v":0.915422057633418},{"$f":"IF($AE50=1,VLOOKUP($F50,all!$E$14:$AD$553,17),\"\")","v":"unlim risk"},{"$f":"IF($AE50=1,VLOOKUP($F50,all!$E$14:$AD$553,18),\"\")","v":"unlim risk"},{"$f":"IF($AE50=1,VLOOKUP($F50,all!$E$14:$AD$553,19),\"\")","v":16792},{"$f":"IF($AE50=1,VLOOKUP($F50,all!$E$14:$AD$553,20),\"\")","v":5.597903763696995E-3},{"$f":"IF($AE50=1,VLOOKUP($F50,all!$E$14:$AD$553,21),\"\")","v":2},{"$f":"IF($AE50=1,VLOOKUP($F50,all!$E$14:$AD$553,22),\"\")","v":4},{"$f":"IF($AE50=1,VLOOKUP($F50,all!$E$14:$AD$553,23),\"\")","v":0},{"$f":"IF($AE50=1,VLOOKUP($F50,all!$E$14:$AD$553,24),\"\")","v":0},{"$f":"IF($AE50=1,VLOOKUP($F50,all!$E$14:$AD$553,25),\"\")","v":0},null,{"$f":"COUNTIF(all!$E$14:$E$553,F50)","v":1},null,"one",{"$f":"IF($AF$50=0,0,VLOOKUP($AF$50,$AF$44:$BB$49,AH116))","v":0},{"$f":"IF($AF$50=0,0,VLOOKUP($AF$50,$AF$44:$BB$49,AI116))","v":0},0,0,0,0,0,0,0,0,0,0,0,0,0,0,0,0,0,0,0]
[{"$f":"IF(OR('Y2'!$W$1=6,('Y2'!$W$1=7)),IF(OFFSET(#REF!,$C$12,0)=\"?\",\"\",OFFSET(#REF!,$C$12,0)),'Y2'!AA44)","v":110},{"$f":"IF(OR('Y2'!$W$1=6,('Y2'!$W$1=7)),IF(A51=\"\",\"\",MAX(AVERAGE(OFFSET(#REF!,$C$12,0),OFFSET(#REF!,$C$12,0)),0)),'Y2'!AB44)","v":57.46},{"$f":"IF(all!$AQ$1=1,all!AR43,IF(all!$AQ$1=2,all!AT43*100,IF(all!$AQ$1=3,all!AV43,all!AX43)))","v":57.804970244402156},{"$f":"IF(OR('Y2'!$W$1=6,('Y2'!$W$1=7)),IF(A51=\"\",\"\",MAX(AVERAGE(OFFSET(#REF!,$C$12,0),OFFSET(#REF!,$C$12,0)),0)),'Y2'!AC44)","v":0.02},{"$f":"IF(all!$AP$3=1,all!AS43,IF(all!$AP$3=2,all!AU43*100,IF(all!$AP$3=3,all!AW43,all!AY43)))","v":-5.6614606265526228E-15},18,{"$f":"IF($AE51=1,VLOOKUP($F51,all!$E$14:$AD$553,3),\"\")","v":"strangle itm /\\ (s152.5c+s187.5p)"},{"$f":"IF($AE51=1,VLOOKUP($F51,all!$E$14:$AD$553,4),\"\")","v":152.5},{"$f":"IF($AE51=1,VLOOKUP($F51,all!$E$14:$AD$553,5),\"\")","v":15.8},{"$f":"IF($AE51=1,VLOOKUP($F51,all!$E$14:$AD$553,6),\"\")","v":187.5},{"$f":"IF($AE51=1,VLOOKUP($F51,all!$E$14:$AD$553,7),\"\")","v":20.85},{"$f":"IF($AE51=1,VLOOKUP($F51,all!$E$14:$AD$553,8),\"\")","v":0},{"$f":"IF($AE51=1,VLOOKUP($F51,all!$E$14:$AD$553,9),\"\")","v":0},{"$f":"IF($AE51=1,VLOOKUP($F51,all!$E$14:$AD$553,10),\"\")","v":0},{"$f":"IF($AE51=1,VLOOKUP($F51,all!$E$14:$AD$553,11),\"\")","v":0},{"$f":"IF($AE51=1,VLOOKUP($F51,all!$E$14:$AD$553,12),\"\")","v":"unlim risk"},{"$f":"IF($AE51=1,VLOOKUP($F51,all!$E$14:$AD$553,13),\"\")","v":165.00000000000023},{"$f":"IF($AE51=1,VLOOKUP($F51,all!$E$14:$AD$553,14),\"\")","v":150.85},{"$f":"IF($AE51=1,VLOOKUP($F51,all!$E$14:$AD$553,15),\"\")","v":189.15},{"$f":"IF($AE51=1,VLOOKUP($F51,all!$E$14:$AD$553,16),\"\")","v":0.96287280588358615},{"$f":"IF($AE51=1,VLOOKUP($F51,all!$E$14:$AD$553,17),\"\")","v":"unlim risk"},{"$f":"IF($AE51=1,VLOOKUP($F51,all!$E$14:$AD$553,18),\"\")","v":"unlim risk"},{"$f":"IF($AE51=1,VLOOKUP($F51,all!$E$14:$AD$553,19),\"\")","v":16792},{"$f":"IF($AE51=1,VLOOKUP($F51,all!$E$14:$AD$553,20),\"\")","v":9.8261076703192139E-3},{"$f":"IF($AE51=1,VLOOKUP($F51,all!$E$14:$AD$553,21),\"\")","v":2},{"$f":"IF($AE51=1,VLOOKUP($F51,all!$E$14:$AD$553,22),\"\")","v":4},{"$f":"IF($AE51=1,VLOOKUP($F51,all!$E$14:$AD$553,23),\"\")","v":0},{"$f":"IF($AE51=1,VLOOKUP($F51,all!$E$14:$AD$553,24),\"\")","v":0},{"$f":"IF($AE51=1,VLOOKUP($F51,all!$E$14:$AD$553,25),\"\")","v":0},null,{"$f":"COUNTIF(all!$E$14:$E$553,F51)","v":1}]
[{"$f":"IF(OR('Y2'!$W$1=6,('Y2'!$W$1=7)),IF(OFFSET(#REF!,$C$12,0)=\"?\",\"\",OFFSET(#REF!,$C$12,0)),'Y2'!AA45)","v":112.5},{"$f":"IF(OR('Y2'!$W$1=6,('Y2'!$W$1=7)),IF(A52=\"\",\"\",MAX(AVERAGE(OFFSET(#REF!,$C$12,0),OFFSET(#REF!,$C$12,0)),0)),'Y2'!AB45)","v":54.8},{"$f":"IF(all!$AQ$1=1,all!AR44,IF(all!$AQ$1=2,all!AT44*100,IF(all!$AQ$1=3,all!AV44,all!AX44)))","v":55.30624408295769},{"$f":"IF(OR('Y2'!$W$1=6,('Y2'!$W$1=7)),IF(A52=\"\",\"\",MAX(AVERAGE(OFFSET(#REF!,$C$12,0),OFFSET(#REF!,$C$12,0)),0)),'Y2'!AC45)","v":0.03},{"$f":"IF(all!$AP$3=1,all!AS44,IF(all!$AP$3=2,all!AU44*100,IF(all!$AP$3=3,all!AW44,all!AY44)))","v":5.2061576798479052E-14},19,{"$f":"IF($AE52=1,VLOOKUP($F52,all!$E$14:$AD$553,3),\"\")","v":"strangle itm /\\ (s150c+s190p)"},{"$f":"IF($AE52=1,VLOOKUP($F52,all!$E$14:$AD$553,4),\"\")","v":150},{"$f":"IF($AE52=1,VLOOKUP($F52,all!$E$14:$AD$553,5),\"\")","v":18.3},{"$f":"IF($AE52=1,VLOOKUP($F52,all!$E$14:$AD$553,6),\"\")","v":190},{"$f":"IF($AE52=1,VLOOKUP($F52,all!$E$14:$AD$553,7),\"\")","v":22.91},{"$f":"IF($AE52=1,VLOOKUP($F52,all!$E$14:$AD$553,8),\"\")","v":0},{"$f":"IF($AE52=1,VLOOKUP($F52,all!$E$14:$AD$553,9),\"\")","v":0},{"$f":"IF($AE52=1,VLOOKUP($F52,all!$E$14:$AD$553,10),\"\")","v":0},{"$f":"IF($AE52=1,VLOOKUP($F52,all!$E$14:$AD$553,11),\"\")","v":0},{"$f":"IF($AE52=1,VLOOKUP($F52,all!$E$14:$AD$553,12),\"\")","v":"unlim risk"},{"$f":"IF($AE52=1,VLOOKUP($F52,all!$E$14:$AD$553,13),\"\")","v":121.00000000000009},{"$f":"IF($AE52=1,VLOOKUP($F52,all!$E$14:$AD$553,14),\"\")","v":148.79},{"$f":"IF($AE52=1,VLOOKUP($F52,all!$E$14:$AD$553,15),\"\")","v":191.21},{"$f":"IF($AE52=1,VLOOKUP($F52,all!$E$14:$AD$553,16),\"\")","v":0.97948413826062353},{"$f":"IF($AE52=1,VLOOKUP($F52,all!$E$14:$AD$553,17),\"\")","v":"unlim risk"},{"$f":"IF($AE52=1,VLOOKUP($F52,all!$E$14:$AD$553,18),\"\")","v":"unlim risk"},{"$f":"IF($AE52=1,VLOOKUP($F52,all!$E$14:$AD$553,19),\"\")","v":16792},{"$f":"IF($AE52=1,VLOOKUP($F52,all!$E$14:$AD$553,20),\"\")","v":7.2058122915674185E-3},{"$f":"IF($AE52=1,VLOOKUP($F52,all!$E$14:$AD$553,21),\"\")","v":2},{"$f":"IF($AE52=1,VLOOKUP($F52,all!$E$14:$AD$553,22),\"\")","v":4},{"$f":"IF($AE52=1,VLOOKUP($F52,all!$E$14:$AD$553,23),\"\")","v":0},{"$f":"IF($AE52=1,VLOOKUP($F52,all!$E$14:$AD$553,24),\"\")","v":0},{"$f":"IF($AE52=1,VLOOKUP($F52,all!$E$14:$AD$553,25),\"\")","v":0},null,{"$f":"COUNTIF(all!$E$14:$E$553,F52)","v":1},1,"`",{"$f":"$H$9*$J$2*IF($J$9<AH$11,AH$11-$J$9-$K$9,-$K$9)","v":{"$error":"#VALUE!"}},{"$f":"$H$9*$J$2*IF($J$9<AI$11,AI$11-$J$9-$K$9,-$K$9)","v":{"$error":"#VALUE!"}},{"$error":"#VALUE!"},{"$error":"#VALUE!"},{"$error":"#VALUE!"},{"$error":"#VALUE!"},{"$error":"#VALUE!"},{"$error":"#VALUE!"},{"$error":"#VALUE!"},{"$error":"#VALUE!"},{"$error":"#VALUE!"},{"$error":"#VALUE!"},{"$error":"#VALUE!"},{"$error":"#VALUE!"},{"$error":"#VALUE!"},{"$error":"#VALUE!"},{"$error":"#VALUE!"},{"$error":"#VALUE!"},{"$error":"#VALUE!"},{"$error":"#VALUE!"},{"$error":"#VALUE!"}]
[{"$f":"IF(OR('Y2'!$W$1=6,('Y2'!$W$1=7)),IF(OFFSET(#REF!,$C$12,0)=\"?\",\"\",OFFSET(#REF!,$C$12,0)),'Y2'!AA46)","v":115},{"$f":"IF(OR('Y2'!$W$1=6,('Y2'!$W$1=7)),IF(A53=\"\",\"\",MAX(AVERAGE(OFFSET(#REF!,$C$12,0),OFFSET(#REF!,$C$12,0)),0)),'Y2'!AB46)","v":51.84},{"$f":"IF(all!$AQ$1=1,all!AR45,IF(all!$AQ$1=2,all!AT45*100,IF(all!$AQ$1=3,all!AV45,all!AX45)))","v":52.807517920783241},{"$f":"IF(OR('Y2'!$W$1=6,('Y2'!$W$1=7)),IF(A53=\"\",\"\",MAX(AVERAGE(OFFSET(#REF!,$C$12,0),OFFSET(#REF!,$C$12,0)),0)),'Y2'!AC46)","v":0.03},{"$f":"IF(all!$AP$3=1,all!AS45,IF(all!$AP$3=2,all!AU45*100,IF(all!$AP$3=3,all!AW45,all!AY45)))","v":1.2257241815230459E-12},20,{"$f":"IF($AE53=1,VLOOKUP($F53,all!$E$14:$AD$553,3),\"\")","v":"strangle itm /\\ (s145c+s192.5p)"},{"$f":"IF($AE53=1,VLOOKUP($F53,all!$E$14:$AD$553,4),\"\")","v":145},{"$f":"IF($AE53=1,VLOOKUP($F53,all!$E$14:$AD$553,5),\"\")","v":22.79},{"$f":"IF($AE53=1,VLOOKUP($F53,all!$E$14:$AD$553,6),\"\")","v":192.5},{"$f":"IF($AE53=1,VLOOKUP($F53,all!$E$14:$AD$553,7),\"\")","v":25.45},{"$f":"IF($AE53=1,VLOOKUP($F53,all!$E$14:$AD$553,8),\"\")","v":0},{"$f":"IF($AE53=1,VLOOKUP($F53,all!$E$14:$AD$553,9),\"\")","v":0},{"$f":"IF($AE53=1,VLOOKUP($F53,all!$E$14:$AD$553,10),\"\")","v":0},{"$f":"IF($AE53=1,VLOOKUP($F53,all!$E$14:$AD$553,11),\"\")","v":0},{"$f":"IF($AE53=1,VLOOKUP($F53,all!$E$14:$AD$553,12),\"\")","v":"unlim risk"},{"$f":"IF($AE53=1,VLOOKUP($F53,all!$E$14:$AD$553,13),\"\")","v":73.999999999999844},{"$f":"IF($AE53=1,VLOOKUP($F53,all!$E$14:$AD$553,14),\"\")","v":144.26},{"$f":"IF($AE53=1,VLOOKUP($F53,all!$E$14:$AD$553,15),\"\")","v":193.23999999999998},{"$f":"IF($AE53=1,VLOOKUP($F53,all!$E$14:$AD$553,16),\"\")","v":0.99294333284543246},{"$f":"IF($AE53=1,VLOOKUP($F53,all!$E$14:$AD$553,17),\"\")","v":"unlim risk"},{"$f":"IF($AE53=1,VLOOKUP($F53,all!$E$14:$AD$553,18),\"\")","v":"unlim risk"},{"$f":"IF($AE53=1,VLOOKUP($F53,all!$E$14:$AD$553,19),\"\")","v":16792},{"$f":"IF($AE53=1,VLOOKUP($F53,all!$E$14:$AD$553,20),\"\")","v":4.4068604097189041E-3},{"$f":"IF($AE53=1,VLOOKUP($F53,all!$E$14:$AD$553,21),\"\")","v":2},{"$f":"IF($AE53=1,VLOOKUP($F53,all!$E$14:$AD$553,22),\"\")","v":4},{"$f":"IF($AE53=1,VLOOKUP($F53,all!$E$14:$AD$553,23),\"\")","v":0},{"$f":"IF($AE53=1,VLOOKUP($F53,all!$E$14:$AD$553,24),\"\")","v":0},{"$f":"IF($AE53=1,VLOOKUP($F53,all!$E$14:$AD$553,25),\"\")","v":0},null,{"$f":"COUNTIF(all!$E$14:$E$553,F53)","v":1},2,"sell call  '''\\",{"$f":"-AH52","v":{"$error":"#VALUE!"}},{"$f":"-AI52","v":{"$error":"#VALUE!"}},{"$error":"#VALUE!"},{"$error":"#VALUE!"},{"$error":"#VALUE!"},{"$error":"#VALUE!"},{"$error":"#VALUE!"},{"$error":"#VALUE!"},{"$error":"#VALUE!"},{"$error":"#VALUE!"},{"$error":"#VALUE!"},{"$error":"#VALUE!"},{"$error":"#VALUE!"},{"$error":"#VALUE!"},{"$error":"#VALUE!"},{"$error":"#VALUE!"},{"$error":"#VALUE!"},{"$error":"#VALUE!"},{"$error":"#VALUE!"},{"$error":"#VALUE!"},{"$error":"#VALUE!"}]
[{"$f":"IF(OR('Y2'!$W$1=6,('Y2'!$W$1=7)),\"\",'Y2'!AA47)","v":117.5},{"$f":"IF(OR('Y2'!$W$1=6,('Y2'!$W$1=7)),\"\",'Y2'!AB47)","v":49.5},{"$f":"IF(all!$AQ$1=1,all!AR46,IF(all!$AQ$1=2,all!AT46*100,IF(all!$AQ$1=3,all!AV46,all!AX46)))","v":50.308791742708109},{"$f":"IF(OR('Y2'!$W$1=6,('Y2'!$W$1=7)),\"\",'Y2'!AC47)","v":0.04},{"$f":"IF(all!$AP$3=1,all!AS46,IF(all!$AP$3=2,all!AU46*100,IF(all!$AP$3=3,all!AW46,all!AY46)))","v":2.0970885839823545E-11},21,{"$f":"IF($AE54=1,VLOOKUP($F54,all!$E$14:$AD$553,3),\"\")","v":"strangle itm /\\ (s140c+s195p)"},{"$f":"IF($AE54=1,VLOOKUP($F54,all!$E$14:$AD$553,4),\"\")","v":140},{"$f":"IF($AE54=1,VLOOKUP($F54,all!$E$14:$AD$553,5),\"\")","v":28},{"$f":"IF($AE54=1,VLOOKUP($F54,all!$E$14:$AD$553,6),\"\")","v":195},{"$f":"IF($AE54=1,VLOOKUP($F54,all!$E$14:$AD$553,7),\"\")","v":27.8},{"$f":"IF($AE54=1,VLOOKUP($F54,all!$E$14:$AD$553,8),\"\")","v":0},{"$f":"IF($AE54=1,VLOOKUP($F54,all!$E$14:$AD$553,9),\"\")","v":0},{"$f":"IF($AE54=1,VLOOKUP($F54,all!$E$14:$AD$553,10),\"\")","v":0},{"$f":"IF($AE54=1,VLOOKUP($F54,all!$E$14:$AD$553,11),\"\")","v":0},{"$f":"IF($AE54=1,VLOOKUP($F54,all!$E$14:$AD$553,12),\"\")","v":"unlim risk"},{"$f":"IF($AE54=1,VLOOKUP($F54,all!$E$14:$AD$553,13),\"\")","v":80.000000000000071},{"$f":"IF($AE54=1,VLOOKUP($F54,all!$E$14:$AD$553,14),\"\")","v":139.19999999999999},{"$f":"IF($AE54=1,VLOOKUP($F54,all!$E$14:$AD$553,15),\"\")","v":195.8},{"$f":"IF($AE54=1,VLOOKUP($F54,all!$E$14:$AD$553,16),\"\")","v":0.99754069903543152},{"$f":"IF($AE54=1,VLOOKUP($F54,all!$E$14:$AD$553,17),\"\")","v":"unlim risk"},{"$f":"IF($AE54=1,VLOOKUP($F54,all!$E$14:$AD$553,18),\"\")","v":"unlim risk"},{"$f":"IF($AE54=1,VLOOKUP($F54,all!$E$14:$AD$553,19),\"\")","v":16792},{"$f":"IF($AE54=1,VLOOKUP($F54,all!$E$14:$AD$553,20),\"\")","v":4.7641734159123436E-3},{"$f":"IF($AE54=1,VLOOKUP($F54,all!$E$14:$AD$553,21),\"\")","v":2},{"$f":"IF($AE54=1,VLOOKUP($F54,all!$E$14:$AD$553,22),\"\")","v":4},{"$f":"IF($AE54=1,VLOOKUP($F54,all!$E$14:$AD$553,23),\"\")","v":0},{"$f":"IF($AE54=1,VLOOKUP($F54,all!$E$14:$AD$553,24),\"\")","v":0},{"$f":"IF($AE54=1,VLOOKUP($F54,all!$E$14:$AD$553,25),\"\")","v":0},null,{"$f":"COUNTIF(all!$E$14:$E$553,F54)","v":1},3,"buy put \\_",{"$f":"$H$9*$J$2*IF($J$9>AH$11,$J$9-AH$11-$K$9,-$K$9)","v":{"$error":"#VALUE!"}},{"$f":"$H$9*$J$2*IF($J$9>AI$11,$J$9-AI$11-$K$9,-$K$9)","v":{"$error":"#VALUE!"}},{"$error":"#VALUE!"},{"$error":"#VALUE!"},{"$error":"#VALUE!"},{"$error":"#VALUE!"},{"$error":"#VALUE!"},{"$error":"#VALUE!"},{"$error":"#VALUE!"},{"$error":"#VALUE!"},{"$error":"#VALUE!"},{"$error":"#VALUE!"},{"$error":"#VALUE!"},{"$error":"#VALUE!"},{"$error":"#VALUE!"},{"$error":"#VALUE!"},{"$error":"#VALUE!"},{"$error":"#VALUE!"},{"$error":"#VALUE!"},{"$error":"#VALUE!"},{"$error":"#VALUE!"}]
[{"$f":"IF(OR('Y2'!$W$1=6,('Y2'!$W$1=7)),\"\",'Y2'!AA48)","v":120},{"$f":"IF(OR('Y2'!$W$1=6,('Y2'!$W$1=7)),\"\",'Y2'!AB48)","v":47.45},{"$f":"IF(all!$AQ$1=1,all!AR47,IF(all!$AQ$1=2,all!AT47*100,IF(all!$AQ$1=3,all!AV47,all!AX47)))","v":47.810065578218754},{"$f":"IF(OR('Y2'!$W$1=6,('Y2'!$W$1=7)),\"\",'Y2'!AC48)","v":0.05},{"$f":"IF(all!$AP$3=1,all!AS47,IF(all!$AP$3=2,all!AU47*100,IF(all!$AP$3=3,all!AW47,all!AY47)))","v":2.9085065990195276E-10},22,{"$f":"IF($AE55=1,VLOOKUP($F55,all!$E$14:$AD$553,3),\"\")","v":"ratio call --^\\  itm-b (b160c+2s172.5c) (neutral)"},{"$f":"IF($AE55=1,VLOOKUP($F55,all!$E$14:$AD$553,4),\"\")","v":160},{"$f":"IF($AE55=1,VLOOKUP($F55,all!$E$14:$AD$553,5),\"\")","v":9.75},{"$f":"IF($AE55=1,VLOOKUP($F55,all!$E$14:$AD$553,6),\"\")","v":172.5},{"$f":"IF($AE55=1,VLOOKUP($F55,all!$E$14:$AD$553,7),\"\")","v":2.21},{"$f":"IF($AE55=1,VLOOKUP($F55,all!$E$14:$AD$553,8),\"\")","v":0},{"$f":"IF($AE55=1,VLOOKUP($F55,all!$E$14:$AD$553,9),\"\")","v":0},{"$f":"IF($AE55=1,VLOOKUP($F55,all!$E$14:$AD$553,10),\"\")","v":0},{"$f":"IF($AE55=1,VLOOKUP($F55,all!$E$14:$AD$553,11),\"\")","v":0},{"$f":"IF($AE55=1,VLOOKUP($F55,all!$E$14:$AD$553,12),\"\")","v":"unlim risk"},{"$f":"IF($AE55=1,VLOOKUP($F55,all!$E$14:$AD$553,13),\"\")","v":717},{"$f":"IF($AE55=1,VLOOKUP($F55,all!$E$14:$AD$553,14),\"\")","v":165.33},{"$f":"IF($AE55=1,VLOOKUP($F55,all!$E$14:$AD$553,15),\"\")","v":179.67000000000002},{"$f":"IF($AE55=1,VLOOKUP($F55,all!$E$14:$AD$553,16),\"\")","v":0.50838359711782266},{"$f":"IF($AE55=1,VLOOKUP($F55,all!$E$14:$AD$553,17),\"\")","v":"unlim risk"},{"$f":"IF($AE55=1,VLOOKUP($F55,all!$E$14:$AD$553,18),\"\")","v":"unlim risk"},{"$f":"IF($AE55=1,VLOOKUP($F55,all!$E$14:$AD$553,19),\"\")","v":1417},{"$f":"IF($AE55=1,VLOOKUP($F55,all!$E$14:$AD$553,20),\"\")","v":0.50599858856739588},{"$f":"IF($AE55=1,VLOOKUP($F55,all!$E$14:$AD$553,21),\"\")","v":1},{"$f":"IF($AE55=1,VLOOKUP($F55,all!$E$14:$AD$553,22),\"\")","v":2},{"$f":"IF($AE55=1,VLOOKUP($F55,all!$E$14:$AD$553,23),\"\")","v":0},{"$f":"IF($AE55=1,VLOOKUP($F55,all!$E$14:$AD$553,24),\"\")","v":0},{"$f":"IF($AE55=1,VLOOKUP($F55,all!$E$14:$AD$553,25),\"\")","v":"x"},null,{"$f":"COUNTIF(all!$E$14:$E$553,F55)","v":1},4,"sell put /'''",{"$f":"-AH54","v":{"$error":"#VALUE!"}},{"$f":"-AI54","v":{"$error":"#VALUE!"}},{"$error":"#VALUE!"},{"$error":"#VALUE!"},{"$error":"#VALUE!"},{"$error":"#VALUE!"},{"$error":"#VALUE!"},{"$error":"#VALUE!"},{"$error":"#VALUE!"},{"$error":"#VALUE!"},{"$error":"#VALUE!"},{"$error":"#VALUE!"},{"$error":"#VALUE!"},{"$error":"#VALUE!"},{"$error":"#VALUE!"},{"$error":"#VALUE!"},{"$error":"#VALUE!"},{"$error":"#VALUE!"},{"$error":"#VALUE!"},{"$error":"#VALUE!"},{"$error":"#VALUE!"}]
[{"$f":"IF(OR('Y2'!$W$1=6,('Y2'!$W$1=7)),\"\",'Y2'!AA49)","v":122.5},{"$f":"IF(OR('Y2'!$W$1=6,('Y2'!$W$1=7)),\"\",'Y2'!AB49)","v":44.37},{"$f":"IF(all!$AQ$1=1,all!AR48,IF(all!$AQ$1=2,all!AT48*100,IF(all!$AQ$1=3,all!AV48,all!AX48)))","v":45.311339417884483},{"$f":"IF(OR('Y2'!$W$1=6,('Y2'!$W$1=7)),\"\",'Y2'!AC49)","v":7.0000000000000007E-2},{"$f":"IF(all!$AP$3=1,all!AS48,IF(all!$AP$3=2,all!AU48*100,IF(all!$AP$3=3,all!AW48,all!AY48)))","v":3.3170101396451992E-9},23,{"$f":"IF($AE56=1,VLOOKUP($F56,all!$E$14:$AD$553,3),\"\")","v":"ratio call --^\\  itm-b (b160c+2s175c) (neutral)"},{"$f":"IF($AE56=1,VLOOKUP($F56,all!$E$14:$AD$553,4),\"\")","v":160},{"$f":"IF($AE56=1,VLOOKUP($F56,all!$E$14:$AD$553,5),\"\")","v":9.75},{"$f":"IF($AE56=1,VLOOKUP($F56,all!$E$14:$AD$553,6),\"\")","v":175},{"$f":"IF($AE56=1,VLOOKUP($F56,all!$E$14:$AD$553,7),\"\")","v":1.4},{"$f":"IF($AE56=1,VLOOKUP($F56,all!$E$14:$AD$553,8),\"\")","v":0},{"$f":"IF($AE56=1,VLOOKUP($F56,all!$E$14:$AD$553,9),\"\")","v":0},{"$f":"IF($AE56=1,VLOOKUP($F56,all!$E$14:$AD$553,10),\"\")","v":0},{"$f":"IF($AE56=1,VLOOKUP($F56,all!$E$14:$AD$553,11),\"\")","v":0},{"$f":"IF($AE56=1,VLOOKUP($F56,all!$E$14:$AD$553,12),\"\")","v":"unlim risk"},{"$f":"IF($AE56=1,VLOOKUP($F56,all!$E$14:$AD$553,13),\"\")","v":805.00000000000011},{"$f":"IF($AE56=1,VLOOKUP($F56,all!$E$14:$AD$553,14),\"\")","v":166.95},{"$f":"IF($AE56=1,VLOOKUP($F56,all!$E$14:$AD$553,15),\"\")","v":183.05},{"$f":"IF($AE56=1,VLOOKUP($F56,all!$E$14:$AD$553,16),\"\")","v":0.48785582639263003},{"$f":"IF($AE56=1,VLOOKUP($F56,all!$E$14:$AD$553,17),\"\")","v":"unlim risk"},{"$f":"IF($AE56=1,VLOOKUP($F56,all!$E$14:$AD$553,18),\"\")","v":"unlim risk"},{"$f":"IF($AE56=1,VLOOKUP($F56,all!$E$14:$AD$553,19),\"\")","v":1255},{"$f":"IF($AE56=1,VLOOKUP($F56,all!$E$14:$AD$553,20),\"\")","v":0.64143426294820727},{"$f":"IF($AE56=1,VLOOKUP($F56,all!$E$14:$AD$553,21),\"\")","v":1},{"$f":"IF($AE56=1,VLOOKUP($F56,all!$E$14:$AD$553,22),\"\")","v":2},{"$f":"IF($AE56=1,VLOOKUP($F56,all!$E$14:$AD$553,23),\"\")","v":0},{"$f":"IF($AE56=1,VLOOKUP($F56,all!$E$14:$AD$553,24),\"\")","v":0},{"$f":"IF($AE56=1,VLOOKUP($F56,all!$E$14:$AD$553,25),\"\")","v":"x"},null,{"$f":"COUNTIF(all!$E$14:$E$553,F56)","v":1},5,"buy under \\",{"$f":"$H$9*$J$2*(AH$11-$C$2)","v":0},{"$f":"$H$9*$J$2*(AI$11-$C$2)","v":0},0,0,0,0,0,0,0,0,0,0,0,0,0,0,0,0,0,0,0]
[{"$f":"IF(OR('Y2'!$W$1=6,('Y2'!$W$1=7)),\"\",'Y2'!AA50)","v":125},{"$f":"IF(OR('Y2'!$W$1=6,('Y2'!$W$1=7)),\"\",'Y2'!AB50)","v":42.35},{"$f":"IF(all!$AQ$1=1,all!AR49,IF(all!$AQ$1=2,all!AT49*100,IF(all!$AQ$1=3,all!AV49,all!AX49)))","v":42.81261328602497},{"$f":"IF(OR('Y2'!$W$1=6,('Y2'!$W$1=7)),\"\",'Y2'!AC50)","v":7.0000000000000007E-2},{"$f":"IF(all!$AP$3=1,all!AS49,IF(all!$AP$3=2,all!AU49*100,IF(all!$AP$3=3,all!AW49,all!AY49)))","v":3.1463640448586386E-8},24,{"$f":"IF($AE57=1,VLOOKUP($F57,all!$E$14:$AD$553,3),\"\")","v":"ratio call --^\\  itm-b (b160c+2s177.5c) (neutral)"},{"$f":"IF($AE57=1,VLOOKUP($F57,all!$E$14:$AD$553,4),\"\")","v":160},{"$f":"IF($AE57=1,VLOOKUP($F57,all!$E$14:$AD$553,5),\"\")","v":9.75},{"$f":"IF($AE57=1,VLOOKUP($F57,all!$E$14:$AD$553,6),\"\")","v":177.5},{"$f":"IF($AE57=1,VLOOKUP($F57,all!$E$14:$AD$553,7),\"\")","v":0.84},{"$f":"IF($AE57=1,VLOOKUP($F57,all!$E$14:$AD$553,8),\"\")","v":0},{"$f":"IF($AE57=1,VLOOKUP($F57,all!$E$14:$AD$553,9),\"\")","v":0},{"$f":"IF($AE57=1,VLOOKUP($F57,all!$E$14:$AD$553,10),\"\")","v":0},{"$f":"IF($AE57=1,VLOOKUP($F57,all!$E$14:$AD$553,11),\"\")","v":0},{"$f":"IF($AE57=1,VLOOKUP($F57,all!$E$14:$AD$553,12),\"\")","v":"unlim risk"},{"$f":"IF($AE57=1,VLOOKUP($F57,all!$E$14:$AD$553,13),\"\")","v":943},{"$f":"IF($AE57=1,VLOOKUP($F57,all!$E$14:$AD$553,14),\"\")","v":168.07},{"$f":"IF($AE57=1,VLOOKUP($F57,all!$E$14:$AD$553,15),\"\")","v":186.93},{"$f":"IF($AE57=1,VLOOKUP($F57,all!$E$14:$AD$553,16),\"\")","v":0.46998433554605645},{"$f":"IF($AE57=1,VLOOKUP($F57,all!$E$14:$AD$553,17),\"\")","v":"unlim risk"},{"$f":"IF($AE57=1,VLOOKUP($F57,all!$E$14:$AD$553,18),\"\")","v":"unlim risk"},{"$f":"IF($AE57=1,VLOOKUP($F57,all!$E$14:$AD$553,19),\"\")","v":1143},{"$f":"IF($AE57=1,VLOOKUP($F57,all!$E$14:$AD$553,20),\"\")","v":0.82502187226596679},{"$f":"IF($AE57=1,VLOOKUP($F57,all!$E$14:$AD$553,21),\"\")","v":1},{"$f":"IF($AE57=1,VLOOKUP($F57,all!$E$14:$AD$553,22),\"\")","v":2},{"$f":"IF($AE57=1,VLOOKUP($F57,all!$E$14:$AD$553,23),\"\")","v":0},{"$f":"IF($AE57=1,VLOOKUP($F57,all!$E$14:$AD$553,24),\"\")","v":0},{"$f":"IF($AE57=1,VLOOKUP($F57,all!$E$14:$AD$553,25),\"\")","v":"x"},null,{"$f":"COUNTIF(all!$E$14:$E$553,F57)","v":1},6,"sell under /",{"$f":"-AH56","v":0},{"$f":"-AI56","v":0},0,0,0,0,0,0,0,0,0,0,0,0,0,0,0,0,0,0,0]
[{"$f":"IF(OR('Y2'!$W$1=6,('Y2'!$W$1=7)),\"\",'Y2'!AA51)","v":130},{"$f":"IF(OR('Y2'!$W$1=6,('Y2'!$W$1=7)),\"\",'Y2'!AB51)","v":38.1},{"$f":"IF(all!$AQ$1=1,all!AR50,IF(all!$AQ$1=2,all!AT50*100,IF(all!$AQ$1=3,all!AV50,all!AX50)))","v":37.815162631327922},{"$f":"IF(OR('Y2'!$W$1=6,('Y2'!$W$1=7)),\"\",'Y2'!AC51)","v":0.1},{"$f":"IF(all!$AP$3=1,all!AS50,IF(all!$AP$3=2,all!AU50*100,IF(all!$AP$3=3,all!AW50,all!AY50)))","v":1.6982730006188658E-6},25,{"$f":"IF($AE58=1,VLOOKUP($F58,all!$E$14:$AD$553,3),\"\")","v":"ratio call --^\\  itm-b (b162.5c+2s172.5c) (neutral)"},{"$f":"IF($AE58=1,VLOOKUP($F58,all!$E$14:$AD$553,4),\"\")","v":162.5},{"$f":"IF($AE58=1,VLOOKUP($F58,all!$E$14:$AD$553,5),\"\")","v":7.9},{"$f":"IF($AE58=1,VLOOKUP($F58,all!$E$14:$AD$553,6),\"\")","v":172.5},{"$f":"IF($AE58=1,VLOOKUP($F58,all!$E$14:$AD$553,7),\"\")","v":2.21},{"$f":"IF($AE58=1,VLOOKUP($F58,all!$E$14:$AD$553,8),\"\")","v":0},{"$f":"IF($AE58=1,VLOOKUP($F58,all!$E$14:$AD$553,9),\"\")","v":0},{"$f":"IF($AE58=1,VLOOKUP($F58,all!$E$14:$AD$553,10),\"\")","v":0},{"$f":"IF($AE58=1,VLOOKUP($F58,all!$E$14:$AD$553,11),\"\")","v":0},{"$f":"IF($AE58=1,VLOOKUP($F58,all!$E$14:$AD$553,12),\"\")","v":"unlim risk"},{"$f":"IF($AE58=1,VLOOKUP($F58,all!$E$14:$AD$553,13),\"\")","v":652},{"$f":"IF($AE58=1,VLOOKUP($F58,all!$E$14:$AD$553,14),\"\")","v":165.98000000000002},{"$f":"IF($AE58=1,VLOOKUP($F58,all!$E$14:$AD$553,15),\"\")","v":179.02},{"$f":"IF($AE58=1,VLOOKUP($F58,all!$E$14:$AD$553,16),\"\")","v":0.46754578808748359},{"$f":"IF($AE58=1,VLOOKUP($F58,all!$E$14:$AD$553,17),\"\")","v":"unlim risk"},{"$f":"IF($AE58=1,VLOOKUP($F58,all!$E$14:$AD$553,18),\"\")","v":"unlim risk"},{"$f":"IF($AE58=1,VLOOKUP($F58,all!$E$14:$AD$553,19),\"\")","v":1232},{"$f":"IF($AE58=1,VLOOKUP($F58,all!$E$14:$AD$553,20),\"\")","v":0.52922077922077926},{"$f":"IF($AE58=1,VLOOKUP($F58,all!$E$14:$AD$553,21),\"\")","v":1},{"$f":"IF($AE58=1,VLOOKUP($F58,all!$E$14:$AD$553,22),\"\")","v":2},{"$f":"IF($AE58=1,VLOOKUP($F58,all!$E$14:$AD$553,23),\"\")","v":0},{"$f":"IF($AE58=1,VLOOKUP($F58,all!$E$14:$AD$553,24),\"\")","v":0},{"$f":"IF($AE58=1,VLOOKUP($F58,all!$E$14:$AD$553,25),\"\")","v":"x"},null,{"$f":"COUNTIF(all!$E$14:$E$553,F58)","v":1},null,"one",{"$f":"IF($AF$58=0,0,VLOOKUP($AF$58,$AF$52:$BB$57,AH116))","v":0},{"$f":"IF($AF$58=0,0,VLOOKUP($AF$58,$AF$52:$BB$57,AI116))","v":0},0,0,0,0,0,0,0,0,0,0,0,0,0,0,0,0,0,0,0]
[{"$f":"IF(OR('Y2'!$W$1=6,('Y2'!$W$1=7)),\"\",'Y2'!AA52)","v":135},{"$f":"IF(OR('Y2'!$W$1=6,('Y2'!$W$1=7)),\"\",'Y2'!AB52)","v":32.450000000000003},{"$f":"IF(all!$AQ$1=1,all!AR51,IF(all!$AQ$1=2,all!AT51*100,IF(all!$AQ$1=3,all!AV51,all!AX51)))","v":32.817758030147814},{"$f":"IF(OR('Y2'!$W$1=6,('Y2'!$W$1=7)),\"\",'Y2'!AC52)","v":0.13},{"$f":"IF(all!$AP$3=1,all!AS51,IF(all!$AP$3=2,all!AU51*100,IF(all!$AP$3=3,all!AW51,all!AY51)))","v":4.9427675238404578E-5},26,{"$f":"IF($AE59=1,VLOOKUP($F59,all!$E$14:$AD$553,3),\"\")","v":"ratio call --^\\  itm-b (b162.5c+2s175c) (neutral)"},{"$f":"IF($AE59=1,VLOOKUP($F59,all!$E$14:$AD$553,4),\"\")","v":162.5},{"$f":"IF($AE59=1,VLOOKUP($F59,all!$E$14:$AD$553,5),\"\")","v":7.9},{"$f":"IF($AE59=1,VLOOKUP($F59,all!$E$14:$AD$553,6),\"\")","v":175},{"$f":"IF($AE59=1,VLOOKUP($F59,all!$E$14:$AD$553,7),\"\")","v":1.4},{"$f":"IF($AE59=1,VLOOKUP($F59,all!$E$14:$AD$553,8),\"\")","v":0},{"$f":"IF($AE59=1,VLOOKUP($F59,all!$E$14:$AD$553,9),\"\")","v":0},{"$f":"IF($AE59=1,VLOOKUP($F59,all!$E$14:$AD$553,10),\"\")","v":0},{"$f":"IF($AE59=1,VLOOKUP($F59,all!$E$14:$AD$553,11),\"\")","v":0},{"$f":"IF($AE59=1,VLOOKUP($F59,all!$E$14:$AD$553,12),\"\")","v":"unlim risk"},{"$f":"IF($AE59=1,VLOOKUP($F59,all!$E$14:$AD$553,13),\"\")","v":740},{"$f":"IF($AE59=1,VLOOKUP($F59,all!$E$14:$AD$553,14),\"\")","v":167.6},{"$f":"IF($AE59=1,VLOOKUP($F59,all!$E$14:$AD$553,15),\"\")","v":182.4},{"$f":"IF($AE59=1,VLOOKUP($F59,all!$E$14:$AD$553,16),\"\")","v":0.45148242474400679},{"$f":"IF($AE59=1,VLOOKUP($F59,all!$E$14:$AD$553,17),\"\")","v":"unlim risk"},{"$f":"IF($AE59=1,VLOOKUP($F59,all!$E$14:$AD$553,18),\"\")","v":"unlim risk"},{"$f":"IF($AE59=1,VLOOKUP($F59,all!$E$14:$AD$553,19),\"\")","v":1070},{"$f":"IF($AE59=1,VLOOKUP($F59,all!$E$14:$AD$553,20),\"\")","v":0.69158878504672894},{"$f":"IF($AE59=1,VLOOKUP($F59,all!$E$14:$AD$553,21),\"\")","v":1},{"$f":"IF($AE59=1,VLOOKUP($F59,all!$E$14:$AD$553,22),\"\")","v":2},{"$f":"IF($AE59=1,VLOOKUP($F59,all!$E$14:$AD$553,23),\"\")","v":0},{"$f":"IF($AE59=1,VLOOKUP($F59,all!$E$14:$AD$553,24),\"\")","v":0},{"$f":"IF($AE59=1,VLOOKUP($F59,all!$E$14:$AD$553,25),\"\")","v":"x"},null,{"$f":"COUNTIF(all!$E$14:$E$553,F59)","v":1}]
[{"$f":"IF(OR('Y2'!$W$1=6,('Y2'!$W$1=7)),\"\",'Y2'!AA53)","v":140},{"$f":"IF(OR('Y2'!$W$1=6,('Y2'!$W$1=7)),\"\",'Y2'!AB53)","v":28},{"$f":"IF(all!$AQ$1=1,all!AR52,IF(all!$AQ$1=2,all!AT52*100,IF(all!$AQ$1=3,all!AV52,all!AX52)))","v":27.821087657177117},{"$f":"IF(OR('Y2'!$W$1=6,('Y2'!$W$1=7)),\"\",'Y2'!AC53)","v":0.2},{"$f":"IF(all!$AP$3=1,all!AS52,IF(all!$AP$3=2,all!AU52*100,IF(all!$AP$3=3,all!AW52,all!AY52)))","v":8.3138051006095837E-4},27,{"$f":"IF($AE60=1,VLOOKUP($F60,all!$E$14:$AD$553,3),\"\")","v":"ratio call --^\\  itm-b (b162.5c+2s177.5c) (neutral)"},{"$f":"IF($AE60=1,VLOOKUP($F60,all!$E$14:$AD$553,4),\"\")","v":162.5},{"$f":"IF($AE60=1,VLOOKUP($F60,all!$E$14:$AD$553,5),\"\")","v":7.9},{"$f":"IF($AE60=1,VLOOKUP($F60,all!$E$14:$AD$553,6),\"\")","v":177.5},{"$f":"IF($AE60=1,VLOOKUP($F60,all!$E$14:$AD$553,7),\"\")","v":0.84},{"$f":"IF($AE60=1,VLOOKUP($F60,all!$E$14:$AD$553,8),\"\")","v":0},{"$f":"IF($AE60=1,VLOOKUP($F60,all!$E$14:$AD$553,9),\"\")","v":0},{"$f":"IF($AE60=1,VLOOKUP($F60,all!$E$14:$AD$553,10),\"\")","v":0},{"$f":"IF($AE60=1,VLOOKUP($F60,all!$E$14:$AD$553,11),\"\")","v":0},{"$f":"IF($AE60=1,VLOOKUP($F60,all!$E$14:$AD$553,12),\"\")","v":"unlim risk"},{"$f":"IF($AE60=1,VLOOKUP($F60,all!$E$14:$AD$553,13),\"\")","v":877.99999999999989},{"$f":"IF($AE60=1,VLOOKUP($F60,all!$E$14:$AD$553,14),\"\")","v":168.72},{"$f":"IF($AE60=1,VLOOKUP($F60,all!$E$14:$AD$553,15),\"\")","v":186.28},{"$f":"IF($AE60=1,VLOOKUP($F60,all!$E$14:$AD$553,16),\"\")","v":0.4376786972115716},{"$f":"IF($AE60=1,VLOOKUP($F60,all!$E$14:$AD$553,17),\"\")","v":"unlim risk"},{"$f":"IF($AE60=1,VLOOKUP($F60,all!$E$14:$AD$553,18),\"\")","v":"unlim risk"},{"$f":"IF($AE60=1,VLOOKUP($F60,all!$E$14:$AD$553,19),\"\")","v":958},{"$f":"IF($AE60=1,VLOOKUP($F60,all!$E$14:$AD$553,20),\"\")","v":0.91649269311064707},{"$f":"IF($AE60=1,VLOOKUP($F60,all!$E$14:$AD$553,21),\"\")","v":1},{"$f":"IF($AE60=1,VLOOKUP($F60,all!$E$14:$AD$553,22),\"\")","v":2},{"$f":"IF($AE60=1,VLOOKUP($F60,all!$E$14:$AD$553,23),\"\")","v":0},{"$f":"IF($AE60=1,VLOOKUP($F60,all!$E$14:$AD$553,24),\"\")","v":0},{"$f":"IF($AE60=1,VLOOKUP($F60,all!$E$14:$AD$553,25),\"\")","v":"x"},null,{"$f":"COUNTIF(all!$E$14:$E$553,F60)","v":1}]
[{"$f":"IF(OR('Y2'!$W$1=6,('Y2'!$W$1=7)),\"\",'Y2'!AA54)","v":145},{"$f":"IF(OR('Y2'!$W$1=6,('Y2'!$W$1=7)),\"\",'Y2'!AB54)","v":22.79},{"$f":"IF(all!$AQ$1=1,all!AR53,IF(all!$AQ$1=2,all!AT53*100,IF(all!$AQ$1=3,all!AV53,all!AX53)))","v":22.831409550203546},{"$f":"IF(OR('Y2'!$W$1=6,('Y2'!$W$1=7)),\"\",'Y2'!AC54)","v":0.33},{"$f":"IF(all!$AP$3=1,all!AS53,IF(all!$AP$3=2,all!AU53*100,IF(all!$AP$3=3,all!AW53,all!AY53)))","v":8.6055952123089696E-3},28,{"$f":"IF($AE61=1,VLOOKUP($F61,all!$E$14:$AD$553,3),\"\")","v":"ratio call --^\\  itm-b (b165c+2s172.5c) (neutral)"},{"$f":"IF($AE61=1,VLOOKUP($F61,all!$E$14:$AD$553,4),\"\")","v":165},{"$f":"IF($AE61=1,VLOOKUP($F61,all!$E$14:$AD$553,5),\"\")","v":6.13},{"$f":"IF($AE61=1,VLOOKUP($F61,all!$E$14:$AD$553,6),\"\")","v":172.5},{"$f":"IF($AE61=1,VLOOKUP($F61,all!$E$14:$AD$553,7),\"\")","v":2.21},{"$f":"IF($AE61=1,VLOOKUP($F61,all!$E$14:$AD$553,8),\"\")","v":0},{"$f":"IF($AE61=1,VLOOKUP($F61,all!$E$14:$AD$553,9),\"\")","v":0},{"$f":"IF($AE61=1,VLOOKUP($F61,all!$E$14:$AD$553,10),\"\")","v":0},{"$f":"IF($AE61=1,VLOOKUP($F61,all!$E$14:$AD$553,11),\"\")","v":0},{"$f":"IF($AE61=1,VLOOKUP($F61,all!$E$14:$AD$553,12),\"\")","v":"unlim risk"},{"$f":"IF($AE61=1,VLOOKUP($F61,all!$E$14:$AD$553,13),\"\")","v":579},{"$f":"IF($AE61=1,VLOOKUP($F61,all!$E$14:$AD$553,14),\"\")","v":166.71},{"$f":"IF($AE61=1,VLOOKUP($F61,all!$E$14:$AD$553,15),\"\")","v":178.29000000000002},{"$f":"IF($AE61=1,VLOOKUP($F61,all!$E$14:$AD$553,16),\"\")","v":0.41997122848994195},{"$f":"IF($AE61=1,VLOOKUP($F61,all!$E$14:$AD$553,17),\"\")","v":"unlim risk"},{"$f":"IF($AE61=1,VLOOKUP($F61,all!$E$14:$AD$553,18),\"\")","v":"unlim risk"},{"$f":"IF($AE61=1,VLOOKUP($F61,all!$E$14:$AD$553,19),\"\")","v":1055},{"$f":"IF($AE61=1,VLOOKUP($F61,all!$E$14:$AD$553,20),\"\")","v":0.54881516587677726},{"$f":"IF($AE61=1,VLOOKUP($F61,all!$E$14:$AD$553,21),\"\")","v":1},{"$f":"IF($AE61=1,VLOOKUP($F61,all!$E$14:$AD$553,22),\"\")","v":2},{"$f":"IF($AE61=1,VLOOKUP($F61,all!$E$14:$AD$553,23),\"\")","v":0},{"$f":"IF($AE61=1,VLOOKUP($F61,all!$E$14:$AD$553,24),\"\")","v":0},{"$f":"IF($AE61=1,VLOOKUP($F61,all!$E$14:$AD$553,25),\"\")","v":"x"},null,{"$f":"COUNTIF(all!$E$14:$E$553,F61)","v":1}]
[{"$f":"IF(OR('Y2'!$W$1=6,('Y2'!$W$1=7)),\"\",'Y2'!AA55)","v":150},{"$f":"IF(OR('Y2'!$W$1=6,('Y2'!$W$1=7)),\"\",'Y2'!AB55)","v":18.3},{"$f":"IF(all!$AQ$1=1,all!AR54,IF(all!$AQ$1=2,all!AT54*100,IF(all!$AQ$1=3,all!AV54,all!AX54)))","v":17.88343847114308},{"$f":"IF(OR('Y2'!$W$1=6,('Y2'!$W$1=7)),\"\",'Y2'!AC55)","v":0.56999999999999995},{"$f":"IF(all!$AP$3=1,all!AS54,IF(all!$AP$3=2,all!AU54*100,IF(all!$AP$3=3,all!AW54,all!AY54)))","v":5.8086851101639247E-2},29,{"$f":"IF($AE62=1,VLOOKUP($F62,all!$E$14:$AD$553,3),\"\")","v":"ratio call --^\\  itm-b (b165c+2s175c) (neutral)"},{"$f":"IF($AE62=1,VLOOKUP($F62,all!$E$14:$AD$553,4),\"\")","v":165},{"$f":"IF($AE62=1,VLOOKUP($F62,all!$E$14:$AD$553,5),\"\")","v":6.13},{"$f":"IF($AE62=1,VLOOKUP($F62,all!$E$14:$AD$553,6),\"\")","v":175},{"$f":"IF($AE62=1,VLOOKUP($F62,all!$E$14:$AD$553,7),\"\")","v":1.4},{"$f":"IF($AE62=1,VLOOKUP($F62,all!$E$14:$AD$553,8),\"\")","v":0},{"$f":"IF($AE62=1,VLOOKUP($F62,all!$E$14:$AD$553,9),\"\")","v":0},{"$f":"IF($AE62=1,VLOOKUP($F62,all!$E$14:$AD$553,10),\"\")","v":0},{"$f":"IF($AE62=1,VLOOKUP($F62,all!$E$14:$AD$553,11),\"\")","v":0},{"$f":"IF($AE62=1,VLOOKUP($F62,all!$E$14:$AD$553,12),\"\")","v":"unlim risk"},{"$f":"IF($AE62=1,VLOOKUP($F62,all!$E$14:$AD$553,13),\"\")","v":667},{"$f":"IF($AE62=1,VLOOKUP($F62,all!$E$14:$AD$553,14),\"\")","v":168.32999999999998},{"$f":"IF($AE62=1,VLOOKUP($F62,all!$E$14:$AD$553,15),\"\")","v":181.67000000000002},{"$f":"IF($AE62=1,VLOOKUP($F62,all!$E$14:$AD$553,16),\"\")","v":0.40966550113131273},{"$f":"IF($AE62=1,VLOOKUP($F62,all!$E$14:$AD$553,17),\"\")","v":"unlim risk"},{"$f":"IF($AE62=1,VLOOKUP($F62,all!$E$14:$AD$553,18),\"\")","v":"unlim risk"},{"$f":"IF($AE62=1,VLOOKUP($F62,all!$E$14:$AD$553,19),\"\")","v":893},{"$f":"IF($AE62=1,VLOOKUP($F62,all!$E$14:$AD$553,20),\"\")","v":0.74692049272116456},{"$f":"IF($AE62=1,VLOOKUP($F62,all!$E$14:$AD$553,21),\"\")","v":1},{"$f":"IF($AE62=1,VLOOKUP($F62,all!$E$14:$AD$553,22),\"\")","v":2},{"$f":"IF($AE62=1,VLOOKUP($F62,all!$E$14:$AD$553,23),\"\")","v":0},{"$f":"IF($AE62=1,VLOOKUP($F62,all!$E$14:$AD$553,24),\"\")","v":0},{"$f":"IF($AE62=1,VLOOKUP($F62,all!$E$14:$AD$553,25),\"\")","v":"x"},null,{"$f":"COUNTIF(all!$E$14:$E$553,F62)","v":1}]
[{"$f":"IF(OR('Y2'!$W$1=6,('Y2'!$W$1=7)),\"\",'Y2'!AA56)","v":152.5},{"$f":"IF(OR('Y2'!$W$1=6,('Y2'!$W$1=7)),\"\",'Y2'!AB56)","v":15.8},{"$f":"IF(all!$AQ$1=1,all!AR55,IF(all!$AQ$1=2,all!AT55*100,IF(all!$AQ$1=3,all!AV55,all!AX55)))","v":15.457401310147787},{"$f":"IF(OR('Y2'!$W$1=6,('Y2'!$W$1=7)),\"\",'Y2'!AC56)","v":0.8},{"$f":"IF(all!$AP$3=1,all!AS55,IF(all!$AP$3=2,all!AU55*100,IF(all!$AP$3=3,all!AW55,all!AY55)))","v":0.13077584266326259},30,{"$f":"IF($AE63=1,VLOOKUP($F63,all!$E$14:$AD$553,3),\"\")","v":"ratio call --^\\  itm-b (b165c+2s177.5c) (neutral)"},{"$f":"IF($AE63=1,VLOOKUP($F63,all!$E$14:$AD$553,4),\"\")","v":165},{"$f":"IF($AE63=1,VLOOKUP($F63,all!$E$14:$AD$553,5),\"\")","v":6.13},{"$f":"IF($AE63=1,VLOOKUP($F63,all!$E$14:$AD$553,6),\"\")","v":177.5},{"$f":"IF($AE63=1,VLOOKUP($F63,all!$E$14:$AD$553,7),\"\")","v":0.84},{"$f":"IF($AE63=1,VLOOKUP($F63,all!$E$14:$AD$553,8),\"\")","v":0},{"$f":"IF($AE63=1,VLOOKUP($F63,all!$E$14:$AD$553,9),\"\")","v":0},{"$f":"IF($AE63=1,VLOOKUP($F63,all!$E$14:$AD$553,10),\"\")","v":0},{"$f":"IF($AE63=1,VLOOKUP($F63,all!$E$14:$AD$553,11),\"\")","v":0},{"$f":"IF($AE63=1,VLOOKUP($F63,all!$E$14:$AD$553,12),\"\")","v":"unlim risk"},{"$f":"IF($AE63=1,VLOOKUP($F63,all!$E$14:$AD$553,13),\"\")","v":805.00000000000011},{"$f":"IF($AE63=1,VLOOKUP($F63,all!$E$14:$AD$553,14),\"\")","v":169.45},{"$f":"IF($AE63=1,VLOOKUP($F63,all!$E$14:$AD$553,15),\"\")","v":185.55},{"$f":"IF($AE63=1,VLOOKUP($F63,all!$E$14:$AD$553,16),\"\")","v":0.40112471735255706},{"$f":"IF($AE63=1,VLOOKUP($F63,all!$E$14:$AD$553,17),\"\")","v":"unlim risk"},{"$f":"IF($AE63=1,VLOOKUP($F63,all!$E$14:$AD$553,18),\"\")","v":"unlim risk"},{"$f":"IF($AE63=1,VLOOKUP($F63,all!$E$14:$AD$553,19),\"\")","v":781},{"$f":"IF($AE63=1,VLOOKUP($F63,all!$E$14:$AD$553,20),\"\")","v":1.0307298335467352},{"$f":"IF($AE63=1,VLOOKUP($F63,all!$E$14:$AD$553,21),\"\")","v":1},{"$f":"IF($AE63=1,VLOOKUP($F63,all!$E$14:$AD$553,22),\"\")","v":2},{"$f":"IF($AE63=1,VLOOKUP($F63,all!$E$14:$AD$553,23),\"\")","v":0},{"$f":"IF($AE63=1,VLOOKUP($F63,all!$E$14:$AD$553,24),\"\")","v":0},{"$f":"IF($AE63=1,VLOOKUP($F63,all!$E$14:$AD$553,25),\"\")","v":"x"},null,{"$f":"COUNTIF(all!$E$14:$E$553,F63)","v":1},null,null,"PL AT CURRENT",null,null,null,{"$f":"S2","v":"2022-08-28T09:32:01.130"}]
[{"$f":"IF(OR('Y2'!$W$1=6,('Y2'!$W$1=7)),\"\",'Y2'!AA57)","v":155},{"$f":"IF(OR('Y2'!$W$1=6,('Y2'!$W$1=7)),\"\",'Y2'!AB57)","v":13.49},{"$f":"IF(all!$AQ$1=1,all!AR56,IF(all!$AQ$1=2,all!AT56*100,IF(all!$AQ$1=3,all!AV56,all!AX56)))","v":13.09787729197069},{"$f":"IF(OR('Y2'!$W$1=6,('Y2'!$W$1=7)),\"\",'Y2'!AC57)","v":1.01},{"$f":"IF(all!$AP$3=1,all!AS56,IF(all!$AP$3=2,all!AU56*100,IF(all!$AP$3=3,all!AW56,all!AY56)))","v":0.26997798933985173},31,{"$f":"IF($AE64=1,VLOOKUP($F64,all!$E$14:$AD$553,3),\"\")","v":"ratio call --^\\  itm-b (b167.5c+2s172.5c) (neutral)"},{"$f":"IF($AE64=1,VLOOKUP($F64,all!$E$14:$AD$553,4),\"\")","v":167.5},{"$f":"IF($AE64=1,VLOOKUP($F64,all!$E$14:$AD$553,5),\"\")","v":4.5999999999999996},{"$f":"IF($AE64=1,VLOOKUP($F64,all!$E$14:$AD$553,6),\"\")","v":172.5},{"$f":"IF($AE64=1,VLOOKUP($F64,all!$E$14:$AD$553,7),\"\")","v":2.21},{"$f":"IF($AE64=1,VLOOKUP($F64,all!$E$14:$AD$553,8),\"\")","v":0},{"$f":"IF($AE64=1,VLOOKUP($F64,all!$E$14:$AD$553,9),\"\")","v":0},{"$f":"IF($AE64=1,VLOOKUP($F64,all!$E$14:$AD$553,10),\"\")","v":0},{"$f":"IF($AE64=1,VLOOKUP($F64,all!$E$14:$AD$553,11),\"\")","v":0},{"$f":"IF($AE64=1,VLOOKUP($F64,all!$E$14:$AD$553,12),\"\")","v":"unlim risk"},{"$f":"IF($AE64=1,VLOOKUP($F64,all!$E$14:$AD$553,13),\"\")","v":482},{"$f":"IF($AE64=1,VLOOKUP($F64,all!$E$14:$AD$553,14),\"\")","v":167.68},{"$f":"IF($AE64=1,VLOOKUP($F64,all!$E$14:$AD$553,15),\"\")","v":177.32000000000002},{"$f":"IF($AE64=1,VLOOKUP($F64,all!$E$14:$AD$553,16),\"\")","v":0.35423026933353974},{"$f":"IF($AE64=1,VLOOKUP($F64,all!$E$14:$AD$553,17),\"\")","v":"unlim risk"},{"$f":"IF($AE64=1,VLOOKUP($F64,all!$E$14:$AD$553,18),\"\")","v":"unlim risk"},{"$f":"IF($AE64=1,VLOOKUP($F64,all!$E$14:$AD$553,19),\"\")","v":902},{"$f":"IF($AE64=1,VLOOKUP($F64,all!$E$14:$AD$553,20),\"\")","v":0.53436807095343686},{"$f":"IF($AE64=1,VLOOKUP($F64,all!$E$14:$AD$553,21),\"\")","v":1},{"$f":"IF($AE64=1,VLOOKUP($F64,all!$E$14:$AD$553,22),\"\")","v":2},{"$f":"IF($AE64=1,VLOOKUP($F64,all!$E$14:$AD$553,23),\"\")","v":0},{"$f":"IF($AE64=1,VLOOKUP($F64,all!$E$14:$AD$553,24),\"\")","v":0},{"$f":"IF($AE64=1,VLOOKUP($F64,all!$E$14:$AD$553,25),\"\")","v":"x"},null,{"$f":"COUNTIF(all!$E$14:$E$553,F64)","v":1},null,null,{"$f":"AH11","v":83.95999999999998},{"$f":"AI11","v":92.35599999999998},{"$f":"AJ11","v":100.75199999999998},109.14799999999998,117.54399999999998,125.93999999999998,134.33599999999998,142.73199999999997,151.12799999999999,159.524,167.92,176.31599999999997,184.71199999999999,193.108,201.50399999999999,209.89999999999998,218.29599999999999,226.69200000000001,235.08799999999999,243.48399999999998,251.88]
[{"$f":"IF(OR('Y2'!$W$1=6,('Y2'!$W$1=7)),\"\",'Y2'!AA58)","v":157.5},{"$f":"IF(OR('Y2'!$W$1=6,('Y2'!$W$1=7)),\"\",'Y2'!AB58)","v":11.45},{"$f":"IF(all!$AQ$1=1,all!AR57,IF(all!$AQ$1=2,all!AT57*100,IF(all!$AQ$1=3,all!AV57,all!AX57)))","v":10.843538736465916},{"$f":"IF(OR('Y2'!$W$1=6,('Y2'!$W$1=7)),\"\",'Y2'!AC58)","v":1.36},{"$f":"IF(all!$AP$3=1,all!AS57,IF(all!$AP$3=2,all!AU57*100,IF(all!$AP$3=3,all!AW57,all!AY57)))","v":0.51436556584883419},32,{"$f":"IF($AE65=1,VLOOKUP($F65,all!$E$14:$AD$553,3),\"\")","v":"ratio call --^\\  itm-b (b167.5c+2s175c) (neutral)"},{"$f":"IF($AE65=1,VLOOKUP($F65,all!$E$14:$AD$553,4),\"\")","v":167.5},{"$f":"IF($AE65=1,VLOOKUP($F65,all!$E$14:$AD$553,5),\"\")","v":4.5999999999999996},{"$f":"IF($AE65=1,VLOOKUP($F65,all!$E$14:$AD$553,6),\"\")","v":175},{"$f":"IF($AE65=1,VLOOKUP($F65,all!$E$14:$AD$553,7),\"\")","v":1.4},{"$f":"IF($AE65=1,VLOOKUP($F65,all!$E$14:$AD$553,8),\"\")","v":0},{"$f":"IF($AE65=1,VLOOKUP($F65,all!$E$14:$AD$553,9),\"\")","v":0},{"$f":"IF($AE65=1,VLOOKUP($F65,all!$E$14:$AD$553,10),\"\")","v":0},{"$f":"IF($AE65=1,VLOOKUP($F65,all!$E$14:$AD$553,11),\"\")","v":0},{"$f":"IF($AE65=1,VLOOKUP($F65,all!$E$14:$AD$553,12),\"\")","v":"unlim risk"},{"$f":"IF($AE65=1,VLOOKUP($F65,all!$E$14:$AD$553,13),\"\")","v":570},{"$f":"IF($AE65=1,VLOOKUP($F65,all!$E$14:$AD$553,14),\"\")","v":169.29999999999998},{"$f":"IF($AE65=1,VLOOKUP($F65,all!$E$14:$AD$553,15),\"\")","v":180.70000000000002},{"$f":"IF($AE65=1,VLOOKUP($F65,all!$E$14:$AD$553,16),\"\")","v":0.3527288947128876},{"$f":"IF($AE65=1,VLOOKUP($F65,all!$E$14:$AD$553,17),\"\")","v":"unlim risk"},{"$f":"IF($AE65=1,VLOOKUP($F65,all!$E$14:$AD$553,18),\"\")","v":"unlim risk"},{"$f":"IF($AE65=1,VLOOKUP($F65,all!$E$14:$AD$553,19),\"\")","v":740},{"$f":"IF($AE65=1,VLOOKUP($F65,all!$E$14:$AD$553,20),\"\")","v":0.77027027027027029},{"$f":"IF($AE65=1,VLOOKUP($F65,all!$E$14:$AD$553,21),\"\")","v":1},{"$f":"IF($AE65=1,VLOOKUP($F65,all!$E$14:$AD$553,22),\"\")","v":2},{"$f":"IF($AE65=1,VLOOKUP($F65,all!$E$14:$AD$553,23),\"\")","v":0},{"$f":"IF($AE65=1,VLOOKUP($F65,all!$E$14:$AD$553,24),\"\")","v":0},{"$f":"IF($AE65=1,VLOOKUP($F65,all!$E$14:$AD$553,25),\"\")","v":"x"},null,{"$f":"COUNTIF(all!$E$14:$E$553,F65)","v":1},1,"buy call",{"$f":"IF($K$4=\"\",0,$H$4*$J$2*(PB(\"C\",AH$64+0.00001,$J$4,MAX($I$4-$AL$63,0.00001)/365,$C$6,$D$6,$M$4)-$K$4))","v":-17698.957641850833},{"$f":"IF($K$4=\"\",0,$H$4*$J$2*(PB(\"C\",AI$64+0.00001,$J$4,MAX($I$4-$AL$63,0.00001)/365,$C$6,$D$6,$M$4)-$K$4))","v":-17697.615196884348},-17695.09500772291,-17690.747274710724,-17683.747377372198,-17673.104456635559,-17657.680893344008,-17636.219986803437,-17607.378818730704,-17569.763423111715,-17521.9637948989,-17462.586812283636,-17390.285711611014,-17303.785273477453,-17201.902317568969,-17083.561449469282,-16947.806256671891,-16793.806323266064,-16620.86053685809,-16428.397211672647,-16215.971561993194]
[{"$f":"IF(OR('Y2'!$W$1=6,('Y2'!$W$1=7)),\"\",'Y2'!AA59)","v":160},{"$f":"IF(OR('Y2'!$W$1=6,('Y2'!$W$1=7)),\"\",'Y2'!AB59)","v":9.75},{"$f":"IF(all!$AQ$1=1,all!AR58,IF(all!$AQ$1=2,all!AT58*100,IF(all!$AQ$1=3,all!AV58,all!AX58)))","v":8.7405758489679783},{"$f":"IF(OR('Y2'!$W$1=6,('Y2'!$W$1=7)),\"\",'Y2'!AC59)","v":1.85},{"$f":"IF(all!$AP$3=1,all!AS58,IF(all!$AP$3=2,all!AU58*100,IF(all!$AP$3=3,all!AW58,all!AY58)))","v":0.91012887232689366},33,{"$f":"IF($AE66=1,VLOOKUP($F66,all!$E$14:$AD$553,3),\"\")","v":"ratio call --^\\  itm-b (b167.5c+2s177.5c) (neutral)"},{"$f":"IF($AE66=1,VLOOKUP($F66,all!$E$14:$AD$553,4),\"\")","v":167.5},{"$f":"IF($AE66=1,VLOOKUP($F66,all!$E$14:$AD$553,5),\"\")","v":4.5999999999999996},{"$f":"IF($AE66=1,VLOOKUP($F66,all!$E$14:$AD$553,6),\"\")","v":177.5},{"$f":"IF($AE66=1,VLOOKUP($F66,all!$E$14:$AD$553,7),\"\")","v":0.84},{"$f":"IF($AE66=1,VLOOKUP($F66,all!$E$14:$AD$553,8),\"\")","v":0},{"$f":"IF($AE66=1,VLOOKUP($F66,all!$E$14:$AD$553,9),\"\")","v":0},{"$f":"IF($AE66=1,VLOOKUP($F66,all!$E$14:$AD$553,10),\"\")","v":0},{"$f":"IF($AE66=1,VLOOKUP($F66,all!$E$14:$AD$553,11),\"\")","v":0},{"$f":"IF($AE66=1,VLOOKUP($F66,all!$E$14:$AD$553,12),\"\")","v":"unlim risk"},{"$f":"IF($AE66=1,VLOOKUP($F66,all!$E$14:$AD$553,13),\"\")","v":708},{"$f":"IF($AE66=1,VLOOKUP($F66,all!$E$14:$AD$553,14),\"\")","v":170.42},{"$f":"IF($AE66=1,VLOOKUP($F66,all!$E$14:$AD$553,15),\"\")","v":184.58},{"$f":"IF($AE66=1,VLOOKUP($F66,all!$E$14:$AD$553,16),\"\")","v":0.35230250890652659},{"$f":"IF($AE66=1,VLOOKUP($F66,all!$E$14:$AD$553,17),\"\")","v":"unlim risk"},{"$f":"IF($AE66=1,VLOOKUP($F66,all!$E$14:$AD$553,18),\"\")","v":"unlim risk"},{"$f":"IF($AE66=1,VLOOKUP($F66,all!$E$14:$AD$553,19),\"\")","v":627.99999999999989},{"$f":"IF($AE66=1,VLOOKUP($F66,all!$E$14:$AD$553,20),\"\")","v":1.1273885350318473},{"$f":"IF($AE66=1,VLOOKUP($F66,all!$E$14:$AD$553,21),\"\")","v":1},{"$f":"IF($AE66=1,VLOOKUP($F66,all!$E$14:$AD$553,22),\"\")","v":2},{"$f":"IF($AE66=1,VLOOKUP($F66,all!$E$14:$AD$553,23),\"\")","v":0},{"$f":"IF($AE66=1,VLOOKUP($F66,all!$E$14:$AD$553,24),\"\")","v":0},{"$f":"IF($AE66=1,VLOOKUP($F66,all!$E$14:$AD$553,25),\"\")","v":"x"},null,{"$f":"COUNTIF(all!$E$14:$E$553,F66)","v":1},2,"sell call",{"$f":"-AH65","v":17698.957641850833},{"$f":"-AI65","v":17697.615196884348},17695.09500772291,17690.747274710724,17683.747377372198,17673.104456635559,17657.680893344008,17636.219986803437,17607.378818730704,17569.763423111715,17521.9637948989,17462.586812283636,17390.285711611014,17303.785273477453,17201.902317568969,17083.561449469282,16947.806256671891,16793.806323266064,16620.86053685809,16428.397211672647,16215.971561993194]
[{"$f":"IF(OR('Y2'!$W$1=6,('Y2'!$W$1=7)),\"\",'Y2'!AA60)","v":162.5},{"$f":"IF(OR('Y2'!$W$1=6,('Y2'!$W$1=7)),\"\",'Y2'!AB60)","v":7.9},{"$f":"IF(all!$AQ$1=1,all!AR59,IF(all!$AQ$1=2,all!AT59*100,IF(all!$AQ$1=3,all!AV59,all!AX59)))","v":6.8366814360047243},{"$f":"IF(OR('Y2'!$W$1=6,('Y2'!$W$1=7)),\"\",'Y2'!AC60)","v":2.4500000000000002},{"$f":"IF(all!$AP$3=1,all!AS59,IF(all!$AP$3=2,all!AU59*100,IF(all!$AP$3=3,all!AW59,all!AY59)))","v":1.5049606005843685},34,{"$f":"IF($AE67=1,VLOOKUP($F67,all!$E$14:$AD$553,3),\"\")","v":"ratio call --^\\  itm-b (b170c+2s172.5c) (neutral)"},{"$f":"IF($AE67=1,VLOOKUP($F67,all!$E$14:$AD$553,4),\"\")","v":170},{"$f":"IF($AE67=1,VLOOKUP($F67,all!$E$14:$AD$553,5),\"\")","v":3.3},{"$f":"IF($AE67=1,VLOOKUP($F67,all!$E$14:$AD$553,6),\"\")","v":172.5},{"$f":"IF($AE67=1,VLOOKUP($F67,all!$E$14:$AD$553,7),\"\")","v":2.21},{"$f":"IF($AE67=1,VLOOKUP($F67,all!$E$14:$AD$553,8),\"\")","v":0},{"$f":"IF($AE67=1,VLOOKUP($F67,all!$E$14:$AD$553,9),\"\")","v":0},{"$f":"IF($AE67=1,VLOOKUP($F67,all!$E$14:$AD$553,10),\"\")","v":0},{"$f":"IF($AE67=1,VLOOKUP($F67,all!$E$14:$AD$553,11),\"\")","v":0},{"$f":"IF($AE67=1,VLOOKUP($F67,all!$E$14:$AD$553,12),\"\")","v":"unlim risk"},{"$f":"IF($AE67=1,VLOOKUP($F67,all!$E$14:$AD$553,13),\"\")","v":362},{"$f":"IF($AE67=1,VLOOKUP($F67,all!$E$14:$AD$553,14),\"\")","v":1E-4},{"$f":"IF($AE67=1,VLOOKUP($F67,all!$E$14:$AD$553,15),\"\")","v":176.12},{"$f":"IF($AE67=1,VLOOKUP($F67,all!$E$14:$AD$553,16),\"\")","v":0.81157930038253823},{"$f":"IF($AE67=1,VLOOKUP($F67,all!$E$14:$AD$553,17),\"\")","v":"unlim risk"},{"$f":"IF($AE67=1,VLOOKUP($F67,all!$E$14:$AD$553,18),\"\")","v":"unlim risk"},{"$f":"IF($AE67=1,VLOOKUP($F67,all!$E$14:$AD$553,19),\"\")","v":772},{"$f":"IF($AE67=1,VLOOKUP($F67,all!$E$14:$AD$553,20),\"\")","v":0.4689119170984456},{"$f":"IF($AE67=1,VLOOKUP($F67,all!$E$14:$AD$553,21),\"\")","v":1},{"$f":"IF($AE67=1,VLOOKUP($F67,all!$E$14:$AD$553,22),\"\")","v":2},{"$f":"IF($AE67=1,VLOOKUP($F67,all!$E$14:$AD$553,23),\"\")","v":0},{"$f":"IF($AE67=1,VLOOKUP($F67,all!$E$14:$AD$553,24),\"\")","v":0},{"$f":"IF($AE67=1,VLOOKUP($F67,all!$E$14:$AD$553,25),\"\")","v":"x"},null,{"$f":"COUNTIF(all!$E$14:$E$553,F67)","v":1},3,"buy put",{"$f":"IF($K$4=\"\",0,$H$4*$J$2*(PB(\"P\",AH$64+0.00001,$J$4,MAX($I$4-$AL$63,0.00001)/365,$C$6,$D$6,$M$4)-$K$4))","v":10894.742497499294},{"$f":"IF($K$4=\"\",0,$H$4*$J$2*(PB(\"P\",AI$64+0.00001,$J$4,MAX($I$4-$AL$63,0.00001)/365,$C$6,$D$6,$M$4)-$K$4))","v":10057.340335537099},9221.115917769861,8386.7190438533671,7554.974334263221,6726.8726480711794,5903.5516044340538,5086.2679040459479,4276.3644651900049,3475.2352538803138,2684.2902751644542,1904.9226508510374,1138.4791445949845,386.23497579986577,-350.62667522032598,-1071.0304140493179,-1774.0198281806015,-2458.7645017034533,-3124.5633222241536,-3770.8446039673872,-4397.1635612166156]
[{"$f":"IF(OR('Y2'!$W$1=6,('Y2'!$W$1=7)),\"\",'Y2'!AA61)","v":165},{"$f":"IF(OR('Y2'!$W$1=6,('Y2'!$W$1=7)),\"\",'Y2'!AB61)","v":6.13},{"$f":"IF(all!$AQ$1=1,all!AR60,IF(all!$AQ$1=2,all!AT60*100,IF(all!$AQ$1=3,all!AV60,all!AX60)))","v":5.1729445158851775},{"$f":"IF(OR('Y2'!$W$1=6,('Y2'!$W$1=7)),\"\",'Y2'!AC61)","v":3.26},{"$f":"IF(all!$AP$3=1,all!AS60,IF(all!$AP$3=2,all!AU60*100,IF(all!$AP$3=3,all!AW60,all!AY60)))","v":2.33994988513588},35,{"$f":"IF($AE68=1,VLOOKUP($F68,all!$E$14:$AD$553,3),\"\")","v":"ratio call --^\\  itm-b (b170c+2s175c) (neutral)"},{"$f":"IF($AE68=1,VLOOKUP($F68,all!$E$14:$AD$553,4),\"\")","v":170},{"$f":"IF($AE68=1,VLOOKUP($F68,all!$E$14:$AD$553,5),\"\")","v":3.3},{"$f":"IF($AE68=1,VLOOKUP($F68,all!$E$14:$AD$553,6),\"\")","v":175},{"$f":"IF($AE68=1,VLOOKUP($F68,all!$E$14:$AD$553,7),\"\")","v":1.4},{"$f":"IF($AE68=1,VLOOKUP($F68,all!$E$14:$AD$553,8),\"\")","v":0},{"$f":"IF($AE68=1,VLOOKUP($F68,all!$E$14:$AD$553,9),\"\")","v":0},{"$f":"IF($AE68=1,VLOOKUP($F68,all!$E$14:$AD$553,10),\"\")","v":0},{"$f":"IF($AE68=1,VLOOKUP($F68,all!$E$14:$AD$553,11),\"\")","v":0},{"$f":"IF($AE68=1,VLOOKUP($F68,all!$E$14:$AD$553,12),\"\")","v":"unlim risk"},{"$f":"IF($AE68=1,VLOOKUP($F68,all!$E$14:$AD$553,13),\"\")","v":450},{"$f":"IF($AE68=1,VLOOKUP($F68,all!$E$14:$AD$553,14),\"\")","v":170.5},{"$f":"IF($AE68=1,VLOOKUP($F68,all!$E$14:$AD$553,15),\"\")","v":179.5},{"$f":"IF($AE68=1,VLOOKUP($F68,all!$E$14:$AD$553,16),\"\")","v":0.28051966430604713},{"$f":"IF($AE68=1,VLOOKUP($F68,all!$E$14:$AD$553,17),\"\")","v":"unlim risk"},{"$f":"IF($AE68=1,VLOOKUP($F68,all!$E$14:$AD$553,18),\"\")","v":"unlim risk"},{"$f":"IF($AE68=1,VLOOKUP($F68,all!$E$14:$AD$553,19),\"\")","v":610},{"$f":"IF($AE68=1,VLOOKUP($F68,all!$E$14:$AD$553,20),\"\")","v":0.73770491803278693},{"$f":"IF($AE68=1,VLOOKUP($F68,all!$E$14:$AD$553,21),\"\")","v":1},{"$f":"IF($AE68=1,VLOOKUP($F68,all!$E$14:$AD$553,22),\"\")","v":2},{"$f":"IF($AE68=1,VLOOKUP($F68,all!$E$14:$AD$553,23),\"\")","v":0},{"$f":"IF($AE68=1,VLOOKUP($F68,all!$E$14:$AD$553,24),\"\")","v":0},{"$f":"IF($AE68=1,VLOOKUP($F68,all!$E$14:$AD$553,25),\"\")","v":"x"},null,{"$f":"COUNTIF(all!$E$14:$E$553,F68)","v":1},4,"sell put",{"$f":"-AH67","v":-10894.742497499294},{"$f":"-AI67","v":-10057.340335537099},-9221.115917769861,-8386.7190438533671,-7554.974334263221,-6726.8726480711794,-5903.5516044340538,-5086.2679040459479,-4276.3644651900049,-3475.2352538803138,-2684.2902751644542,-1904.9226508510374,-1138.4791445949845,-386.23497579986577,350.62667522032598,1071.0304140493179,1774.0198281806015,2458.7645017034533,3124.5633222241536,3770.8446039673872,4397.1635612166156]
[{"$f":"IF(OR('Y2'!$W$1=6,('Y2'!$W$1=7)),\"\",'Y2'!AA62)","v":167.5},{"$f":"IF(OR('Y2'!$W$1=6,('Y2'!$W$1=7)),\"\",'Y2'!AB62)","v":4.5999999999999996},{"$f":"IF(all!$AQ$1=1,all!AR61,IF(all!$AQ$1=2,all!AT61*100,IF(all!$AQ$1=3,all!AV61,all!AX61)))","v":3.7760676776467079},{"$f":"IF(OR('Y2'!$W$1=6,('Y2'!$W$1=7)),\"\",'Y2'!AC62)","v":4.25},{"$f":"IF(all!$AP$3=1,all!AS61,IF(all!$AP$3=2,all!AU61*100,IF(all!$AP$3=3,all!AW61,all!AY61)))","v":3.4417991640991801},36,{"$f":"IF($AE69=1,VLOOKUP($F69,all!$E$14:$AD$553,3),\"\")","v":"ratio call --^\\  itm-b (b170c+2s177.5c) (neutral)"},{"$f":"IF($AE69=1,VLOOKUP($F69,all!$E$14:$AD$553,4),\"\")","v":170},{"$f":"IF($AE69=1,VLOOKUP($F69,all!$E$14:$AD$553,5),\"\")","v":3.3},{"$f":"IF($AE69=1,VLOOKUP($F69,all!$E$14:$AD$553,6),\"\")","v":177.5},{"$f":"IF($AE69=1,VLOOKUP($F69,all!$E$14:$AD$553,7),\"\")","v":0.84},{"$f":"IF($AE69=1,VLOOKUP($F69,all!$E$14:$AD$553,8),\"\")","v":0},{"$f":"IF($AE69=1,VLOOKUP($F69,all!$E$14:$AD$553,9),\"\")","v":0},{"$f":"IF($AE69=1,VLOOKUP($F69,all!$E$14:$AD$553,10),\"\")","v":0},{"$f":"IF($AE69=1,VLOOKUP($F69,all!$E$14:$AD$553,11),\"\")","v":0},{"$f":"IF($AE69=1,VLOOKUP($F69,all!$E$14:$AD$553,12),\"\")","v":"unlim risk"},{"$f":"IF($AE69=1,VLOOKUP($F69,all!$E$14:$AD$553,13),\"\")","v":588},{"$f":"IF($AE69=1,VLOOKUP($F69,all!$E$14:$AD$553,14),\"\")","v":171.62},{"$f":"IF($AE69=1,VLOOKUP($F69,all!$E$14:$AD$553,15),\"\")","v":183.38},{"$f":"IF($AE69=1,VLOOKUP($F69,all!$E$14:$AD$553,16),\"\")","v":0.29182297011989899},{"$f":"IF($AE69=1,VLOOKUP($F69,all!$E$14:$AD$553,17),\"\")","v":"unlim risk"},{"$f":"IF($AE69=1,VLOOKUP($F69,all!$E$14:$AD$553,18),\"\")","v":"unlim risk"},{"$f":"IF($AE69=1,VLOOKUP($F69,all!$E$14:$AD$553,19),\"\")","v":497.99999999999994},{"$f":"IF($AE69=1,VLOOKUP($F69,all!$E$14:$AD$553,20),\"\")","v":1.1807228915662651},{"$f":"IF($AE69=1,VLOOKUP($F69,all!$E$14:$AD$553,21),\"\")","v":1},{"$f":"IF($AE69=1,VLOOKUP($F69,all!$E$14:$AD$553,22),\"\")","v":2},{"$f":"IF($AE69=1,VLOOKUP($F69,all!$E$14:$AD$553,23),\"\")","v":0},{"$f":"IF($AE69=1,VLOOKUP($F69,all!$E$14:$AD$553,24),\"\")","v":0},{"$f":"IF($AE69=1,VLOOKUP($F69,all!$E$14:$AD$553,25),\"\")","v":"x"},null,{"$f":"COUNTIF(all!$E$14:$E$553,F69)","v":1},5,"buy under",{"$f":"AH16","v":-8396},{"$f":"AI16","v":-7556.4000000000005},-6716.8000000000011,-5877.2000000000007,-5037.6000000000004,-4198,-3358.4000000000005,-2518.8000000000015,-1679.2000000000003,-839.59999999999866,0,839.59999999999866,1679.2000000000003,2518.8000000000015,3358.4000000000005,4197.9999999999991,5037.6000000000004,5877.2000000000016,6716.8000000000011,7556.4,8396,null,null,null,null,null,null,{"$f":"IF(A77=\"\",0,PB(\"C\",$C$2,A77,($D$2-NOW())/365,$C$6,$D$6,$B$6))","v":7.0224128329507529E-2},{"$f":"IF(A77=\"\",0,PB(\"P\",$C$2,A77,($D$2-NOW())/365,$C$6,$D$6,$B$6))","v":19.725764945279792}]
[{"$f":"IF(OR('Y2'!$W$1=6,('Y2'!$W$1=7)),\"\",'Y2'!AA63)","v":170},{"$f":"IF(OR('Y2'!$W$1=6,('Y2'!$W$1=7)),\"\",'Y2'!AB63)","v":3.3},{"$f":"IF(all!$AQ$1=1,all!AR62,IF(all!$AQ$1=2,all!AT62*100,IF(all!$AQ$1=3,all!AV62,all!AX62)))","v":2.6531942972793985},{"$f":"IF(OR('Y2'!$W$1=6,('Y2'!$W$1=7)),\"\",'Y2'!AC63)","v":5.45},{"$f":"IF(all!$AP$3=1,all!AS62,IF(all!$AP$3=2,all!AU62*100,IF(all!$AP$3=3,all!AW62,all!AY62)))","v":4.8176520596149288},37,{"$f":"IF($AE70=1,VLOOKUP($F70,all!$E$14:$AD$553,3),\"\")","v":"ratio put /`--  itm-b (b185p+2s172.5p) (neutral)"},{"$f":"IF($AE70=1,VLOOKUP($F70,all!$E$14:$AD$553,4),\"\")","v":185},{"$f":"IF($AE70=1,VLOOKUP($F70,all!$E$14:$AD$553,5),\"\")","v":17.45},{"$f":"IF($AE70=1,VLOOKUP($F70,all!$E$14:$AD$553,6),\"\")","v":172.5},{"$f":"IF($AE70=1,VLOOKUP($F70,all!$E$14:$AD$553,7),\"\")","v":6.85},{"$f":"IF($AE70=1,VLOOKUP($F70,all!$E$14:$AD$553,8),\"\")","v":0},{"$f":"IF($AE70=1,VLOOKUP($F70,all!$E$14:$AD$553,9),\"\")","v":0},{"$f":"IF($AE70=1,VLOOKUP($F70,all!$E$14:$AD$553,10),\"\")","v":0},{"$f":"IF($AE70=1,VLOOKUP($F70,all!$E$14:$AD$553,11),\"\")","v":0},{"$f":"IF($AE70=1,VLOOKUP($F70,all!$E$14:$AD$553,12),\"\")","v":"unlim risk"},{"$f":"IF($AE70=1,VLOOKUP($F70,all!$E$14:$AD$553,13),\"\")","v":875},{"$f":"IF($AE70=1,VLOOKUP($F70,all!$E$14:$AD$553,14),\"\")","v":163.75},{"$f":"IF($AE70=1,VLOOKUP($F70,all!$E$14:$AD$553,15),\"\")","v":181.25},{"$f":"IF($AE70=1,VLOOKUP($F70,all!$E$14:$AD$553,16),\"\")","v":0.60103043444255455},{"$f":"IF($AE70=1,VLOOKUP($F70,all!$E$14:$AD$553,17),\"\")","v":"unlim risk"},{"$f":"IF($AE70=1,VLOOKUP($F70,all!$E$14:$AD$553,18),\"\")","v":"unlim risk"},{"$f":"IF($AE70=1,VLOOKUP($F70,all!$E$14:$AD$553,19),\"\")","v":3115},{"$f":"IF($AE70=1,VLOOKUP($F70,all!$E$14:$AD$553,20),\"\")","v":0.2808988764044944},{"$f":"IF($AE70=1,VLOOKUP($F70,all!$E$14:$AD$553,21),\"\")","v":3},{"$f":"IF($AE70=1,VLOOKUP($F70,all!$E$14:$AD$553,22),\"\")","v":4},{"$f":"IF($AE70=1,VLOOKUP($F70,all!$E$14:$AD$553,23),\"\")","v":0},{"$f":"IF($AE70=1,VLOOKUP($F70,all!$E$14:$AD$553,24),\"\")","v":0},{"$f":"IF($AE70=1,VLOOKUP($F70,all!$E$14:$AD$553,25),\"\")","v":"x"},null,{"$f":"COUNTIF(all!$E$14:$E$553,F70)","v":1},6,"sell under",{"$f":"AH17","v":8396},{"$f":"AI17","v":7556.4000000000005},6716.8000000000011,5877.2000000000007,5037.6000000000004,4198,3358.4000000000005,2518.8000000000015,1679.2000000000003,839.59999999999866,0,-839.59999999999866,-1679.2000000000003,-2518.8000000000015,-3358.4000000000005,-4197.9999999999991,-5037.6000000000004,-5877.2000000000016,-6716.8000000000011,-7556.4,-8396,null,null,null,null,null,null,3.5324168823058999E-2,22.189591152436293]
[{"$f":"IF(OR('Y2'!$W$1=6,('Y2'!$W$1=7)),\"\",'Y2'!AA64)","v":172.5},{"$f":"IF(OR('Y2'!$W$1=6,('Y2'!$W$1=7)),\"\",'Y2'!AB64)","v":2.21},{"$f":"IF(all!$AQ$1=1,all!AR63,IF(all!$AQ$1=2,all!AT63*100,IF(all!$AQ$1=3,all!AV63,all!AX63)))","v":1.7912926031122538},{"$f":"IF(OR('Y2'!$W$1=6,('Y2'!$W$1=7)),\"\",'Y2'!AC64)","v":6.85},{"$f":"IF(all!$AP$3=1,all!AS63,IF(all!$AP$3=2,all!AU63*100,IF(all!$AP$3=3,all!AW63,all!AY63)))","v":6.4544764363941738},38,{"$f":"IF($AE71=1,VLOOKUP($F71,all!$E$14:$AD$553,3),\"\")","v":"ratio put /`--  itm-b (b185p+2s170p) (neutral)"},{"$f":"IF($AE71=1,VLOOKUP($F71,all!$E$14:$AD$553,4),\"\")","v":185},{"$f":"IF($AE71=1,VLOOKUP($F71,all!$E$14:$AD$553,5),\"\")","v":17.45},{"$f":"IF($AE71=1,VLOOKUP($F71,all!$E$14:$AD$553,6),\"\")","v":170},{"$f":"IF($AE71=1,VLOOKUP($F71,all!$E$14:$AD$553,7),\"\")","v":5.45},{"$f":"IF($AE71=1,VLOOKUP($F71,all!$E$14:$AD$553,8),\"\")","v":0},{"$f":"IF($AE71=1,VLOOKUP($F71,all!$E$14:$AD$553,9),\"\")","v":0},{"$f":"IF($AE71=1,VLOOKUP($F71,all!$E$14:$AD$553,10),\"\")","v":0},{"$f":"IF($AE71=1,VLOOKUP($F71,all!$E$14:$AD$553,11),\"\")","v":0},{"$f":"IF($AE71=1,VLOOKUP($F71,all!$E$14:$AD$553,12),\"\")","v":"unlim risk"},{"$f":"IF($AE71=1,VLOOKUP($F71,all!$E$14:$AD$553,13),\"\")","v":845.00000000000011},{"$f":"IF($AE71=1,VLOOKUP($F71,all!$E$14:$AD$553,14),\"\")","v":161.55000000000001},{"$f":"IF($AE71=1,VLOOKUP($F71,all!$E$14:$AD$553,15),\"\")","v":178.45000000000002},{"$f":"IF($AE71=1,VLOOKUP($F71,all!$E$14:$AD$553,16),\"\")","v":0.63345829721027613},{"$f":"IF($AE71=1,VLOOKUP($F71,all!$E$14:$AD$553,17),\"\")","v":"unlim risk"},{"$f":"IF($AE71=1,VLOOKUP($F71,all!$E$14:$AD$553,18),\"\")","v":"unlim risk"},{"$f":"IF($AE71=1,VLOOKUP($F71,all!$E$14:$AD$553,19),\"\")","v":2835},{"$f":"IF($AE71=1,VLOOKUP($F71,all!$E$14:$AD$553,20),\"\")","v":0.29805996472663143},{"$f":"IF($AE71=1,VLOOKUP($F71,all!$E$14:$AD$553,21),\"\")","v":3},{"$f":"IF($AE71=1,VLOOKUP($F71,all!$E$14:$AD$553,22),\"\")","v":4},{"$f":"IF($AE71=1,VLOOKUP($F71,all!$E$14:$AD$553,23),\"\")","v":0},{"$f":"IF($AE71=1,VLOOKUP($F71,all!$E$14:$AD$553,24),\"\")","v":0},{"$f":"IF($AE71=1,VLOOKUP($F71,all!$E$14:$AD$553,25),\"\")","v":"x"},null,{"$f":"COUNTIF(all!$E$14:$E$553,F71)","v":1},{"$f":"AF18","v":1},"one",{"$f":"IF($AF$71=0,0,VLOOKUP($AF$71,$AF$65:$BB$70,AH116))","v":-17698.957641850833},{"$f":"IF($AF$71=0,0,VLOOKUP($AF$71,$AF$65:$BB$70,AI116))","v":-17697.615196884348},-17695.09500772291,-17690.747274710724,-17683.747377372198,-17673.104456635559,-17657.680893344008,-17636.219986803437,-17607.378818730704,-17569.763423111715,-17521.9637948989,-17462.586812283636,-17390.285711611014,-17303.785273477453,-17201.902317568969,-17083.561449469282,-16947.806256671891,-16793.806323266064,-16620.86053685809,-16428.397211672647,-16215.971561993194,null,null,null,null,null,null,1.705845234195047E-2,24.670051590931337]
[{"$f":"IF(OR('Y2'!$W$1=6,('Y2'!$W$1=7)),\"\",'Y2'!AA65)","v":175},{"$f":"IF(OR('Y2'!$W$1=6,('Y2'!$W$1=7)),\"\",'Y2'!AB65)","v":1.4},{"$f":"IF(all!$AQ$1=1,all!AR64,IF(all!$AQ$1=2,all!AT64*100,IF(all!$AQ$1=3,all!AV64,all!AX64)))","v":1.1605609180556016},{"$f":"IF(OR('Y2'!$W$1=6,('Y2'!$W$1=7)),\"\",'Y2'!AC65)","v":8.6},{"$f":"IF(all!$AP$3=1,all!AS64,IF(all!$AP$3=2,all!AU64*100,IF(all!$AP$3=3,all!AW64,all!AY64)))","v":8.3224709171568918},39,{"$f":"IF($AE72=1,VLOOKUP($F72,all!$E$14:$AD$553,3),\"\")","v":"ratio put /`--  itm-b (b185p+2s167.5p) (neutral)"},{"$f":"IF($AE72=1,VLOOKUP($F72,all!$E$14:$AD$553,4),\"\")","v":185},{"$f":"IF($AE72=1,VLOOKUP($F72,all!$E$14:$AD$553,5),\"\")","v":17.45},{"$f":"IF($AE72=1,VLOOKUP($F72,all!$E$14:$AD$553,6),\"\")","v":167.5},{"$f":"IF($AE72=1,VLOOKUP($F72,all!$E$14:$AD$553,7),\"\")","v":4.25},{"$f":"IF($AE72=1,VLOOKUP($F72,all!$E$14:$AD$553,8),\"\")","v":0},{"$f":"IF($AE72=1,VLOOKUP($F72,all!$E$14:$AD$553,9),\"\")","v":0},{"$f":"IF($AE72=1,VLOOKUP($F72,all!$E$14:$AD$553,10),\"\")","v":0},{"$f":"IF($AE72=1,VLOOKUP($F72,all!$E$14:$AD$553,11),\"\")","v":0},{"$f":"IF($AE72=1,VLOOKUP($F72,all!$E$14:$AD$553,12),\"\")","v":"unlim risk"},{"$f":"IF($AE72=1,VLOOKUP($F72,all!$E$14:$AD$553,13),\"\")","v":855.00000000000011},{"$f":"IF($AE72=1,VLOOKUP($F72,all!$E$14:$AD$553,14),\"\")","v":158.94999999999999},{"$f":"IF($AE72=1,VLOOKUP($F72,all!$E$14:$AD$553,15),\"\")","v":176.05},{"$f":"IF($AE72=1,VLOOKUP($F72,all!$E$14:$AD$553,16),\"\")","v":0.65513961761585759},{"$f":"IF($AE72=1,VLOOKUP($F72,all!$E$14:$AD$553,17),\"\")","v":"unlim risk"},{"$f":"IF($AE72=1,VLOOKUP($F72,all!$E$14:$AD$553,18),\"\")","v":"unlim risk"},{"$f":"IF($AE72=1,VLOOKUP($F72,all!$E$14:$AD$553,19),\"\")","v":2595},{"$f":"IF($AE72=1,VLOOKUP($F72,all!$E$14:$AD$553,20),\"\")","v":0.32947976878612723},{"$f":"IF($AE72=1,VLOOKUP($F72,all!$E$14:$AD$553,21),\"\")","v":3},{"$f":"IF($AE72=1,VLOOKUP($F72,all!$E$14:$AD$553,22),\"\")","v":4},{"$f":"IF($AE72=1,VLOOKUP($F72,all!$E$14:$AD$553,23),\"\")","v":0},{"$f":"IF($AE72=1,VLOOKUP($F72,all!$E$14:$AD$553,24),\"\")","v":0},{"$f":"IF($AE72=1,VLOOKUP($F72,all!$E$14:$AD$553,25),\"\")","v":"x"},null,{"$f":"COUNTIF(all!$E$14:$E$553,F72)","v":1},null,null,null,null,null,null,null,null,null,null,null,null,null,null,null,null,null,null,null,null,null,null,null,null,null,null,null,null,null,7.9148225280022411E-3,27.159634121462574]
[{"$f":"IF(OR('Y2'!$W$1=6,('Y2'!$W$1=7)),\"\",'Y2'!AA66)","v":177.5},{"$f":"IF(OR('Y2'!$W$1=6,('Y2'!$W$1=7)),\"\",'Y2'!AB66)","v":0.84},{"$f":"IF(all!$AQ$1=1,all!AR65,IF(all!$AQ$1=2,all!AT65*100,IF(all!$AQ$1=3,all!AV65,all!AX65)))","v":0.72096128615324773},{"$f":"IF(OR('Y2'!$W$1=6,('Y2'!$W$1=7)),\"\",'Y2'!AC66)","v":11},{"$f":"IF(all!$AP$3=1,all!AS65,IF(all!$AP$3=2,all!AU65*100,IF(all!$AP$3=3,all!AW65,all!AY65)))","v":10.381597438811696},40,{"$f":"IF($AE73=1,VLOOKUP($F73,all!$E$14:$AD$553,3),\"\")","v":"ratio put /`--  itm-b (b182.5p+2s172.5p) (neutral)"},{"$f":"IF($AE73=1,VLOOKUP($F73,all!$E$14:$AD$553,4),\"\")","v":182.5},{"$f":"IF($AE73=1,VLOOKUP($F73,all!$E$14:$AD$553,5),\"\")","v":15.05},{"$f":"IF($AE73=1,VLOOKUP($F73,all!$E$14:$AD$553,6),\"\")","v":172.5},{"$f":"IF($AE73=1,VLOOKUP($F73,all!$E$14:$AD$553,7),\"\")","v":6.85},{"$f":"IF($AE73=1,VLOOKUP($F73,all!$E$14:$AD$553,8),\"\")","v":0},{"$f":"IF($AE73=1,VLOOKUP($F73,all!$E$14:$AD$553,9),\"\")","v":0},{"$f":"IF($AE73=1,VLOOKUP($F73,all!$E$14:$AD$553,10),\"\")","v":0},{"$f":"IF($AE73=1,VLOOKUP($F73,all!$E$14:$AD$553,11),\"\")","v":0},{"$f":"IF($AE73=1,VLOOKUP($F73,all!$E$14:$AD$553,12),\"\")","v":"unlim risk"},{"$f":"IF($AE73=1,VLOOKUP($F73,all!$E$14:$AD$553,13),\"\")","v":864.99999999999989},{"$f":"IF($AE73=1,VLOOKUP($F73,all!$E$14:$AD$553,14),\"\")","v":163.85000000000002},{"$f":"IF($AE73=1,VLOOKUP($F73,all!$E$14:$AD$553,15),\"\")","v":181.14999999999998},{"$f":"IF($AE73=1,VLOOKUP($F73,all!$E$14:$AD$553,16),\"\")","v":0.59546158801224269},{"$f":"IF($AE73=1,VLOOKUP($F73,all!$E$14:$AD$553,17),\"\")","v":"unlim risk"},{"$f":"IF($AE73=1,VLOOKUP($F73,all!$E$14:$AD$553,18),\"\")","v":"unlim risk"},{"$f":"IF($AE73=1,VLOOKUP($F73,all!$E$14:$AD$553,19),\"\")","v":2875},{"$f":"IF($AE73=1,VLOOKUP($F73,all!$E$14:$AD$553,20),\"\")","v":0.30086956521739128},{"$f":"IF($AE73=1,VLOOKUP($F73,all!$E$14:$AD$553,21),\"\")","v":3},{"$f":"IF($AE73=1,VLOOKUP($F73,all!$E$14:$AD$553,22),\"\")","v":4},{"$f":"IF($AE73=1,VLOOKUP($F73,all!$E$14:$AD$553,23),\"\")","v":0},{"$f":"IF($AE73=1,VLOOKUP($F73,all!$E$14:$AD$553,24),\"\")","v":0},{"$f":"IF($AE73=1,VLOOKUP($F73,all!$E$14:$AD$553,25),\"\")","v":"x"},null,{"$f":"COUNTIF(all!$E$14:$E$553,F73)","v":1},1,"buy call",{"$f":"IF($K$5=\"\",0,$H$5*$J$2*(PB(\"C\",AH$64+0.00001,$J$5,MAX($I$5-$AL$63,0.00001)/365,$C$6,$D$6,$M$5)-$K$5))","v":-16389.316176237411},{"$f":"IF($K$5=\"\",0,$H$5*$J$2*(PB(\"C\",AI$64+0.00001,$J$5,MAX($I$5-$AL$63,0.00001)/365,$C$6,$D$6,$M$5)-$K$5))","v":-16388.400763928705},-16386.644834213846,-16383.555492099194,-16378.491190970402,-16370.662220619579,-16359.140611020828,-16342.877890733098,-16320.728623123017,-16291.477511029103,-16253.868001109171,-16206.63062435446,-16148.509689889042,-16078.287340747749,-15994.804341675415,-15896.977277756443,-15783.812090162002,-15654.41406179321,-15507.99449670672,-15343.874421160166,-15161.485679939335,null,null,null,null,null,null,3.5315437823432716E-3,29.65397700853714]
[{"$f":"IF(OR('Y2'!$W$1=6,('Y2'!$W$1=7)),\"\",'Y2'!AA67)","v":180},{"$f":"IF(OR('Y2'!$W$1=6,('Y2'!$W$1=7)),\"\",'Y2'!AB67)","v":0.49},{"$f":"IF(all!$AQ$1=1,all!AR66,IF(all!$AQ$1=2,all!AT66*100,IF(all!$AQ$1=3,all!AV66,all!AX66)))","v":0.42924785852553882},{"$f":"IF(OR('Y2'!$W$1=6,('Y2'!$W$1=7)),\"\",'Y2'!AC67)","v":13.05},{"$f":"IF(all!$AP$3=1,all!AS66,IF(all!$AP$3=2,all!AU66*100,IF(all!$AP$3=3,all!AW66,all!AY66)))","v":12.588610165225987},41,{"$f":"IF($AE74=1,VLOOKUP($F74,all!$E$14:$AD$553,3),\"\")","v":"ratio put /`--  itm-b (b182.5p+2s170p) (neutral)"},{"$f":"IF($AE74=1,VLOOKUP($F74,all!$E$14:$AD$553,4),\"\")","v":182.5},{"$f":"IF($AE74=1,VLOOKUP($F74,all!$E$14:$AD$553,5),\"\")","v":15.05},{"$f":"IF($AE74=1,VLOOKUP($F74,all!$E$14:$AD$553,6),\"\")","v":170},{"$f":"IF($AE74=1,VLOOKUP($F74,all!$E$14:$AD$553,7),\"\")","v":5.45},{"$f":"IF($AE74=1,VLOOKUP($F74,all!$E$14:$AD$553,8),\"\")","v":0},{"$f":"IF($AE74=1,VLOOKUP($F74,all!$E$14:$AD$553,9),\"\")","v":0},{"$f":"IF($AE74=1,VLOOKUP($F74,all!$E$14:$AD$553,10),\"\")","v":0},{"$f":"IF($AE74=1,VLOOKUP($F74,all!$E$14:$AD$553,11),\"\")","v":0},{"$f":"IF($AE74=1,VLOOKUP($F74,all!$E$14:$AD$553,12),\"\")","v":"unlim risk"},{"$f":"IF($AE74=1,VLOOKUP($F74,all!$E$14:$AD$553,13),\"\")","v":835},{"$f":"IF($AE74=1,VLOOKUP($F74,all!$E$14:$AD$553,14),\"\")","v":161.65000000000003},{"$f":"IF($AE74=1,VLOOKUP($F74,all!$E$14:$AD$553,15),\"\")","v":178.35},{"$f":"IF($AE74=1,VLOOKUP($F74,all!$E$14:$AD$553,16),\"\")","v":0.62769623704331101},{"$f":"IF($AE74=1,VLOOKUP($F74,all!$E$14:$AD$553,17),\"\")","v":"unlim risk"},{"$f":"IF($AE74=1,VLOOKUP($F74,all!$E$14:$AD$553,18),\"\")","v":"unlim risk"},{"$f":"IF($AE74=1,VLOOKUP($F74,all!$E$14:$AD$553,19),\"\")","v":2595.0000000000005},{"$f":"IF($AE74=1,VLOOKUP($F74,all!$E$14:$AD$553,20),\"\")","v":0.32177263969171477},{"$f":"IF($AE74=1,VLOOKUP($F74,all!$E$14:$AD$553,21),\"\")","v":3},{"$f":"IF($AE74=1,VLOOKUP($F74,all!$E$14:$AD$553,22),\"\")","v":4},{"$f":"IF($AE74=1,VLOOKUP($F74,all!$E$14:$AD$553,23),\"\")","v":0},{"$f":"IF($AE74=1,VLOOKUP($F74,all!$E$14:$AD$553,24),\"\")","v":0},{"$f":"IF($AE74=1,VLOOKUP($F74,all!$E$14:$AD$553,25),\"\")","v":"x"},null,{"$f":"COUNTIF(all!$E$14:$E$553,F74)","v":1},2,"sell call",{"$f":"-AH73","v":16389.316176237411},{"$f":"-AI73","v":16388.400763928705},16386.644834213846,16383.555492099194,16378.491190970402,16370.662220619579,16359.140611020828,16342.877890733098,16320.728623123017,16291.477511029103,16253.868001109171,16206.63062435446,16148.509689889042,16078.287340747749,15994.804341675415,15896.977277756443,15783.812090162002,15654.41406179321,15507.99449670672,15343.874421160166,15161.485679939335,null,null,null,null,null,null,1.5167879838600545E-3,32.150688413452286]
[{"$f":"IF(OR('Y2'!$W$1=6,('Y2'!$W$1=7)),\"\",'Y2'!AA68)","v":182.5},{"$f":"IF(OR('Y2'!$W$1=6,('Y2'!$W$1=7)),\"\",'Y2'!AB68)","v":0.28000000000000003},{"$f":"IF(all!$AQ$1=1,all!AR67,IF(all!$AQ$1=2,all!AT67*100,IF(all!$AQ$1=3,all!AV67,all!AX67)))","v":0.24491065469218576},{"$f":"IF(OR('Y2'!$W$1=6,('Y2'!$W$1=7)),\"\",'Y2'!AC68)","v":15.05},{"$f":"IF(all!$AP$3=1,all!AS67,IF(all!$AP$3=2,all!AU67*100,IF(all!$AP$3=3,all!AW67,all!AY67)))","v":14.902999144444635},42,{"$f":"IF($AE75=1,VLOOKUP($F75,all!$E$14:$AD$553,3),\"\")","v":"ratio put /`--  itm-b (b182.5p+2s167.5p) (neutral)"},{"$f":"IF($AE75=1,VLOOKUP($F75,all!$E$14:$AD$553,4),\"\")","v":182.5},{"$f":"IF($AE75=1,VLOOKUP($F75,all!$E$14:$AD$553,5),\"\")","v":15.05},{"$f":"IF($AE75=1,VLOOKUP($F75,all!$E$14:$AD$553,6),\"\")","v":167.5},{"$f":"IF($AE75=1,VLOOKUP($F75,all!$E$14:$AD$553,7),\"\")","v":4.25},{"$f":"IF($AE75=1,VLOOKUP($F75,all!$E$14:$AD$553,8),\"\")","v":0},{"$f":"IF($AE75=1,VLOOKUP($F75,all!$E$14:$AD$553,9),\"\")","v":0},{"$f":"IF($AE75=1,VLOOKUP($F75,all!$E$14:$AD$553,10),\"\")","v":0},{"$f":"IF($AE75=1,VLOOKUP($F75,all!$E$14:$AD$553,11),\"\")","v":0},{"$f":"IF($AE75=1,VLOOKUP($F75,all!$E$14:$AD$553,12),\"\")","v":"unlim risk"},{"$f":"IF($AE75=1,VLOOKUP($F75,all!$E$14:$AD$553,13),\"\")","v":844.99999999999989},{"$f":"IF($AE75=1,VLOOKUP($F75,all!$E$14:$AD$553,14),\"\")","v":159.05000000000001},{"$f":"IF($AE75=1,VLOOKUP($F75,all!$E$14:$AD$553,15),\"\")","v":175.95},{"$f":"IF($AE75=1,VLOOKUP($F75,all!$E$14:$AD$553,16),\"\")","v":0.6494770016777951},{"$f":"IF($AE75=1,VLOOKUP($F75,all!$E$14:$AD$553,17),\"\")","v":"unlim risk"},{"$f":"IF($AE75=1,VLOOKUP($F75,all!$E$14:$AD$553,18),\"\")","v":"unlim risk"},{"$f":"IF($AE75=1,VLOOKUP($F75,all!$E$14:$AD$553,19),\"\")","v":2355},{"$f":"IF($AE75=1,VLOOKUP($F75,all!$E$14:$AD$553,20),\"\")","v":0.35881104033970274},{"$f":"IF($AE75=1,VLOOKUP($F75,all!$E$14:$AD$553,21),\"\")","v":3},{"$f":"IF($AE75=1,VLOOKUP($F75,all!$E$14:$AD$553,22),\"\")","v":4},{"$f":"IF($AE75=1,VLOOKUP($F75,all!$E$14:$AD$553,23),\"\")","v":0},{"$f":"IF($AE75=1,VLOOKUP($F75,all!$E$14:$AD$553,24),\"\")","v":0},{"$f":"IF($AE75=1,VLOOKUP($F75,all!$E$14:$AD$553,25),\"\")","v":"x"},null,{"$f":"COUNTIF(all!$E$14:$E$553,F75)","v":1},3,"buy put",{"$f":"IF($K$5=\"\",0,$H$5*$J$2*(PB(\"P\",AH$64+0.00001,$J$5,MAX($I$5-$AL$63,0.00001)/365,$C$6,$D$6,$M$5)-$K$5))","v":14203.364893254226},{"$f":"IF($K$5=\"\",0,$H$5*$J$2*(PB(\"P\",AI$64+0.00001,$J$5,MAX($I$5-$AL$63,0.00001)/365,$C$6,$D$6,$M$5)-$K$5))","v":13365.535698634258},12528.547021420442,11692.891756606419,10859.21145080653,10028.295814228679,9201.0728168987498,8378.5909302578038,7561.9955909392102,6752.5020961044393,5951.3669990956969,5159.8597689217286,4379.2360964584759,3610.7138386710858,2855.4522308147452,2114.5346878050418,1388.9552684708037,679.60868991091559,-12.716351931268832,-687.3408833133908,-1343.6967490212423,null,null,null,null,null,null,2.5055343034670677E-4,37.146874504288775]
[{"$f":"IF(OR('Y2'!$W$1=6,('Y2'!$W$1=7)),\"\",'Y2'!AA69)","v":185},{"$f":"IF(OR('Y2'!$W$1=6,('Y2'!$W$1=7)),\"\",'Y2'!AB69)","v":0.15},{"$f":"IF(all!$AQ$1=1,all!AR68,IF(all!$AQ$1=2,all!AT68*100,IF(all!$AQ$1=3,all!AV68,all!AX68)))","v":0.13393034202680809},{"$f":"IF(OR('Y2'!$W$1=6,('Y2'!$W$1=7)),\"\",'Y2'!AC69)","v":17.45},{"$f":"IF(all!$AP$3=1,all!AS68,IF(all!$AP$3=2,all!AU68*100,IF(all!$AP$3=3,all!AW68,all!AY68)))","v":17.290744993426728},43,{"$f":"IF($AE76=1,VLOOKUP($F76,all!$E$14:$AD$553,3),\"\")","v":"ratio put /`--  itm-b (b180p+2s172.5p) (netural)"},{"$f":"IF($AE76=1,VLOOKUP($F76,all!$E$14:$AD$553,4),\"\")","v":180},{"$f":"IF($AE76=1,VLOOKUP($F76,all!$E$14:$AD$553,5),\"\")","v":13.05},{"$f":"IF($AE76=1,VLOOKUP($F76,all!$E$14:$AD$553,6),\"\")","v":172.5},{"$f":"IF($AE76=1,VLOOKUP($F76,all!$E$14:$AD$553,7),\"\")","v":6.85},{"$f":"IF($AE76=1,VLOOKUP($F76,all!$E$14:$AD$553,8),\"\")","v":0},{"$f":"IF($AE76=1,VLOOKUP($F76,all!$E$14:$AD$553,9),\"\")","v":0},{"$f":"IF($AE76=1,VLOOKUP($F76,all!$E$14:$AD$553,10),\"\")","v":0},{"$f":"IF($AE76=1,VLOOKUP($F76,all!$E$14:$AD$553,11),\"\")","v":0},{"$f":"IF($AE76=1,VLOOKUP($F76,all!$E$14:$AD$553,12),\"\")","v":"unlim risk"},{"$f":"IF($AE76=1,VLOOKUP($F76,all!$E$14:$AD$553,13),\"\")","v":814.99999999999989},{"$f":"IF($AE76=1,VLOOKUP($F76,all!$E$14:$AD$553,14),\"\")","v":164.35000000000002},{"$f":"IF($AE76=1,VLOOKUP($F76,all!$E$14:$AD$553,15),\"\")","v":1679.1999999999998},{"$f":"IF($AE76=1,VLOOKUP($F76,all!$E$14:$AD$553,16),\"\")","v":0.65480102865569345},{"$f":"IF($AE76=1,VLOOKUP($F76,all!$E$14:$AD$553,17),\"\")","v":"unlim risk"},{"$f":"IF($AE76=1,VLOOKUP($F76,all!$E$14:$AD$553,18),\"\")","v":"unlim risk"},{"$f":"IF($AE76=1,VLOOKUP($F76,all!$E$14:$AD$553,19),\"\")","v":2675},{"$f":"IF($AE76=1,VLOOKUP($F76,all!$E$14:$AD$553,20),\"\")","v":0.30467289719626162},{"$f":"IF($AE76=1,VLOOKUP($F76,all!$E$14:$AD$553,21),\"\")","v":3},{"$f":"IF($AE76=1,VLOOKUP($F76,all!$E$14:$AD$553,22),\"\")","v":4},{"$f":"IF($AE76=1,VLOOKUP($F76,all!$E$14:$AD$553,23),\"\")","v":0},{"$f":"IF($AE76=1,VLOOKUP($F76,all!$E$14:$AD$553,24),\"\")","v":0},{"$f":"IF($AE76=1,VLOOKUP($F76,all!$E$14:$AD$553,25),\"\")","v":"x"},null,{"$f":"COUNTIF(all!$E$14:$E$553,F76)","v":1},4,"sell put",{"$f":"-AH75","v":-14203.364893254226},{"$f":"-AI75","v":-13365.535698634258},-12528.547021420442,-11692.891756606419,-10859.21145080653,-10028.295814228679,-9201.0728168987498,-8378.5909302578038,-7561.9955909392102,-6752.5020961044393,-5951.3669990956969,-5159.8597689217286,-4379.2360964584759,-3610.7138386710858,-2855.4522308147452,-2114.5346878050418,-1388.9552684708037,-679.60868991091559,12.716351931268832,687.3408833133908,1343.6967490212423,null,null,null,null,null,null,3.5970305481551699E-5,42.144112245829206]
[{"$f":"IF(OR('Y2'!$W$1=6,('Y2'!$W$1=7)),\"\",'Y2'!AA70)","v":187.5},{"$f":"IF(OR('Y2'!$W$1=6,('Y2'!$W$1=7)),\"\",'Y2'!AB70)","v":0.1},{"$f":"IF(all!$AQ$1=1,all!AR69,IF(all!$AQ$1=2,all!AT69*100,IF(all!$AQ$1=3,all!AV69,all!AX69)))","v":7.0224132615857915E-2},{"$f":"IF(OR('Y2'!$W$1=6,('Y2'!$W$1=7)),\"\",'Y2'!AC70)","v":20.85},{"$f":"IF(all!$AP$3=1,all!AS69,IF(all!$AP$3=2,all!AU69*100,IF(all!$AP$3=3,all!AW69,all!AY69)))","v":19.725764937686222},44,{"$f":"IF($AE77=1,VLOOKUP($F77,all!$E$14:$AD$553,3),\"\")","v":"ratio put /`--  itm-b (b180p+2s170p) (netural)"},{"$f":"IF($AE77=1,VLOOKUP($F77,all!$E$14:$AD$553,4),\"\")","v":180},{"$f":"IF($AE77=1,VLOOKUP($F77,all!$E$14:$AD$553,5),\"\")","v":13.05},{"$f":"IF($AE77=1,VLOOKUP($F77,all!$E$14:$AD$553,6),\"\")","v":170},{"$f":"IF($AE77=1,VLOOKUP($F77,all!$E$14:$AD$553,7),\"\")","v":5.45},{"$f":"IF($AE77=1,VLOOKUP($F77,all!$E$14:$AD$553,8),\"\")","v":0},{"$f":"IF($AE77=1,VLOOKUP($F77,all!$E$14:$AD$553,9),\"\")","v":0},{"$f":"IF($AE77=1,VLOOKUP($F77,all!$E$14:$AD$553,10),\"\")","v":0},{"$f":"IF($AE77=1,VLOOKUP($F77,all!$E$14:$AD$553,11),\"\")","v":0},{"$f":"IF($AE77=1,VLOOKUP($F77,all!$E$14:$AD$553,12),\"\")","v":"unlim risk"},{"$f":"IF($AE77=1,VLOOKUP($F77,all!$E$14:$AD$553,13),\"\")","v":785},{"$f":"IF($AE77=1,VLOOKUP($F77,all!$E$14:$AD$553,14),\"\")","v":162.15000000000003},{"$f":"IF($AE77=1,VLOOKUP($F77,all!$E$14:$AD$553,15),\"\")","v":177.85},{"$f":"IF($AE77=1,VLOOKUP($F77,all!$E$14:$AD$553,16),\"\")","v":0.59808470935951297},{"$f":"IF($AE77=1,VLOOKUP($F77,all!$E$14:$AD$553,17),\"\")","v":"unlim risk"},{"$f":"IF($AE77=1,VLOOKUP($F77,all!$E$14:$AD$553,18),\"\")","v":"unlim risk"},{"$f":"IF($AE77=1,VLOOKUP($F77,all!$E$14:$AD$553,19),\"\")","v":2395.0000000000005},{"$f":"IF($AE77=1,VLOOKUP($F77,all!$E$14:$AD$553,20),\"\")","v":0.32776617954070975},{"$f":"IF($AE77=1,VLOOKUP($F77,all!$E$14:$AD$553,21),\"\")","v":3},{"$f":"IF($AE77=1,VLOOKUP($F77,all!$E$14:$AD$553,22),\"\")","v":4},{"$f":"IF($AE77=1,VLOOKUP($F77,all!$E$14:$AD$553,23),\"\")","v":0},{"$f":"IF($AE77=1,VLOOKUP($F77,all!$E$14:$AD$553,24),\"\")","v":0},{"$f":"IF($AE77=1,VLOOKUP($F77,all!$E$14:$AD$553,25),\"\")","v":"x"},null,{"$f":"COUNTIF(all!$E$14:$E$553,F77)","v":1},5,"buy under",{"$f":"AH24","v":-8396},{"$f":"AI24","v":-7556.4000000000005},-6716.8000000000011,-5877.2000000000007,-5037.6000000000004,-4198,-3358.4000000000005,-2518.8000000000015,-1679.2000000000003,-839.59999999999866,0,839.59999999999866,1679.2000000000003,2518.8000000000015,3358.4000000000005,4197.9999999999991,5037.6000000000004,5877.2000000000016,6716.8000000000011,7556.4,8396,null,null,null,null,null,null,4.5255750752718144E-6,47.141533126608152]
[{"$f":"IF(OR('Y2'!$W$1=6,('Y2'!$W$1=7)),\"\",'Y2'!AA71)","v":190},{"$f":"IF(OR('Y2'!$W$1=6,('Y2'!$W$1=7)),\"\",'Y2'!AB71)","v":7.0000000000000007E-2},{"$f":"IF(all!$AQ$1=1,all!AR70,IF(all!$AQ$1=2,all!AT70*100,IF(all!$AQ$1=3,all!AV70,all!AX70)))","v":3.532416713605202E-2},{"$f":"IF(OR('Y2'!$W$1=6,('Y2'!$W$1=7)),\"\",'Y2'!AC71)","v":22.91},{"$f":"IF(all!$AP$3=1,all!AS70,IF(all!$AP$3=2,all!AU70*100,IF(all!$AP$3=3,all!AW70,all!AY70)))","v":22.189591148520748},45,{"$f":"IF($AE78=1,VLOOKUP($F78,all!$E$14:$AD$553,3),\"\")","v":"ratio put /`--  itm-b (b180p+2s167.5p) (netural)"},{"$f":"IF($AE78=1,VLOOKUP($F78,all!$E$14:$AD$553,4),\"\")","v":180},{"$f":"IF($AE78=1,VLOOKUP($F78,all!$E$14:$AD$553,5),\"\")","v":13.05},{"$f":"IF($AE78=1,VLOOKUP($F78,all!$E$14:$AD$553,6),\"\")","v":167.5},{"$f":"IF($AE78=1,VLOOKUP($F78,all!$E$14:$AD$553,7),\"\")","v":4.25},{"$f":"IF($AE78=1,VLOOKUP($F78,all!$E$14:$AD$553,8),\"\")","v":0},{"$f":"IF($AE78=1,VLOOKUP($F78,all!$E$14:$AD$553,9),\"\")","v":0},{"$f":"IF($AE78=1,VLOOKUP($F78,all!$E$14:$AD$553,10),\"\")","v":0},{"$f":"IF($AE78=1,VLOOKUP($F78,all!$E$14:$AD$553,11),\"\")","v":0},{"$f":"IF($AE78=1,VLOOKUP($F78,all!$E$14:$AD$553,12),\"\")","v":"unlim risk"},{"$f":"IF($AE78=1,VLOOKUP($F78,all!$E$14:$AD$553,13),\"\")","v":794.99999999999989},{"$f":"IF($AE78=1,VLOOKUP($F78,all!$E$14:$AD$553,14),\"\")","v":159.55000000000001},{"$f":"IF($AE78=1,VLOOKUP($F78,all!$E$14:$AD$553,15),\"\")","v":175.45},{"$f":"IF($AE78=1,VLOOKUP($F78,all!$E$14:$AD$553,16),\"\")","v":0.6202797418300402},{"$f":"IF($AE78=1,VLOOKUP($F78,all!$E$14:$AD$553,17),\"\")","v":"unlim risk"},{"$f":"IF($AE78=1,VLOOKUP($F78,all!$E$14:$AD$553,18),\"\")","v":"unlim risk"},{"$f":"IF($AE78=1,VLOOKUP($F78,all!$E$14:$AD$553,19),\"\")","v":2155},{"$f":"IF($AE78=1,VLOOKUP($F78,all!$E$14:$AD$553,20),\"\")","v":0.36890951276102085},{"$f":"IF($AE78=1,VLOOKUP($F78,all!$E$14:$AD$553,21),\"\")","v":3},{"$f":"IF($AE78=1,VLOOKUP($F78,all!$E$14:$AD$553,22),\"\")","v":4},{"$f":"IF($AE78=1,VLOOKUP($F78,all!$E$14:$AD$553,23),\"\")","v":0},{"$f":"IF($AE78=1,VLOOKUP($F78,all!$E$14:$AD$553,24),\"\")","v":0},{"$f":"IF($AE78=1,VLOOKUP($F78,all!$E$14:$AD$553,25),\"\")","v":"x"},null,{"$f":"COUNTIF(all!$E$14:$E$553,F78)","v":1},6,"sell under",{"$f":"AH25","v":8396},{"$f":"AI25","v":7556.4000000000005},6716.8000000000011,5877.2000000000007,5037.6000000000004,4198,3358.4000000000005,2518.8000000000015,1679.2000000000003,839.59999999999866,0,-839.59999999999866,-1679.2000000000003,-2518.8000000000015,-3358.4000000000005,-4197.9999999999991,-5037.6000000000004,-5877.2000000000016,-6716.8000000000011,-7556.4,-8396,null,null,null,null,null,null,5.0309203481705561E-7,52.138981431823765]
[{"$f":"IF(OR('Y2'!$W$1=6,('Y2'!$W$1=7)),\"\",'Y2'!AA72)","v":192.5},{"$f":"IF(OR('Y2'!$W$1=6,('Y2'!$W$1=7)),\"\",'Y2'!AB72)","v":0.05},{"$f":"IF(all!$AQ$1=1,all!AR71,IF(all!$AQ$1=2,all!AT71*100,IF(all!$AQ$1=3,all!AV71,all!AX71)))","v":1.7058454232202869E-2},{"$f":"IF(OR('Y2'!$W$1=6,('Y2'!$W$1=7)),\"\",'Y2'!AC72)","v":25.45},{"$f":"IF(all!$AP$3=1,all!AS71,IF(all!$AP$3=2,all!AU71*100,IF(all!$AP$3=3,all!AW71,all!AY71)))","v":24.670051587226055},46,{"$f":"IF($AE79=1,VLOOKUP($F79,all!$E$14:$AD$553,3),\"\")","v":"ratio put /`--  itm-b (b177.5p+2s172.5p) (neutral)"},{"$f":"IF($AE79=1,VLOOKUP($F79,all!$E$14:$AD$553,4),\"\")","v":177.5},{"$f":"IF($AE79=1,VLOOKUP($F79,all!$E$14:$AD$553,5),\"\")","v":11},{"$f":"IF($AE79=1,VLOOKUP($F79,all!$E$14:$AD$553,6),\"\")","v":172.5},{"$f":"IF($AE79=1,VLOOKUP($F79,all!$E$14:$AD$553,7),\"\")","v":6.85},{"$f":"IF($AE79=1,VLOOKUP($F79,all!$E$14:$AD$553,8),\"\")","v":0},{"$f":"IF($AE79=1,VLOOKUP($F79,all!$E$14:$AD$553,9),\"\")","v":0},{"$f":"IF($AE79=1,VLOOKUP($F79,all!$E$14:$AD$553,10),\"\")","v":0},{"$f":"IF($AE79=1,VLOOKUP($F79,all!$E$14:$AD$553,11),\"\")","v":0},{"$f":"IF($AE79=1,VLOOKUP($F79,all!$E$14:$AD$553,12),\"\")","v":"unlim risk"},{"$f":"IF($AE79=1,VLOOKUP($F79,all!$E$14:$AD$553,13),\"\")","v":769.99999999999989},{"$f":"IF($AE79=1,VLOOKUP($F79,all!$E$14:$AD$553,14),\"\")","v":164.8},{"$f":"IF($AE79=1,VLOOKUP($F79,all!$E$14:$AD$553,15),\"\")","v":1679.1999999999998},{"$f":"IF($AE79=1,VLOOKUP($F79,all!$E$14:$AD$553,16),\"\")","v":0.63594220343854158},{"$f":"IF($AE79=1,VLOOKUP($F79,all!$E$14:$AD$553,17),\"\")","v":"unlim risk"},{"$f":"IF($AE79=1,VLOOKUP($F79,all!$E$14:$AD$553,18),\"\")","v":"unlim risk"},{"$f":"IF($AE79=1,VLOOKUP($F79,all!$E$14:$AD$553,19),\"\")","v":2470},{"$f":"IF($AE79=1,VLOOKUP($F79,all!$E$14:$AD$553,20),\"\")","v":0.31174089068825905},{"$f":"IF($AE79=1,VLOOKUP($F79,all!$E$14:$AD$553,21),\"\")","v":3},{"$f":"IF($AE79=1,VLOOKUP($F79,all!$E$14:$AD$553,22),\"\")","v":4},{"$f":"IF($AE79=1,VLOOKUP($F79,all!$E$14:$AD$553,23),\"\")","v":0},{"$f":"IF($AE79=1,VLOOKUP($F79,all!$E$14:$AD$553,24),\"\")","v":0},{"$f":"IF($AE79=1,VLOOKUP($F79,all!$E$14:$AD$553,25),\"\")","v":"x"},null,{"$f":"COUNTIF(all!$E$14:$E$553,F79)","v":1},{"$f":"AF26","v":2},"two",{"$f":"IF($AF$79=0,0,VLOOKUP($AF$79,$AF$73:$BB$78,AH116))","v":16389.316176237411},{"$f":"IF($AF$79=0,0,VLOOKUP($AF$79,$AF$73:$BB$78,AI116))","v":16388.400763928705},16386.644834213846,16383.555492099194,16378.491190970402,16370.662220619579,16359.140611020828,16342.877890733098,16320.728623123017,16291.477511029103,16253.868001109171,16206.63062435446,16148.509689889042,16078.287340747749,15994.804341675415,15896.977277756443,15783.812090162002,15654.41406179321,15507.99449670672,15343.874421160166,15161.485679939335,null,null,null,null,null,null,4.9808422895208145E-8,57.13643330148625]
[{"$f":"IF(OR('Y2'!$W$1=6,('Y2'!$W$1=7)),\"\",'Y2'!AA73)","v":195},{"$f":"IF(OR('Y2'!$W$1=6,('Y2'!$W$1=7)),\"\",'Y2'!AB73)","v":0.04},{"$f":"IF(all!$AQ$1=1,all!AR72,IF(all!$AQ$1=2,all!AT72*100,IF(all!$AQ$1=3,all!AV72,all!AX72)))","v":7.9148220244192324E-3},{"$f":"IF(OR('Y2'!$W$1=6,('Y2'!$W$1=7)),\"\",'Y2'!AC73)","v":27.8},{"$f":"IF(all!$AP$3=1,all!AS72,IF(all!$AP$3=2,all!AU72*100,IF(all!$AP$3=3,all!AW72,all!AY72)))","v":27.159634125648296},47,{"$f":"IF($AE80=1,VLOOKUP($F80,all!$E$14:$AD$553,3),\"\")","v":"ratio put /`--  itm-b (b177.5p+2s170p) (neutral)"},{"$f":"IF($AE80=1,VLOOKUP($F80,all!$E$14:$AD$553,4),\"\")","v":177.5},{"$f":"IF($AE80=1,VLOOKUP($F80,all!$E$14:$AD$553,5),\"\")","v":11},{"$f":"IF($AE80=1,VLOOKUP($F80,all!$E$14:$AD$553,6),\"\")","v":170},{"$f":"IF($AE80=1,VLOOKUP($F80,all!$E$14:$AD$553,7),\"\")","v":5.45},{"$f":"IF($AE80=1,VLOOKUP($F80,all!$E$14:$AD$553,8),\"\")","v":0},{"$f":"IF($AE80=1,VLOOKUP($F80,all!$E$14:$AD$553,9),\"\")","v":0},{"$f":"IF($AE80=1,VLOOKUP($F80,all!$E$14:$AD$553,10),\"\")","v":0},{"$f":"IF($AE80=1,VLOOKUP($F80,all!$E$14:$AD$553,11),\"\")","v":0},{"$f":"IF($AE80=1,VLOOKUP($F80,all!$E$14:$AD$553,12),\"\")","v":"unlim risk"},{"$f":"IF($AE80=1,VLOOKUP($F80,all!$E$14:$AD$553,13),\"\")","v":740},{"$f":"IF($AE80=1,VLOOKUP($F80,all!$E$14:$AD$553,14),\"\")","v":162.60000000000002},{"$f":"IF($AE80=1,VLOOKUP($F80,all!$E$14:$AD$553,15),\"\")","v":177.4},{"$f":"IF($AE80=1,VLOOKUP($F80,all!$E$14:$AD$553,16),\"\")","v":0.57030953986459709},{"$f":"IF($AE80=1,VLOOKUP($F80,all!$E$14:$AD$553,17),\"\")","v":"unlim risk"},{"$f":"IF($AE80=1,VLOOKUP($F80,all!$E$14:$AD$553,18),\"\")","v":"unlim risk"},{"$f":"IF($AE80=1,VLOOKUP($F80,all!$E$14:$AD$553,19),\"\")","v":2190},{"$f":"IF($AE80=1,VLOOKUP($F80,all!$E$14:$AD$553,20),\"\")","v":0.33789954337899542},{"$f":"IF($AE80=1,VLOOKUP($F80,all!$E$14:$AD$553,21),\"\")","v":3},{"$f":"IF($AE80=1,VLOOKUP($F80,all!$E$14:$AD$553,22),\"\")","v":4},{"$f":"IF($AE80=1,VLOOKUP($F80,all!$E$14:$AD$553,23),\"\")","v":0},{"$f":"IF($AE80=1,VLOOKUP($F80,all!$E$14:$AD$553,24),\"\")","v":0},{"$f":"IF($AE80=1,VLOOKUP($F80,all!$E$14:$AD$553,25),\"\")","v":"x"},null,{"$f":"COUNTIF(all!$E$14:$E$553,F80)","v":1},null,null,null,null,null,null,null,null,null,null,null,null,null,null,null,null,null,null,null,null,null,null,null,null,null,null,null,null,null,4.4251025663805588E-9,62.133885584294433]
[{"$f":"IF(OR('Y2'!$W$1=6,('Y2'!$W$1=7)),\"\",'Y2'!AA74)","v":197.5},{"$f":"IF(OR('Y2'!$W$1=6,('Y2'!$W$1=7)),\"\",'Y2'!AB74)","v":0.04},{"$f":"IF(all!$AQ$1=1,all!AR73,IF(all!$AQ$1=2,all!AT73*100,IF(all!$AQ$1=3,all!AV73,all!AX73)))","v":3.5315442936487695E-3},{"$f":"IF(OR('Y2'!$W$1=6,('Y2'!$W$1=7)),\"\",'Y2'!AC74)","v":30.3},{"$f":"IF(all!$AP$3=1,all!AS73,IF(all!$AP$3=2,all!AU73*100,IF(all!$AP$3=3,all!AW73,all!AY73)))","v":29.653977004576944},48,{"$f":"IF($AE81=1,VLOOKUP($F81,all!$E$14:$AD$553,3),\"\")","v":"ratio put /`--  itm-b (b177.5p+2s167.5p) (neutral)"},{"$f":"IF($AE81=1,VLOOKUP($F81,all!$E$14:$AD$553,4),\"\")","v":177.5},{"$f":"IF($AE81=1,VLOOKUP($F81,all!$E$14:$AD$553,5),\"\")","v":11},{"$f":"IF($AE81=1,VLOOKUP($F81,all!$E$14:$AD$553,6),\"\")","v":167.5},{"$f":"IF($AE81=1,VLOOKUP($F81,all!$E$14:$AD$553,7),\"\")","v":4.25},{"$f":"IF($AE81=1,VLOOKUP($F81,all!$E$14:$AD$553,8),\"\")","v":0},{"$f":"IF($AE81=1,VLOOKUP($F81,all!$E$14:$AD$553,9),\"\")","v":0},{"$f":"IF($AE81=1,VLOOKUP($F81,all!$E$14:$AD$553,10),\"\")","v":0},{"$f":"IF($AE81=1,VLOOKUP($F81,all!$E$14:$AD$553,11),\"\")","v":0},{"$f":"IF($AE81=1,VLOOKUP($F81,all!$E$14:$AD$553,12),\"\")","v":"unlim risk"},{"$f":"IF($AE81=1,VLOOKUP($F81,all!$E$14:$AD$553,13),\"\")","v":750},{"$f":"IF($AE81=1,VLOOKUP($F81,all!$E$14:$AD$553,14),\"\")","v":160},{"$f":"IF($AE81=1,VLOOKUP($F81,all!$E$14:$AD$553,15),\"\")","v":175},{"$f":"IF($AE81=1,VLOOKUP($F81,all!$E$14:$AD$553,16),\"\")","v":0.59275286647744341},{"$f":"IF($AE81=1,VLOOKUP($F81,all!$E$14:$AD$553,17),\"\")","v":"unlim risk"},{"$f":"IF($AE81=1,VLOOKUP($F81,all!$E$14:$AD$553,18),\"\")","v":"unlim risk"},{"$f":"IF($AE81=1,VLOOKUP($F81,all!$E$14:$AD$553,19),\"\")","v":1950},{"$f":"IF($AE81=1,VLOOKUP($F81,all!$E$14:$AD$553,20),\"\")","v":0.38461538461538464},{"$f":"IF($AE81=1,VLOOKUP($F81,all!$E$14:$AD$553,21),\"\")","v":3},{"$f":"IF($AE81=1,VLOOKUP($F81,all!$E$14:$AD$553,22),\"\")","v":4},{"$f":"IF($AE81=1,VLOOKUP($F81,all!$E$14:$AD$553,23),\"\")","v":0},{"$f":"IF($AE81=1,VLOOKUP($F81,all!$E$14:$AD$553,24),\"\")","v":0},{"$f":"IF($AE81=1,VLOOKUP($F81,all!$E$14:$AD$553,25),\"\")","v":"x"},null,{"$f":"COUNTIF(all!$E$14:$E$553,F81)","v":1},1,"buy call",{"$f":"IF($K$6=\"\",0,$H$6*$J$2*(PB(\"C\",AH$64+0.00001,$J$6,MAX($I$6-$AL$63,0.00001)/365,$C$6,$D$6,$M$6)-$K$6))","v":-15043.546981203048},{"$f":"IF($K$6=\"\",0,$H$6*$J$2*(PB(\"C\",AI$64+0.00001,$J$6,MAX($I$6-$AL$63,0.00001)/365,$C$6,$D$6,$M$6)-$K$6))","v":-15042.918098472679},-15041.68675562002,-15039.479383960286,-15035.798101508504,-15030.016106098228,-15021.380826062163,-15009.024097788482,-14991.978059133509,-14969.195165655992,-14939.570694965456,-14901.966230915852,-14855.232845904307,-14798.232971029463,-14729.860220442668,-14649.056692093942,-14554.827487858533,-14446.252375770478,-14322.494655513396,-14182.807388633179,-14026.537222184905,null,null,null,null,null,null,3.5531576581118627E-10,67.13133790433389]
[{"$f":"IF(OR('Y2'!$W$1=6,('Y2'!$W$1=7)),\"\",'Y2'!AA75)","v":200},{"$f":"IF(OR('Y2'!$W$1=6,('Y2'!$W$1=7)),\"\",'Y2'!AB75)","v":0.03},{"$f":"IF(all!$AQ$1=1,all!AR74,IF(all!$AQ$1=2,all!AT74*100,IF(all!$AQ$1=3,all!AV74,all!AX74)))","v":1.5167881077984974E-3},{"$f":"IF(OR('Y2'!$W$1=6,('Y2'!$W$1=7)),\"\",'Y2'!AC75)","v":32.9},{"$f":"IF(all!$AP$3=1,all!AS74,IF(all!$AP$3=2,all!AU74*100,IF(all!$AP$3=3,all!AW74,all!AY74)))","v":32.150688411484481},49,{"$f":"IF($AE82=1,VLOOKUP($F82,all!$E$14:$AD$553,3),\"\")","v":"ratio put /`--  itm-b (b175p+2s172.5p) (neutral)"},{"$f":"IF($AE82=1,VLOOKUP($F82,all!$E$14:$AD$553,4),\"\")","v":175},{"$f":"IF($AE82=1,VLOOKUP($F82,all!$E$14:$AD$553,5),\"\")","v":8.6},{"$f":"IF($AE82=1,VLOOKUP($F82,all!$E$14:$AD$553,6),\"\")","v":172.5},{"$f":"IF($AE82=1,VLOOKUP($F82,all!$E$14:$AD$553,7),\"\")","v":6.85},{"$f":"IF($AE82=1,VLOOKUP($F82,all!$E$14:$AD$553,8),\"\")","v":0},{"$f":"IF($AE82=1,VLOOKUP($F82,all!$E$14:$AD$553,9),\"\")","v":0},{"$f":"IF($AE82=1,VLOOKUP($F82,all!$E$14:$AD$553,10),\"\")","v":0},{"$f":"IF($AE82=1,VLOOKUP($F82,all!$E$14:$AD$553,11),\"\")","v":0},{"$f":"IF($AE82=1,VLOOKUP($F82,all!$E$14:$AD$553,12),\"\")","v":"unlim risk"},{"$f":"IF($AE82=1,VLOOKUP($F82,all!$E$14:$AD$553,13),\"\")","v":760},{"$f":"IF($AE82=1,VLOOKUP($F82,all!$E$14:$AD$553,14),\"\")","v":164.9},{"$f":"IF($AE82=1,VLOOKUP($F82,all!$E$14:$AD$553,15),\"\")","v":1679.1999999999998},{"$f":"IF($AE82=1,VLOOKUP($F82,all!$E$14:$AD$553,16),\"\")","v":0.63171140859028863},{"$f":"IF($AE82=1,VLOOKUP($F82,all!$E$14:$AD$553,17),\"\")","v":"unlim risk"},{"$f":"IF($AE82=1,VLOOKUP($F82,all!$E$14:$AD$553,18),\"\")","v":"unlim risk"},{"$f":"IF($AE82=1,VLOOKUP($F82,all!$E$14:$AD$553,19),\"\")","v":2229.9999999999995},{"$f":"IF($AE82=1,VLOOKUP($F82,all!$E$14:$AD$553,20),\"\")","v":0.34080717488789247},{"$f":"IF($AE82=1,VLOOKUP($F82,all!$E$14:$AD$553,21),\"\")","v":3},{"$f":"IF($AE82=1,VLOOKUP($F82,all!$E$14:$AD$553,22),\"\")","v":4},{"$f":"IF($AE82=1,VLOOKUP($F82,all!$E$14:$AD$553,23),\"\")","v":0},{"$f":"IF($AE82=1,VLOOKUP($F82,all!$E$14:$AD$553,24),\"\")","v":0},{"$f":"IF($AE82=1,VLOOKUP($F82,all!$E$14:$AD$553,25),\"\")","v":"x"},null,{"$f":"COUNTIF(all!$E$14:$E$553,F82)","v":1},2,"sell call",{"$f":"-AH81","v":15043.546981203048},{"$f":"-AI81","v":15042.918098472679},15041.68675562002,15039.479383960286,15035.798101508504,15030.016106098228,15021.380826062163,15009.024097788482,14991.978059133509,14969.195165655992,14939.570694965456,14901.966230915852,14855.232845904307,14798.232971029463,14729.860220442668,14649.056692093942,14554.827487858533,14446.252375770478,14322.494655513396,14182.807388633179,14026.537222184905,null,null,null,null,null,null,2.5956018096629942E-11,72.128790229150184]
[{"$f":"IF(OR('Y2'!$W$1=6,('Y2'!$W$1=7)),\"\",'Y2'!AA76)","v":205},{"$f":"IF(OR('Y2'!$W$1=6,('Y2'!$W$1=7)),\"\",'Y2'!AB76)","v":0.02},{"$f":"IF(all!$AQ$1=1,all!AR75,IF(all!$AQ$1=2,all!AT75*100,IF(all!$AQ$1=3,all!AV75,all!AX75)))","v":2.5055346863409045E-4},{"$f":"IF(OR('Y2'!$W$1=6,('Y2'!$W$1=7)),\"\",'Y2'!AC76)","v":37.700000000000003},{"$f":"IF(all!$AP$3=1,all!AS75,IF(all!$AP$3=2,all!AU75*100,IF(all!$AP$3=3,all!AW75,all!AY75)))","v":37.146874503861909},50,{"$f":"IF($AE83=1,VLOOKUP($F83,all!$E$14:$AD$553,3),\"\")","v":"ratio put /`--  itm-b (b175p+2s170p) (neutral)"},{"$f":"IF($AE83=1,VLOOKUP($F83,all!$E$14:$AD$553,4),\"\")","v":175},{"$f":"IF($AE83=1,VLOOKUP($F83,all!$E$14:$AD$553,5),\"\")","v":8.6},{"$f":"IF($AE83=1,VLOOKUP($F83,all!$E$14:$AD$553,6),\"\")","v":170},{"$f":"IF($AE83=1,VLOOKUP($F83,all!$E$14:$AD$553,7),\"\")","v":5.45},{"$f":"IF($AE83=1,VLOOKUP($F83,all!$E$14:$AD$553,8),\"\")","v":0},{"$f":"IF($AE83=1,VLOOKUP($F83,all!$E$14:$AD$553,9),\"\")","v":0},{"$f":"IF($AE83=1,VLOOKUP($F83,all!$E$14:$AD$553,10),\"\")","v":0},{"$f":"IF($AE83=1,VLOOKUP($F83,all!$E$14:$AD$553,11),\"\")","v":0},{"$f":"IF($AE83=1,VLOOKUP($F83,all!$E$14:$AD$553,12),\"\")","v":"unlim risk"},{"$f":"IF($AE83=1,VLOOKUP($F83,all!$E$14:$AD$553,13),\"\")","v":730.00000000000011},{"$f":"IF($AE83=1,VLOOKUP($F83,all!$E$14:$AD$553,14),\"\")","v":162.70000000000002},{"$f":"IF($AE83=1,VLOOKUP($F83,all!$E$14:$AD$553,15),\"\")","v":1679.1999999999998},{"$f":"IF($AE83=1,VLOOKUP($F83,all!$E$14:$AD$553,16),\"\")","v":0.72084144618779844},{"$f":"IF($AE83=1,VLOOKUP($F83,all!$E$14:$AD$553,17),\"\")","v":"unlim risk"},{"$f":"IF($AE83=1,VLOOKUP($F83,all!$E$14:$AD$553,18),\"\")","v":"unlim risk"},{"$f":"IF($AE83=1,VLOOKUP($F83,all!$E$14:$AD$553,19),\"\")","v":1950},{"$f":"IF($AE83=1,VLOOKUP($F83,all!$E$14:$AD$553,20),\"\")","v":0.37435897435897442},{"$f":"IF($AE83=1,VLOOKUP($F83,all!$E$14:$AD$553,21),\"\")","v":3},{"$f":"IF($AE83=1,VLOOKUP($F83,all!$E$14:$AD$553,22),\"\")","v":4},{"$f":"IF($AE83=1,VLOOKUP($F83,all!$E$14:$AD$553,23),\"\")","v":0},{"$f":"IF($AE83=1,VLOOKUP($F83,all!$E$14:$AD$553,24),\"\")","v":0},{"$f":"IF($AE83=1,VLOOKUP($F83,all!$E$14:$AD$553,25),\"\")","v":"x"},null,{"$f":"COUNTIF(all!$E$14:$E$553,F83)","v":1},3,"buy put",{"$f":"IF($K$6=\"\",0,$H$6*$J$2*(PB(\"P\",AH$64+0.00001,$J$6,MAX($I$6-$AL$63,0.00001)/365,$C$6,$D$6,$M$6)-$K$6))","v":17548.115018430111},{"$f":"IF($K$6=\"\",0,$H$6*$J$2*(PB(\"P\",AI$64+0.00001,$J$6,MAX($I$6-$AL$63,0.00001)/365,$C$6,$D$6,$M$6)-$K$6))","v":16709.999294231802},15872.486030155784,15035.948794886843,14200.885470409947,13367.922858891547,12537.813531998932,11711.425653343935,10889.727085070233,10073.765371619073,9264.6452353809309,8463.5050925018568,7671.4938705847235,6889.7491385308886,6119.3772821890088,5361.4362036090624,4616.9208009157928,3886.7513060751635,3171.7644194035702,2472.707079355112,1790.2326388747042,null,null,null,null,null,null,1.7276582212946813E-12,77.12624255430336]
[{"$f":"IF(OR('Y2'!$W$1=6,('Y2'!$W$1=7)),\"\",'Y2'!AA77)","v":210},{"$f":"IF(OR('Y2'!$W$1=6,('Y2'!$W$1=7)),\"\",'Y2'!AB77)","v":0.02},{"$f":"IF(all!$AQ$1=1,all!AR76,IF(all!$AQ$1=2,all!AT76*100,IF(all!$AQ$1=3,all!AV76,all!AX76)))","v":3.597029433315916E-5},{"$f":"IF(OR('Y2'!$W$1=6,('Y2'!$W$1=7)),\"\",'Y2'!AC77)","v":42.4},{"$f":"IF(all!$AP$3=1,all!AS76,IF(all!$AP$3=2,all!AU76*100,IF(all!$AP$3=3,all!AW76,all!AY76)))","v":42.144112247831771},51,{"$f":"IF($AE84=1,VLOOKUP($F84,all!$E$14:$AD$553,3),\"\")","v":"ratio put /`--  itm-b (b175p+2s167.5p) (neutral)"},{"$f":"IF($AE84=1,VLOOKUP($F84,all!$E$14:$AD$553,4),\"\")","v":175},{"$f":"IF($AE84=1,VLOOKUP($F84,all!$E$14:$AD$553,5),\"\")","v":8.6},{"$f":"IF($AE84=1,VLOOKUP($F84,all!$E$14:$AD$553,6),\"\")","v":167.5},{"$f":"IF($AE84=1,VLOOKUP($F84,all!$E$14:$AD$553,7),\"\")","v":4.25},{"$f":"IF($AE84=1,VLOOKUP($F84,all!$E$14:$AD$553,8),\"\")","v":0},{"$f":"IF($AE84=1,VLOOKUP($F84,all!$E$14:$AD$553,9),\"\")","v":0},{"$f":"IF($AE84=1,VLOOKUP($F84,all!$E$14:$AD$553,10),\"\")","v":0},{"$f":"IF($AE84=1,VLOOKUP($F84,all!$E$14:$AD$553,11),\"\")","v":0},{"$f":"IF($AE84=1,VLOOKUP($F84,all!$E$14:$AD$553,12),\"\")","v":"unlim risk"},{"$f":"IF($AE84=1,VLOOKUP($F84,all!$E$14:$AD$553,13),\"\")","v":740},{"$f":"IF($AE84=1,VLOOKUP($F84,all!$E$14:$AD$553,14),\"\")","v":160.1},{"$f":"IF($AE84=1,VLOOKUP($F84,all!$E$14:$AD$553,15),\"\")","v":174.9},{"$f":"IF($AE84=1,VLOOKUP($F84,all!$E$14:$AD$553,16),\"\")","v":0.58647685763026969},{"$f":"IF($AE84=1,VLOOKUP($F84,all!$E$14:$AD$553,17),\"\")","v":"unlim risk"},{"$f":"IF($AE84=1,VLOOKUP($F84,all!$E$14:$AD$553,18),\"\")","v":"unlim risk"},{"$f":"IF($AE84=1,VLOOKUP($F84,all!$E$14:$AD$553,19),\"\")","v":1710.0000000000002},{"$f":"IF($AE84=1,VLOOKUP($F84,all!$E$14:$AD$553,20),\"\")","v":0.43274853801169583},{"$f":"IF($AE84=1,VLOOKUP($F84,all!$E$14:$AD$553,21),\"\")","v":3},{"$f":"IF($AE84=1,VLOOKUP($F84,all!$E$14:$AD$553,22),\"\")","v":4},{"$f":"IF($AE84=1,VLOOKUP($F84,all!$E$14:$AD$553,23),\"\")","v":0},{"$f":"IF($AE84=1,VLOOKUP($F84,all!$E$14:$AD$553,24),\"\")","v":0},{"$f":"IF($AE84=1,VLOOKUP($F84,all!$E$14:$AD$553,25),\"\")","v":"x"},null,{"$f":"COUNTIF(all!$E$14:$E$553,F84)","v":1},4,"sell put",{"$f":"-AH83","v":-17548.115018430111},{"$f":"-AI83","v":-16709.999294231802},-15872.486030155784,-15035.948794886843,-14200.885470409947,-13367.922858891547,-12537.813531998932,-11711.425653343935,-10889.727085070233,-10073.765371619073,-9264.6452353809309,-8463.5050925018568,-7671.4938705847235,-6889.7491385308886,-6119.3772821890088,-5361.4362036090624,-4616.9208009157928,-3886.7513060751635,-3171.7644194035702,-2472.707079355112,-1790.2326388747042,null,null,null,null,null,null,9.0225597545468351E-14,82.123694878967711]
[{"$f":"IF(OR('Y2'!$W$1=6,('Y2'!$W$1=7)),\"\",'Y2'!AA78)","v":215},{"$f":"IF(OR('Y2'!$W$1=6,('Y2'!$W$1=7)),\"\",'Y2'!AB78)","v":0.01},{"$f":"IF(all!$AQ$1=1,all!AR77,IF(all!$AQ$1=2,all!AT77*100,IF(all!$AQ$1=3,all!AV77,all!AX77)))","v":4.5255733988849205E-6},{"$f":"IF(OR('Y2'!$W$1=6,('Y2'!$W$1=7)),\"\",'Y2'!AC78)","v":47.57},{"$f":"IF(all!$AP$3=1,all!AS77,IF(all!$AP$3=2,all!AU77*100,IF(all!$AP$3=3,all!AW77,all!AY77)))","v":47.141533126608152},52,{"$f":"IF($AE85=1,VLOOKUP($F85,all!$E$14:$AD$553,3),\"\")","v":"ratio put /`--  itm-b (b172.5p+2s170p) (neutral)"},{"$f":"IF($AE85=1,VLOOKUP($F85,all!$E$14:$AD$553,4),\"\")","v":172.5},{"$f":"IF($AE85=1,VLOOKUP($F85,all!$E$14:$AD$553,5),\"\")","v":6.85},{"$f":"IF($AE85=1,VLOOKUP($F85,all!$E$14:$AD$553,6),\"\")","v":170},{"$f":"IF($AE85=1,VLOOKUP($F85,all!$E$14:$AD$553,7),\"\")","v":5.45},{"$f":"IF($AE85=1,VLOOKUP($F85,all!$E$14:$AD$553,8),\"\")","v":0},{"$f":"IF($AE85=1,VLOOKUP($F85,all!$E$14:$AD$553,9),\"\")","v":0},{"$f":"IF($AE85=1,VLOOKUP($F85,all!$E$14:$AD$553,10),\"\")","v":0},{"$f":"IF($AE85=1,VLOOKUP($F85,all!$E$14:$AD$553,11),\"\")","v":0},{"$f":"IF($AE85=1,VLOOKUP($F85,all!$E$14:$AD$553,12),\"\")","v":"unlim risk"},{"$f":"IF($AE85=1,VLOOKUP($F85,all!$E$14:$AD$553,13),\"\")","v":655.00000000000011},{"$f":"IF($AE85=1,VLOOKUP($F85,all!$E$14:$AD$553,14),\"\")","v":163.45000000000002},{"$f":"IF($AE85=1,VLOOKUP($F85,all!$E$14:$AD$553,15),\"\")","v":1679.1999999999998},{"$f":"IF($AE85=1,VLOOKUP($F85,all!$E$14:$AD$553,16),\"\")","v":0.69149636225873912},{"$f":"IF($AE85=1,VLOOKUP($F85,all!$E$14:$AD$553,17),\"\")","v":"unlim risk"},{"$f":"IF($AE85=1,VLOOKUP($F85,all!$E$14:$AD$553,18),\"\")","v":"unlim risk"},{"$f":"IF($AE85=1,VLOOKUP($F85,all!$E$14:$AD$553,19),\"\")","v":1775},{"$f":"IF($AE85=1,VLOOKUP($F85,all!$E$14:$AD$553,20),\"\")","v":0.36901408450704232},{"$f":"IF($AE85=1,VLOOKUP($F85,all!$E$14:$AD$553,21),\"\")","v":3},{"$f":"IF($AE85=1,VLOOKUP($F85,all!$E$14:$AD$553,22),\"\")","v":4},{"$f":"IF($AE85=1,VLOOKUP($F85,all!$E$14:$AD$553,23),\"\")","v":0},{"$f":"IF($AE85=1,VLOOKUP($F85,all!$E$14:$AD$553,24),\"\")","v":0},{"$f":"IF($AE85=1,VLOOKUP($F85,all!$E$14:$AD$553,25),\"\")","v":"x"},null,{"$f":"COUNTIF(all!$E$14:$E$553,F85)","v":1},5,"buy under",{"$f":"AH32","v":-8396},{"$f":"AI32","v":-7556.4000000000005},-6716.8000000000011,-5877.2000000000007,-5037.6000000000004,-4198,-3358.4000000000005,-2518.8000000000015,-1679.2000000000003,-839.59999999999866,0,839.59999999999866,1679.2000000000003,2518.8000000000015,3358.4000000000005,4197.9999999999991,5037.6000000000004,5877.2000000000016,6716.8000000000011,7556.4,8396,null,null,null,null,null,null,-1.8305665502583022E-15,92.118599531462792]
[{"$f":"IF(OR('Y2'!$W$1=6,('Y2'!$W$1=7)),\"\",'Y2'!AA79)","v":220},{"$f":"IF(OR('Y2'!$W$1=6,('Y2'!$W$1=7)),\"\",'Y2'!AB79)","v":0.01},{"$f":"IF(all!$AQ$1=1,all!AR78,IF(all!$AQ$1=2,all!AT78*100,IF(all!$AQ$1=3,all!AV78,all!AX78)))","v":5.0309191253262341E-7},{"$f":"IF(OR('Y2'!$W$1=6,('Y2'!$W$1=7)),\"\",'Y2'!AC79)","v":52.06},{"$f":"IF(all!$AP$3=1,all!AS78,IF(all!$AP$3=2,all!AU78*100,IF(all!$AP$3=3,all!AW78,all!AY78)))","v":52.138981430357205},53,{"$f":"IF($AE86=1,VLOOKUP($F86,all!$E$14:$AD$553,3),\"\")","v":"ratio put /`--  itm-b (b172.5p+2s167.5p) (neutral)"},{"$f":"IF($AE86=1,VLOOKUP($F86,all!$E$14:$AD$553,4),\"\")","v":172.5},{"$f":"IF($AE86=1,VLOOKUP($F86,all!$E$14:$AD$553,5),\"\")","v":6.85},{"$f":"IF($AE86=1,VLOOKUP($F86,all!$E$14:$AD$553,6),\"\")","v":167.5},{"$f":"IF($AE86=1,VLOOKUP($F86,all!$E$14:$AD$553,7),\"\")","v":4.25},{"$f":"IF($AE86=1,VLOOKUP($F86,all!$E$14:$AD$553,8),\"\")","v":0},{"$f":"IF($AE86=1,VLOOKUP($F86,all!$E$14:$AD$553,9),\"\")","v":0},{"$f":"IF($AE86=1,VLOOKUP($F86,all!$E$14:$AD$553,10),\"\")","v":0},{"$f":"IF($AE86=1,VLOOKUP($F86,all!$E$14:$AD$553,11),\"\")","v":0},{"$f":"IF($AE86=1,VLOOKUP($F86,all!$E$14:$AD$553,12),\"\")","v":"unlim risk"},{"$f":"IF($AE86=1,VLOOKUP($F86,all!$E$14:$AD$553,13),\"\")","v":665},{"$f":"IF($AE86=1,VLOOKUP($F86,all!$E$14:$AD$553,14),\"\")","v":160.85},{"$f":"IF($AE86=1,VLOOKUP($F86,all!$E$14:$AD$553,15),\"\")","v":1679.1999999999998},{"$f":"IF($AE86=1,VLOOKUP($F86,all!$E$14:$AD$553,16),\"\")","v":0.78736445885967954},{"$f":"IF($AE86=1,VLOOKUP($F86,all!$E$14:$AD$553,17),\"\")","v":"unlim risk"},{"$f":"IF($AE86=1,VLOOKUP($F86,all!$E$14:$AD$553,18),\"\")","v":"unlim risk"},{"$f":"IF($AE86=1,VLOOKUP($F86,all!$E$14:$AD$553,19),\"\")","v":1535},{"$f":"IF($AE86=1,VLOOKUP($F86,all!$E$14:$AD$553,20),\"\")","v":0.43322475570032576},{"$f":"IF($AE86=1,VLOOKUP($F86,all!$E$14:$AD$553,21),\"\")","v":3},{"$f":"IF($AE86=1,VLOOKUP($F86,all!$E$14:$AD$553,22),\"\")","v":4},{"$f":"IF($AE86=1,VLOOKUP($F86,all!$E$14:$AD$553,23),\"\")","v":0},{"$f":"IF($AE86=1,VLOOKUP($F86,all!$E$14:$AD$553,24),\"\")","v":0},{"$f":"IF($AE86=1,VLOOKUP($F86,all!$E$14:$AD$553,25),\"\")","v":"x"},null,{"$f":"COUNTIF(all!$E$14:$E$553,F86)","v":1},6,"sell under",{"$f":"AH33","v":8396},{"$f":"AI33","v":7556.4000000000005},6716.8000000000011,5877.2000000000007,5037.6000000000004,4198,3358.4000000000005,2518.8000000000015,1679.2000000000003,839.59999999999866,0,-839.59999999999866,-1679.2000000000003,-2518.8000000000015,-3358.4000000000005,-4197.9999999999991,-5037.6000000000004,-5877.2000000000016,-6716.8000000000011,-7556.4,-8396,null,null,null,null,null,null,0,102.11350418108006]
[{"$f":"IF(OR('Y2'!$W$1=6,('Y2'!$W$1=7)),\"\",'Y2'!AA80)","v":225},{"$f":"IF(OR('Y2'!$W$1=6,('Y2'!$W$1=7)),\"\",'Y2'!AB80)","v":0.01},{"$f":"IF(all!$AQ$1=1,all!AR79,IF(all!$AQ$1=2,all!AT79*100,IF(all!$AQ$1=3,all!AV79,all!AX79)))","v":4.9808422275775492E-8},{"$f":"IF(OR('Y2'!$W$1=6,('Y2'!$W$1=7)),\"\",'Y2'!AC80)","v":56.8},{"$f":"IF(all!$AP$3=1,all!AS79,IF(all!$AP$3=2,all!AU79*100,IF(all!$AP$3=3,all!AW79,all!AY79)))","v":57.136433302538506},54,{"$f":"IF($AE87=1,VLOOKUP($F87,all!$E$14:$AD$553,3),\"\")","v":"ratio put /`--  itm-b (b172.5p+2s165p) (neutral)"},{"$f":"IF($AE87=1,VLOOKUP($F87,all!$E$14:$AD$553,4),\"\")","v":172.5},{"$f":"IF($AE87=1,VLOOKUP($F87,all!$E$14:$AD$553,5),\"\")","v":6.85},{"$f":"IF($AE87=1,VLOOKUP($F87,all!$E$14:$AD$553,6),\"\")","v":165},{"$f":"IF($AE87=1,VLOOKUP($F87,all!$E$14:$AD$553,7),\"\")","v":3.26},{"$f":"IF($AE87=1,VLOOKUP($F87,all!$E$14:$AD$553,8),\"\")","v":0},{"$f":"IF($AE87=1,VLOOKUP($F87,all!$E$14:$AD$553,9),\"\")","v":0},{"$f":"IF($AE87=1,VLOOKUP($F87,all!$E$14:$AD$553,10),\"\")","v":0},{"$f":"IF($AE87=1,VLOOKUP($F87,all!$E$14:$AD$553,11),\"\")","v":0},{"$f":"IF($AE87=1,VLOOKUP($F87,all!$E$14:$AD$553,12),\"\")","v":"unlim risk"},{"$f":"IF($AE87=1,VLOOKUP($F87,all!$E$14:$AD$553,13),\"\")","v":717},{"$f":"IF($AE87=1,VLOOKUP($F87,all!$E$14:$AD$553,14),\"\")","v":157.83000000000001},{"$f":"IF($AE87=1,VLOOKUP($F87,all!$E$14:$AD$553,15),\"\")","v":172.17000000000002},{"$f":"IF($AE87=1,VLOOKUP($F87,all!$E$14:$AD$553,16),\"\")","v":0.55306575458340745},{"$f":"IF($AE87=1,VLOOKUP($F87,all!$E$14:$AD$553,17),\"\")","v":"unlim risk"},{"$f":"IF($AE87=1,VLOOKUP($F87,all!$E$14:$AD$553,18),\"\")","v":"unlim risk"},{"$f":"IF($AE87=1,VLOOKUP($F87,all!$E$14:$AD$553,19),\"\")","v":1337},{"$f":"IF($AE87=1,VLOOKUP($F87,all!$E$14:$AD$553,20),\"\")","v":0.53627524308152585},{"$f":"IF($AE87=1,VLOOKUP($F87,all!$E$14:$AD$553,21),\"\")","v":3},{"$f":"IF($AE87=1,VLOOKUP($F87,all!$E$14:$AD$553,22),\"\")","v":4},{"$f":"IF($AE87=1,VLOOKUP($F87,all!$E$14:$AD$553,23),\"\")","v":0},{"$f":"IF($AE87=1,VLOOKUP($F87,all!$E$14:$AD$553,24),\"\")","v":0},{"$f":"IF($AE87=1,VLOOKUP($F87,all!$E$14:$AD$553,25),\"\")","v":"x"},null,{"$f":"COUNTIF(all!$E$14:$E$553,F87)","v":1},{"$f":"AF34","v":2},"three",{"$f":"IF($AF$87=0,0,VLOOKUP($AF$87,$AF$81:$BB$86,AH116))","v":15043.546981203048},{"$f":"IF($AF$87=0,0,VLOOKUP($AF$87,$AF$81:$BB$86,AI116))","v":15042.918098472679},15041.68675562002,15039.479383960286,15035.798101508504,15030.016106098228,15021.380826062163,15009.024097788482,14991.978059133509,14969.195165655992,14939.570694965456,14901.966230915852,14855.232845904307,14798.232971029463,14729.860220442668,14649.056692093942,14554.827487858533,14446.252375770478,14322.494655513396,14182.807388633179,14026.537222184905,null,null,null,null,null,null,0,112.1084088340771]
[{"$f":"IF(OR('Y2'!$W$1=6,('Y2'!$W$1=7)),\"\",'Y2'!AA81)","v":230},{"$f":"IF(OR('Y2'!$W$1=6,('Y2'!$W$1=7)),\"\",'Y2'!AB81)","v":0.01},{"$f":"IF(all!$AQ$1=1,all!AR80,IF(all!$AQ$1=2,all!AT80*100,IF(all!$AQ$1=3,all!AV80,all!AX80)))","v":4.4251122178470778E-9},{"$f":"IF(OR('Y2'!$W$1=6,('Y2'!$W$1=7)),\"\",'Y2'!AC81)","v":62.05},{"$f":"IF(all!$AP$3=1,all!AS80,IF(all!$AP$3=2,all!AU80*100,IF(all!$AP$3=3,all!AW80,all!AY80)))","v":62.133885583959511},55,{"$f":"IF($AE88=1,VLOOKUP($F88,all!$E$14:$AD$553,3),\"\")","v":"butterfly call _/\\_ (2s172.5c+b160c+b185c)"},{"$f":"IF($AE88=1,VLOOKUP($F88,all!$E$14:$AD$553,4),\"\")","v":160},{"$f":"IF($AE88=1,VLOOKUP($F88,all!$E$14:$AD$553,5),\"\")","v":9.75},{"$f":"IF($AE88=1,VLOOKUP($F88,all!$E$14:$AD$553,6),\"\")","v":172.5},{"$f":"IF($AE88=1,VLOOKUP($F88,all!$E$14:$AD$553,7),\"\")","v":2.21},{"$f":"IF($AE88=1,VLOOKUP($F88,all!$E$14:$AD$553,8),\"\")","v":185},{"$f":"IF($AE88=1,VLOOKUP($F88,all!$E$14:$AD$553,9),\"\")","v":0.15},{"$f":"IF($AE88=1,VLOOKUP($F88,all!$E$14:$AD$553,10),\"\")","v":0},{"$f":"IF($AE88=1,VLOOKUP($F88,all!$E$14:$AD$553,11),\"\")","v":0},{"$f":"IF($AE88=1,VLOOKUP($F88,all!$E$14:$AD$553,12),\"\")","v":548},{"$f":"IF($AE88=1,VLOOKUP($F88,all!$E$14:$AD$553,13),\"\")","v":243.99999999999869},{"$f":"IF($AE88=1,VLOOKUP($F88,all!$E$14:$AD$553,14),\"\")","v":165.48000000000002},{"$f":"IF($AE88=1,VLOOKUP($F88,all!$E$14:$AD$553,15),\"\")","v":179.52},{"$f":"IF($AE88=1,VLOOKUP($F88,all!$E$14:$AD$553,16),\"\")","v":0.49909289948729263},{"$f":"IF($AE88=1,VLOOKUP($F88,all!$E$14:$AD$553,17),\"\")","v":0.44525546632745261},{"$f":"IF($AE88=1,VLOOKUP($F88,all!$E$14:$AD$553,18),\"\")","v":0.2222238417019349},{"$f":"IF($AE88=1,VLOOKUP($F88,all!$E$14:$AD$553,19),\"\")","v":1417},{"$f":"IF($AE88=1,VLOOKUP($F88,all!$E$14:$AD$553,20),\"\")","v":0.17219477769936392},{"$f":"IF($AE88=1,VLOOKUP($F88,all!$E$14:$AD$553,21),\"\")","v":1},{"$f":"IF($AE88=1,VLOOKUP($F88,all!$E$14:$AD$553,22),\"\")","v":2},{"$f":"IF($AE88=1,VLOOKUP($F88,all!$E$14:$AD$553,23),\"\")","v":1},{"$f":"IF($AE88=1,VLOOKUP($F88,all!$E$14:$AD$553,24),\"\")","v":0},{"$f":"IF($AE88=1,VLOOKUP($F88,all!$E$14:$AD$553,25),\"\")","v":"x"},null,{"$f":"COUNTIF(all!$E$14:$E$553,F88)","v":1},null,null,null,null,null,null,null,null,null,null,null,null,null,null,null,null,null,null,null,null,null,null,null,null,null,null,null,null,null,0,122.1033134839162]
[{"$f":"IF(OR('Y2'!$W$1=6,('Y2'!$W$1=7)),\"\",'Y2'!AA82)","v":235},{"$f":"IF(OR('Y2'!$W$1=6,('Y2'!$W$1=7)),\"\",'Y2'!AB82)","v":0.01},{"$f":"IF(all!$AQ$1=1,all!AR81,IF(all!$AQ$1=2,all!AT81*100,IF(all!$AQ$1=3,all!AV81,all!AX81)))","v":3.553045957180301E-10},{"$f":"IF(OR('Y2'!$W$1=6,('Y2'!$W$1=7)),\"\",'Y2'!AC82)","v":61},{"$f":"IF(all!$AP$3=1,all!AS81,IF(all!$AP$3=2,all!AU81*100,IF(all!$AP$3=3,all!AW81,all!AY81)))","v":67.131337902738636},56,{"$f":"IF($AE89=1,VLOOKUP($F89,all!$E$14:$AD$553,3),\"\")","v":"butterfly call _/\\_ (2s172.5c+b162.5c+b182.5c)"},{"$f":"IF($AE89=1,VLOOKUP($F89,all!$E$14:$AD$553,4),\"\")","v":162.5},{"$f":"IF($AE89=1,VLOOKUP($F89,all!$E$14:$AD$553,5),\"\")","v":7.9},{"$f":"IF($AE89=1,VLOOKUP($F89,all!$E$14:$AD$553,6),\"\")","v":172.5},{"$f":"IF($AE89=1,VLOOKUP($F89,all!$E$14:$AD$553,7),\"\")","v":2.21},{"$f":"IF($AE89=1,VLOOKUP($F89,all!$E$14:$AD$553,8),\"\")","v":182.5},{"$f":"IF($AE89=1,VLOOKUP($F89,all!$E$14:$AD$553,9),\"\")","v":0.28000000000000003},{"$f":"IF($AE89=1,VLOOKUP($F89,all!$E$14:$AD$553,10),\"\")","v":0},{"$f":"IF($AE89=1,VLOOKUP($F89,all!$E$14:$AD$553,11),\"\")","v":0},{"$f":"IF($AE89=1,VLOOKUP($F89,all!$E$14:$AD$553,12),\"\")","v":376},{"$f":"IF($AE89=1,VLOOKUP($F89,all!$E$14:$AD$553,13),\"\")","v":165.99999999999878},{"$f":"IF($AE89=1,VLOOKUP($F89,all!$E$14:$AD$553,14),\"\")","v":166.26000000000002},{"$f":"IF($AE89=1,VLOOKUP($F89,all!$E$14:$AD$553,15),\"\")","v":178.74},{"$f":"IF($AE89=1,VLOOKUP($F89,all!$E$14:$AD$553,16),\"\")","v":0.44950403434134567},{"$f":"IF($AE89=1,VLOOKUP($F89,all!$E$14:$AD$553,17),\"\")","v":0.44148934996038641},{"$f":"IF($AE89=1,VLOOKUP($F89,all!$E$14:$AD$553,18),\"\")","v":0.19845124392593191},{"$f":"IF($AE89=1,VLOOKUP($F89,all!$E$14:$AD$553,19),\"\")","v":1232},{"$f":"IF($AE89=1,VLOOKUP($F89,all!$E$14:$AD$553,20),\"\")","v":0.13474025974025874},{"$f":"IF($AE89=1,VLOOKUP($F89,all!$E$14:$AD$553,21),\"\")","v":1},{"$f":"IF($AE89=1,VLOOKUP($F89,all!$E$14:$AD$553,22),\"\")","v":2},{"$f":"IF($AE89=1,VLOOKUP($F89,all!$E$14:$AD$553,23),\"\")","v":1},{"$f":"IF($AE89=1,VLOOKUP($F89,all!$E$14:$AD$553,24),\"\")","v":0},{"$f":"IF($AE89=1,VLOOKUP($F89,all!$E$14:$AD$553,25),\"\")","v":"x"},null,{"$f":"COUNTIF(all!$E$14:$E$553,F89)","v":1},1,"buy call",{"$f":"IF($K$7=\"\",0,$H$7*$J$2*(PB(\"C\",AH$64+0.00001,$J$7,MAX($I$7-$AL$63,0.00001)/365,$C$6,$D$6,$M$7)-$K$7))","v":-15043.546981203048},{"$f":"IF($K$7=\"\",0,$H$7*$J$2*(PB(\"C\",AI$64+0.00001,$J$7,MAX($I$7-$AL$63,0.00001)/365,$C$6,$D$6,$M$7)-$K$7))","v":-15042.918098472679},-15041.68675562002,-15039.479383960286,-15035.798101508504,-15030.016106098228,-15021.380826062163,-15009.024097788482,-14991.978059133509,-14969.195165655992,-14939.570694965456,-14901.966230915852,-14855.232845904307,-14798.232971029463,-14729.860220442668,-14649.056692093942,-14554.827487858533,-14446.252375770478,-14322.494655513396,-14182.807388633179,-14026.537222184905,null,null,null,null,null,null,0,132.09821813515308]
[{"$f":"IF(OR('Y2'!$W$1=6,('Y2'!$W$1=7)),\"\",'Y2'!AA83)","v":240},{"$f":"IF(OR('Y2'!$W$1=6,('Y2'!$W$1=7)),\"\",'Y2'!AB83)","v":0.01},{"$f":"IF(all!$AQ$1=1,all!AR82,IF(all!$AQ$1=2,all!AT82*100,IF(all!$AQ$1=3,all!AV82,all!AX82)))","v":2.5974641891930035E-11},{"$f":"IF(OR('Y2'!$W$1=6,('Y2'!$W$1=7)),\"\",'Y2'!AC83)","v":71.650000000000006},{"$f":"IF(all!$AP$3=1,all!AS82,IF(all!$AP$3=2,all!AU82*100,IF(all!$AP$3=3,all!AW82,all!AY82)))","v":72.128790231272717},57,{"$f":"IF($AE90=1,VLOOKUP($F90,all!$E$14:$AD$553,3),\"\")","v":"butterfly call _/\\_ (2s172.5c+b165c+b180c)"},{"$f":"IF($AE90=1,VLOOKUP($F90,all!$E$14:$AD$553,4),\"\")","v":165},{"$f":"IF($AE90=1,VLOOKUP($F90,all!$E$14:$AD$553,5),\"\")","v":6.13},{"$f":"IF($AE90=1,VLOOKUP($F90,all!$E$14:$AD$553,6),\"\")","v":172.5},{"$f":"IF($AE90=1,VLOOKUP($F90,all!$E$14:$AD$553,7),\"\")","v":2.21},{"$f":"IF($AE90=1,VLOOKUP($F90,all!$E$14:$AD$553,8),\"\")","v":180},{"$f":"IF($AE90=1,VLOOKUP($F90,all!$E$14:$AD$553,9),\"\")","v":0.49},{"$f":"IF($AE90=1,VLOOKUP($F90,all!$E$14:$AD$553,10),\"\")","v":0},{"$f":"IF($AE90=1,VLOOKUP($F90,all!$E$14:$AD$553,11),\"\")","v":0},{"$f":"IF($AE90=1,VLOOKUP($F90,all!$E$14:$AD$553,12),\"\")","v":220.00000000000003},{"$f":"IF($AE90=1,VLOOKUP($F90,all!$E$14:$AD$553,13),\"\")","v":71.999999999998735},{"$f":"IF($AE90=1,VLOOKUP($F90,all!$E$14:$AD$553,14),\"\")","v":167.20000000000002},{"$f":"IF($AE90=1,VLOOKUP($F90,all!$E$14:$AD$553,15),\"\")","v":177.8},{"$f":"IF($AE90=1,VLOOKUP($F90,all!$E$14:$AD$553,16),\"\")","v":0.38710058365141231},{"$f":"IF($AE90=1,VLOOKUP($F90,all!$E$14:$AD$553,17),\"\")","v":0.32727271239668909},{"$f":"IF($AE90=1,VLOOKUP($F90,all!$E$14:$AD$553,18),\"\")","v":0.12668745798193914},{"$f":"IF($AE90=1,VLOOKUP($F90,all!$E$14:$AD$553,19),\"\")","v":1055},{"$f":"IF($AE90=1,VLOOKUP($F90,all!$E$14:$AD$553,20),\"\")","v":6.8246445497629135E-2},{"$f":"IF($AE90=1,VLOOKUP($F90,all!$E$14:$AD$553,21),\"\")","v":1},{"$f":"IF($AE90=1,VLOOKUP($F90,all!$E$14:$AD$553,22),\"\")","v":2},{"$f":"IF($AE90=1,VLOOKUP($F90,all!$E$14:$AD$553,23),\"\")","v":1},{"$f":"IF($AE90=1,VLOOKUP($F90,all!$E$14:$AD$553,24),\"\")","v":0},{"$f":"IF($AE90=1,VLOOKUP($F90,all!$E$14:$AD$553,25),\"\")","v":"x"},null,{"$f":"COUNTIF(all!$E$14:$E$553,F90)","v":1},2,"sell call",{"$f":"-AH89","v":15043.546981203048},{"$f":"-AI89","v":15042.918098472679},15041.68675562002,15039.479383960286,15035.798101508504,15030.016106098228,15021.380826062163,15009.024097788482,14991.978059133509,14969.195165655992,14939.570694965456,14901.966230915852,14855.232845904307,14798.232971029463,14729.860220442668,14649.056692093942,14554.827487858533,14446.252375770478,14322.494655513396,14182.807388633179,14026.537222184905,null,null,null,null,null,null,0,137.09567046074886]
[{"$f":"IF(OR('Y2'!$W$1=6,('Y2'!$W$1=7)),\"\",'Y2'!AA84)","v":245},{"$f":"IF(OR('Y2'!$W$1=6,('Y2'!$W$1=7)),\"\",'Y2'!AB84)","v":0.01},{"$f":"IF(all!$AQ$1=1,all!AR83,IF(all!$AQ$1=2,all!AT83*100,IF(all!$AQ$1=3,all!AV83,all!AX83)))","v":1.7276582174493254E-12},{"$f":"IF(OR('Y2'!$W$1=6,('Y2'!$W$1=7)),\"\",'Y2'!AC84)","v":71.150000000000006},{"$f":"IF(all!$AP$3=1,all!AS83,IF(all!$AP$3=2,all!AU83*100,IF(all!$AP$3=3,all!AW83,all!AY83)))","v":77.126242554878075},58,{"$f":"IF($AE91=1,VLOOKUP($F91,all!$E$14:$AD$553,3),\"\")","v":"butterfly call _/\\_ (2s172.5c+b167.5c+b177.5c)"},{"$f":"IF($AE91=1,VLOOKUP($F91,all!$E$14:$AD$553,4),\"\")","v":167.5},{"$f":"IF($AE91=1,VLOOKUP($F91,all!$E$14:$AD$553,5),\"\")","v":4.5999999999999996},{"$f":"IF($AE91=1,VLOOKUP($F91,all!$E$14:$AD$553,6),\"\")","v":172.5},{"$f":"IF($AE91=1,VLOOKUP($F91,all!$E$14:$AD$553,7),\"\")","v":2.21},{"$f":"IF($AE91=1,VLOOKUP($F91,all!$E$14:$AD$553,8),\"\")","v":177.5},{"$f":"IF($AE91=1,VLOOKUP($F91,all!$E$14:$AD$553,9),\"\")","v":0.84},{"$f":"IF($AE91=1,VLOOKUP($F91,all!$E$14:$AD$553,10),\"\")","v":0},{"$f":"IF($AE91=1,VLOOKUP($F91,all!$E$14:$AD$553,11),\"\")","v":0},{"$f":"IF($AE91=1,VLOOKUP($F91,all!$E$14:$AD$553,12),\"\")","v":101.99999999999996},{"$f":"IF($AE91=1,VLOOKUP($F91,all!$E$14:$AD$553,13),\"\")","v":-60.000000000001208},{"$f":"IF($AE91=1,VLOOKUP($F91,all!$E$14:$AD$553,14),\"\")","v":168.52},{"$f":"IF($AE91=1,VLOOKUP($F91,all!$E$14:$AD$553,15),\"\")","v":176.48000000000002},{"$f":"IF($AE91=1,VLOOKUP($F91,all!$E$14:$AD$553,16),\"\")","v":0.29527067362331461},{"$f":"IF($AE91=1,VLOOKUP($F91,all!$E$14:$AD$553,17),\"\")","v":-0.58823523644753795},{"$f":"IF($AE91=1,VLOOKUP($F91,all!$E$14:$AD$553,18),\"\")","v":-0.17368861451483428},{"$f":"IF($AE91=1,VLOOKUP($F91,all!$E$14:$AD$553,19),\"\")","v":902},{"$f":"IF($AE91=1,VLOOKUP($F91,all!$E$14:$AD$553,20),\"\")","v":-6.6518847006653226E-2},{"$f":"IF($AE91=1,VLOOKUP($F91,all!$E$14:$AD$553,21),\"\")","v":1},{"$f":"IF($AE91=1,VLOOKUP($F91,all!$E$14:$AD$553,22),\"\")","v":2},{"$f":"IF($AE91=1,VLOOKUP($F91,all!$E$14:$AD$553,23),\"\")","v":1},{"$f":"IF($AE91=1,VLOOKUP($F91,all!$E$14:$AD$553,24),\"\")","v":0},{"$f":"IF($AE91=1,VLOOKUP($F91,all!$E$14:$AD$553,25),\"\")","v":"x"},null,{"$f":"COUNTIF(all!$E$14:$E$553,F91)","v":1},3,"buy put",{"$f":"IF($K$7=\"\",0,$H$7*$J$2*(PB(\"P\",AH$64+0.00001,$J$7,MAX($I$7-$AL$63,0.00001)/365,$C$6,$D$6,$M$7)-$K$7))","v":17548.115018430111},{"$f":"IF($K$7=\"\",0,$H$7*$J$2*(PB(\"P\",AI$64+0.00001,$J$7,MAX($I$7-$AL$63,0.00001)/365,$C$6,$D$6,$M$7)-$K$7))","v":16709.999294231802},15872.486030155784,15035.948794886843,14200.885470409947,13367.922858891547,12537.813531998932,11711.425653343935,10889.727085070233,10073.765371619073,9264.6452353809309,8463.5050925018568,7671.4938705847235,6889.7491385308886,6119.3772821890088,5361.4362036090624,4616.9208009157928,3886.7513060751635,3171.7644194035702,2472.707079355112,1790.2326388747042,null,null,null,null,null,null,0,142.09312278579307]
[{"$f":"IF(OR('Y2'!$W$1=6,('Y2'!$W$1=7)),\"\",'Y2'!AA85)","v":250},{"$f":"IF(OR('Y2'!$W$1=6,('Y2'!$W$1=7)),\"\",'Y2'!AB85)","v":0.03},{"$f":"IF(all!$AQ$1=1,all!AR84,IF(all!$AQ$1=2,all!AT84*100,IF(all!$AQ$1=3,all!AV84,all!AX84)))","v":9.0225597694968322E-14},{"$f":"IF(OR('Y2'!$W$1=6,('Y2'!$W$1=7)),\"\",'Y2'!AC85)","v":82},{"$f":"IF(all!$AP$3=1,all!AS84,IF(all!$AP$3=2,all!AU84*100,IF(all!$AP$3=3,all!AW84,all!AY84)))","v":82.123694881411382},59,{"$f":"IF($AE92=1,VLOOKUP($F92,all!$E$14:$AD$553,3),\"\")","v":"butterfly call _/\\_ (2s172.5c+b170c+b175c)"},{"$f":"IF($AE92=1,VLOOKUP($F92,all!$E$14:$AD$553,4),\"\")","v":170},{"$f":"IF($AE92=1,VLOOKUP($F92,all!$E$14:$AD$553,5),\"\")","v":3.3},{"$f":"IF($AE92=1,VLOOKUP($F92,all!$E$14:$AD$553,6),\"\")","v":172.5},{"$f":"IF($AE92=1,VLOOKUP($F92,all!$E$14:$AD$553,7),\"\")","v":2.21},{"$f":"IF($AE92=1,VLOOKUP($F92,all!$E$14:$AD$553,8),\"\")","v":175},{"$f":"IF($AE92=1,VLOOKUP($F92,all!$E$14:$AD$553,9),\"\")","v":1.4},{"$f":"IF($AE92=1,VLOOKUP($F92,all!$E$14:$AD$553,10),\"\")","v":0},{"$f":"IF($AE92=1,VLOOKUP($F92,all!$E$14:$AD$553,11),\"\")","v":0},{"$f":"IF($AE92=1,VLOOKUP($F92,all!$E$14:$AD$553,12),\"\")","v":27.999999999999936},{"$f":"IF($AE92=1,VLOOKUP($F92,all!$E$14:$AD$553,13),\"\")","v":-236.00000000000119},{"$f":"IF($AE92=1,VLOOKUP($F92,all!$E$14:$AD$553,14),\"\")","v":170.28000000000003},{"$f":"IF($AE92=1,VLOOKUP($F92,all!$E$14:$AD$553,15),\"\")","v":174.72},{"$f":"IF($AE92=1,VLOOKUP($F92,all!$E$14:$AD$553,16),\"\")","v":0.16701183318283164},{"$f":"IF($AE92=1,VLOOKUP($F92,all!$E$14:$AD$553,17),\"\")","v":-8.4285684183684833},{"$f":"IF($AE92=1,VLOOKUP($F92,all!$E$14:$AD$553,18),\"\")","v":-1.4076706626586402},{"$f":"IF($AE92=1,VLOOKUP($F92,all!$E$14:$AD$553,19),\"\")","v":772},{"$f":"IF($AE92=1,VLOOKUP($F92,all!$E$14:$AD$553,20),\"\")","v":-0.3056994818652865},{"$f":"IF($AE92=1,VLOOKUP($F92,all!$E$14:$AD$553,21),\"\")","v":1},{"$f":"IF($AE92=1,VLOOKUP($F92,all!$E$14:$AD$553,22),\"\")","v":2},{"$f":"IF($AE92=1,VLOOKUP($F92,all!$E$14:$AD$553,23),\"\")","v":1},{"$f":"IF($AE92=1,VLOOKUP($F92,all!$E$14:$AD$553,24),\"\")","v":0},{"$f":"IF($AE92=1,VLOOKUP($F92,all!$E$14:$AD$553,25),\"\")","v":"x"},null,{"$f":"COUNTIF(all!$E$14:$E$553,F92)","v":1},4,"sell put",{"$f":"-AH91","v":-17548.115018430111},{"$f":"-AI91","v":-16709.999294231802},-15872.486030155784,-15035.948794886843,-14200.885470409947,-13367.922858891547,-12537.813531998932,-11711.425653343935,-10889.727085070233,-10073.765371619073,-9264.6452353809309,-8463.5050925018568,-7671.4938705847235,-6889.7491385308886,-6119.3772821890088,-5361.4362036090624,-4616.9208009157928,-3886.7513060751635,-3171.7644194035702,-2472.707079355112,-1790.2326388747042,null,null,null,null,null,null,0,147.09057511135708]
[{"$f":"IF(OR('Y2'!$W$1=6,('Y2'!$W$1=7)),\"\",'Y2'!AA86)","v":260},{"$f":"IF(OR('Y2'!$W$1=6,('Y2'!$W$1=7)),\"\",'Y2'!AB86)","v":0.01},{"$f":"IF(all!$AQ$1=1,all!AR85,IF(all!$AQ$1=2,all!AT85*100,IF(all!$AQ$1=3,all!AV85,all!AX85)))","v":-1.830566550772387E-15},{"$f":"IF(OR('Y2'!$W$1=6,('Y2'!$W$1=7)),\"\",'Y2'!AC86)","v":85.85},{"$f":"IF(all!$AP$3=1,all!AS85,IF(all!$AP$3=2,all!AU85*100,IF(all!$AP$3=3,all!AW85,all!AY85)))","v":92.118599531702614},60,{"$f":"IF($AE93=1,VLOOKUP($F93,all!$E$14:$AD$553,3),\"\")","v":"butterfly put _/\\_ (2s172.5p+b185p+b160p)"},{"$f":"IF($AE93=1,VLOOKUP($F93,all!$E$14:$AD$553,4),\"\")","v":185},{"$f":"IF($AE93=1,VLOOKUP($F93,all!$E$14:$AD$553,5),\"\")","v":17.45},{"$f":"IF($AE93=1,VLOOKUP($F93,all!$E$14:$AD$553,6),\"\")","v":172.5},{"$f":"IF($AE93=1,VLOOKUP($F93,all!$E$14:$AD$553,7),\"\")","v":6.85},{"$f":"IF($AE93=1,VLOOKUP($F93,all!$E$14:$AD$553,8),\"\")","v":160},{"$f":"IF($AE93=1,VLOOKUP($F93,all!$E$14:$AD$553,9),\"\")","v":1.85},{"$f":"IF($AE93=1,VLOOKUP($F93,all!$E$14:$AD$553,10),\"\")","v":0},{"$f":"IF($AE93=1,VLOOKUP($F93,all!$E$14:$AD$553,11),\"\")","v":0},{"$f":"IF($AE93=1,VLOOKUP($F93,all!$E$14:$AD$553,12),\"\")","v":690},{"$f":"IF($AE93=1,VLOOKUP($F93,all!$E$14:$AD$553,13),\"\")","v":560.00000000000011},{"$f":"IF($AE93=1,VLOOKUP($F93,all!$E$14:$AD$553,14),\"\")","v":165.6},{"$f":"IF($AE93=1,VLOOKUP($F93,all!$E$14:$AD$553,15),\"\")","v":179.4},{"$f":"IF($AE93=1,VLOOKUP($F93,all!$E$14:$AD$553,16),\"\")","v":0.49160193235645377},{"$f":"IF($AE93=1,VLOOKUP($F93,all!$E$14:$AD$553,17),\"\")","v":0.81159419113631626},{"$f":"IF($AE93=1,VLOOKUP($F93,all!$E$14:$AD$553,18),\"\")","v":0.39898127265188615},{"$f":"IF($AE93=1,VLOOKUP($F93,all!$E$14:$AD$553,19),\"\")","v":3115},{"$f":"IF($AE93=1,VLOOKUP($F93,all!$E$14:$AD$553,20),\"\")","v":0.17977528089887643},{"$f":"IF($AE93=1,VLOOKUP($F93,all!$E$14:$AD$553,21),\"\")","v":3},{"$f":"IF($AE93=1,VLOOKUP($F93,all!$E$14:$AD$553,22),\"\")","v":4},{"$f":"IF($AE93=1,VLOOKUP($F93,all!$E$14:$AD$553,23),\"\")","v":3},{"$f":"IF($AE93=1,VLOOKUP($F93,all!$E$14:$AD$553,24),\"\")","v":0},{"$f":"IF($AE93=1,VLOOKUP($F93,all!$E$14:$AD$553,25),\"\")","v":"x"},null,{"$f":"COUNTIF(all!$E$14:$E$553,F93)","v":1},5,"buy under",{"$f":"AH40","v":-8396},{"$f":"AI40","v":-7556.4000000000005},-6716.8000000000011,-5877.2000000000007,-5037.6000000000004,-4198,-3358.4000000000005,-2518.8000000000015,-1679.2000000000003,-839.59999999999866,0,839.59999999999866,1679.2000000000003,2518.8000000000015,3358.4000000000005,4197.9999999999991,5037.6000000000004,5877.2000000000016,6716.8000000000011,7556.4,8396,null,null,null,null,null,null,0,152.08802743685777]
[{"$f":"IF(OR('Y2'!$W$1=6,('Y2'!$W$1=7)),\"\",'Y2'!AA87)","v":270},{"$f":"IF(OR('Y2'!$W$1=6,('Y2'!$W$1=7)),\"\",'Y2'!AB87)","v":0.01},{"$f":"IF(all!$AQ$1=1,all!AR86,IF(all!$AQ$1=2,all!AT86*100,IF(all!$AQ$1=3,all!AV86,all!AX86)))","v":0},{"$f":"IF(OR('Y2'!$W$1=6,('Y2'!$W$1=7)),\"\",'Y2'!AC87)","v":102.55},{"$f":"IF(all!$AP$3=1,all!AS86,IF(all!$AP$3=2,all!AU86*100,IF(all!$AP$3=3,all!AW86,all!AY86)))","v":102.11350418274512},61,{"$f":"IF($AE94=1,VLOOKUP($F94,all!$E$14:$AD$553,3),\"\")","v":"butterfly put _/\\_ (2s172.5p+b182.5p+b162.5p)"},{"$f":"IF($AE94=1,VLOOKUP($F94,all!$E$14:$AD$553,4),\"\")","v":182.5},{"$f":"IF($AE94=1,VLOOKUP($F94,all!$E$14:$AD$553,5),\"\")","v":15.05},{"$f":"IF($AE94=1,VLOOKUP($F94,all!$E$14:$AD$553,6),\"\")","v":172.5},{"$f":"IF($AE94=1,VLOOKUP($F94,all!$E$14:$AD$553,7),\"\")","v":6.85},{"$f":"IF($AE94=1,VLOOKUP($F94,all!$E$14:$AD$553,8),\"\")","v":162.5},{"$f":"IF($AE94=1,VLOOKUP($F94,all!$E$14:$AD$553,9),\"\")","v":2.4500000000000002},{"$f":"IF($AE94=1,VLOOKUP($F94,all!$E$14:$AD$553,10),\"\")","v":0},{"$f":"IF($AE94=1,VLOOKUP($F94,all!$E$14:$AD$553,11),\"\")","v":0},{"$f":"IF($AE94=1,VLOOKUP($F94,all!$E$14:$AD$553,12),\"\")","v":619.99999999999989},{"$f":"IF($AE94=1,VLOOKUP($F94,all!$E$14:$AD$553,13),\"\")","v":380.00000000000006},{"$f":"IF($AE94=1,VLOOKUP($F94,all!$E$14:$AD$553,14),\"\")","v":166.3},{"$f":"IF($AE94=1,VLOOKUP($F94,all!$E$14:$AD$553,15),\"\")","v":178.7},{"$f":"IF($AE94=1,VLOOKUP($F94,all!$E$14:$AD$553,16),\"\")","v":0.44690534464590748},{"$f":"IF($AE94=1,VLOOKUP($F94,all!$E$14:$AD$553,17),\"\")","v":0.61290321592091612},{"$f":"IF($AE94=1,VLOOKUP($F94,all!$E$14:$AD$553,18),\"\")","v":0.27390972294572208},{"$f":"IF($AE94=1,VLOOKUP($F94,all!$E$14:$AD$553,19),\"\")","v":2875},{"$f":"IF($AE94=1,VLOOKUP($F94,all!$E$14:$AD$553,20),\"\")","v":0.13217391304347828},{"$f":"IF($AE94=1,VLOOKUP($F94,all!$E$14:$AD$553,21),\"\")","v":3},{"$f":"IF($AE94=1,VLOOKUP($F94,all!$E$14:$AD$553,22),\"\")","v":4},{"$f":"IF($AE94=1,VLOOKUP($F94,all!$E$14:$AD$553,23),\"\")","v":3},{"$f":"IF($AE94=1,VLOOKUP($F94,all!$E$14:$AD$553,24),\"\")","v":0},{"$f":"IF($AE94=1,VLOOKUP($F94,all!$E$14:$AD$553,25),\"\")","v":"x"},null,{"$f":"COUNTIF(all!$E$14:$E$553,F94)","v":1},6,"sell under",{"$f":"AH41","v":8396},{"$f":"AI41","v":7556.4000000000005},6716.8000000000011,5877.2000000000007,5037.6000000000004,4198,3358.4000000000005,2518.8000000000015,1679.2000000000003,839.59999999999866,0,-839.59999999999866,-1679.2000000000003,-2518.8000000000015,-3358.4000000000005,-4197.9999999999991,-5037.6000000000004,-5877.2000000000016,-6716.8000000000011,-7556.4,-8396,null,null,null,null,null,null,0,157.08547976202451]
[{"$f":"IF(OR('Y2'!$W$1=6,('Y2'!$W$1=7)),\"\",'Y2'!AA88)","v":280},{"$f":"IF(OR('Y2'!$W$1=6,('Y2'!$W$1=7)),\"\",'Y2'!AB88)","v":0.01},{"$f":"IF(all!$AQ$1=1,all!AR87,IF(all!$AQ$1=2,all!AT87*100,IF(all!$AQ$1=3,all!AV87,all!AX87)))","v":0},{"$f":"IF(OR('Y2'!$W$1=6,('Y2'!$W$1=7)),\"\",'Y2'!AC88)","v":111.8},{"$f":"IF(all!$AP$3=1,all!AS87,IF(all!$AP$3=2,all!AU87*100,IF(all!$AP$3=3,all!AW87,all!AY87)))","v":112.10840883301844},62,{"$f":"IF($AE95=1,VLOOKUP($F95,all!$E$14:$AD$553,3),\"\")","v":"butterfly put _/\\_ (2s172.5p+b180p+b165p)"},{"$f":"IF($AE95=1,VLOOKUP($F95,all!$E$14:$AD$553,4),\"\")","v":180},{"$f":"IF($AE95=1,VLOOKUP($F95,all!$E$14:$AD$553,5),\"\")","v":13.05},{"$f":"IF($AE95=1,VLOOKUP($F95,all!$E$14:$AD$553,6),\"\")","v":172.5},{"$f":"IF($AE95=1,VLOOKUP($F95,all!$E$14:$AD$553,7),\"\")","v":6.85},{"$f":"IF($AE95=1,VLOOKUP($F95,all!$E$14:$AD$553,8),\"\")","v":165},{"$f":"IF($AE95=1,VLOOKUP($F95,all!$E$14:$AD$553,9),\"\")","v":3.26},{"$f":"IF($AE95=1,VLOOKUP($F95,all!$E$14:$AD$553,10),\"\")","v":0},{"$f":"IF($AE95=1,VLOOKUP($F95,all!$E$14:$AD$553,11),\"\")","v":0},{"$f":"IF($AE95=1,VLOOKUP($F95,all!$E$14:$AD$553,12),\"\")","v":488.99999999999989},{"$f":"IF($AE95=1,VLOOKUP($F95,all!$E$14:$AD$553,13),\"\")","v":261.00000000000028},{"$f":"IF($AE95=1,VLOOKUP($F95,all!$E$14:$AD$553,14),\"\")","v":167.61},{"$f":"IF($AE95=1,VLOOKUP($F95,all!$E$14:$AD$553,15),\"\")","v":177.39},{"$f":"IF($AE95=1,VLOOKUP($F95,all!$E$14:$AD$553,16),\"\")","v":0.35906316706919839},{"$f":"IF($AE95=1,VLOOKUP($F95,all!$E$14:$AD$553,17),\"\")","v":0.53374232037336844},{"$f":"IF($AE95=1,VLOOKUP($F95,all!$E$14:$AD$553,18),\"\")","v":0.19164720795212439},{"$f":"IF($AE95=1,VLOOKUP($F95,all!$E$14:$AD$553,19),\"\")","v":2675},{"$f":"IF($AE95=1,VLOOKUP($F95,all!$E$14:$AD$553,20),\"\")","v":9.7570093457944027E-2},{"$f":"IF($AE95=1,VLOOKUP($F95,all!$E$14:$AD$553,21),\"\")","v":3},{"$f":"IF($AE95=1,VLOOKUP($F95,all!$E$14:$AD$553,22),\"\")","v":4},{"$f":"IF($AE95=1,VLOOKUP($F95,all!$E$14:$AD$553,23),\"\")","v":3},{"$f":"IF($AE95=1,VLOOKUP($F95,all!$E$14:$AD$553,24),\"\")","v":0},{"$f":"IF($AE95=1,VLOOKUP($F95,all!$E$14:$AD$553,25),\"\")","v":"x"},null,{"$f":"COUNTIF(all!$E$14:$E$553,F95)","v":1},{"$f":"AF42","v":1},"four",{"$f":"IF($AF$95=0,0,VLOOKUP($AF$95,$AF$89:$BB$94,AH116))","v":-15043.546981203048},{"$f":"IF($AF$95=0,0,VLOOKUP($AF$95,$AF$89:$BB$94,AI116))","v":-15042.918098472679},-15041.68675562002,-15039.479383960286,-15035.798101508504,-15030.016106098228,-15021.380826062163,-15009.024097788482,-14991.978059133509,-14969.195165655992,-14939.570694965456,-14901.966230915852,-14855.232845904307,-14798.232971029463,-14729.860220442668,-14649.056692093942,-14554.827487858533,-14446.252375770478,-14322.494655513396,-14182.807388633179,-14026.537222184905,null,null,null,null,null,null,0,162.08293208759704]
[{"$f":"IF(OR('Y2'!$W$1=6,('Y2'!$W$1=7)),\"\",'Y2'!AA89)","v":290},{"$f":"IF(OR('Y2'!$W$1=6,('Y2'!$W$1=7)),\"\",'Y2'!AB89)","v":0.01},{"$f":"IF(all!$AQ$1=1,all!AR88,IF(all!$AQ$1=2,all!AT88*100,IF(all!$AQ$1=3,all!AV88,all!AX88)))","v":0},{"$f":"IF(OR('Y2'!$W$1=6,('Y2'!$W$1=7)),\"\",'Y2'!AC89)","v":115.55},{"$f":"IF(all!$AP$3=1,all!AS88,IF(all!$AP$3=2,all!AU88*100,IF(all!$AP$3=3,all!AW88,all!AY88)))","v":122.10331348406095},63,{"$f":"IF($AE96=1,VLOOKUP($F96,all!$E$14:$AD$553,3),\"\")","v":"butterfly put _/\\_ (2s172.5p+b177.5p+b167.5p)"},{"$f":"IF($AE96=1,VLOOKUP($F96,all!$E$14:$AD$553,4),\"\")","v":177.5},{"$f":"IF($AE96=1,VLOOKUP($F96,all!$E$14:$AD$553,5),\"\")","v":11},{"$f":"IF($AE96=1,VLOOKUP($F96,all!$E$14:$AD$553,6),\"\")","v":172.5},{"$f":"IF($AE96=1,VLOOKUP($F96,all!$E$14:$AD$553,7),\"\")","v":6.85},{"$f":"IF($AE96=1,VLOOKUP($F96,all!$E$14:$AD$553,8),\"\")","v":167.5},{"$f":"IF($AE96=1,VLOOKUP($F96,all!$E$14:$AD$553,9),\"\")","v":4.25},{"$f":"IF($AE96=1,VLOOKUP($F96,all!$E$14:$AD$553,10),\"\")","v":0},{"$f":"IF($AE96=1,VLOOKUP($F96,all!$E$14:$AD$553,11),\"\")","v":0},{"$f":"IF($AE96=1,VLOOKUP($F96,all!$E$14:$AD$553,12),\"\")","v":344.99999999999994},{"$f":"IF($AE96=1,VLOOKUP($F96,all!$E$14:$AD$553,13),\"\")","v":155.00000000000006},{"$f":"IF($AE96=1,VLOOKUP($F96,all!$E$14:$AD$553,14),\"\")","v":169.05},{"$f":"IF($AE96=1,VLOOKUP($F96,all!$E$14:$AD$553,15),\"\")","v":175.95},{"$f":"IF($AE96=1,VLOOKUP($F96,all!$E$14:$AD$553,16),\"\")","v":0.25724173316007271},{"$f":"IF($AE96=1,VLOOKUP($F96,all!$E$14:$AD$553,17),\"\")","v":0.44927534929636698},{"$f":"IF($AE96=1,VLOOKUP($F96,all!$E$14:$AD$553,18),\"\")","v":0.1155723695190945},{"$f":"IF($AE96=1,VLOOKUP($F96,all!$E$14:$AD$553,19),\"\")","v":2470},{"$f":"IF($AE96=1,VLOOKUP($F96,all!$E$14:$AD$553,20),\"\")","v":6.2753036437246987E-2},{"$f":"IF($AE96=1,VLOOKUP($F96,all!$E$14:$AD$553,21),\"\")","v":3},{"$f":"IF($AE96=1,VLOOKUP($F96,all!$E$14:$AD$553,22),\"\")","v":4},{"$f":"IF($AE96=1,VLOOKUP($F96,all!$E$14:$AD$553,23),\"\")","v":3},{"$f":"IF($AE96=1,VLOOKUP($F96,all!$E$14:$AD$553,24),\"\")","v":0},{"$f":"IF($AE96=1,VLOOKUP($F96,all!$E$14:$AD$553,25),\"\")","v":"x"},null,{"$f":"COUNTIF(all!$E$14:$E$553,F96)","v":1},null,null,null,null,null,null,null,null,null,null,null,null,null,null,null,null,null,null,null,null,null,null,null,null,null,null,null,null,null,0,167.08038441294551]
[{"$f":"IF(OR('Y2'!$W$1=6,('Y2'!$W$1=7)),\"\",'Y2'!AA90)","v":300},{"$f":"IF(OR('Y2'!$W$1=6,('Y2'!$W$1=7)),\"\",'Y2'!AB90)","v":0.01},{"$f":"IF(all!$AQ$1=1,all!AR89,IF(all!$AQ$1=2,all!AT89*100,IF(all!$AQ$1=3,all!AV89,all!AX89)))","v":0},{"$f":"IF(OR('Y2'!$W$1=6,('Y2'!$W$1=7)),\"\",'Y2'!AC90)","v":132.19999999999999},{"$f":"IF(all!$AP$3=1,all!AS89,IF(all!$AP$3=2,all!AU89*100,IF(all!$AP$3=3,all!AW89,all!AY89)))","v":132.09821813447485},64,{"$f":"IF($AE97=1,VLOOKUP($F97,all!$E$14:$AD$553,3),\"\")","v":"butterfly put _/\\_ (2s172.5p+b175p+b170p)"},{"$f":"IF($AE97=1,VLOOKUP($F97,all!$E$14:$AD$553,4),\"\")","v":175},{"$f":"IF($AE97=1,VLOOKUP($F97,all!$E$14:$AD$553,5),\"\")","v":8.6},{"$f":"IF($AE97=1,VLOOKUP($F97,all!$E$14:$AD$553,6),\"\")","v":172.5},{"$f":"IF($AE97=1,VLOOKUP($F97,all!$E$14:$AD$553,7),\"\")","v":6.85},{"$f":"IF($AE97=1,VLOOKUP($F97,all!$E$14:$AD$553,8),\"\")","v":170},{"$f":"IF($AE97=1,VLOOKUP($F97,all!$E$14:$AD$553,9),\"\")","v":5.45},{"$f":"IF($AE97=1,VLOOKUP($F97,all!$E$14:$AD$553,10),\"\")","v":0},{"$f":"IF($AE97=1,VLOOKUP($F97,all!$E$14:$AD$553,11),\"\")","v":0},{"$f":"IF($AE97=1,VLOOKUP($F97,all!$E$14:$AD$553,12),\"\")","v":214.99999999999986},{"$f":"IF($AE97=1,VLOOKUP($F97,all!$E$14:$AD$553,13),\"\")","v":35.000000000000142},{"$f":"IF($AE97=1,VLOOKUP($F97,all!$E$14:$AD$553,14),\"\")","v":170.35},{"$f":"IF($AE97=1,VLOOKUP($F97,all!$E$14:$AD$553,15),\"\")","v":174.65},{"$f":"IF($AE97=1,VLOOKUP($F97,all!$E$14:$AD$553,16),\"\")","v":0.16180897565509911},{"$f":"IF($AE97=1,VLOOKUP($F97,all!$E$14:$AD$553,17),\"\")","v":0.16279069010275937},{"$f":"IF($AE97=1,VLOOKUP($F97,all!$E$14:$AD$553,18),\"\")","v":2.6340994811714175E-2},{"$f":"IF($AE97=1,VLOOKUP($F97,all!$E$14:$AD$553,19),\"\")","v":2229.9999999999995},{"$f":"IF($AE97=1,VLOOKUP($F97,all!$E$14:$AD$553,20),\"\")","v":1.5695067264574057E-2},{"$f":"IF($AE97=1,VLOOKUP($F97,all!$E$14:$AD$553,21),\"\")","v":3},{"$f":"IF($AE97=1,VLOOKUP($F97,all!$E$14:$AD$553,22),\"\")","v":4},{"$f":"IF($AE97=1,VLOOKUP($F97,all!$E$14:$AD$553,23),\"\")","v":3},{"$f":"IF($AE97=1,VLOOKUP($F97,all!$E$14:$AD$553,24),\"\")","v":0},{"$f":"IF($AE97=1,VLOOKUP($F97,all!$E$14:$AD$553,25),\"\")","v":"x"},null,{"$f":"COUNTIF(all!$E$14:$E$553,F97)","v":1},1,"buy call",{"$f":"IF($K$8=\"\",0,$H$8*$J$2*(PB(\"C\",AH$64+0.00001,$J$8,MAX($I$8-$AL$63,0.00001)/365,$C$6,$D$6,$M$8)-$K$8))","v":0},{"$f":"IF($K$8=\"\",0,$H$8*$J$2*(PB(\"C\",AI$64+0.00001,$J$8,MAX($I$8-$AL$63,0.00001)/365,$C$6,$D$6,$M$8)-$K$8))","v":0},0,0,0,0,0,0,0,0,0,0,0,0,0,0,0,0,0,0,0,null,null,null,null,null,null,0,172.0778367383638]
[{"$f":"IF(OR('Y2'!$W$1=6,('Y2'!$W$1=7)),\"\",'Y2'!AA91)","v":305},{"$f":"IF(OR('Y2'!$W$1=6,('Y2'!$W$1=7)),\"\",'Y2'!AB91)","v":218},{"$f":"IF(all!$AQ$1=1,all!AR90,IF(all!$AQ$1=2,all!AT90*100,IF(all!$AQ$1=3,all!AV90,all!AX90)))","v":0},{"$f":"IF(OR('Y2'!$W$1=6,('Y2'!$W$1=7)),\"\",'Y2'!AC91)","v":29.52},{"$f":"IF(all!$AP$3=1,all!AS90,IF(all!$AP$3=2,all!AU90*100,IF(all!$AP$3=3,all!AW90,all!AY90)))","v":137.09567045987407},65,{"$f":"IF($AE98=1,VLOOKUP($F98,all!$E$14:$AD$553,3),\"\")","v":"calender call 170"},{"$f":"IF($AE98=1,VLOOKUP($F98,all!$E$14:$AD$553,4),\"\")","v":170},{"$f":"IF($AE98=1,VLOOKUP($F98,all!$E$14:$AD$553,5),\"\")","v":6.08},{"$f":"IF($AE98=1,VLOOKUP($F98,all!$E$14:$AD$553,6),\"\")","v":170},{"$f":"IF($AE98=1,VLOOKUP($F98,all!$E$14:$AD$553,7),\"\")","v":3.3},{"$f":"IF($AE98=1,VLOOKUP($F98,all!$E$14:$AD$553,8),\"\")","v":0},{"$f":"IF($AE98=1,VLOOKUP($F98,all!$E$14:$AD$553,9),\"\")","v":0},{"$f":"IF($AE98=1,VLOOKUP($F98,all!$E$14:$AD$553,10),\"\")","v":0},{"$f":"IF($AE98=1,VLOOKUP($F98,all!$E$14:$AD$553,11),\"\")","v":0},{"$f":"IF($AE98=1,VLOOKUP($F98,all!$E$14:$AD$553,12),\"\")","v":278},{"$f":"IF($AE98=1,VLOOKUP($F98,all!$E$14:$AD$553,13),\"\")","v":0},{"$f":"IF($AE98=1,VLOOKUP($F98,all!$E$14:$AD$553,14),\"\")","v":0},{"$f":"IF($AE98=1,VLOOKUP($F98,all!$E$14:$AD$553,15),\"\")","v":0},{"$f":"IF($AE98=1,VLOOKUP($F98,all!$E$14:$AD$553,16),\"\")","v":0},{"$f":"IF($AE98=1,VLOOKUP($F98,all!$E$14:$AD$553,17),\"\")","v":0},{"$f":"IF($AE98=1,VLOOKUP($F98,all!$E$14:$AD$553,18),\"\")","v":0},{"$f":"IF($AE98=1,VLOOKUP($F98,all!$E$14:$AD$553,19),\"\")","v":278},{"$f":"IF($AE98=1,VLOOKUP($F98,all!$E$14:$AD$553,20),\"\")","v":0},{"$f":"IF($AE98=1,VLOOKUP($F98,all!$E$14:$AD$553,21),\"\")","v":1},{"$f":"IF($AE98=1,VLOOKUP($F98,all!$E$14:$AD$553,22),\"\")","v":2},{"$f":"IF($AE98=1,VLOOKUP($F98,all!$E$14:$AD$553,23),\"\")","v":0},{"$f":"IF($AE98=1,VLOOKUP($F98,all!$E$14:$AD$553,24),\"\")","v":0},{"$f":"IF($AE98=1,VLOOKUP($F98,all!$E$14:$AD$553,25),\"\")","v":"c"},null,{"$f":"COUNTIF(all!$E$14:$E$553,F98)","v":1},2,"sell call",{"$f":"-AH97","v":0},{"$f":"-AI97","v":0},0,0,0,0,0,0,0,0,0,0,0,0,0,0,0,0,0,0,0,null,null,null,null,null,null,0,177.07528906391306]
[{"$f":"IF(OR('Y2'!$W$1=6,('Y2'!$W$1=7)),\"\",'Y2'!AA92)","v":310},{"$f":"IF(OR('Y2'!$W$1=6,('Y2'!$W$1=7)),\"\",'Y2'!AB92)","v":215.66},{"$f":"IF(all!$AQ$1=1,all!AR91,IF(all!$AQ$1=2,all!AT91*100,IF(all!$AQ$1=3,all!AV91,all!AX91)))","v":0},{"$f":"IF(OR('Y2'!$W$1=6,('Y2'!$W$1=7)),\"\",'Y2'!AC92)","v":25.4},{"$f":"IF(all!$AP$3=1,all!AS91,IF(all!$AP$3=2,all!AU91*100,IF(all!$AP$3=3,all!AW91,all!AY91)))","v":142.09312278587441},66,{"$f":"IF($AE99=1,VLOOKUP($F99,all!$E$14:$AD$553,3),\"\")","v":"calender put 170"},{"$f":"IF($AE99=1,VLOOKUP($F99,all!$E$14:$AD$553,4),\"\")","v":170},{"$f":"IF($AE99=1,VLOOKUP($F99,all!$E$14:$AD$553,5),\"\")","v":8.6},{"$f":"IF($AE99=1,VLOOKUP($F99,all!$E$14:$AD$553,6),\"\")","v":170},{"$f":"IF($AE99=1,VLOOKUP($F99,all!$E$14:$AD$553,7),\"\")","v":5.45},{"$f":"IF($AE99=1,VLOOKUP($F99,all!$E$14:$AD$553,8),\"\")","v":0},{"$f":"IF($AE99=1,VLOOKUP($F99,all!$E$14:$AD$553,9),\"\")","v":0},{"$f":"IF($AE99=1,VLOOKUP($F99,all!$E$14:$AD$553,10),\"\")","v":0},{"$f":"IF($AE99=1,VLOOKUP($F99,all!$E$14:$AD$553,11),\"\")","v":0},{"$f":"IF($AE99=1,VLOOKUP($F99,all!$E$14:$AD$553,12),\"\")","v":314.99999999999994},{"$f":"IF($AE99=1,VLOOKUP($F99,all!$E$14:$AD$553,13),\"\")","v":0},{"$f":"IF($AE99=1,VLOOKUP($F99,all!$E$14:$AD$553,14),\"\")","v":0},{"$f":"IF($AE99=1,VLOOKUP($F99,all!$E$14:$AD$553,15),\"\")","v":0},{"$f":"IF($AE99=1,VLOOKUP($F99,all!$E$14:$AD$553,16),\"\")","v":0},{"$f":"IF($AE99=1,VLOOKUP($F99,all!$E$14:$AD$553,17),\"\")","v":0},{"$f":"IF($AE99=1,VLOOKUP($F99,all!$E$14:$AD$553,18),\"\")","v":0},{"$f":"IF($AE99=1,VLOOKUP($F99,all!$E$14:$AD$553,19),\"\")","v":314.99999999999994},{"$f":"IF($AE99=1,VLOOKUP($F99,all!$E$14:$AD$553,20),\"\")","v":0},{"$f":"IF($AE99=1,VLOOKUP($F99,all!$E$14:$AD$553,21),\"\")","v":3},{"$f":"IF($AE99=1,VLOOKUP($F99,all!$E$14:$AD$553,22),\"\")","v":4},{"$f":"IF($AE99=1,VLOOKUP($F99,all!$E$14:$AD$553,23),\"\")","v":0},{"$f":"IF($AE99=1,VLOOKUP($F99,all!$E$14:$AD$553,24),\"\")","v":0},{"$f":"IF($AE99=1,VLOOKUP($F99,all!$E$14:$AD$553,25),\"\")","v":"c"},null,{"$f":"COUNTIF(all!$E$14:$E$553,F99)","v":1},3,"buy put",{"$f":"IF($K$8=\"\",0,$H$8*$J$2*(PB(\"P\",AH$64+0.00001,$J$8,MAX($I$8-$AL$63,0.00001)/365,$C$6,$D$6,$M$8)-$K$8))","v":0},{"$f":"IF($K$8=\"\",0,$H$8*$J$2*(PB(\"P\",AI$64+0.00001,$J$8,MAX($I$8-$AL$63,0.00001)/365,$C$6,$D$6,$M$8)-$K$8))","v":0},0,0,0,0,0,0,0,0,0,0,0,0,0,0,0,0,0,0,0,null,null,null,null,null,null,0,182.0727413892119]
[{"$f":"IF(OR('Y2'!$W$1=6,('Y2'!$W$1=7)),\"\",'Y2'!AA93)","v":315},{"$f":"IF(OR('Y2'!$W$1=6,('Y2'!$W$1=7)),\"\",'Y2'!AB93)","v":219.4},{"$f":"IF(all!$AQ$1=1,all!AR92,IF(all!$AQ$1=2,all!AT92*100,IF(all!$AQ$1=3,all!AV92,all!AX92)))","v":0},{"$f":"IF(OR('Y2'!$W$1=6,('Y2'!$W$1=7)),\"\",'Y2'!AC93)","v":27.92},{"$f":"IF(all!$AP$3=1,all!AS92,IF(all!$AP$3=2,all!AU92*100,IF(all!$AP$3=3,all!AW92,all!AY92)))","v":147.09057511109509},67,{"$f":"IF($AE100=1,VLOOKUP($F100,all!$E$14:$AD$553,3),\"\")","v":"calender call 170"},{"$f":"IF($AE100=1,VLOOKUP($F100,all!$E$14:$AD$553,4),\"\")","v":170},{"$f":"IF($AE100=1,VLOOKUP($F100,all!$E$14:$AD$553,5),\"\")","v":8.9},{"$f":"IF($AE100=1,VLOOKUP($F100,all!$E$14:$AD$553,6),\"\")","v":167.5},{"$f":"IF($AE100=1,VLOOKUP($F100,all!$E$14:$AD$553,7),\"\")","v":4.5999999999999996},{"$f":"IF($AE100=1,VLOOKUP($F100,all!$E$14:$AD$553,8),\"\")","v":0},{"$f":"IF($AE100=1,VLOOKUP($F100,all!$E$14:$AD$553,9),\"\")","v":0},{"$f":"IF($AE100=1,VLOOKUP($F100,all!$E$14:$AD$553,10),\"\")","v":0},{"$f":"IF($AE100=1,VLOOKUP($F100,all!$E$14:$AD$553,11),\"\")","v":0},{"$f":"IF($AE100=1,VLOOKUP($F100,all!$E$14:$AD$553,12),\"\")","v":430.00000000000006},{"$f":"IF($AE100=1,VLOOKUP($F100,all!$E$14:$AD$553,13),\"\")","v":0},{"$f":"IF($AE100=1,VLOOKUP($F100,all!$E$14:$AD$553,14),\"\")","v":0},{"$f":"IF($AE100=1,VLOOKUP($F100,all!$E$14:$AD$553,15),\"\")","v":0},{"$f":"IF($AE100=1,VLOOKUP($F100,all!$E$14:$AD$553,16),\"\")","v":0},{"$f":"IF($AE100=1,VLOOKUP($F100,all!$E$14:$AD$553,17),\"\")","v":0},{"$f":"IF($AE100=1,VLOOKUP($F100,all!$E$14:$AD$553,18),\"\")","v":0},{"$f":"IF($AE100=1,VLOOKUP($F100,all!$E$14:$AD$553,19),\"\")","v":430.00000000000006},{"$f":"IF($AE100=1,VLOOKUP($F100,all!$E$14:$AD$553,20),\"\")","v":0},{"$f":"IF($AE100=1,VLOOKUP($F100,all!$E$14:$AD$553,21),\"\")","v":1},{"$f":"IF($AE100=1,VLOOKUP($F100,all!$E$14:$AD$553,22),\"\")","v":2},{"$f":"IF($AE100=1,VLOOKUP($F100,all!$E$14:$AD$553,23),\"\")","v":0},{"$f":"IF($AE100=1,VLOOKUP($F100,all!$E$14:$AD$553,24),\"\")","v":0},{"$f":"IF($AE100=1,VLOOKUP($F100,all!$E$14:$AD$553,25),\"\")","v":"c"},null,{"$f":"COUNTIF(all!$E$14:$E$553,F100)","v":1},4,"sell put",{"$f":"-AH99","v":0},{"$f":"-AI99","v":0},0,0,0,0,0,0,0,0,0,0,0,0,0,0,0,0,0,0,0,null,null,null,null,null,null,0,192.06764604058608]
[{"$f":"IF(OR('Y2'!$W$1=6,('Y2'!$W$1=7)),\"\",'Y2'!AA94)","v":320},{"$f":"IF(OR('Y2'!$W$1=6,('Y2'!$W$1=7)),\"\",'Y2'!AB94)","v":208},{"$f":"IF(all!$AQ$1=1,all!AR93,IF(all!$AQ$1=2,all!AT93*100,IF(all!$AQ$1=3,all!AV93,all!AX93)))","v":0},{"$f":"IF(OR('Y2'!$W$1=6,('Y2'!$W$1=7)),\"\",'Y2'!AC94)","v":29.72},{"$f":"IF(all!$AP$3=1,all!AS93,IF(all!$AP$3=2,all!AU93*100,IF(all!$AP$3=3,all!AW93,all!AY93)))","v":152.08802743660945},68,{"$f":"IF($AE101=1,VLOOKUP($F101,all!$E$14:$AD$553,3),\"\")","v":"calender put 170"},{"$f":"IF($AE101=1,VLOOKUP($F101,all!$E$14:$AD$553,4),\"\")","v":170},{"$f":"IF($AE101=1,VLOOKUP($F101,all!$E$14:$AD$553,5),\"\")","v":6.25},{"$f":"IF($AE101=1,VLOOKUP($F101,all!$E$14:$AD$553,6),\"\")","v":167.5},{"$f":"IF($AE101=1,VLOOKUP($F101,all!$E$14:$AD$553,7),\"\")","v":4.25},{"$f":"IF($AE101=1,VLOOKUP($F101,all!$E$14:$AD$553,8),\"\")","v":0},{"$f":"IF($AE101=1,VLOOKUP($F101,all!$E$14:$AD$553,9),\"\")","v":0},{"$f":"IF($AE101=1,VLOOKUP($F101,all!$E$14:$AD$553,10),\"\")","v":0},{"$f":"IF($AE101=1,VLOOKUP($F101,all!$E$14:$AD$553,11),\"\")","v":0},{"$f":"IF($AE101=1,VLOOKUP($F101,all!$E$14:$AD$553,12),\"\")","v":200},{"$f":"IF($AE101=1,VLOOKUP($F101,all!$E$14:$AD$553,13),\"\")","v":0},{"$f":"IF($AE101=1,VLOOKUP($F101,all!$E$14:$AD$553,14),\"\")","v":0},{"$f":"IF($AE101=1,VLOOKUP($F101,all!$E$14:$AD$553,15),\"\")","v":0},{"$f":"IF($AE101=1,VLOOKUP($F101,all!$E$14:$AD$553,16),\"\")","v":0},{"$f":"IF($AE101=1,VLOOKUP($F101,all!$E$14:$AD$553,17),\"\")","v":0},{"$f":"IF($AE101=1,VLOOKUP($F101,all!$E$14:$AD$553,18),\"\")","v":0},{"$f":"IF($AE101=1,VLOOKUP($F101,all!$E$14:$AD$553,19),\"\")","v":200},{"$f":"IF($AE101=1,VLOOKUP($F101,all!$E$14:$AD$553,20),\"\")","v":0},{"$f":"IF($AE101=1,VLOOKUP($F101,all!$E$14:$AD$553,21),\"\")","v":3},{"$f":"IF($AE101=1,VLOOKUP($F101,all!$E$14:$AD$553,22),\"\")","v":4},{"$f":"IF($AE101=1,VLOOKUP($F101,all!$E$14:$AD$553,23),\"\")","v":0},{"$f":"IF($AE101=1,VLOOKUP($F101,all!$E$14:$AD$553,24),\"\")","v":0},{"$f":"IF($AE101=1,VLOOKUP($F101,all!$E$14:$AD$553,25),\"\")","v":"c"},null,{"$f":"COUNTIF(all!$E$14:$E$553,F101)","v":1},5,"buy under",{"$f":"AH48","v":0},{"$f":"AI48","v":0},0,0,0,0,0,0,0,0,0,0,0,0,0,0,0,0,0,0,0,null,null,null,null,null,null,0,202.06255069120701]
[{"$f":"IF(OR('Y2'!$W$1=6,('Y2'!$W$1=7)),\"\",'Y2'!AA95)","v":325},{"$f":"IF(OR('Y2'!$W$1=6,('Y2'!$W$1=7)),\"\",'Y2'!AB95)","v":210.4},{"$f":"IF(all!$AQ$1=1,all!AR94,IF(all!$AQ$1=2,all!AT94*100,IF(all!$AQ$1=3,all!AV94,all!AX94)))","v":0},{"$f":"IF(OR('Y2'!$W$1=6,('Y2'!$W$1=7)),\"\",'Y2'!AC95)","v":29.48},{"$f":"IF(all!$AP$3=1,all!AS94,IF(all!$AP$3=2,all!AU94*100,IF(all!$AP$3=3,all!AW94,all!AY94)))","v":157.08547976209218},69,{"$f":"IF($AE102=1,VLOOKUP($F102,all!$E$14:$AD$553,3),\"\")","v":"calender call 175"},{"$f":"IF($AE102=1,VLOOKUP($F102,all!$E$14:$AD$553,4),\"\")","v":175},{"$f":"IF($AE102=1,VLOOKUP($F102,all!$E$14:$AD$553,5),\"\")","v":3.75},{"$f":"IF($AE102=1,VLOOKUP($F102,all!$E$14:$AD$553,6),\"\")","v":172.5},{"$f":"IF($AE102=1,VLOOKUP($F102,all!$E$14:$AD$553,7),\"\")","v":2.21},{"$f":"IF($AE102=1,VLOOKUP($F102,all!$E$14:$AD$553,8),\"\")","v":0},{"$f":"IF($AE102=1,VLOOKUP($F102,all!$E$14:$AD$553,9),\"\")","v":0},{"$f":"IF($AE102=1,VLOOKUP($F102,all!$E$14:$AD$553,10),\"\")","v":0},{"$f":"IF($AE102=1,VLOOKUP($F102,all!$E$14:$AD$553,11),\"\")","v":0},{"$f":"IF($AE102=1,VLOOKUP($F102,all!$E$14:$AD$553,12),\"\")","v":154},{"$f":"IF($AE102=1,VLOOKUP($F102,all!$E$14:$AD$553,13),\"\")","v":0},{"$f":"IF($AE102=1,VLOOKUP($F102,all!$E$14:$AD$553,14),\"\")","v":0},{"$f":"IF($AE102=1,VLOOKUP($F102,all!$E$14:$AD$553,15),\"\")","v":0},{"$f":"IF($AE102=1,VLOOKUP($F102,all!$E$14:$AD$553,16),\"\")","v":0},{"$f":"IF($AE102=1,VLOOKUP($F102,all!$E$14:$AD$553,17),\"\")","v":0},{"$f":"IF($AE102=1,VLOOKUP($F102,all!$E$14:$AD$553,18),\"\")","v":0},{"$f":"IF($AE102=1,VLOOKUP($F102,all!$E$14:$AD$553,19),\"\")","v":154},{"$f":"IF($AE102=1,VLOOKUP($F102,all!$E$14:$AD$553,20),\"\")","v":0},{"$f":"IF($AE102=1,VLOOKUP($F102,all!$E$14:$AD$553,21),\"\")","v":1},{"$f":"IF($AE102=1,VLOOKUP($F102,all!$E$14:$AD$553,22),\"\")","v":2},{"$f":"IF($AE102=1,VLOOKUP($F102,all!$E$14:$AD$553,23),\"\")","v":0},{"$f":"IF($AE102=1,VLOOKUP($F102,all!$E$14:$AD$553,24),\"\")","v":0},{"$f":"IF($AE102=1,VLOOKUP($F102,all!$E$14:$AD$553,25),\"\")","v":"c"},null,{"$f":"COUNTIF(all!$E$14:$E$553,F102)","v":1},6,"sell under",{"$f":"AH49","v":0},{"$f":"AI49","v":0},0,0,0,0,0,0,0,0,0,0,0,0,0,0,0,0,0,0,0,null,null,null,null,null,null,0,212.05745534171501]
[{"$f":"IF(OR('Y2'!$W$1=6,('Y2'!$W$1=7)),\"\",'Y2'!AA96)","v":330},{"$f":"IF(OR('Y2'!$W$1=6,('Y2'!$W$1=7)),\"\",'Y2'!AB96)","v":202.86},{"$f":"IF(all!$AQ$1=1,all!AR95,IF(all!$AQ$1=2,all!AT95*100,IF(all!$AQ$1=3,all!AV95,all!AX95)))","v":0},{"$f":"IF(OR('Y2'!$W$1=6,('Y2'!$W$1=7)),\"\",'Y2'!AC96)","v":31.08},{"$f":"IF(all!$AP$3=1,all!AS95,IF(all!$AP$3=2,all!AU95*100,IF(all!$AP$3=3,all!AW95,all!AY95)))","v":162.08293208757914},70,{"$f":"IF($AE103=1,VLOOKUP($F103,all!$E$14:$AD$553,3),\"\")","v":"calender put 175"},{"$f":"IF($AE103=1,VLOOKUP($F103,all!$E$14:$AD$553,4),\"\")","v":175},{"$f":"IF($AE103=1,VLOOKUP($F103,all!$E$14:$AD$553,5),\"\")","v":11.6},{"$f":"IF($AE103=1,VLOOKUP($F103,all!$E$14:$AD$553,6),\"\")","v":172.5},{"$f":"IF($AE103=1,VLOOKUP($F103,all!$E$14:$AD$553,7),\"\")","v":6.85},{"$f":"IF($AE103=1,VLOOKUP($F103,all!$E$14:$AD$553,8),\"\")","v":0},{"$f":"IF($AE103=1,VLOOKUP($F103,all!$E$14:$AD$553,9),\"\")","v":0},{"$f":"IF($AE103=1,VLOOKUP($F103,all!$E$14:$AD$553,10),\"\")","v":0},{"$f":"IF($AE103=1,VLOOKUP($F103,all!$E$14:$AD$553,11),\"\")","v":0},{"$f":"IF($AE103=1,VLOOKUP($F103,all!$E$14:$AD$553,12),\"\")","v":475},{"$f":"IF($AE103=1,VLOOKUP($F103,all!$E$14:$AD$553,13),\"\")","v":0},{"$f":"IF($AE103=1,VLOOKUP($F103,all!$E$14:$AD$553,14),\"\")","v":0},{"$f":"IF($AE103=1,VLOOKUP($F103,all!$E$14:$AD$553,15),\"\")","v":0},{"$f":"IF($AE103=1,VLOOKUP($F103,all!$E$14:$AD$553,16),\"\")","v":0},{"$f":"IF($AE103=1,VLOOKUP($F103,all!$E$14:$AD$553,17),\"\")","v":0},{"$f":"IF($AE103=1,VLOOKUP($F103,all!$E$14:$AD$553,18),\"\")","v":0},{"$f":"IF($AE103=1,VLOOKUP($F103,all!$E$14:$AD$553,19),\"\")","v":475},{"$f":"IF($AE103=1,VLOOKUP($F103,all!$E$14:$AD$553,20),\"\")","v":0},{"$f":"IF($AE103=1,VLOOKUP($F103,all!$E$14:$AD$553,21),\"\")","v":3},{"$f":"IF($AE103=1,VLOOKUP($F103,all!$E$14:$AD$553,22),\"\")","v":4},{"$f":"IF($AE103=1,VLOOKUP($F103,all!$E$14:$AD$553,23),\"\")","v":0},{"$f":"IF($AE103=1,VLOOKUP($F103,all!$E$14:$AD$553,24),\"\")","v":0},{"$f":"IF($AE103=1,VLOOKUP($F103,all!$E$14:$AD$553,25),\"\")","v":"c"},null,{"$f":"COUNTIF(all!$E$14:$E$553,F103)","v":1},{"$f":"AF50","v":0},"five",{"$f":"IF($AF$103=0,0,VLOOKUP($AF$103,$AF$97:$BB$102,AH116))","v":0},{"$f":"IF($AF$103=0,0,VLOOKUP($AF$103,$AF$97:$BB$102,AI116))","v":0},0,0,0,0,0,0,0,0,0,0,0,0,0,0,0,0,0,0,0,null,null,null,null,null,null,0,222.05235999203279]
[{"$f":"IF(OR('Y2'!$W$1=6,('Y2'!$W$1=7)),\"\",'Y2'!AA97)","v":335},{"$f":"IF(OR('Y2'!$W$1=6,('Y2'!$W$1=7)),\"\",'Y2'!AB97)","v":195},{"$f":"IF(all!$AQ$1=1,all!AR96,IF(all!$AQ$1=2,all!AT96*100,IF(all!$AQ$1=3,all!AV96,all!AX96)))","v":0},{"$f":"IF(OR('Y2'!$W$1=6,('Y2'!$W$1=7)),\"\",'Y2'!AC97)","v":33.4},{"$f":"IF(all!$AP$3=1,all!AS96,IF(all!$AP$3=2,all!AU96*100,IF(all!$AP$3=3,all!AW96,all!AY96)))","v":167.08038441294761},71,{"$f":"IF($AE104=1,VLOOKUP($F104,all!$E$14:$AD$553,3),\"\")","v":"calender call 160"},{"$f":"IF($AE104=1,VLOOKUP($F104,all!$E$14:$AD$553,4),\"\")","v":160},{"$f":"IF($AE104=1,VLOOKUP($F104,all!$E$14:$AD$553,5),\"\")","v":11.85},{"$f":"IF($AE104=1,VLOOKUP($F104,all!$E$14:$AD$553,6),\"\")","v":165},{"$f":"IF($AE104=1,VLOOKUP($F104,all!$E$14:$AD$553,7),\"\")","v":6.13},{"$f":"IF($AE104=1,VLOOKUP($F104,all!$E$14:$AD$553,8),\"\")","v":0},{"$f":"IF($AE104=1,VLOOKUP($F104,all!$E$14:$AD$553,9),\"\")","v":0},{"$f":"IF($AE104=1,VLOOKUP($F104,all!$E$14:$AD$553,10),\"\")","v":0},{"$f":"IF($AE104=1,VLOOKUP($F104,all!$E$14:$AD$553,11),\"\")","v":0},{"$f":"IF($AE104=1,VLOOKUP($F104,all!$E$14:$AD$553,12),\"\")","v":572},{"$f":"IF($AE104=1,VLOOKUP($F104,all!$E$14:$AD$553,13),\"\")","v":0},{"$f":"IF($AE104=1,VLOOKUP($F104,all!$E$14:$AD$553,14),\"\")","v":0},{"$f":"IF($AE104=1,VLOOKUP($F104,all!$E$14:$AD$553,15),\"\")","v":0},{"$f":"IF($AE104=1,VLOOKUP($F104,all!$E$14:$AD$553,16),\"\")","v":0},{"$f":"IF($AE104=1,VLOOKUP($F104,all!$E$14:$AD$553,17),\"\")","v":0},{"$f":"IF($AE104=1,VLOOKUP($F104,all!$E$14:$AD$553,18),\"\")","v":0},{"$f":"IF($AE104=1,VLOOKUP($F104,all!$E$14:$AD$553,19),\"\")","v":572},{"$f":"IF($AE104=1,VLOOKUP($F104,all!$E$14:$AD$553,20),\"\")","v":0},{"$f":"IF($AE104=1,VLOOKUP($F104,all!$E$14:$AD$553,21),\"\")","v":1},{"$f":"IF($AE104=1,VLOOKUP($F104,all!$E$14:$AD$553,22),\"\")","v":2},{"$f":"IF($AE104=1,VLOOKUP($F104,all!$E$14:$AD$553,23),\"\")","v":0},{"$f":"IF($AE104=1,VLOOKUP($F104,all!$E$14:$AD$553,24),\"\")","v":0},{"$f":"IF($AE104=1,VLOOKUP($F104,all!$E$14:$AD$553,25),\"\")","v":"c"},null,{"$f":"COUNTIF(all!$E$14:$E$553,F104)","v":1},null,null,null,null,null,null,null,null,null,null,null,null,null,null,null,null,null,null,null,null,null,null,null,null,null,null,null,null,null,0,232.04726464256819]
[{"$f":"IF(OR('Y2'!$W$1=6,('Y2'!$W$1=7)),\"\",'Y2'!AA98)","v":340},{"$f":"IF(OR('Y2'!$W$1=6,('Y2'!$W$1=7)),\"\",'Y2'!AB98)","v":196.5},{"$f":"IF(all!$AQ$1=1,all!AR97,IF(all!$AQ$1=2,all!AT97*100,IF(all!$AQ$1=3,all!AV97,all!AX97)))","v":0},{"$f":"IF(OR('Y2'!$W$1=6,('Y2'!$W$1=7)),\"\",'Y2'!AC98)","v":33.6},{"$f":"IF(all!$AP$3=1,all!AS97,IF(all!$AP$3=2,all!AU97*100,IF(all!$AP$3=3,all!AW97,all!AY97)))","v":172.07783673845987},72,{"$f":"IF($AE105=1,VLOOKUP($F105,all!$E$14:$AD$553,3),\"\")","v":"calender put 160"},{"$f":"IF($AE105=1,VLOOKUP($F105,all!$E$14:$AD$553,4),\"\")","v":160},{"$f":"IF($AE105=1,VLOOKUP($F105,all!$E$14:$AD$553,5),\"\")","v":4.55},{"$f":"IF($AE105=1,VLOOKUP($F105,all!$E$14:$AD$553,6),\"\")","v":165},{"$f":"IF($AE105=1,VLOOKUP($F105,all!$E$14:$AD$553,7),\"\")","v":3.26},{"$f":"IF($AE105=1,VLOOKUP($F105,all!$E$14:$AD$553,8),\"\")","v":0},{"$f":"IF($AE105=1,VLOOKUP($F105,all!$E$14:$AD$553,9),\"\")","v":0},{"$f":"IF($AE105=1,VLOOKUP($F105,all!$E$14:$AD$553,10),\"\")","v":0},{"$f":"IF($AE105=1,VLOOKUP($F105,all!$E$14:$AD$553,11),\"\")","v":0},{"$f":"IF($AE105=1,VLOOKUP($F105,all!$E$14:$AD$553,12),\"\")","v":129},{"$f":"IF($AE105=1,VLOOKUP($F105,all!$E$14:$AD$553,13),\"\")","v":0},{"$f":"IF($AE105=1,VLOOKUP($F105,all!$E$14:$AD$553,14),\"\")","v":0},{"$f":"IF($AE105=1,VLOOKUP($F105,all!$E$14:$AD$553,15),\"\")","v":0},{"$f":"IF($AE105=1,VLOOKUP($F105,all!$E$14:$AD$553,16),\"\")","v":0},{"$f":"IF($AE105=1,VLOOKUP($F105,all!$E$14:$AD$553,17),\"\")","v":0},{"$f":"IF($AE105=1,VLOOKUP($F105,all!$E$14:$AD$553,18),\"\")","v":0},{"$f":"IF($AE105=1,VLOOKUP($F105,all!$E$14:$AD$553,19),\"\")","v":129},{"$f":"IF($AE105=1,VLOOKUP($F105,all!$E$14:$AD$553,20),\"\")","v":0},{"$f":"IF($AE105=1,VLOOKUP($F105,all!$E$14:$AD$553,21),\"\")","v":3},{"$f":"IF($AE105=1,VLOOKUP($F105,all!$E$14:$AD$553,22),\"\")","v":4},{"$f":"IF($AE105=1,VLOOKUP($F105,all!$E$14:$AD$553,23),\"\")","v":0},{"$f":"IF($AE105=1,VLOOKUP($F105,all!$E$14:$AD$553,24),\"\")","v":0},{"$f":"IF($AE105=1,VLOOKUP($F105,all!$E$14:$AD$553,25),\"\")","v":"c"},null,{"$f":"COUNTIF(all!$E$14:$E$553,F105)","v":1},1,"buy call",{"$f":"IF($K$9=\"\",0,$H$9*$J$2*(PB(\"C\",AH$64+0.00001,$J$9,MAX($I$9-$AL$63,0.00001)/365,$C$6,$D$6,$M$9)-$K$9))","v":0},{"$f":"IF($K$9=\"\",0,$H$9*$J$2*(PB(\"C\",AI$64+0.00001,$J$9,MAX($I$9-$AL$63,0.00001)/365,$C$6,$D$6,$M$9)-$K$9))","v":0},0,0,0,0,0,0,0,0,0,0,0,0,0,0,0,0,0,0,0,null,null,null,null,null,null,0,242.04216929516045]
[{"$f":"IF(OR('Y2'!$W$1=6,('Y2'!$W$1=7)),\"\",'Y2'!AA99)","v":345},{"$f":"IF(OR('Y2'!$W$1=6,('Y2'!$W$1=7)),\"\",'Y2'!AB99)","v":186.52},{"$f":"IF(all!$AQ$1=1,all!AR98,IF(all!$AQ$1=2,all!AT98*100,IF(all!$AQ$1=3,all!AV98,all!AX98)))","v":0},{"$f":"IF(OR('Y2'!$W$1=6,('Y2'!$W$1=7)),\"\",'Y2'!AC99)","v":35.520000000000003},{"$f":"IF(all!$AP$3=1,all!AS98,IF(all!$AP$3=2,all!AU98*100,IF(all!$AP$3=3,all!AW98,all!AY98)))","v":177.07528906394259},73,{"$f":"IF($AE106=1,VLOOKUP($F106,all!$E$14:$AD$553,3),\"\")","v":"calender call 160"},{"$f":"IF($AE106=1,VLOOKUP($F106,all!$E$14:$AD$553,4),\"\")","v":160},{"$f":"IF($AE106=1,VLOOKUP($F106,all!$E$14:$AD$553,5),\"\")","v":2.2799999999999998},{"$f":"IF($AE106=1,VLOOKUP($F106,all!$E$14:$AD$553,6),\"\")","v":175},{"$f":"IF($AE106=1,VLOOKUP($F106,all!$E$14:$AD$553,7),\"\")","v":1.4},{"$f":"IF($AE106=1,VLOOKUP($F106,all!$E$14:$AD$553,8),\"\")","v":0},{"$f":"IF($AE106=1,VLOOKUP($F106,all!$E$14:$AD$553,9),\"\")","v":0},{"$f":"IF($AE106=1,VLOOKUP($F106,all!$E$14:$AD$553,10),\"\")","v":0},{"$f":"IF($AE106=1,VLOOKUP($F106,all!$E$14:$AD$553,11),\"\")","v":0},{"$f":"IF($AE106=1,VLOOKUP($F106,all!$E$14:$AD$553,12),\"\")","v":87.999999999999986},{"$f":"IF($AE106=1,VLOOKUP($F106,all!$E$14:$AD$553,13),\"\")","v":0},{"$f":"IF($AE106=1,VLOOKUP($F106,all!$E$14:$AD$553,14),\"\")","v":0},{"$f":"IF($AE106=1,VLOOKUP($F106,all!$E$14:$AD$553,15),\"\")","v":0},{"$f":"IF($AE106=1,VLOOKUP($F106,all!$E$14:$AD$553,16),\"\")","v":0},{"$f":"IF($AE106=1,VLOOKUP($F106,all!$E$14:$AD$553,17),\"\")","v":0},{"$f":"IF($AE106=1,VLOOKUP($F106,all!$E$14:$AD$553,18),\"\")","v":0},{"$f":"IF($AE106=1,VLOOKUP($F106,all!$E$14:$AD$553,19),\"\")","v":87.999999999999986},{"$f":"IF($AE106=1,VLOOKUP($F106,all!$E$14:$AD$553,20),\"\")","v":0},{"$f":"IF($AE106=1,VLOOKUP($F106,all!$E$14:$AD$553,21),\"\")","v":1},{"$f":"IF($AE106=1,VLOOKUP($F106,all!$E$14:$AD$553,22),\"\")","v":2},{"$f":"IF($AE106=1,VLOOKUP($F106,all!$E$14:$AD$553,23),\"\")","v":0},{"$f":"IF($AE106=1,VLOOKUP($F106,all!$E$14:$AD$553,24),\"\")","v":0},{"$f":"IF($AE106=1,VLOOKUP($F106,all!$E$14:$AD$553,25),\"\")","v":"c"},null,{"$f":"COUNTIF(all!$E$14:$E$553,F106)","v":1},2,"sell call",{"$f":"-AH105","v":0},{"$f":"-AI105","v":0},0,0,0,0,0,0,0,0,0,0,0,0,0,0,0,0,0,0,0]
[{"$f":"IF(OR('Y2'!$W$1=6,('Y2'!$W$1=7)),\"\",'Y2'!AA100)","v":350},{"$f":"IF(OR('Y2'!$W$1=6,('Y2'!$W$1=7)),\"\",'Y2'!AB100)","v":188.15},{"$f":"IF(all!$AQ$1=1,all!AR99,IF(all!$AQ$1=2,all!AT99*100,IF(all!$AQ$1=3,all!AV99,all!AX99)))","v":0},{"$f":"IF(OR('Y2'!$W$1=6,('Y2'!$W$1=7)),\"\",'Y2'!AC100)","v":38.75},{"$f":"IF(all!$AP$3=1,all!AS99,IF(all!$AP$3=2,all!AU99*100,IF(all!$AP$3=3,all!AW99,all!AY99)))","v":182.07274138916645},74,{"$f":"IF($AE107=1,VLOOKUP($F107,all!$E$14:$AD$553,3),\"\")","v":"calender put 160"},{"$f":"IF($AE107=1,VLOOKUP($F107,all!$E$14:$AD$553,4),\"\")","v":160},{"$f":"IF($AE107=1,VLOOKUP($F107,all!$E$14:$AD$553,5),\"\")","v":14.97},{"$f":"IF($AE107=1,VLOOKUP($F107,all!$E$14:$AD$553,6),\"\")","v":175},{"$f":"IF($AE107=1,VLOOKUP($F107,all!$E$14:$AD$553,7),\"\")","v":8.6},{"$f":"IF($AE107=1,VLOOKUP($F107,all!$E$14:$AD$553,8),\"\")","v":0},{"$f":"IF($AE107=1,VLOOKUP($F107,all!$E$14:$AD$553,9),\"\")","v":0},{"$f":"IF($AE107=1,VLOOKUP($F107,all!$E$14:$AD$553,10),\"\")","v":0},{"$f":"IF($AE107=1,VLOOKUP($F107,all!$E$14:$AD$553,11),\"\")","v":0},{"$f":"IF($AE107=1,VLOOKUP($F107,all!$E$14:$AD$553,12),\"\")","v":637.00000000000011},{"$f":"IF($AE107=1,VLOOKUP($F107,all!$E$14:$AD$553,13),\"\")","v":0},{"$f":"IF($AE107=1,VLOOKUP($F107,all!$E$14:$AD$553,14),\"\")","v":0},{"$f":"IF($AE107=1,VLOOKUP($F107,all!$E$14:$AD$553,15),\"\")","v":0},{"$f":"IF($AE107=1,VLOOKUP($F107,all!$E$14:$AD$553,16),\"\")","v":0},{"$f":"IF($AE107=1,VLOOKUP($F107,all!$E$14:$AD$553,17),\"\")","v":0},{"$f":"IF($AE107=1,VLOOKUP($F107,all!$E$14:$AD$553,18),\"\")","v":0},{"$f":"IF($AE107=1,VLOOKUP($F107,all!$E$14:$AD$553,19),\"\")","v":637.00000000000011},{"$f":"IF($AE107=1,VLOOKUP($F107,all!$E$14:$AD$553,20),\"\")","v":0},{"$f":"IF($AE107=1,VLOOKUP($F107,all!$E$14:$AD$553,21),\"\")","v":3},{"$f":"IF($AE107=1,VLOOKUP($F107,all!$E$14:$AD$553,22),\"\")","v":4},{"$f":"IF($AE107=1,VLOOKUP($F107,all!$E$14:$AD$553,23),\"\")","v":0},{"$f":"IF($AE107=1,VLOOKUP($F107,all!$E$14:$AD$553,24),\"\")","v":0},{"$f":"IF($AE107=1,VLOOKUP($F107,all!$E$14:$AD$553,25),\"\")","v":"c"},null,{"$f":"COUNTIF(all!$E$14:$E$553,F107)","v":1},3,"buy put",{"$f":"IF($K$9=\"\",0,$H$9*$J$2*(PB(\"P\",AH$64+0.00001,$J$9,MAX($I$9-$AL$63,0.00001)/365,$C$6,$D$6,$M$9)-$K$9))","v":0},{"$f":"IF($K$9=\"\",0,$H$9*$J$2*(PB(\"P\",AI$64+0.00001,$J$9,MAX($I$9-$AL$63,0.00001)/365,$C$6,$D$6,$M$9)-$K$9))","v":0},0,0,0,0,0,0,0,0,0,0,0,0,0,0,0,0,0,0,0]
[{"$f":"IF(OR('Y2'!$W$1=6,('Y2'!$W$1=7)),\"\",'Y2'!AA101)","v":360},{"$f":"IF(OR('Y2'!$W$1=6,('Y2'!$W$1=7)),\"\",'Y2'!AB101)","v":182.7},{"$f":"IF(all!$AQ$1=1,all!AR100,IF(all!$AQ$1=2,all!AT100*100,IF(all!$AQ$1=3,all!AV100,all!AX100)))","v":0},{"$f":"IF(OR('Y2'!$W$1=6,('Y2'!$W$1=7)),\"\",'Y2'!AC101)","v":42.2},{"$f":"IF(all!$AP$3=1,all!AS100,IF(all!$AP$3=2,all!AU100*100,IF(all!$AP$3=3,all!AW100,all!AY100)))","v":192.06764603989205},75,{"$f":"IF($AE108=1,VLOOKUP($F108,all!$E$14:$AD$553,3),\"\")","v":"ueb_box turtle (sac+sIp+bOp) _/``\\_"},{"$f":"IF($AE108=1,VLOOKUP($F108,all!$E$14:$AD$553,4),\"\")","v":170},{"$f":"IF($AE108=1,VLOOKUP($F108,all!$E$14:$AD$553,5),\"\")","v":3.3},{"$f":"IF($AE108=1,VLOOKUP($F108,all!$E$14:$AD$553,6),\"\")","v":162.5},{"$f":"IF($AE108=1,VLOOKUP($F108,all!$E$14:$AD$553,7),\"\")","v":2.4500000000000002},{"$f":"IF($AE108=1,VLOOKUP($F108,all!$E$14:$AD$553,8),\"\")","v":177.5},{"$f":"IF($AE108=1,VLOOKUP($F108,all!$E$14:$AD$553,9),\"\")","v":11},{"$f":"IF($AE108=1,VLOOKUP($F108,all!$E$14:$AD$553,10),\"\")","v":0},{"$f":"IF($AE108=1,VLOOKUP($F108,all!$E$14:$AD$553,11),\"\")","v":0},{"$f":"IF($AE108=1,VLOOKUP($F108,all!$E$14:$AD$553,12),\"\")","v":0},{"$f":"IF($AE108=1,VLOOKUP($F108,all!$E$14:$AD$553,13),\"\")","v":0},{"$f":"IF($AE108=1,VLOOKUP($F108,all!$E$14:$AD$553,14),\"\")","v":0},{"$f":"IF($AE108=1,VLOOKUP($F108,all!$E$14:$AD$553,15),\"\")","v":0},{"$f":"IF($AE108=1,VLOOKUP($F108,all!$E$14:$AD$553,16),\"\")","v":0},{"$f":"IF($AE108=1,VLOOKUP($F108,all!$E$14:$AD$553,17),\"\")","v":0},{"$f":"IF($AE108=1,VLOOKUP($F108,all!$E$14:$AD$553,18),\"\")","v":0},{"$f":"IF($AE108=1,VLOOKUP($F108,all!$E$14:$AD$553,19),\"\")","v":-1185},{"$f":"IF($AE108=1,VLOOKUP($F108,all!$E$14:$AD$553,20),\"\")","v":0},{"$f":"IF($AE108=1,VLOOKUP($F108,all!$E$14:$AD$553,21),\"\")","v":2},{"$f":"IF($AE108=1,VLOOKUP($F108,all!$E$14:$AD$553,22),\"\")","v":3},{"$f":"IF($AE108=1,VLOOKUP($F108,all!$E$14:$AD$553,23),\"\")","v":4},{"$f":"IF($AE108=1,VLOOKUP($F108,all!$E$14:$AD$553,24),\"\")","v":0},{"$f":"IF($AE108=1,VLOOKUP($F108,all!$E$14:$AD$553,25),\"\")","v":0},null,{"$f":"COUNTIF(all!$E$14:$E$553,F108)","v":1},4,"sell put",{"$f":"-AH107","v":0},{"$f":"-AI107","v":0},0,0,0,0,0,0,0,0,0,0,0,0,0,0,0,0,0,0,0]
[{"$f":"IF(OR('Y2'!$W$1=6,('Y2'!$W$1=7)),\"\",'Y2'!AA102)","v":370},{"$f":"IF(OR('Y2'!$W$1=6,('Y2'!$W$1=7)),\"\",'Y2'!AB102)","v":177},{"$f":"IF(all!$AQ$1=1,all!AR101,IF(all!$AQ$1=2,all!AT101*100,IF(all!$AQ$1=3,all!AV101,all!AX101)))","v":0},{"$f":"IF(OR('Y2'!$W$1=6,('Y2'!$W$1=7)),\"\",'Y2'!AC102)","v":42.84},{"$f":"IF(all!$AP$3=1,all!AS101,IF(all!$AP$3=2,all!AU101*100,IF(all!$AP$3=3,all!AW101,all!AY101)))","v":202.06255069164226},76,{"$f":"IF($AE109=1,VLOOKUP($F109,all!$E$14:$AD$553,3),\"\")","v":"nec_delta neutral call (bu+2sac) /\\"},{"$f":"IF($AE109=1,VLOOKUP($F109,all!$E$14:$AD$553,4),\"\")","v":0},{"$f":"IF($AE109=1,VLOOKUP($F109,all!$E$14:$AD$553,5),\"\")","v":0},{"$f":"IF($AE109=1,VLOOKUP($F109,all!$E$14:$AD$553,6),\"\")","v":170},{"$f":"IF($AE109=1,VLOOKUP($F109,all!$E$14:$AD$553,7),\"\")","v":3.3},{"$f":"IF($AE109=1,VLOOKUP($F109,all!$E$14:$AD$553,8),\"\")","v":0},{"$f":"IF($AE109=1,VLOOKUP($F109,all!$E$14:$AD$553,9),\"\")","v":0},{"$f":"IF($AE109=1,VLOOKUP($F109,all!$E$14:$AD$553,10),\"\")","v":0},{"$f":"IF($AE109=1,VLOOKUP($F109,all!$E$14:$AD$553,11),\"\")","v":0},{"$f":"IF($AE109=1,VLOOKUP($F109,all!$E$14:$AD$553,12),\"\")","v":0},{"$f":"IF($AE109=1,VLOOKUP($F109,all!$E$14:$AD$553,13),\"\")","v":0},{"$f":"IF($AE109=1,VLOOKUP($F109,all!$E$14:$AD$553,14),\"\")","v":0},{"$f":"IF($AE109=1,VLOOKUP($F109,all!$E$14:$AD$553,15),\"\")","v":0},{"$f":"IF($AE109=1,VLOOKUP($F109,all!$E$14:$AD$553,16),\"\")","v":0},{"$f":"IF($AE109=1,VLOOKUP($F109,all!$E$14:$AD$553,17),\"\")","v":0},{"$f":"IF($AE109=1,VLOOKUP($F109,all!$E$14:$AD$553,18),\"\")","v":0},{"$f":"IF($AE109=1,VLOOKUP($F109,all!$E$14:$AD$553,19),\"\")","v":16132},{"$f":"IF($AE109=1,VLOOKUP($F109,all!$E$14:$AD$553,20),\"\")","v":0},{"$f":"IF($AE109=1,VLOOKUP($F109,all!$E$14:$AD$553,21),\"\")","v":5},{"$f":"IF($AE109=1,VLOOKUP($F109,all!$E$14:$AD$553,22),\"\")","v":2},{"$f":"IF($AE109=1,VLOOKUP($F109,all!$E$14:$AD$553,23),\"\")","v":0},{"$f":"IF($AE109=1,VLOOKUP($F109,all!$E$14:$AD$553,24),\"\")","v":0},{"$f":"IF($AE109=1,VLOOKUP($F109,all!$E$14:$AD$553,25),\"\")","v":"x"},null,{"$f":"COUNTIF(all!$E$14:$E$553,F109)","v":1},5,"buy under",{"$f":"AH56","v":0},{"$f":"AI56","v":0},0,0,0,0,0,0,0,0,0,0,0,0,0,0,0,0,0,0,0]
[{"$f":"IF(OR('Y2'!$W$1=6,('Y2'!$W$1=7)),\"\",'Y2'!AA103)","v":380},{"$f":"IF(OR('Y2'!$W$1=6,('Y2'!$W$1=7)),\"\",'Y2'!AB103)","v":169.34},{"$f":"IF(all!$AQ$1=1,all!AR102,IF(all!$AQ$1=2,all!AT102*100,IF(all!$AQ$1=3,all!AV102,all!AX102)))","v":0},{"$f":"IF(OR('Y2'!$W$1=6,('Y2'!$W$1=7)),\"\",'Y2'!AC103)","v":48.64},{"$f":"IF(all!$AP$3=1,all!AS102,IF(all!$AP$3=2,all!AU102*100,IF(all!$AP$3=3,all!AW102,all!AY102)))","v":212.05745534227705},77,{"$f":"IF($AE110=1,VLOOKUP($F110,all!$E$14:$AD$553,3),\"\")","v":"nep_delta neutral put (su+2sap) /\\"},{"$f":"IF($AE110=1,VLOOKUP($F110,all!$E$14:$AD$553,4),\"\")","v":0},{"$f":"IF($AE110=1,VLOOKUP($F110,all!$E$14:$AD$553,5),\"\")","v":0},{"$f":"IF($AE110=1,VLOOKUP($F110,all!$E$14:$AD$553,6),\"\")","v":170},{"$f":"IF($AE110=1,VLOOKUP($F110,all!$E$14:$AD$553,7),\"\")","v":5.45},{"$f":"IF($AE110=1,VLOOKUP($F110,all!$E$14:$AD$553,8),\"\")","v":0},{"$f":"IF($AE110=1,VLOOKUP($F110,all!$E$14:$AD$553,9),\"\")","v":0},{"$f":"IF($AE110=1,VLOOKUP($F110,all!$E$14:$AD$553,10),\"\")","v":0},{"$f":"IF($AE110=1,VLOOKUP($F110,all!$E$14:$AD$553,11),\"\")","v":0},{"$f":"IF($AE110=1,VLOOKUP($F110,all!$E$14:$AD$553,12),\"\")","v":0},{"$f":"IF($AE110=1,VLOOKUP($F110,all!$E$14:$AD$553,13),\"\")","v":0},{"$f":"IF($AE110=1,VLOOKUP($F110,all!$E$14:$AD$553,14),\"\")","v":0},{"$f":"IF($AE110=1,VLOOKUP($F110,all!$E$14:$AD$553,15),\"\")","v":0},{"$f":"IF($AE110=1,VLOOKUP($F110,all!$E$14:$AD$553,16),\"\")","v":0},{"$f":"IF($AE110=1,VLOOKUP($F110,all!$E$14:$AD$553,17),\"\")","v":0},{"$f":"IF($AE110=1,VLOOKUP($F110,all!$E$14:$AD$553,18),\"\")","v":0},{"$f":"IF($AE110=1,VLOOKUP($F110,all!$E$14:$AD$553,19),\"\")","v":15701.999999999998},{"$f":"IF($AE110=1,VLOOKUP($F110,all!$E$14:$AD$553,20),\"\")","v":0},{"$f":"IF($AE110=1,VLOOKUP($F110,all!$E$14:$AD$553,21),\"\")","v":6},{"$f":"IF($AE110=1,VLOOKUP($F110,all!$E$14:$AD$553,22),\"\")","v":4},{"$f":"IF($AE110=1,VLOOKUP($F110,all!$E$14:$AD$553,23),\"\")","v":0},{"$f":"IF($AE110=1,VLOOKUP($F110,all!$E$14:$AD$553,24),\"\")","v":0},{"$f":"IF($AE110=1,VLOOKUP($F110,all!$E$14:$AD$553,25),\"\")","v":"x"},null,{"$f":"COUNTIF(all!$E$14:$E$553,F110)","v":1},6,"sell under",{"$f":"AH57","v":0},{"$f":"AI57","v":0},0,0,0,0,0,0,0,0,0,0,0,0,0,0,0,0,0,0,0]
[{"$f":"IF(OR('Y2'!$W$1=6,('Y2'!$W$1=7)),\"\",'Y2'!AA104)","v":390},{"$f":"IF(OR('Y2'!$W$1=6,('Y2'!$W$1=7)),\"\",'Y2'!AB104)","v":163.9},{"$f":"IF(all!$AQ$1=1,all!AR103,IF(all!$AQ$1=2,all!AT103*100,IF(all!$AQ$1=3,all!AV103,all!AX103)))","v":0},{"$f":"IF(OR('Y2'!$W$1=6,('Y2'!$W$1=7)),\"\",'Y2'!AC104)","v":52.72},{"$f":"IF(all!$AP$3=1,all!AS103,IF(all!$AP$3=2,all!AU103*100,IF(all!$AP$3=3,all!AW103,all!AY103)))","v":222.05235999237712},78,{"$f":"IF($AE111=1,VLOOKUP($F111,all!$E$14:$AD$553,3),\"\")","v":"nfc_christmas call (bic+soc+sOc) --'\\"},{"$f":"IF($AE111=1,VLOOKUP($F111,all!$E$14:$AD$553,4),\"\")","v":165},{"$f":"IF($AE111=1,VLOOKUP($F111,all!$E$14:$AD$553,5),\"\")","v":6.13},{"$f":"IF($AE111=1,VLOOKUP($F111,all!$E$14:$AD$553,6),\"\")","v":172.5},{"$f":"IF($AE111=1,VLOOKUP($F111,all!$E$14:$AD$553,7),\"\")","v":2.21},{"$f":"IF($AE111=1,VLOOKUP($F111,all!$E$14:$AD$553,8),\"\")","v":175},{"$f":"IF($AE111=1,VLOOKUP($F111,all!$E$14:$AD$553,9),\"\")","v":1.4},{"$f":"IF($AE111=1,VLOOKUP($F111,all!$E$14:$AD$553,10),\"\")","v":0},{"$f":"IF($AE111=1,VLOOKUP($F111,all!$E$14:$AD$553,11),\"\")","v":0},{"$f":"IF($AE111=1,VLOOKUP($F111,all!$E$14:$AD$553,12),\"\")","v":0},{"$f":"IF($AE111=1,VLOOKUP($F111,all!$E$14:$AD$553,13),\"\")","v":0},{"$f":"IF($AE111=1,VLOOKUP($F111,all!$E$14:$AD$553,14),\"\")","v":0},{"$f":"IF($AE111=1,VLOOKUP($F111,all!$E$14:$AD$553,15),\"\")","v":0},{"$f":"IF($AE111=1,VLOOKUP($F111,all!$E$14:$AD$553,16),\"\")","v":0},{"$f":"IF($AE111=1,VLOOKUP($F111,all!$E$14:$AD$553,17),\"\")","v":0},{"$f":"IF($AE111=1,VLOOKUP($F111,all!$E$14:$AD$553,18),\"\")","v":0},{"$f":"IF($AE111=1,VLOOKUP($F111,all!$E$14:$AD$553,19),\"\")","v":252},{"$f":"IF($AE111=1,VLOOKUP($F111,all!$E$14:$AD$553,20),\"\")","v":0},{"$f":"IF($AE111=1,VLOOKUP($F111,all!$E$14:$AD$553,21),\"\")","v":1},{"$f":"IF($AE111=1,VLOOKUP($F111,all!$E$14:$AD$553,22),\"\")","v":2},{"$f":"IF($AE111=1,VLOOKUP($F111,all!$E$14:$AD$553,23),\"\")","v":2},{"$f":"IF($AE111=1,VLOOKUP($F111,all!$E$14:$AD$553,24),\"\")","v":0},{"$f":"IF($AE111=1,VLOOKUP($F111,all!$E$14:$AD$553,25),\"\")","v":0},null,{"$f":"COUNTIF(all!$E$14:$E$553,F111)","v":1},{"$f":"AF58","v":0},"six",{"$f":"IF($AF$111=0,0,VLOOKUP($AF$111,$AF$105:$BB$110,AH116))","v":0},{"$f":"IF($AF$111=0,0,VLOOKUP($AF$111,$AF$105:$BB$110,AI116))","v":0},0,0,0,0,0,0,0,0,0,0,0,0,0,0,0,0,0,0,0]
[{"$f":"IF(OR('Y2'!$W$1=6,('Y2'!$W$1=7)),\"\",'Y2'!AA105)","v":400},{"$f":"IF(OR('Y2'!$W$1=6,('Y2'!$W$1=7)),\"\",'Y2'!AB105)","v":157},{"$f":"IF(all!$AQ$1=1,all!AR104,IF(all!$AQ$1=2,all!AT104*100,IF(all!$AQ$1=3,all!AV104,all!AX104)))","v":0},{"$f":"IF(OR('Y2'!$W$1=6,('Y2'!$W$1=7)),\"\",'Y2'!AC105)","v":56.85},{"$f":"IF(all!$AP$3=1,all!AS104,IF(all!$AP$3=2,all!AU104*100,IF(all!$AP$3=3,all!AW104,all!AY104)))","v":232.04726464297596},79,{"$f":"IF($AE112=1,VLOOKUP($F112,all!$E$14:$AD$553,3),\"\")","v":"nfp_christmas put (bip+sop+sOp) /`--"},{"$f":"IF($AE112=1,VLOOKUP($F112,all!$E$14:$AD$553,4),\"\")","v":175},{"$f":"IF($AE112=1,VLOOKUP($F112,all!$E$14:$AD$553,5),\"\")","v":8.6},{"$f":"IF($AE112=1,VLOOKUP($F112,all!$E$14:$AD$553,6),\"\")","v":165},{"$f":"IF($AE112=1,VLOOKUP($F112,all!$E$14:$AD$553,7),\"\")","v":3.26},{"$f":"IF($AE112=1,VLOOKUP($F112,all!$E$14:$AD$553,8),\"\")","v":162.5},{"$f":"IF($AE112=1,VLOOKUP($F112,all!$E$14:$AD$553,9),\"\")","v":2.4500000000000002},{"$f":"IF($AE112=1,VLOOKUP($F112,all!$E$14:$AD$553,10),\"\")","v":0},{"$f":"IF($AE112=1,VLOOKUP($F112,all!$E$14:$AD$553,11),\"\")","v":0},{"$f":"IF($AE112=1,VLOOKUP($F112,all!$E$14:$AD$553,12),\"\")","v":0},{"$f":"IF($AE112=1,VLOOKUP($F112,all!$E$14:$AD$553,13),\"\")","v":0},{"$f":"IF($AE112=1,VLOOKUP($F112,all!$E$14:$AD$553,14),\"\")","v":0},{"$f":"IF($AE112=1,VLOOKUP($F112,all!$E$14:$AD$553,15),\"\")","v":0},{"$f":"IF($AE112=1,VLOOKUP($F112,all!$E$14:$AD$553,16),\"\")","v":0},{"$f":"IF($AE112=1,VLOOKUP($F112,all!$E$14:$AD$553,17),\"\")","v":0},{"$f":"IF($AE112=1,VLOOKUP($F112,all!$E$14:$AD$553,18),\"\")","v":0},{"$f":"IF($AE112=1,VLOOKUP($F112,all!$E$14:$AD$553,19),\"\")","v":288.99999999999994},{"$f":"IF($AE112=1,VLOOKUP($F112,all!$E$14:$AD$553,20),\"\")","v":0},{"$f":"IF($AE112=1,VLOOKUP($F112,all!$E$14:$AD$553,21),\"\")","v":3},{"$f":"IF($AE112=1,VLOOKUP($F112,all!$E$14:$AD$553,22),\"\")","v":4},{"$f":"IF($AE112=1,VLOOKUP($F112,all!$E$14:$AD$553,23),\"\")","v":4},{"$f":"IF($AE112=1,VLOOKUP($F112,all!$E$14:$AD$553,24),\"\")","v":0},{"$f":"IF($AE112=1,VLOOKUP($F112,all!$E$14:$AD$553,25),\"\")","v":0},null,{"$f":"COUNTIF(all!$E$14:$E$553,F112)","v":1},null,"TOTAL",{"$f":"ROUND(AH71+AH79+AH87+AH95+AH103+AH111,1)","v":-1309.5999999999999},{"$f":"ROUND(AI71+AI79+AI87+AI95+AI103+AI111,1)","v":-1309.2},-1308.5,-1307.2,-1305.3,-1302.4000000000001,-1298.5,-1293.3,-1286.7,-1278.3,-1268.0999999999999,-1256,-1241.8,-1225.5,-1207.0999999999999,-1186.5999999999999,-1164,-1139.4000000000001,-1112.9000000000001,-1084.5,-1054.5]
[{"$f":"IF(OR('Y2'!$W$1=6,('Y2'!$W$1=7)),\"\",'Y2'!AA106)","v":410},{"$f":"IF(OR('Y2'!$W$1=6,('Y2'!$W$1=7)),\"\",'Y2'!AB106)","v":150.44},{"$f":"IF(all!$AQ$1=1,all!AR105,IF(all!$AQ$1=2,all!AT105*100,IF(all!$AQ$1=3,all!AV105,all!AX105)))","v":0},{"$f":"IF(OR('Y2'!$W$1=6,('Y2'!$W$1=7)),\"\",'Y2'!AC106)","v":60.75},{"$f":"IF(all!$AP$3=1,all!AS105,IF(all!$AP$3=2,all!AU105*100,IF(all!$AP$3=3,all!AW105,all!AY105)))","v":242.04216929445369},80,{"$f":"IF($AE113=1,VLOOKUP($F113,all!$E$14:$AD$553,3),\"\")","v":"nfb_cr iron condor2 (bOOc+sOc+sOp+bOOp) _/'''\\_"},{"$f":"IF($AE113=1,VLOOKUP($F113,all!$E$14:$AD$553,4),\"\")","v":180},{"$f":"IF($AE113=1,VLOOKUP($F113,all!$E$14:$AD$553,5),\"\")","v":0.49},{"$f":"IF($AE113=1,VLOOKUP($F113,all!$E$14:$AD$553,6),\"\")","v":175},{"$f":"IF($AE113=1,VLOOKUP($F113,all!$E$14:$AD$553,7),\"\")","v":1.4},{"$f":"IF($AE113=1,VLOOKUP($F113,all!$E$14:$AD$553,8),\"\")","v":165},{"$f":"IF($AE113=1,VLOOKUP($F113,all!$E$14:$AD$553,9),\"\")","v":3.26},{"$f":"IF($AE113=1,VLOOKUP($F113,all!$E$14:$AD$553,10),\"\")","v":160},{"$f":"IF($AE113=1,VLOOKUP($F113,all!$E$14:$AD$553,11),\"\")","v":1.85},{"$f":"IF($AE113=1,VLOOKUP($F113,all!$E$14:$AD$553,12),\"\")","v":0},{"$f":"IF($AE113=1,VLOOKUP($F113,all!$E$14:$AD$553,13),\"\")","v":0},{"$f":"IF($AE113=1,VLOOKUP($F113,all!$E$14:$AD$553,14),\"\")","v":0},{"$f":"IF($AE113=1,VLOOKUP($F113,all!$E$14:$AD$553,15),\"\")","v":0},{"$f":"IF($AE113=1,VLOOKUP($F113,all!$E$14:$AD$553,16),\"\")","v":0},{"$f":"IF($AE113=1,VLOOKUP($F113,all!$E$14:$AD$553,17),\"\")","v":0},{"$f":"IF($AE113=1,VLOOKUP($F113,all!$E$14:$AD$553,18),\"\")","v":0},{"$f":"IF($AE113=1,VLOOKUP($F113,all!$E$14:$AD$553,19),\"\")","v":97.68},{"$f":"IF($AE113=1,VLOOKUP($F113,all!$E$14:$AD$553,20),\"\")","v":0},{"$f":"IF($AE113=1,VLOOKUP($F113,all!$E$14:$AD$553,21),\"\")","v":1},{"$f":"IF($AE113=1,VLOOKUP($F113,all!$E$14:$AD$553,22),\"\")","v":2},{"$f":"IF($AE113=1,VLOOKUP($F113,all!$E$14:$AD$553,23),\"\")","v":4},{"$f":"IF($AE113=1,VLOOKUP($F113,all!$E$14:$AD$553,24),\"\")","v":3},{"$f":"IF($AE113=1,VLOOKUP($F113,all!$E$14:$AD$553,25),\"\")","v":0},null,{"$f":"COUNTIF(all!$E$14:$E$553,F113)","v":1},null,"TOTALb4",{"$f":"IF($Q$1=1,AH112,IF($P$10<0,0,AH112/$P$10))","v":-1309.5999999999999},{"$f":"IF($Q$1=1,AI112,IF($P$10<0,0,AI112/$P$10))","v":-1309.2},-1308.5,-1307.2,-1305.3,-1302.4000000000001,-1298.5,-1293.3,-1286.7,-1278.3,-1268.0999999999999,-1256,-1241.8,-1225.5,-1207.0999999999999,-1186.5999999999999,-1164,-1139.4000000000001,-1112.9000000000001,-1084.5,-1054.5]
[null,null,null,null,null,81,{"$f":"IF($AE114=1,VLOOKUP($F114,all!$E$14:$AD$553,3),\"\")","v":"nfb_cr iron condor (bOc+soc+sop+bOp)  _/'''\\_"},{"$f":"IF($AE114=1,VLOOKUP($F114,all!$E$14:$AD$553,4),\"\")","v":175},{"$f":"IF($AE114=1,VLOOKUP($F114,all!$E$14:$AD$553,5),\"\")","v":1.4},{"$f":"IF($AE114=1,VLOOKUP($F114,all!$E$14:$AD$553,6),\"\")","v":172.5},{"$f":"IF($AE114=1,VLOOKUP($F114,all!$E$14:$AD$553,7),\"\")","v":2.21},{"$f":"IF($AE114=1,VLOOKUP($F114,all!$E$14:$AD$553,8),\"\")","v":167.5},{"$f":"IF($AE114=1,VLOOKUP($F114,all!$E$14:$AD$553,9),\"\")","v":4.25},{"$f":"IF($AE114=1,VLOOKUP($F114,all!$E$14:$AD$553,10),\"\")","v":165},{"$f":"IF($AE114=1,VLOOKUP($F114,all!$E$14:$AD$553,11),\"\")","v":3.26},{"$f":"IF($AE114=1,VLOOKUP($F114,all!$E$14:$AD$553,12),\"\")","v":0},{"$f":"IF($AE114=1,VLOOKUP($F114,all!$E$14:$AD$553,13),\"\")","v":0},{"$f":"IF($AE114=1,VLOOKUP($F114,all!$E$14:$AD$553,14),\"\")","v":0},{"$f":"IF($AE114=1,VLOOKUP($F114,all!$E$14:$AD$553,15),\"\")","v":0},{"$f":"IF($AE114=1,VLOOKUP($F114,all!$E$14:$AD$553,16),\"\")","v":0},{"$f":"IF($AE114=1,VLOOKUP($F114,all!$E$14:$AD$553,17),\"\")","v":0},{"$f":"IF($AE114=1,VLOOKUP($F114,all!$E$14:$AD$553,18),\"\")","v":0},{"$f":"IF($AE114=1,VLOOKUP($F114,all!$E$14:$AD$553,19),\"\")","v":-180.00000000000006},{"$f":"IF($AE114=1,VLOOKUP($F114,all!$E$14:$AD$553,20),\"\")","v":0},{"$f":"IF($AE114=1,VLOOKUP($F114,all!$E$14:$AD$553,21),\"\")","v":1},{"$f":"IF($AE114=1,VLOOKUP($F114,all!$E$14:$AD$553,22),\"\")","v":2},{"$f":"IF($AE114=1,VLOOKUP($F114,all!$E$14:$AD$553,23),\"\")","v":4},{"$f":"IF($AE114=1,VLOOKUP($F114,all!$E$14:$AD$553,24),\"\")","v":3},{"$f":"IF($AE114=1,VLOOKUP($F114,all!$E$14:$AD$553,25),\"\")","v":0},null,{"$f":"COUNTIF(all!$E$14:$E$553,F114)","v":1},null,"total expire",{"$f":"AH18+AH26+AH34+AH42+AH50+AH58","v":-1310},{"$f":"AI18+AI26+AI34+AI42+AI50+AI58","v":-1310},-1310,-1310,-1310,-1310,-1310,-1310,-1310,-1310,-1310,-1310,-1310,-1310,-1310,-1310,-1310,-1310,-1310,-1310,-1310]
[null,null,null,"expire","fut symb",82,{"$f":"IF($AE115=1,VLOOKUP($F115,all!$E$14:$AD$553,3),\"\")","v":"SC /\\ (tv max) + SP(tv max)"},{"$f":"IF($AE115=1,VLOOKUP($F115,all!$E$14:$AD$553,4),\"\")","v":315},{"$f":"IF($AE115=1,VLOOKUP($F115,all!$E$14:$AD$553,5),\"\")","v":219.4},{"$f":"IF($AE115=1,VLOOKUP($F115,all!$E$14:$AD$553,6),\"\")","v":167.5},{"$f":"IF($AE115=1,VLOOKUP($F115,all!$E$14:$AD$553,7),\"\")","v":4.25},{"$f":"IF($AE115=1,VLOOKUP($F115,all!$E$14:$AD$553,8),\"\")","v":0},{"$f":"IF($AE115=1,VLOOKUP($F115,all!$E$14:$AD$553,9),\"\")","v":0},{"$f":"IF($AE115=1,VLOOKUP($F115,all!$E$14:$AD$553,10),\"\")","v":0},{"$f":"IF($AE115=1,VLOOKUP($F115,all!$E$14:$AD$553,11),\"\")","v":0},{"$f":"IF($AE115=1,VLOOKUP($F115,all!$E$14:$AD$553,12),\"\")","v":0},{"$f":"IF($AE115=1,VLOOKUP($F115,all!$E$14:$AD$553,13),\"\")","v":0},{"$f":"IF($AE115=1,VLOOKUP($F115,all!$E$14:$AD$553,14),\"\")","v":0},{"$f":"IF($AE115=1,VLOOKUP($F115,all!$E$14:$AD$553,15),\"\")","v":0},{"$f":"IF($AE115=1,VLOOKUP($F115,all!$E$14:$AD$553,16),\"\")","v":0},{"$f":"IF($AE115=1,VLOOKUP($F115,all!$E$14:$AD$553,17),\"\")","v":0},{"$f":"IF($AE115=1,VLOOKUP($F115,all!$E$14:$AD$553,18),\"\")","v":0},{"$f":"IF($AE115=1,VLOOKUP($F115,all!$E$14:$AD$553,19),\"\")","v":-22365},{"$f":"IF($AE115=1,VLOOKUP($F115,all!$E$14:$AD$553,20),\"\")","v":0},{"$f":"IF($AE115=1,VLOOKUP($F115,all!$E$14:$AD$553,21),\"\")","v":2},{"$f":"IF($AE115=1,VLOOKUP($F115,all!$E$14:$AD$553,22),\"\")","v":4},{"$f":"IF($AE115=1,VLOOKUP($F115,all!$E$14:$AD$553,23),\"\")","v":0},{"$f":"IF($AE115=1,VLOOKUP($F115,all!$E$14:$AD$553,24),\"\")","v":0},{"$f":"IF($AE115=1,VLOOKUP($F115,all!$E$14:$AD$553,25),\"\")","v":0},null,{"$f":"COUNTIF(all!$E$14:$E$553,F115)","v":1}]
["2ND MONTH OPTION CHAIN",null,null,"2022-10-21",null,83,{"$f":"IF($AE116=1,VLOOKUP($F116,all!$E$14:$AD$553,3),\"\")","v":"nfb_cr iron condor3 (bOOc+sOc+sOp+bOOp) _/'''\\_"},{"$f":"IF($AE116=1,VLOOKUP($F116,all!$E$14:$AD$553,4),\"\")","v":185},{"$f":"IF($AE116=1,VLOOKUP($F116,all!$E$14:$AD$553,5),\"\")","v":0.15},{"$f":"IF($AE116=1,VLOOKUP($F116,all!$E$14:$AD$553,6),\"\")","v":180},{"$f":"IF($AE116=1,VLOOKUP($F116,all!$E$14:$AD$553,7),\"\")","v":0.49},{"$f":"IF($AE116=1,VLOOKUP($F116,all!$E$14:$AD$553,8),\"\")","v":160},{"$f":"IF($AE116=1,VLOOKUP($F116,all!$E$14:$AD$553,9),\"\")","v":1.85},{"$f":"IF($AE116=1,VLOOKUP($F116,all!$E$14:$AD$553,10),\"\")","v":155},{"$f":"IF($AE116=1,VLOOKUP($F116,all!$E$14:$AD$553,11),\"\")","v":1.01},{"$f":"IF($AE116=1,VLOOKUP($F116,all!$E$14:$AD$553,12),\"\")","v":0},{"$f":"IF($AE116=1,VLOOKUP($F116,all!$E$14:$AD$553,13),\"\")","v":0},{"$f":"IF($AE116=1,VLOOKUP($F116,all!$E$14:$AD$553,14),\"\")","v":0},{"$f":"IF($AE116=1,VLOOKUP($F116,all!$E$14:$AD$553,15),\"\")","v":0},{"$f":"IF($AE116=1,VLOOKUP($F116,all!$E$14:$AD$553,16),\"\")","v":0},{"$f":"IF($AE116=1,VLOOKUP($F116,all!$E$14:$AD$553,17),\"\")","v":0},{"$f":"IF($AE116=1,VLOOKUP($F116,all!$E$14:$AD$553,18),\"\")","v":0},{"$f":"IF($AE116=1,VLOOKUP($F116,all!$E$14:$AD$553,19),\"\")","v":98.82},{"$f":"IF($AE116=1,VLOOKUP($F116,all!$E$14:$AD$553,20),\"\")","v":0},{"$f":"IF($AE116=1,VLOOKUP($F116,all!$E$14:$AD$553,21),\"\")","v":1},{"$f":"IF($AE116=1,VLOOKUP($F116,all!$E$14:$AD$553,22),\"\")","v":2},{"$f":"IF($AE116=1,VLOOKUP($F116,all!$E$14:$AD$553,23),\"\")","v":4},{"$f":"IF($AE116=1,VLOOKUP($F116,all!$E$14:$AD$553,24),\"\")","v":3},{"$f":"IF($AE116=1,VLOOKUP($F116,all!$E$14:$AD$553,25),\"\")","v":0},null,{"$f":"COUNTIF(all!$E$14:$E$553,F116)","v":1},null,null,3,4,5,6,7,8,9,10,11,12,13,14,15,16,17,18,19,20,21,22,23]
["STRIKE","CALLS",null,"PUTS",null,84,{"$f":"IF($AE117=1,VLOOKUP($F117,all!$E$14:$AD$553,3),\"\")","v":"nfb_cr iron condor4(bOOc+sOc+sOp+bOOp) _/'''\\_"},{"$f":"IF($AE117=1,VLOOKUP($F117,all!$E$14:$AD$553,4),\"\")","v":195},{"$f":"IF($AE117=1,VLOOKUP($F117,all!$E$14:$AD$553,5),\"\")","v":0.04},{"$f":"IF($AE117=1,VLOOKUP($F117,all!$E$14:$AD$553,6),\"\")","v":185},{"$f":"IF($AE117=1,VLOOKUP($F117,all!$E$14:$AD$553,7),\"\")","v":0.15},{"$f":"IF($AE117=1,VLOOKUP($F117,all!$E$14:$AD$553,8),\"\")","v":160},{"$f":"IF($AE117=1,VLOOKUP($F117,all!$E$14:$AD$553,9),\"\")","v":1.85},{"$f":"IF($AE117=1,VLOOKUP($F117,all!$E$14:$AD$553,10),\"\")","v":155},{"$f":"IF($AE117=1,VLOOKUP($F117,all!$E$14:$AD$553,11),\"\")","v":1.01},{"$f":"IF($AE117=1,VLOOKUP($F117,all!$E$14:$AD$553,12),\"\")","v":0},{"$f":"IF($AE117=1,VLOOKUP($F117,all!$E$14:$AD$553,13),\"\")","v":0},{"$f":"IF($AE117=1,VLOOKUP($F117,all!$E$14:$AD$553,14),\"\")","v":0},{"$f":"IF($AE117=1,VLOOKUP($F117,all!$E$14:$AD$553,15),\"\")","v":0},{"$f":"IF($AE117=1,VLOOKUP($F117,all!$E$14:$AD$553,16),\"\")","v":0},{"$f":"IF($AE117=1,VLOOKUP($F117,all!$E$14:$AD$553,17),\"\")","v":0},{"$f":"IF($AE117=1,VLOOKUP($F117,all!$E$14:$AD$553,18),\"\")","v":0},{"$f":"IF($AE117=1,VLOOKUP($F117,all!$E$14:$AD$553,19),\"\")","v":99.05},{"$f":"IF($AE117=1,VLOOKUP($F117,all!$E$14:$AD$553,20),\"\")","v":0},{"$f":"IF($AE117=1,VLOOKUP($F117,all!$E$14:$AD$553,21),\"\")","v":1},{"$f":"IF($AE117=1,VLOOKUP($F117,all!$E$14:$AD$553,22),\"\")","v":2},{"$f":"IF($AE117=1,VLOOKUP($F117,all!$E$14:$AD$553,23),\"\")","v":4},{"$f":"IF($AE117=1,VLOOKUP($F117,all!$E$14:$AD$553,24),\"\")","v":3},{"$f":"IF($AE117=1,VLOOKUP($F117,all!$E$14:$AD$553,25),\"\")","v":0},null,{"$f":"COUNTIF(all!$E$14:$E$553,F117)","v":1}]
[null,"prem",null,"prem",null,85,{"$f":"IF($AE118=1,VLOOKUP($F118,all!$E$14:$AD$553,3),\"\")","v":"butterfly call _/'''\\_  (b160c+s165c + s175c+b180c)"},{"$f":"IF($AE118=1,VLOOKUP($F118,all!$E$14:$AD$553,4),\"\")","v":160},{"$f":"IF($AE118=1,VLOOKUP($F118,all!$E$14:$AD$553,5),\"\")","v":9.75},{"$f":"IF($AE118=1,VLOOKUP($F118,all!$E$14:$AD$553,6),\"\")","v":165},{"$f":"IF($AE118=1,VLOOKUP($F118,all!$E$14:$AD$553,7),\"\")","v":6.13},{"$f":"IF($AE118=1,VLOOKUP($F118,all!$E$14:$AD$553,8),\"\")","v":175},{"$f":"IF($AE118=1,VLOOKUP($F118,all!$E$14:$AD$553,9),\"\")","v":1.4},{"$f":"IF($AE118=1,VLOOKUP($F118,all!$E$14:$AD$553,10),\"\")","v":180},{"$f":"IF($AE118=1,VLOOKUP($F118,all!$E$14:$AD$553,11),\"\")","v":0.49},{"$f":"IF($AE118=1,VLOOKUP($F118,all!$E$14:$AD$553,12),\"\")","v":0},{"$f":"IF($AE118=1,VLOOKUP($F118,all!$E$14:$AD$553,13),\"\")","v":0},{"$f":"IF($AE118=1,VLOOKUP($F118,all!$E$14:$AD$553,14),\"\")","v":0},{"$f":"IF($AE118=1,VLOOKUP($F118,all!$E$14:$AD$553,15),\"\")","v":0},{"$f":"IF($AE118=1,VLOOKUP($F118,all!$E$14:$AD$553,16),\"\")","v":0},{"$f":"IF($AE118=1,VLOOKUP($F118,all!$E$14:$AD$553,17),\"\")","v":0},{"$f":"IF($AE118=1,VLOOKUP($F118,all!$E$14:$AD$553,18),\"\")","v":0},{"$f":"IF($AE118=1,VLOOKUP($F118,all!$E$14:$AD$553,19),\"\")","v":102.71},{"$f":"IF($AE118=1,VLOOKUP($F118,all!$E$14:$AD$553,20),\"\")","v":0},{"$f":"IF($AE118=1,VLOOKUP($F118,all!$E$14:$AD$553,21),\"\")","v":1},{"$f":"IF($AE118=1,VLOOKUP($F118,all!$E$14:$AD$553,22),\"\")","v":2},{"$f":"IF($AE118=1,VLOOKUP($F118,all!$E$14:$AD$553,23),\"\")","v":2},{"$f":"IF($AE118=1,VLOOKUP($F118,all!$E$14:$AD$553,24),\"\")","v":1},{"$f":"IF($AE118=1,VLOOKUP($F118,all!$E$14:$AD$553,25),\"\")","v":0},null,{"$f":"COUNTIF(all!$E$14:$E$553,F118)","v":1}]
[{"$f":"IF(OR('Y2'!$W$1=6,('Y2'!$W$1=7)),#REF!,'Y2'!AA114)","v":50},{"$f":"IF(OR('Y2'!$W$1=6,('Y2'!$W$1=7)),IF(#REF!=\"\",\"\",AVERAGE(#REF!)),'Y2'!AB114)","v":119.7},null,{"$f":"IF(OR('Y2'!$W$1=6,('Y2'!$W$1=7)),IF(#REF!=\"\",\"\",AVERAGE(#REF!)),'Y2'!AC114)","v":0.01},null,86,{"$f":"IF($AE119=1,VLOOKUP($F119,all!$E$14:$AD$553,3),\"\")","v":"butterfly put _/'''\\_  (s165p+b160p + b175p+s180p)"},{"$f":"IF($AE119=1,VLOOKUP($F119,all!$E$14:$AD$553,4),\"\")","v":165},{"$f":"IF($AE119=1,VLOOKUP($F119,all!$E$14:$AD$553,5),\"\")","v":3.26},{"$f":"IF($AE119=1,VLOOKUP($F119,all!$E$14:$AD$553,6),\"\")","v":160},{"$f":"IF($AE119=1,VLOOKUP($F119,all!$E$14:$AD$553,7),\"\")","v":1.85},{"$f":"IF($AE119=1,VLOOKUP($F119,all!$E$14:$AD$553,8),\"\")","v":175},{"$f":"IF($AE119=1,VLOOKUP($F119,all!$E$14:$AD$553,9),\"\")","v":8.6},{"$f":"IF($AE119=1,VLOOKUP($F119,all!$E$14:$AD$553,10),\"\")","v":180},{"$f":"IF($AE119=1,VLOOKUP($F119,all!$E$14:$AD$553,11),\"\")","v":13.05},{"$f":"IF($AE119=1,VLOOKUP($F119,all!$E$14:$AD$553,12),\"\")","v":0},{"$f":"IF($AE119=1,VLOOKUP($F119,all!$E$14:$AD$553,13),\"\")","v":0},{"$f":"IF($AE119=1,VLOOKUP($F119,all!$E$14:$AD$553,14),\"\")","v":0},{"$f":"IF($AE119=1,VLOOKUP($F119,all!$E$14:$AD$553,15),\"\")","v":0},{"$f":"IF($AE119=1,VLOOKUP($F119,all!$E$14:$AD$553,16),\"\")","v":0},{"$f":"IF($AE119=1,VLOOKUP($F119,all!$E$14:$AD$553,17),\"\")","v":0},{"$f":"IF($AE119=1,VLOOKUP($F119,all!$E$14:$AD$553,18),\"\")","v":0},{"$f":"IF($AE119=1,VLOOKUP($F119,all!$E$14:$AD$553,19),\"\")","v":105.86},{"$f":"IF($AE119=1,VLOOKUP($F119,all!$E$14:$AD$553,20),\"\")","v":0},{"$f":"IF($AE119=1,VLOOKUP($F119,all!$E$14:$AD$553,21),\"\")","v":4},{"$f":"IF($AE119=1,VLOOKUP($F119,all!$E$14:$AD$553,22),\"\")","v":3},{"$f":"IF($AE119=1,VLOOKUP($F119,all!$E$14:$AD$553,23),\"\")","v":4},{"$f":"IF($AE119=1,VLOOKUP($F119,all!$E$14:$AD$553,24),\"\")","v":3},{"$f":"IF($AE119=1,VLOOKUP($F119,all!$E$14:$AD$553,25),\"\")","v":0},null,{"$f":"COUNTIF(all!$E$14:$E$553,F119)","v":1}]
[{"$f":"IF(OR('Y2'!$W$1=6,('Y2'!$W$1=7)),#REF!,'Y2'!AA115)","v":60},{"$f":"IF(OR('Y2'!$W$1=6,('Y2'!$W$1=7)),IF(#REF!=\"\",\"\",AVERAGE(#REF!)),'Y2'!AB115)","v":106.75},null,{"$f":"IF(OR('Y2'!$W$1=6,('Y2'!$W$1=7)),IF(#REF!=\"\",\"\",AVERAGE(#REF!)),'Y2'!AC115)","v":0.01},null,87,{"$f":"IF($AE120=1,VLOOKUP($F120,all!$E$14:$AD$553,3),\"\")","v":"nfb_dr butterfly (bIc+sic+sip+bIp) _/'''\\_"},{"$f":"IF($AE120=1,VLOOKUP($F120,all!$E$14:$AD$553,4),\"\")","v":155},{"$f":"IF($AE120=1,VLOOKUP($F120,all!$E$14:$AD$553,5),\"\")","v":13.49},{"$f":"IF($AE120=1,VLOOKUP($F120,all!$E$14:$AD$553,6),\"\")","v":160},{"$f":"IF($AE120=1,VLOOKUP($F120,all!$E$14:$AD$553,7),\"\")","v":9.75},{"$f":"IF($AE120=1,VLOOKUP($F120,all!$E$14:$AD$553,8),\"\")","v":180},{"$f":"IF($AE120=1,VLOOKUP($F120,all!$E$14:$AD$553,9),\"\")","v":13.05},{"$f":"IF($AE120=1,VLOOKUP($F120,all!$E$14:$AD$553,10),\"\")","v":175},{"$f":"IF($AE120=1,VLOOKUP($F120,all!$E$14:$AD$553,11),\"\")","v":8.6},{"$f":"IF($AE120=1,VLOOKUP($F120,all!$E$14:$AD$553,12),\"\")","v":0},{"$f":"IF($AE120=1,VLOOKUP($F120,all!$E$14:$AD$553,13),\"\")","v":0},{"$f":"IF($AE120=1,VLOOKUP($F120,all!$E$14:$AD$553,14),\"\")","v":0},{"$f":"IF($AE120=1,VLOOKUP($F120,all!$E$14:$AD$553,15),\"\")","v":0},{"$f":"IF($AE120=1,VLOOKUP($F120,all!$E$14:$AD$553,16),\"\")","v":0},{"$f":"IF($AE120=1,VLOOKUP($F120,all!$E$14:$AD$553,17),\"\")","v":0},{"$f":"IF($AE120=1,VLOOKUP($F120,all!$E$14:$AD$553,18),\"\")","v":0},{"$f":"IF($AE120=1,VLOOKUP($F120,all!$E$14:$AD$553,19),\"\")","v":99.289999999999992},{"$f":"IF($AE120=1,VLOOKUP($F120,all!$E$14:$AD$553,20),\"\")","v":0},{"$f":"IF($AE120=1,VLOOKUP($F120,all!$E$14:$AD$553,21),\"\")","v":1},{"$f":"IF($AE120=1,VLOOKUP($F120,all!$E$14:$AD$553,22),\"\")","v":2},{"$f":"IF($AE120=1,VLOOKUP($F120,all!$E$14:$AD$553,23),\"\")","v":3},{"$f":"IF($AE120=1,VLOOKUP($F120,all!$E$14:$AD$553,24),\"\")","v":4},{"$f":"IF($AE120=1,VLOOKUP($F120,all!$E$14:$AD$553,25),\"\")","v":0},null,{"$f":"COUNTIF(all!$E$14:$E$553,F120)","v":1}]
[{"$f":"IF(OR('Y2'!$W$1=6,('Y2'!$W$1=7)),#REF!,'Y2'!AA116)","v":70},{"$f":"IF(OR('Y2'!$W$1=6,('Y2'!$W$1=7)),IF(#REF!=\"\",\"\",AVERAGE(#REF!)),'Y2'!AB116)","v":102.95},null,{"$f":"IF(OR('Y2'!$W$1=6,('Y2'!$W$1=7)),IF(#REF!=\"\",\"\",AVERAGE(#REF!)),'Y2'!AC116)","v":0.01},null,88,{"$f":"IF($AE121=1,VLOOKUP($F121,all!$E$14:$AD$553,3),\"\")","v":""},{"$f":"IF($AE121=1,VLOOKUP($F121,all!$E$14:$AD$553,4),\"\")","v":""},{"$f":"IF($AE121=1,VLOOKUP($F121,all!$E$14:$AD$553,5),\"\")","v":""},{"$f":"IF($AE121=1,VLOOKUP($F121,all!$E$14:$AD$553,6),\"\")","v":""},{"$f":"IF($AE121=1,VLOOKUP($F121,all!$E$14:$AD$553,7),\"\")","v":""},{"$f":"IF($AE121=1,VLOOKUP($F121,all!$E$14:$AD$553,8),\"\")","v":""},{"$f":"IF($AE121=1,VLOOKUP($F121,all!$E$14:$AD$553,9),\"\")","v":""},{"$f":"IF($AE121=1,VLOOKUP($F121,all!$E$14:$AD$553,10),\"\")","v":""},{"$f":"IF($AE121=1,VLOOKUP($F121,all!$E$14:$AD$553,11),\"\")","v":""},{"$f":"IF($AE121=1,VLOOKUP($F121,all!$E$14:$AD$553,12),\"\")","v":""},{"$f":"IF($AE121=1,VLOOKUP($F121,all!$E$14:$AD$553,13),\"\")","v":""},{"$f":"IF($AE121=1,VLOOKUP($F121,all!$E$14:$AD$553,14),\"\")","v":""},{"$f":"IF($AE121=1,VLOOKUP($F121,all!$E$14:$AD$553,15),\"\")","v":""},{"$f":"IF($AE121=1,VLOOKUP($F121,all!$E$14:$AD$553,16),\"\")","v":""},{"$f":"IF($AE121=1,VLOOKUP($F121,all!$E$14:$AD$553,17),\"\")","v":""},{"$f":"IF($AE121=1,VLOOKUP($F121,all!$E$14:$AD$553,18),\"\")","v":""},{"$f":"IF($AE121=1,VLOOKUP($F121,all!$E$14:$AD$553,19),\"\")","v":""},{"$f":"IF($AE121=1,VLOOKUP($F121,all!$E$14:$AD$553,20),\"\")","v":""},{"$f":"IF($AE121=1,VLOOKUP($F121,all!$E$14:$AD$553,21),\"\")","v":""},{"$f":"IF($AE121=1,VLOOKUP($F121,all!$E$14:$AD$553,22),\"\")","v":""},{"$f":"IF($AE121=1,VLOOKUP($F121,all!$E$14:$AD$553,23),\"\")","v":""},{"$f":"IF($AE121=1,VLOOKUP($F121,all!$E$14:$AD$553,24),\"\")","v":""},{"$f":"IF($AE121=1,VLOOKUP($F121,all!$E$14:$AD$553,25),\"\")","v":""},null,{"$f":"COUNTIF(all!$E$14:$E$553,F121)","v":0}]
[{"$f":"IF(OR('Y2'!$W$1=6,('Y2'!$W$1=7)),#REF!,'Y2'!AA117)","v":75},{"$f":"IF(OR('Y2'!$W$1=6,('Y2'!$W$1=7)),IF(#REF!=\"\",\"\",AVERAGE(#REF!)),'Y2'!AB117)","v":97.15},null,{"$f":"IF(OR('Y2'!$W$1=6,('Y2'!$W$1=7)),IF(#REF!=\"\",\"\",AVERAGE(#REF!)),'Y2'!AC117)","v":0.01},null,89,{"$f":"IF($AE122=1,VLOOKUP($F122,all!$E$14:$AD$553,3),\"\")","v":""},{"$f":"IF($AE122=1,VLOOKUP($F122,all!$E$14:$AD$553,4),\"\")","v":""},{"$f":"IF($AE122=1,VLOOKUP($F122,all!$E$14:$AD$553,5),\"\")","v":""},{"$f":"IF($AE122=1,VLOOKUP($F122,all!$E$14:$AD$553,6),\"\")","v":""},{"$f":"IF($AE122=1,VLOOKUP($F122,all!$E$14:$AD$553,7),\"\")","v":""},{"$f":"IF($AE122=1,VLOOKUP($F122,all!$E$14:$AD$553,8),\"\")","v":""},{"$f":"IF($AE122=1,VLOOKUP($F122,all!$E$14:$AD$553,9),\"\")","v":""},{"$f":"IF($AE122=1,VLOOKUP($F122,all!$E$14:$AD$553,10),\"\")","v":""},{"$f":"IF($AE122=1,VLOOKUP($F122,all!$E$14:$AD$553,11),\"\")","v":""},{"$f":"IF($AE122=1,VLOOKUP($F122,all!$E$14:$AD$553,12),\"\")","v":""},{"$f":"IF($AE122=1,VLOOKUP($F122,all!$E$14:$AD$553,13),\"\")","v":""},{"$f":"IF($AE122=1,VLOOKUP($F122,all!$E$14:$AD$553,14),\"\")","v":""},{"$f":"IF($AE122=1,VLOOKUP($F122,all!$E$14:$AD$553,15),\"\")","v":""},{"$f":"IF($AE122=1,VLOOKUP($F122,all!$E$14:$AD$553,16),\"\")","v":""},{"$f":"IF($AE122=1,VLOOKUP($F122,all!$E$14:$AD$553,17),\"\")","v":""},{"$f":"IF($AE122=1,VLOOKUP($F122,all!$E$14:$AD$553,18),\"\")","v":""},{"$f":"IF($AE122=1,VLOOKUP($F122,all!$E$14:$AD$553,19),\"\")","v":""},{"$f":"IF($AE122=1,VLOOKUP($F122,all!$E$14:$AD$553,20),\"\")","v":""},{"$f":"IF($AE122=1,VLOOKUP($F122,all!$E$14:$AD$553,21),\"\")","v":""},{"$f":"IF($AE122=1,VLOOKUP($F122,all!$E$14:$AD$553,22),\"\")","v":""},{"$f":"IF($AE122=1,VLOOKUP($F122,all!$E$14:$AD$553,23),\"\")","v":""},{"$f":"IF($AE122=1,VLOOKUP($F122,all!$E$14:$AD$553,24),\"\")","v":""},{"$f":"IF($AE122=1,VLOOKUP($F122,all!$E$14:$AD$553,25),\"\")","v":""},null,{"$f":"COUNTIF(all!$E$14:$E$553,F122)","v":0}]
[{"$f":"IF(OR('Y2'!$W$1=6,('Y2'!$W$1=7)),#REF!,'Y2'!AA118)","v":80},{"$f":"IF(OR('Y2'!$W$1=6,('Y2'!$W$1=7)),IF(#REF!=\"\",\"\",AVERAGE(#REF!)),'Y2'!AB118)","v":91.1},null,{"$f":"IF(OR('Y2'!$W$1=6,('Y2'!$W$1=7)),IF(#REF!=\"\",\"\",AVERAGE(#REF!)),'Y2'!AC118)","v":0.02},null,90,{"$f":"IF($AE123=1,VLOOKUP($F123,all!$E$14:$AD$553,3),\"\")","v":""},{"$f":"IF($AE123=1,VLOOKUP($F123,all!$E$14:$AD$553,4),\"\")","v":""},{"$f":"IF($AE123=1,VLOOKUP($F123,all!$E$14:$AD$553,5),\"\")","v":""},{"$f":"IF($AE123=1,VLOOKUP($F123,all!$E$14:$AD$553,6),\"\")","v":""},{"$f":"IF($AE123=1,VLOOKUP($F123,all!$E$14:$AD$553,7),\"\")","v":""},{"$f":"IF($AE123=1,VLOOKUP($F123,all!$E$14:$AD$553,8),\"\")","v":""},{"$f":"IF($AE123=1,VLOOKUP($F123,all!$E$14:$AD$553,9),\"\")","v":""},{"$f":"IF($AE123=1,VLOOKUP($F123,all!$E$14:$AD$553,10),\"\")","v":""},{"$f":"IF($AE123=1,VLOOKUP($F123,all!$E$14:$AD$553,11),\"\")","v":""},{"$f":"IF($AE123=1,VLOOKUP($F123,all!$E$14:$AD$553,12),\"\")","v":""},{"$f":"IF($AE123=1,VLOOKUP($F123,all!$E$14:$AD$553,13),\"\")","v":""},{"$f":"IF($AE123=1,VLOOKUP($F123,all!$E$14:$AD$553,14),\"\")","v":""},{"$f":"IF($AE123=1,VLOOKUP($F123,all!$E$14:$AD$553,15),\"\")","v":""},{"$f":"IF($AE123=1,VLOOKUP($F123,all!$E$14:$AD$553,16),\"\")","v":""},{"$f":"IF($AE123=1,VLOOKUP($F123,all!$E$14:$AD$553,17),\"\")","v":""},{"$f":"IF($AE123=1,VLOOKUP($F123,all!$E$14:$AD$553,18),\"\")","v":""},{"$f":"IF($AE123=1,VLOOKUP($F123,all!$E$14:$AD$553,19),\"\")","v":""},{"$f":"IF($AE123=1,VLOOKUP($F123,all!$E$14:$AD$553,20),\"\")","v":""},{"$f":"IF($AE123=1,VLOOKUP($F123,all!$E$14:$AD$553,21),\"\")","v":""},{"$f":"IF($AE123=1,VLOOKUP($F123,all!$E$14:$AD$553,22),\"\")","v":""},{"$f":"IF($AE123=1,VLOOKUP($F123,all!$E$14:$AD$553,23),\"\")","v":""},{"$f":"IF($AE123=1,VLOOKUP($F123,all!$E$14:$AD$553,24),\"\")","v":""},{"$f":"IF($AE123=1,VLOOKUP($F123,all!$E$14:$AD$553,25),\"\")","v":""},null,{"$f":"COUNTIF(all!$E$14:$E$553,F123)","v":0}]
[{"$f":"IF(OR('Y2'!$W$1=6,('Y2'!$W$1=7)),\"\",'Y2'!AA119)","v":85},{"$f":"IF(OR('Y2'!$W$1=6,('Y2'!$W$1=7)),\"\",'Y2'!AB119)","v":84.15},null,{"$f":"IF(OR('Y2'!$W$1=6,('Y2'!$W$1=7)),\"\",'Y2'!AC119)","v":0.03},null,91,{"$f":"IF($AE124=1,VLOOKUP($F124,all!$E$14:$AD$553,3),\"\")","v":""},{"$f":"IF($AE124=1,VLOOKUP($F124,all!$E$14:$AD$553,4),\"\")","v":""},{"$f":"IF($AE124=1,VLOOKUP($F124,all!$E$14:$AD$553,5),\"\")","v":""},{"$f":"IF($AE124=1,VLOOKUP($F124,all!$E$14:$AD$553,6),\"\")","v":""},{"$f":"IF($AE124=1,VLOOKUP($F124,all!$E$14:$AD$553,7),\"\")","v":""},{"$f":"IF($AE124=1,VLOOKUP($F124,all!$E$14:$AD$553,8),\"\")","v":""},{"$f":"IF($AE124=1,VLOOKUP($F124,all!$E$14:$AD$553,9),\"\")","v":""},{"$f":"IF($AE124=1,VLOOKUP($F124,all!$E$14:$AD$553,10),\"\")","v":""},{"$f":"IF($AE124=1,VLOOKUP($F124,all!$E$14:$AD$553,11),\"\")","v":""},{"$f":"IF($AE124=1,VLOOKUP($F124,all!$E$14:$AD$553,12),\"\")","v":""},{"$f":"IF($AE124=1,VLOOKUP($F124,all!$E$14:$AD$553,13),\"\")","v":""},{"$f":"IF($AE124=1,VLOOKUP($F124,all!$E$14:$AD$553,14),\"\")","v":""},{"$f":"IF($AE124=1,VLOOKUP($F124,all!$E$14:$AD$553,15),\"\")","v":""},{"$f":"IF($AE124=1,VLOOKUP($F124,all!$E$14:$AD$553,16),\"\")","v":""},{"$f":"IF($AE124=1,VLOOKUP($F124,all!$E$14:$AD$553,17),\"\")","v":""},{"$f":"IF($AE124=1,VLOOKUP($F124,all!$E$14:$AD$553,18),\"\")","v":""},{"$f":"IF($AE124=1,VLOOKUP($F124,all!$E$14:$AD$553,19),\"\")","v":""},{"$f":"IF($AE124=1,VLOOKUP($F124,all!$E$14:$AD$553,20),\"\")","v":""},{"$f":"IF($AE124=1,VLOOKUP($F124,all!$E$14:$AD$553,21),\"\")","v":""},{"$f":"IF($AE124=1,VLOOKUP($F124,all!$E$14:$AD$553,22),\"\")","v":""},{"$f":"IF($AE124=1,VLOOKUP($F124,all!$E$14:$AD$553,23),\"\")","v":""},{"$f":"IF($AE124=1,VLOOKUP($F124,all!$E$14:$AD$553,24),\"\")","v":""},{"$f":"IF($AE124=1,VLOOKUP($F124,all!$E$14:$AD$553,25),\"\")","v":""},null,{"$f":"COUNTIF(all!$E$14:$E$553,F124)","v":0}]
[{"$f":"IF(OR('Y2'!$W$1=6,('Y2'!$W$1=7)),\"\",'Y2'!AA120)","v":90},{"$f":"IF(OR('Y2'!$W$1=6,('Y2'!$W$1=7)),\"\",'Y2'!AB120)","v":79.900000000000006},null,{"$f":"IF(OR('Y2'!$W$1=6,('Y2'!$W$1=7)),\"\",'Y2'!AC120)","v":0.03},null,92,{"$f":"IF($AE125=1,VLOOKUP($F125,all!$E$14:$AD$553,3),\"\")","v":""},{"$f":"IF($AE125=1,VLOOKUP($F125,all!$E$14:$AD$553,4),\"\")","v":""},{"$f":"IF($AE125=1,VLOOKUP($F125,all!$E$14:$AD$553,5),\"\")","v":""},{"$f":"IF($AE125=1,VLOOKUP($F125,all!$E$14:$AD$553,6),\"\")","v":""},{"$f":"IF($AE125=1,VLOOKUP($F125,all!$E$14:$AD$553,7),\"\")","v":""},{"$f":"IF($AE125=1,VLOOKUP($F125,all!$E$14:$AD$553,8),\"\")","v":""},{"$f":"IF($AE125=1,VLOOKUP($F125,all!$E$14:$AD$553,9),\"\")","v":""},{"$f":"IF($AE125=1,VLOOKUP($F125,all!$E$14:$AD$553,10),\"\")","v":""},{"$f":"IF($AE125=1,VLOOKUP($F125,all!$E$14:$AD$553,11),\"\")","v":""},{"$f":"IF($AE125=1,VLOOKUP($F125,all!$E$14:$AD$553,12),\"\")","v":""},{"$f":"IF($AE125=1,VLOOKUP($F125,all!$E$14:$AD$553,13),\"\")","v":""},{"$f":"IF($AE125=1,VLOOKUP($F125,all!$E$14:$AD$553,14),\"\")","v":""},{"$f":"IF($AE125=1,VLOOKUP($F125,all!$E$14:$AD$553,15),\"\")","v":""},{"$f":"IF($AE125=1,VLOOKUP($F125,all!$E$14:$AD$553,16),\"\")","v":""},{"$f":"IF($AE125=1,VLOOKUP($F125,all!$E$14:$AD$553,17),\"\")","v":""},{"$f":"IF($AE125=1,VLOOKUP($F125,all!$E$14:$AD$553,18),\"\")","v":""},{"$f":"IF($AE125=1,VLOOKUP($F125,all!$E$14:$AD$553,19),\"\")","v":""},{"$f":"IF($AE125=1,VLOOKUP($F125,all!$E$14:$AD$553,20),\"\")","v":""},{"$f":"IF($AE125=1,VLOOKUP($F125,all!$E$14:$AD$553,21),\"\")","v":""},{"$f":"IF($AE125=1,VLOOKUP($F125,all!$E$14:$AD$553,22),\"\")","v":""},{"$f":"IF($AE125=1,VLOOKUP($F125,all!$E$14:$AD$553,23),\"\")","v":""},{"$f":"IF($AE125=1,VLOOKUP($F125,all!$E$14:$AD$553,24),\"\")","v":""},{"$f":"IF($AE125=1,VLOOKUP($F125,all!$E$14:$AD$553,25),\"\")","v":""},null,{"$f":"COUNTIF(all!$E$14:$E$553,F125)","v":0}]
[{"$f":"IF(OR('Y2'!$W$1=6,('Y2'!$W$1=7)),\"\",'Y2'!AA121)","v":95},{"$f":"IF(OR('Y2'!$W$1=6,('Y2'!$W$1=7)),\"\",'Y2'!AB121)","v":72.95},null,{"$f":"IF(OR('Y2'!$W$1=6,('Y2'!$W$1=7)),\"\",'Y2'!AC121)","v":0.06},null,93,{"$f":"IF($AE126=1,VLOOKUP($F126,all!$E$14:$AD$553,3),\"\")","v":""},{"$f":"IF($AE126=1,VLOOKUP($F126,all!$E$14:$AD$553,4),\"\")","v":""},{"$f":"IF($AE126=1,VLOOKUP($F126,all!$E$14:$AD$553,5),\"\")","v":""},{"$f":"IF($AE126=1,VLOOKUP($F126,all!$E$14:$AD$553,6),\"\")","v":""},{"$f":"IF($AE126=1,VLOOKUP($F126,all!$E$14:$AD$553,7),\"\")","v":""},{"$f":"IF($AE126=1,VLOOKUP($F126,all!$E$14:$AD$553,8),\"\")","v":""},{"$f":"IF($AE126=1,VLOOKUP($F126,all!$E$14:$AD$553,9),\"\")","v":""},{"$f":"IF($AE126=1,VLOOKUP($F126,all!$E$14:$AD$553,10),\"\")","v":""},{"$f":"IF($AE126=1,VLOOKUP($F126,all!$E$14:$AD$553,11),\"\")","v":""},{"$f":"IF($AE126=1,VLOOKUP($F126,all!$E$14:$AD$553,12),\"\")","v":""},{"$f":"IF($AE126=1,VLOOKUP($F126,all!$E$14:$AD$553,13),\"\")","v":""},{"$f":"IF($AE126=1,VLOOKUP($F126,all!$E$14:$AD$553,14),\"\")","v":""},{"$f":"IF($AE126=1,VLOOKUP($F126,all!$E$14:$AD$553,15),\"\")","v":""},{"$f":"IF($AE126=1,VLOOKUP($F126,all!$E$14:$AD$553,16),\"\")","v":""},{"$f":"IF($AE126=1,VLOOKUP($F126,all!$E$14:$AD$553,17),\"\")","v":""},{"$f":"IF($AE126=1,VLOOKUP($F126,all!$E$14:$AD$553,18),\"\")","v":""},{"$f":"IF($AE126=1,VLOOKUP($F126,all!$E$14:$AD$553,19),\"\")","v":""},{"$f":"IF($AE126=1,VLOOKUP($F126,all!$E$14:$AD$553,20),\"\")","v":""},{"$f":"IF($AE126=1,VLOOKUP($F126,all!$E$14:$AD$553,21),\"\")","v":""},{"$f":"IF($AE126=1,VLOOKUP($F126,all!$E$14:$AD$553,22),\"\")","v":""},{"$f":"IF($AE126=1,VLOOKUP($F126,all!$E$14:$AD$553,23),\"\")","v":""},{"$f":"IF($AE126=1,VLOOKUP($F126,all!$E$14:$AD$553,24),\"\")","v":""},{"$f":"IF($AE126=1,VLOOKUP($F126,all!$E$14:$AD$553,25),\"\")","v":""},null,{"$f":"COUNTIF(all!$E$14:$E$553,F126)","v":0}]
[{"$f":"IF(OR('Y2'!$W$1=6,('Y2'!$W$1=7)),\"\",'Y2'!AA122)","v":100},{"$f":"IF(OR('Y2'!$W$1=6,('Y2'!$W$1=7)),\"\",'Y2'!AB122)","v":69.75},null,{"$f":"IF(OR('Y2'!$W$1=6,('Y2'!$W$1=7)),\"\",'Y2'!AC122)","v":0.08},null,94,{"$f":"IF($AE127=1,VLOOKUP($F127,all!$E$14:$AD$553,3),\"\")","v":""},{"$f":"IF($AE127=1,VLOOKUP($F127,all!$E$14:$AD$553,4),\"\")","v":""},{"$f":"IF($AE127=1,VLOOKUP($F127,all!$E$14:$AD$553,5),\"\")","v":""},{"$f":"IF($AE127=1,VLOOKUP($F127,all!$E$14:$AD$553,6),\"\")","v":""},{"$f":"IF($AE127=1,VLOOKUP($F127,all!$E$14:$AD$553,7),\"\")","v":""},{"$f":"IF($AE127=1,VLOOKUP($F127,all!$E$14:$AD$553,8),\"\")","v":""},{"$f":"IF($AE127=1,VLOOKUP($F127,all!$E$14:$AD$553,9),\"\")","v":""},{"$f":"IF($AE127=1,VLOOKUP($F127,all!$E$14:$AD$553,10),\"\")","v":""},{"$f":"IF($AE127=1,VLOOKUP($F127,all!$E$14:$AD$553,11),\"\")","v":""},{"$f":"IF($AE127=1,VLOOKUP($F127,all!$E$14:$AD$553,12),\"\")","v":""},{"$f":"IF($AE127=1,VLOOKUP($F127,all!$E$14:$AD$553,13),\"\")","v":""},{"$f":"IF($AE127=1,VLOOKUP($F127,all!$E$14:$AD$553,14),\"\")","v":""},{"$f":"IF($AE127=1,VLOOKUP($F127,all!$E$14:$AD$553,15),\"\")","v":""},{"$f":"IF($AE127=1,VLOOKUP($F127,all!$E$14:$AD$553,16),\"\")","v":""},{"$f":"IF($AE127=1,VLOOKUP($F127,all!$E$14:$AD$553,17),\"\")","v":""},{"$f":"IF($AE127=1,VLOOKUP($F127,all!$E$14:$AD$553,18),\"\")","v":""},{"$f":"IF($AE127=1,VLOOKUP($F127,all!$E$14:$AD$553,19),\"\")","v":""},{"$f":"IF($AE127=1,VLOOKUP($F127,all!$E$14:$AD$553,20),\"\")","v":""},{"$f":"IF($AE127=1,VLOOKUP($F127,all!$E$14:$AD$553,21),\"\")","v":""},{"$f":"IF($AE127=1,VLOOKUP($F127,all!$E$14:$AD$553,22),\"\")","v":""},{"$f":"IF($AE127=1,VLOOKUP($F127,all!$E$14:$AD$553,23),\"\")","v":""},{"$f":"IF($AE127=1,VLOOKUP($F127,all!$E$14:$AD$553,24),\"\")","v":""},{"$f":"IF($AE127=1,VLOOKUP($F127,all!$E$14:$AD$553,25),\"\")","v":""},null,{"$f":"COUNTIF(all!$E$14:$E$553,F127)","v":0}]
[{"$f":"IF(OR('Y2'!$W$1=6,('Y2'!$W$1=7)),\"\",'Y2'!AA123)","v":105},{"$f":"IF(OR('Y2'!$W$1=6,('Y2'!$W$1=7)),\"\",'Y2'!AB123)","v":63.5},null,{"$f":"IF(OR('Y2'!$W$1=6,('Y2'!$W$1=7)),\"\",'Y2'!AC123)","v":0.11},null,95,{"$f":"IF($AE128=1,VLOOKUP($F128,all!$E$14:$AD$553,3),\"\")","v":""},{"$f":"IF($AE128=1,VLOOKUP($F128,all!$E$14:$AD$553,4),\"\")","v":""},{"$f":"IF($AE128=1,VLOOKUP($F128,all!$E$14:$AD$553,5),\"\")","v":""},{"$f":"IF($AE128=1,VLOOKUP($F128,all!$E$14:$AD$553,6),\"\")","v":""},{"$f":"IF($AE128=1,VLOOKUP($F128,all!$E$14:$AD$553,7),\"\")","v":""},{"$f":"IF($AE128=1,VLOOKUP($F128,all!$E$14:$AD$553,8),\"\")","v":""},{"$f":"IF($AE128=1,VLOOKUP($F128,all!$E$14:$AD$553,9),\"\")","v":""},{"$f":"IF($AE128=1,VLOOKUP($F128,all!$E$14:$AD$553,10),\"\")","v":""},{"$f":"IF($AE128=1,VLOOKUP($F128,all!$E$14:$AD$553,11),\"\")","v":""},{"$f":"IF($AE128=1,VLOOKUP($F128,all!$E$14:$AD$553,12),\"\")","v":""},{"$f":"IF($AE128=1,VLOOKUP($F128,all!$E$14:$AD$553,13),\"\")","v":""},{"$f":"IF($AE128=1,VLOOKUP($F128,all!$E$14:$AD$553,14),\"\")","v":""},{"$f":"IF($AE128=1,VLOOKUP($F128,all!$E$14:$AD$553,15),\"\")","v":""},{"$f":"IF($AE128=1,VLOOKUP($F128,all!$E$14:$AD$553,16),\"\")","v":""},{"$f":"IF($AE128=1,VLOOKUP($F128,all!$E$14:$AD$553,17),\"\")","v":""},{"$f":"IF($AE128=1,VLOOKUP($F128,all!$E$14:$AD$553,18),\"\")","v":""},{"$f":"IF($AE128=1,VLOOKUP($F128,all!$E$14:$AD$553,19),\"\")","v":""},{"$f":"IF($AE128=1,VLOOKUP($F128,all!$E$14:$AD$553,20),\"\")","v":""},{"$f":"IF($AE128=1,VLOOKUP($F128,all!$E$14:$AD$553,21),\"\")","v":""},{"$f":"IF($AE128=1,VLOOKUP($F128,all!$E$14:$AD$553,22),\"\")","v":""},{"$f":"IF($AE128=1,VLOOKUP($F128,all!$E$14:$AD$553,23),\"\")","v":""},{"$f":"IF($AE128=1,VLOOKUP($F128,all!$E$14:$AD$553,24),\"\")","v":""},{"$f":"IF($AE128=1,VLOOKUP($F128,all!$E$14:$AD$553,25),\"\")","v":""},null,{"$f":"COUNTIF(all!$E$14:$E$553,F128)","v":0}]
[{"$f":"IF(OR('Y2'!$W$1=6,('Y2'!$W$1=7)),\"\",'Y2'!AA124)","v":110},{"$f":"IF(OR('Y2'!$W$1=6,('Y2'!$W$1=7)),\"\",'Y2'!AB124)","v":59.35},null,{"$f":"IF(OR('Y2'!$W$1=6,('Y2'!$W$1=7)),\"\",'Y2'!AC124)","v":0.16},null,96,{"$f":"IF($AE129=1,VLOOKUP($F129,all!$E$14:$AD$553,3),\"\")","v":""},{"$f":"IF($AE129=1,VLOOKUP($F129,all!$E$14:$AD$553,4),\"\")","v":""},{"$f":"IF($AE129=1,VLOOKUP($F129,all!$E$14:$AD$553,5),\"\")","v":""},{"$f":"IF($AE129=1,VLOOKUP($F129,all!$E$14:$AD$553,6),\"\")","v":""},{"$f":"IF($AE129=1,VLOOKUP($F129,all!$E$14:$AD$553,7),\"\")","v":""},{"$f":"IF($AE129=1,VLOOKUP($F129,all!$E$14:$AD$553,8),\"\")","v":""},{"$f":"IF($AE129=1,VLOOKUP($F129,all!$E$14:$AD$553,9),\"\")","v":""},{"$f":"IF($AE129=1,VLOOKUP($F129,all!$E$14:$AD$553,10),\"\")","v":""},{"$f":"IF($AE129=1,VLOOKUP($F129,all!$E$14:$AD$553,11),\"\")","v":""},{"$f":"IF($AE129=1,VLOOKUP($F129,all!$E$14:$AD$553,12),\"\")","v":""},{"$f":"IF($AE129=1,VLOOKUP($F129,all!$E$14:$AD$553,13),\"\")","v":""},{"$f":"IF($AE129=1,VLOOKUP($F129,all!$E$14:$AD$553,14),\"\")","v":""},{"$f":"IF($AE129=1,VLOOKUP($F129,all!$E$14:$AD$553,15),\"\")","v":""},{"$f":"IF($AE129=1,VLOOKUP($F129,all!$E$14:$AD$553,16),\"\")","v":""},{"$f":"IF($AE129=1,VLOOKUP($F129,all!$E$14:$AD$553,17),\"\")","v":""},{"$f":"IF($AE129=1,VLOOKUP($F129,all!$E$14:$AD$553,18),\"\")","v":""},{"$f":"IF($AE129=1,VLOOKUP($F129,all!$E$14:$AD$553,19),\"\")","v":""},{"$f":"IF($AE129=1,VLOOKUP($F129,all!$E$14:$AD$553,20),\"\")","v":""},{"$f":"IF($AE129=1,VLOOKUP($F129,all!$E$14:$AD$553,21),\"\")","v":""},{"$f":"IF($AE129=1,VLOOKUP($F129,all!$E$14:$AD$553,22),\"\")","v":""},{"$f":"IF($AE129=1,VLOOKUP($F129,all!$E$14:$AD$553,23),\"\")","v":""},{"$f":"IF($AE129=1,VLOOKUP($F129,all!$E$14:$AD$553,24),\"\")","v":""},{"$f":"IF($AE129=1,VLOOKUP($F129,all!$E$14:$AD$553,25),\"\")","v":""},null,{"$f":"COUNTIF(all!$E$14:$E$553,F129)","v":0}]
[{"$f":"IF(OR('Y2'!$W$1=6,('Y2'!$W$1=7)),\"\",'Y2'!AA125)","v":115},{"$f":"IF(OR('Y2'!$W$1=6,('Y2'!$W$1=7)),\"\",'Y2'!AB125)","v":53.45},null,{"$f":"IF(OR('Y2'!$W$1=6,('Y2'!$W$1=7)),\"\",'Y2'!AC125)","v":0.2},null,97,{"$f":"IF($AE130=1,VLOOKUP($F130,all!$E$14:$AD$553,3),\"\")","v":""},{"$f":"IF($AE130=1,VLOOKUP($F130,all!$E$14:$AD$553,4),\"\")","v":""},{"$f":"IF($AE130=1,VLOOKUP($F130,all!$E$14:$AD$553,5),\"\")","v":""},{"$f":"IF($AE130=1,VLOOKUP($F130,all!$E$14:$AD$553,6),\"\")","v":""},{"$f":"IF($AE130=1,VLOOKUP($F130,all!$E$14:$AD$553,7),\"\")","v":""},{"$f":"IF($AE130=1,VLOOKUP($F130,all!$E$14:$AD$553,8),\"\")","v":""},{"$f":"IF($AE130=1,VLOOKUP($F130,all!$E$14:$AD$553,9),\"\")","v":""},{"$f":"IF($AE130=1,VLOOKUP($F130,all!$E$14:$AD$553,10),\"\")","v":""},{"$f":"IF($AE130=1,VLOOKUP($F130,all!$E$14:$AD$553,11),\"\")","v":""},{"$f":"IF($AE130=1,VLOOKUP($F130,all!$E$14:$AD$553,12),\"\")","v":""},{"$f":"IF($AE130=1,VLOOKUP($F130,all!$E$14:$AD$553,13),\"\")","v":""},{"$f":"IF($AE130=1,VLOOKUP($F130,all!$E$14:$AD$553,14),\"\")","v":""},{"$f":"IF($AE130=1,VLOOKUP($F130,all!$E$14:$AD$553,15),\"\")","v":""},{"$f":"IF($AE130=1,VLOOKUP($F130,all!$E$14:$AD$553,16),\"\")","v":""},{"$f":"IF($AE130=1,VLOOKUP($F130,all!$E$14:$AD$553,17),\"\")","v":""},{"$f":"IF($AE130=1,VLOOKUP($F130,all!$E$14:$AD$553,18),\"\")","v":""},{"$f":"IF($AE130=1,VLOOKUP($F130,all!$E$14:$AD$553,19),\"\")","v":""},{"$f":"IF($AE130=1,VLOOKUP($F130,all!$E$14:$AD$553,20),\"\")","v":""},{"$f":"IF($AE130=1,VLOOKUP($F130,all!$E$14:$AD$553,21),\"\")","v":""},{"$f":"IF($AE130=1,VLOOKUP($F130,all!$E$14:$AD$553,22),\"\")","v":""},{"$f":"IF($AE130=1,VLOOKUP($F130,all!$E$14:$AD$553,23),\"\")","v":""},{"$f":"IF($AE130=1,VLOOKUP($F130,all!$E$14:$AD$553,24),\"\")","v":""},{"$f":"IF($AE130=1,VLOOKUP($F130,all!$E$14:$AD$553,25),\"\")","v":""},null,{"$f":"COUNTIF(all!$E$14:$E$553,F130)","v":0}]
[{"$f":"IF(OR('Y2'!$W$1=6,('Y2'!$W$1=7)),\"\",'Y2'!AA126)","v":120},{"$f":"IF(OR('Y2'!$W$1=6,('Y2'!$W$1=7)),\"\",'Y2'!AB126)","v":49.05},null,{"$f":"IF(OR('Y2'!$W$1=6,('Y2'!$W$1=7)),\"\",'Y2'!AC126)","v":0.3},null,98,{"$f":"IF($AE131=1,VLOOKUP($F131,all!$E$14:$AD$553,3),\"\")","v":""},{"$f":"IF($AE131=1,VLOOKUP($F131,all!$E$14:$AD$553,4),\"\")","v":""},{"$f":"IF($AE131=1,VLOOKUP($F131,all!$E$14:$AD$553,5),\"\")","v":""},{"$f":"IF($AE131=1,VLOOKUP($F131,all!$E$14:$AD$553,6),\"\")","v":""},{"$f":"IF($AE131=1,VLOOKUP($F131,all!$E$14:$AD$553,7),\"\")","v":""},{"$f":"IF($AE131=1,VLOOKUP($F131,all!$E$14:$AD$553,8),\"\")","v":""},{"$f":"IF($AE131=1,VLOOKUP($F131,all!$E$14:$AD$553,9),\"\")","v":""},{"$f":"IF($AE131=1,VLOOKUP($F131,all!$E$14:$AD$553,10),\"\")","v":""},{"$f":"IF($AE131=1,VLOOKUP($F131,all!$E$14:$AD$553,11),\"\")","v":""},{"$f":"IF($AE131=1,VLOOKUP($F131,all!$E$14:$AD$553,12),\"\")","v":""},{"$f":"IF($AE131=1,VLOOKUP($F131,all!$E$14:$AD$553,13),\"\")","v":""},{"$f":"IF($AE131=1,VLOOKUP($F131,all!$E$14:$AD$553,14),\"\")","v":""},{"$f":"IF($AE131=1,VLOOKUP($F131,all!$E$14:$AD$553,15),\"\")","v":""},{"$f":"IF($AE131=1,VLOOKUP($F131,all!$E$14:$AD$553,16),\"\")","v":""},{"$f":"IF($AE131=1,VLOOKUP($F131,all!$E$14:$AD$553,17),\"\")","v":""},{"$f":"IF($AE131=1,VLOOKUP($F131,all!$E$14:$AD$553,18),\"\")","v":""},{"$f":"IF($AE131=1,VLOOKUP($F131,all!$E$14:$AD$553,19),\"\")","v":""},{"$f":"IF($AE131=1,VLOOKUP($F131,all!$E$14:$AD$553,20),\"\")","v":""},{"$f":"IF($AE131=1,VLOOKUP($F131,all!$E$14:$AD$553,21),\"\")","v":""},{"$f":"IF($AE131=1,VLOOKUP($F131,all!$E$14:$AD$553,22),\"\")","v":""},{"$f":"IF($AE131=1,VLOOKUP($F131,all!$E$14:$AD$553,23),\"\")","v":""},{"$f":"IF($AE131=1,VLOOKUP($F131,all!$E$14:$AD$553,24),\"\")","v":""},{"$f":"IF($AE131=1,VLOOKUP($F131,all!$E$14:$AD$553,25),\"\")","v":""},null,{"$f":"COUNTIF(all!$E$14:$E$553,F131)","v":0}]
[{"$f":"IF(OR('Y2'!$W$1=6,('Y2'!$W$1=7)),\"\",'Y2'!AA127)","v":125},{"$f":"IF(OR('Y2'!$W$1=6,('Y2'!$W$1=7)),\"\",'Y2'!AB127)","v":45.13},null,{"$f":"IF(OR('Y2'!$W$1=6,('Y2'!$W$1=7)),\"\",'Y2'!AC127)","v":0.42},null,99,{"$f":"IF($AE132=1,VLOOKUP($F132,all!$E$14:$AD$553,3),\"\")","v":""},{"$f":"IF($AE132=1,VLOOKUP($F132,all!$E$14:$AD$553,4),\"\")","v":""},{"$f":"IF($AE132=1,VLOOKUP($F132,all!$E$14:$AD$553,5),\"\")","v":""},{"$f":"IF($AE132=1,VLOOKUP($F132,all!$E$14:$AD$553,6),\"\")","v":""},{"$f":"IF($AE132=1,VLOOKUP($F132,all!$E$14:$AD$553,7),\"\")","v":""},{"$f":"IF($AE132=1,VLOOKUP($F132,all!$E$14:$AD$553,8),\"\")","v":""},{"$f":"IF($AE132=1,VLOOKUP($F132,all!$E$14:$AD$553,9),\"\")","v":""},{"$f":"IF($AE132=1,VLOOKUP($F132,all!$E$14:$AD$553,10),\"\")","v":""},{"$f":"IF($AE132=1,VLOOKUP($F132,all!$E$14:$AD$553,11),\"\")","v":""},{"$f":"IF($AE132=1,VLOOKUP($F132,all!$E$14:$AD$553,12),\"\")","v":""},{"$f":"IF($AE132=1,VLOOKUP($F132,all!$E$14:$AD$553,13),\"\")","v":""},{"$f":"IF($AE132=1,VLOOKUP($F132,all!$E$14:$AD$553,14),\"\")","v":""},{"$f":"IF($AE132=1,VLOOKUP($F132,all!$E$14:$AD$553,15),\"\")","v":""},{"$f":"IF($AE132=1,VLOOKUP($F132,all!$E$14:$AD$553,16),\"\")","v":""},{"$f":"IF($AE132=1,VLOOKUP($F132,all!$E$14:$AD$553,17),\"\")","v":""},{"$f":"IF($AE132=1,VLOOKUP($F132,all!$E$14:$AD$553,18),\"\")","v":""},{"$f":"IF($AE132=1,VLOOKUP($F132,all!$E$14:$AD$553,19),\"\")","v":""},{"$f":"IF($AE132=1,VLOOKUP($F132,all!$E$14:$AD$553,20),\"\")","v":""},{"$f":"IF($AE132=1,VLOOKUP($F132,all!$E$14:$AD$553,21),\"\")","v":""},{"$f":"IF($AE132=1,VLOOKUP($F132,all!$E$14:$AD$553,22),\"\")","v":""},{"$f":"IF($AE132=1,VLOOKUP($F132,all!$E$14:$AD$553,23),\"\")","v":""},{"$f":"IF($AE132=1,VLOOKUP($F132,all!$E$14:$AD$553,24),\"\")","v":""},{"$f":"IF($AE132=1,VLOOKUP($F132,all!$E$14:$AD$553,25),\"\")","v":""},null,{"$f":"COUNTIF(all!$E$14:$E$553,F132)","v":0}]
[{"$f":"IF(OR('Y2'!$W$1=6,('Y2'!$W$1=7)),\"\",'Y2'!AA128)","v":130},{"$f":"IF(OR('Y2'!$W$1=6,('Y2'!$W$1=7)),\"\",'Y2'!AB128)","v":38.299999999999997},null,{"$f":"IF(OR('Y2'!$W$1=6,('Y2'!$W$1=7)),\"\",'Y2'!AC128)","v":0.6},null,100,{"$f":"IF($AE133=1,VLOOKUP($F133,all!$E$14:$AD$553,3),\"\")","v":""},{"$f":"IF($AE133=1,VLOOKUP($F133,all!$E$14:$AD$553,4),\"\")","v":""},{"$f":"IF($AE133=1,VLOOKUP($F133,all!$E$14:$AD$553,5),\"\")","v":""},{"$f":"IF($AE133=1,VLOOKUP($F133,all!$E$14:$AD$553,6),\"\")","v":""},{"$f":"IF($AE133=1,VLOOKUP($F133,all!$E$14:$AD$553,7),\"\")","v":""},{"$f":"IF($AE133=1,VLOOKUP($F133,all!$E$14:$AD$553,8),\"\")","v":""},{"$f":"IF($AE133=1,VLOOKUP($F133,all!$E$14:$AD$553,9),\"\")","v":""},{"$f":"IF($AE133=1,VLOOKUP($F133,all!$E$14:$AD$553,10),\"\")","v":""},{"$f":"IF($AE133=1,VLOOKUP($F133,all!$E$14:$AD$553,11),\"\")","v":""},{"$f":"IF($AE133=1,VLOOKUP($F133,all!$E$14:$AD$553,12),\"\")","v":""},{"$f":"IF($AE133=1,VLOOKUP($F133,all!$E$14:$AD$553,13),\"\")","v":""},{"$f":"IF($AE133=1,VLOOKUP($F133,all!$E$14:$AD$553,14),\"\")","v":""},{"$f":"IF($AE133=1,VLOOKUP($F133,all!$E$14:$AD$553,15),\"\")","v":""},{"$f":"IF($AE133=1,VLOOKUP($F133,all!$E$14:$AD$553,16),\"\")","v":""},{"$f":"IF($AE133=1,VLOOKUP($F133,all!$E$14:$AD$553,17),\"\")","v":""},{"$f":"IF($AE133=1,VLOOKUP($F133,all!$E$14:$AD$553,18),\"\")","v":""},{"$f":"IF($AE133=1,VLOOKUP($F133,all!$E$14:$AD$553,19),\"\")","v":""},{"$f":"IF($AE133=1,VLOOKUP($F133,all!$E$14:$AD$553,20),\"\")","v":""},{"$f":"IF($AE133=1,VLOOKUP($F133,all!$E$14:$AD$553,21),\"\")","v":""},{"$f":"IF($AE133=1,VLOOKUP($F133,all!$E$14:$AD$553,22),\"\")","v":""},{"$f":"IF($AE133=1,VLOOKUP($F133,all!$E$14:$AD$553,23),\"\")","v":""},{"$f":"IF($AE133=1,VLOOKUP($F133,all!$E$14:$AD$553,24),\"\")","v":""},{"$f":"IF($AE133=1,VLOOKUP($F133,all!$E$14:$AD$553,25),\"\")","v":""},null,{"$f":"COUNTIF(all!$E$14:$E$553,F133)","v":0}]
[{"$f":"IF(OR('Y2'!$W$1=6,('Y2'!$W$1=7)),\"\",'Y2'!AA129)","v":135},{"$f":"IF(OR('Y2'!$W$1=6,('Y2'!$W$1=7)),\"\",'Y2'!AB129)","v":33.090000000000003},null,{"$f":"IF(OR('Y2'!$W$1=6,('Y2'!$W$1=7)),\"\",'Y2'!AC129)","v":0.83},null,101,{"$f":"IF($AE134=1,VLOOKUP($F134,all!$E$14:$AD$553,3),\"\")","v":""},{"$f":"IF($AE134=1,VLOOKUP($F134,all!$E$14:$AD$553,4),\"\")","v":""},{"$f":"IF($AE134=1,VLOOKUP($F134,all!$E$14:$AD$553,5),\"\")","v":""},{"$f":"IF($AE134=1,VLOOKUP($F134,all!$E$14:$AD$553,6),\"\")","v":""},{"$f":"IF($AE134=1,VLOOKUP($F134,all!$E$14:$AD$553,7),\"\")","v":""},{"$f":"IF($AE134=1,VLOOKUP($F134,all!$E$14:$AD$553,8),\"\")","v":""},{"$f":"IF($AE134=1,VLOOKUP($F134,all!$E$14:$AD$553,9),\"\")","v":""},{"$f":"IF($AE134=1,VLOOKUP($F134,all!$E$14:$AD$553,10),\"\")","v":""},{"$f":"IF($AE134=1,VLOOKUP($F134,all!$E$14:$AD$553,11),\"\")","v":""},{"$f":"IF($AE134=1,VLOOKUP($F134,all!$E$14:$AD$553,12),\"\")","v":""},{"$f":"IF($AE134=1,VLOOKUP($F134,all!$E$14:$AD$553,13),\"\")","v":""},{"$f":"IF($AE134=1,VLOOKUP($F134,all!$E$14:$AD$553,14),\"\")","v":""},{"$f":"IF($AE134=1,VLOOKUP($F134,all!$E$14:$AD$553,15),\"\")","v":""},{"$f":"IF($AE134=1,VLOOKUP($F134,all!$E$14:$AD$553,16),\"\")","v":""},{"$f":"IF($AE134=1,VLOOKUP($F134,all!$E$14:$AD$553,17),\"\")","v":""},{"$f":"IF($AE134=1,VLOOKUP($F134,all!$E$14:$AD$553,18),\"\")","v":""},{"$f":"IF($AE134=1,VLOOKUP($F134,all!$E$14:$AD$553,19),\"\")","v":""},{"$f":"IF($AE134=1,VLOOKUP($F134,all!$E$14:$AD$553,20),\"\")","v":""},{"$f":"IF($AE134=1,VLOOKUP($F134,all!$E$14:$AD$553,21),\"\")","v":""},{"$f":"IF($AE134=1,VLOOKUP($F134,all!$E$14:$AD$553,22),\"\")","v":""},{"$f":"IF($AE134=1,VLOOKUP($F134,all!$E$14:$AD$553,23),\"\")","v":""},{"$f":"IF($AE134=1,VLOOKUP($F134,all!$E$14:$AD$553,24),\"\")","v":""},{"$f":"IF($AE134=1,VLOOKUP($F134,all!$E$14:$AD$553,25),\"\")","v":""},null,{"$f":"COUNTIF(all!$E$14:$E$553,F134)","v":0}]
[{"$f":"IF(OR('Y2'!$W$1=6,('Y2'!$W$1=7)),\"\",'Y2'!AA130)","v":140},{"$f":"IF(OR('Y2'!$W$1=6,('Y2'!$W$1=7)),\"\",'Y2'!AB130)","v":29.3},null,{"$f":"IF(OR('Y2'!$W$1=6,('Y2'!$W$1=7)),\"\",'Y2'!AC130)","v":1.1599999999999999},null,102,{"$f":"IF($AE135=1,VLOOKUP($F135,all!$E$14:$AD$553,3),\"\")","v":""},{"$f":"IF($AE135=1,VLOOKUP($F135,all!$E$14:$AD$553,4),\"\")","v":""},{"$f":"IF($AE135=1,VLOOKUP($F135,all!$E$14:$AD$553,5),\"\")","v":""},{"$f":"IF($AE135=1,VLOOKUP($F135,all!$E$14:$AD$553,6),\"\")","v":""},{"$f":"IF($AE135=1,VLOOKUP($F135,all!$E$14:$AD$553,7),\"\")","v":""},{"$f":"IF($AE135=1,VLOOKUP($F135,all!$E$14:$AD$553,8),\"\")","v":""},{"$f":"IF($AE135=1,VLOOKUP($F135,all!$E$14:$AD$553,9),\"\")","v":""},{"$f":"IF($AE135=1,VLOOKUP($F135,all!$E$14:$AD$553,10),\"\")","v":""},{"$f":"IF($AE135=1,VLOOKUP($F135,all!$E$14:$AD$553,11),\"\")","v":""},{"$f":"IF($AE135=1,VLOOKUP($F135,all!$E$14:$AD$553,12),\"\")","v":""},{"$f":"IF($AE135=1,VLOOKUP($F135,all!$E$14:$AD$553,13),\"\")","v":""},{"$f":"IF($AE135=1,VLOOKUP($F135,all!$E$14:$AD$553,14),\"\")","v":""},{"$f":"IF($AE135=1,VLOOKUP($F135,all!$E$14:$AD$553,15),\"\")","v":""},{"$f":"IF($AE135=1,VLOOKUP($F135,all!$E$14:$AD$553,16),\"\")","v":""},{"$f":"IF($AE135=1,VLOOKUP($F135,all!$E$14:$AD$553,17),\"\")","v":""},{"$f":"IF($AE135=1,VLOOKUP($F135,all!$E$14:$AD$553,18),\"\")","v":""},{"$f":"IF($AE135=1,VLOOKUP($F135,all!$E$14:$AD$553,19),\"\")","v":""},{"$f":"IF($AE135=1,VLOOKUP($F135,all!$E$14:$AD$553,20),\"\")","v":""},{"$f":"IF($AE135=1,VLOOKUP($F135,all!$E$14:$AD$553,21),\"\")","v":""},{"$f":"IF($AE135=1,VLOOKUP($F135,all!$E$14:$AD$553,22),\"\")","v":""},{"$f":"IF($AE135=1,VLOOKUP($F135,all!$E$14:$AD$553,23),\"\")","v":""},{"$f":"IF($AE135=1,VLOOKUP($F135,all!$E$14:$AD$553,24),\"\")","v":""},{"$f":"IF($AE135=1,VLOOKUP($F135,all!$E$14:$AD$553,25),\"\")","v":""},null,{"$f":"COUNTIF(all!$E$14:$E$553,F135)","v":0}]
[{"$f":"IF(OR('Y2'!$W$1=6,('Y2'!$W$1=7)),\"\",'Y2'!AA131)","v":145},{"$f":"IF(OR('Y2'!$W$1=6,('Y2'!$W$1=7)),\"\",'Y2'!AB131)","v":23.85},null,{"$f":"IF(OR('Y2'!$W$1=6,('Y2'!$W$1=7)),\"\",'Y2'!AC131)","v":1.64},null,103,{"$f":"IF($AE136=1,VLOOKUP($F136,all!$E$14:$AD$553,3),\"\")","v":""},{"$f":"IF($AE136=1,VLOOKUP($F136,all!$E$14:$AD$553,4),\"\")","v":""},{"$f":"IF($AE136=1,VLOOKUP($F136,all!$E$14:$AD$553,5),\"\")","v":""},{"$f":"IF($AE136=1,VLOOKUP($F136,all!$E$14:$AD$553,6),\"\")","v":""},{"$f":"IF($AE136=1,VLOOKUP($F136,all!$E$14:$AD$553,7),\"\")","v":""},{"$f":"IF($AE136=1,VLOOKUP($F136,all!$E$14:$AD$553,8),\"\")","v":""},{"$f":"IF($AE136=1,VLOOKUP($F136,all!$E$14:$AD$553,9),\"\")","v":""},{"$f":"IF($AE136=1,VLOOKUP($F136,all!$E$14:$AD$553,10),\"\")","v":""},{"$f":"IF($AE136=1,VLOOKUP($F136,all!$E$14:$AD$553,11),\"\")","v":""},{"$f":"IF($AE136=1,VLOOKUP($F136,all!$E$14:$AD$553,12),\"\")","v":""},{"$f":"IF($AE136=1,VLOOKUP($F136,all!$E$14:$AD$553,13),\"\")","v":""},{"$f":"IF($AE136=1,VLOOKUP($F136,all!$E$14:$AD$553,14),\"\")","v":""},{"$f":"IF($AE136=1,VLOOKUP($F136,all!$E$14:$AD$553,15),\"\")","v":""},{"$f":"IF($AE136=1,VLOOKUP($F136,all!$E$14:$AD$553,16),\"\")","v":""},{"$f":"IF($AE136=1,VLOOKUP($F136,all!$E$14:$AD$553,17),\"\")","v":""},{"$f":"IF($AE136=1,VLOOKUP($F136,all!$E$14:$AD$553,18),\"\")","v":""},{"$f":"IF($AE136=1,VLOOKUP($F136,all!$E$14:$AD$553,19),\"\")","v":""},{"$f":"IF($AE136=1,VLOOKUP($F136,all!$E$14:$AD$553,20),\"\")","v":""},{"$f":"IF($AE136=1,VLOOKUP($F136,all!$E$14:$AD$553,21),\"\")","v":""},{"$f":"IF($AE136=1,VLOOKUP($F136,all!$E$14:$AD$553,22),\"\")","v":""},{"$f":"IF($AE136=1,VLOOKUP($F136,all!$E$14:$AD$553,23),\"\")","v":""},{"$f":"IF($AE136=1,VLOOKUP($F136,all!$E$14:$AD$553,24),\"\")","v":""},{"$f":"IF($AE136=1,VLOOKUP($F136,all!$E$14:$AD$553,25),\"\")","v":""},null,{"$f":"COUNTIF(all!$E$14:$E$553,F136)","v":0}]
[{"$f":"IF(OR('Y2'!$W$1=6,('Y2'!$W$1=7)),\"\",'Y2'!AA132)","v":150},{"$f":"IF(OR('Y2'!$W$1=6,('Y2'!$W$1=7)),\"\",'Y2'!AB132)","v":20},null,{"$f":"IF(OR('Y2'!$W$1=6,('Y2'!$W$1=7)),\"\",'Y2'!AC132)","v":2.4500000000000002},null,104,{"$f":"IF($AE137=1,VLOOKUP($F137,all!$E$14:$AD$553,3),\"\")","v":""},{"$f":"IF($AE137=1,VLOOKUP($F137,all!$E$14:$AD$553,4),\"\")","v":""},{"$f":"IF($AE137=1,VLOOKUP($F137,all!$E$14:$AD$553,5),\"\")","v":""},{"$f":"IF($AE137=1,VLOOKUP($F137,all!$E$14:$AD$553,6),\"\")","v":""},{"$f":"IF($AE137=1,VLOOKUP($F137,all!$E$14:$AD$553,7),\"\")","v":""},{"$f":"IF($AE137=1,VLOOKUP($F137,all!$E$14:$AD$553,8),\"\")","v":""},{"$f":"IF($AE137=1,VLOOKUP($F137,all!$E$14:$AD$553,9),\"\")","v":""},{"$f":"IF($AE137=1,VLOOKUP($F137,all!$E$14:$AD$553,10),\"\")","v":""},{"$f":"IF($AE137=1,VLOOKUP($F137,all!$E$14:$AD$553,11),\"\")","v":""},{"$f":"IF($AE137=1,VLOOKUP($F137,all!$E$14:$AD$553,12),\"\")","v":""},{"$f":"IF($AE137=1,VLOOKUP($F137,all!$E$14:$AD$553,13),\"\")","v":""},{"$f":"IF($AE137=1,VLOOKUP($F137,all!$E$14:$AD$553,14),\"\")","v":""},{"$f":"IF($AE137=1,VLOOKUP($F137,all!$E$14:$AD$553,15),\"\")","v":""},{"$f":"IF($AE137=1,VLOOKUP($F137,all!$E$14:$AD$553,16),\"\")","v":""},{"$f":"IF($AE137=1,VLOOKUP($F137,all!$E$14:$AD$553,17),\"\")","v":""},{"$f":"IF($AE137=1,VLOOKUP($F137,all!$E$14:$AD$553,18),\"\")","v":""},{"$f":"IF($AE137=1,VLOOKUP($F137,all!$E$14:$AD$553,19),\"\")","v":""},{"$f":"IF($AE137=1,VLOOKUP($F137,all!$E$14:$AD$553,20),\"\")","v":""},{"$f":"IF($AE137=1,VLOOKUP($F137,all!$E$14:$AD$553,21),\"\")","v":""},{"$f":"IF($AE137=1,VLOOKUP($F137,all!$E$14:$AD$553,22),\"\")","v":""},{"$f":"IF($AE137=1,VLOOKUP($F137,all!$E$14:$AD$553,23),\"\")","v":""},{"$f":"IF($AE137=1,VLOOKUP($F137,all!$E$14:$AD$553,24),\"\")","v":""},{"$f":"IF($AE137=1,VLOOKUP($F137,all!$E$14:$AD$553,25),\"\")","v":""},null,{"$f":"COUNTIF(all!$E$14:$E$553,F137)","v":0}]
[{"$f":"IF(OR('Y2'!$W$1=6,('Y2'!$W$1=7)),\"\",'Y2'!AA133)","v":155},{"$f":"IF(OR('Y2'!$W$1=6,('Y2'!$W$1=7)),\"\",'Y2'!AB133)","v":15.6},null,{"$f":"IF(OR('Y2'!$W$1=6,('Y2'!$W$1=7)),\"\",'Y2'!AC133)","v":3.43},null,105,{"$f":"IF($AE138=1,VLOOKUP($F138,all!$E$14:$AD$553,3),\"\")","v":""},{"$f":"IF($AE138=1,VLOOKUP($F138,all!$E$14:$AD$553,4),\"\")","v":""},{"$f":"IF($AE138=1,VLOOKUP($F138,all!$E$14:$AD$553,5),\"\")","v":""},{"$f":"IF($AE138=1,VLOOKUP($F138,all!$E$14:$AD$553,6),\"\")","v":""},{"$f":"IF($AE138=1,VLOOKUP($F138,all!$E$14:$AD$553,7),\"\")","v":""},{"$f":"IF($AE138=1,VLOOKUP($F138,all!$E$14:$AD$553,8),\"\")","v":""},{"$f":"IF($AE138=1,VLOOKUP($F138,all!$E$14:$AD$553,9),\"\")","v":""},{"$f":"IF($AE138=1,VLOOKUP($F138,all!$E$14:$AD$553,10),\"\")","v":""},{"$f":"IF($AE138=1,VLOOKUP($F138,all!$E$14:$AD$553,11),\"\")","v":""},{"$f":"IF($AE138=1,VLOOKUP($F138,all!$E$14:$AD$553,12),\"\")","v":""},{"$f":"IF($AE138=1,VLOOKUP($F138,all!$E$14:$AD$553,13),\"\")","v":""},{"$f":"IF($AE138=1,VLOOKUP($F138,all!$E$14:$AD$553,14),\"\")","v":""},{"$f":"IF($AE138=1,VLOOKUP($F138,all!$E$14:$AD$553,15),\"\")","v":""},{"$f":"IF($AE138=1,VLOOKUP($F138,all!$E$14:$AD$553,16),\"\")","v":""},{"$f":"IF($AE138=1,VLOOKUP($F138,all!$E$14:$AD$553,17),\"\")","v":""},{"$f":"IF($AE138=1,VLOOKUP($F138,all!$E$14:$AD$553,18),\"\")","v":""},{"$f":"IF($AE138=1,VLOOKUP($F138,all!$E$14:$AD$553,19),\"\")","v":""},{"$f":"IF($AE138=1,VLOOKUP($F138,all!$E$14:$AD$553,20),\"\")","v":""},{"$f":"IF($AE138=1,VLOOKUP($F138,all!$E$14:$AD$553,21),\"\")","v":""},{"$f":"IF($AE138=1,VLOOKUP($F138,all!$E$14:$AD$553,22),\"\")","v":""},{"$f":"IF($AE138=1,VLOOKUP($F138,all!$E$14:$AD$553,23),\"\")","v":""},{"$f":"IF($AE138=1,VLOOKUP($F138,all!$E$14:$AD$553,24),\"\")","v":""},{"$f":"IF($AE138=1,VLOOKUP($F138,all!$E$14:$AD$553,25),\"\")","v":""},null,{"$f":"COUNTIF(all!$E$14:$E$553,F138)","v":0}]
[{"$f":"IF(OR('Y2'!$W$1=6,('Y2'!$W$1=7)),\"\",'Y2'!AA134)","v":160},{"$f":"IF(OR('Y2'!$W$1=6,('Y2'!$W$1=7)),\"\",'Y2'!AB134)","v":11.85},null,{"$f":"IF(OR('Y2'!$W$1=6,('Y2'!$W$1=7)),\"\",'Y2'!AC134)","v":4.55},null,106,{"$f":"IF($AE139=1,VLOOKUP($F139,all!$E$14:$AD$553,3),\"\")","v":""},{"$f":"IF($AE139=1,VLOOKUP($F139,all!$E$14:$AD$553,4),\"\")","v":""},{"$f":"IF($AE139=1,VLOOKUP($F139,all!$E$14:$AD$553,5),\"\")","v":""},{"$f":"IF($AE139=1,VLOOKUP($F139,all!$E$14:$AD$553,6),\"\")","v":""},{"$f":"IF($AE139=1,VLOOKUP($F139,all!$E$14:$AD$553,7),\"\")","v":""},{"$f":"IF($AE139=1,VLOOKUP($F139,all!$E$14:$AD$553,8),\"\")","v":""},{"$f":"IF($AE139=1,VLOOKUP($F139,all!$E$14:$AD$553,9),\"\")","v":""},{"$f":"IF($AE139=1,VLOOKUP($F139,all!$E$14:$AD$553,10),\"\")","v":""},{"$f":"IF($AE139=1,VLOOKUP($F139,all!$E$14:$AD$553,11),\"\")","v":""},{"$f":"IF($AE139=1,VLOOKUP($F139,all!$E$14:$AD$553,12),\"\")","v":""},{"$f":"IF($AE139=1,VLOOKUP($F139,all!$E$14:$AD$553,13),\"\")","v":""},{"$f":"IF($AE139=1,VLOOKUP($F139,all!$E$14:$AD$553,14),\"\")","v":""},{"$f":"IF($AE139=1,VLOOKUP($F139,all!$E$14:$AD$553,15),\"\")","v":""},{"$f":"IF($AE139=1,VLOOKUP($F139,all!$E$14:$AD$553,16),\"\")","v":""},{"$f":"IF($AE139=1,VLOOKUP($F139,all!$E$14:$AD$553,17),\"\")","v":""},{"$f":"IF($AE139=1,VLOOKUP($F139,all!$E$14:$AD$553,18),\"\")","v":""},{"$f":"IF($AE139=1,VLOOKUP($F139,all!$E$14:$AD$553,19),\"\")","v":""},{"$f":"IF($AE139=1,VLOOKUP($F139,all!$E$14:$AD$553,20),\"\")","v":""},{"$f":"IF($AE139=1,VLOOKUP($F139,all!$E$14:$AD$553,21),\"\")","v":""},{"$f":"IF($AE139=1,VLOOKUP($F139,all!$E$14:$AD$553,22),\"\")","v":""},{"$f":"IF($AE139=1,VLOOKUP($F139,all!$E$14:$AD$553,23),\"\")","v":""},{"$f":"IF($AE139=1,VLOOKUP($F139,all!$E$14:$AD$553,24),\"\")","v":""},{"$f":"IF($AE139=1,VLOOKUP($F139,all!$E$14:$AD$553,25),\"\")","v":""},null,{"$f":"COUNTIF(all!$E$14:$E$553,F139)","v":0}]
[{"$f":"IF(OR('Y2'!$W$1=6,('Y2'!$W$1=7)),\"\",'Y2'!AA135)","v":165},{"$f":"IF(OR('Y2'!$W$1=6,('Y2'!$W$1=7)),\"\",'Y2'!AB135)","v":8.9},null,{"$f":"IF(OR('Y2'!$W$1=6,('Y2'!$W$1=7)),\"\",'Y2'!AC135)","v":6.25},null,107,{"$f":"IF($AE140=1,VLOOKUP($F140,all!$E$14:$AD$553,3),\"\")","v":""},{"$f":"IF($AE140=1,VLOOKUP($F140,all!$E$14:$AD$553,4),\"\")","v":""},{"$f":"IF($AE140=1,VLOOKUP($F140,all!$E$14:$AD$553,5),\"\")","v":""},{"$f":"IF($AE140=1,VLOOKUP($F140,all!$E$14:$AD$553,6),\"\")","v":""},{"$f":"IF($AE140=1,VLOOKUP($F140,all!$E$14:$AD$553,7),\"\")","v":""},{"$f":"IF($AE140=1,VLOOKUP($F140,all!$E$14:$AD$553,8),\"\")","v":""},{"$f":"IF($AE140=1,VLOOKUP($F140,all!$E$14:$AD$553,9),\"\")","v":""},{"$f":"IF($AE140=1,VLOOKUP($F140,all!$E$14:$AD$553,10),\"\")","v":""},{"$f":"IF($AE140=1,VLOOKUP($F140,all!$E$14:$AD$553,11),\"\")","v":""},{"$f":"IF($AE140=1,VLOOKUP($F140,all!$E$14:$AD$553,12),\"\")","v":""},{"$f":"IF($AE140=1,VLOOKUP($F140,all!$E$14:$AD$553,13),\"\")","v":""},{"$f":"IF($AE140=1,VLOOKUP($F140,all!$E$14:$AD$553,14),\"\")","v":""},{"$f":"IF($AE140=1,VLOOKUP($F140,all!$E$14:$AD$553,15),\"\")","v":""},{"$f":"IF($AE140=1,VLOOKUP($F140,all!$E$14:$AD$553,16),\"\")","v":""},{"$f":"IF($AE140=1,VLOOKUP($F140,all!$E$14:$AD$553,17),\"\")","v":""},{"$f":"IF($AE140=1,VLOOKUP($F140,all!$E$14:$AD$553,18),\"\")","v":""},{"$f":"IF($AE140=1,VLOOKUP($F140,all!$E$14:$AD$553,19),\"\")","v":""},{"$f":"IF($AE140=1,VLOOKUP($F140,all!$E$14:$AD$553,20),\"\")","v":""},{"$f":"IF($AE140=1,VLOOKUP($F140,all!$E$14:$AD$553,21),\"\")","v":""},{"$f":"IF($AE140=1,VLOOKUP($F140,all!$E$14:$AD$553,22),\"\")","v":""},{"$f":"IF($AE140=1,VLOOKUP($F140,all!$E$14:$AD$553,23),\"\")","v":""},{"$f":"IF($AE140=1,VLOOKUP($F140,all!$E$14:$AD$553,24),\"\")","v":""},{"$f":"IF($AE140=1,VLOOKUP($F140,all!$E$14:$AD$553,25),\"\")","v":""},null,{"$f":"COUNTIF(all!$E$14:$E$553,F140)","v":0}]
[{"$f":"IF(OR('Y2'!$W$1=6,('Y2'!$W$1=7)),\"\",'Y2'!AA136)","v":170},{"$f":"IF(OR('Y2'!$W$1=6,('Y2'!$W$1=7)),\"\",'Y2'!AB136)","v":6.08},null,{"$f":"IF(OR('Y2'!$W$1=6,('Y2'!$W$1=7)),\"\",'Y2'!AC136)","v":8.6},null,108,{"$f":"IF($AE141=1,VLOOKUP($F141,all!$E$14:$AD$553,3),\"\")","v":""},{"$f":"IF($AE141=1,VLOOKUP($F141,all!$E$14:$AD$553,4),\"\")","v":""},{"$f":"IF($AE141=1,VLOOKUP($F141,all!$E$14:$AD$553,5),\"\")","v":""},{"$f":"IF($AE141=1,VLOOKUP($F141,all!$E$14:$AD$553,6),\"\")","v":""},{"$f":"IF($AE141=1,VLOOKUP($F141,all!$E$14:$AD$553,7),\"\")","v":""},{"$f":"IF($AE141=1,VLOOKUP($F141,all!$E$14:$AD$553,8),\"\")","v":""},{"$f":"IF($AE141=1,VLOOKUP($F141,all!$E$14:$AD$553,9),\"\")","v":""},{"$f":"IF($AE141=1,VLOOKUP($F141,all!$E$14:$AD$553,10),\"\")","v":""},{"$f":"IF($AE141=1,VLOOKUP($F141,all!$E$14:$AD$553,11),\"\")","v":""},{"$f":"IF($AE141=1,VLOOKUP($F141,all!$E$14:$AD$553,12),\"\")","v":""},{"$f":"IF($AE141=1,VLOOKUP($F141,all!$E$14:$AD$553,13),\"\")","v":""},{"$f":"IF($AE141=1,VLOOKUP($F141,all!$E$14:$AD$553,14),\"\")","v":""},{"$f":"IF($AE141=1,VLOOKUP($F141,all!$E$14:$AD$553,15),\"\")","v":""},{"$f":"IF($AE141=1,VLOOKUP($F141,all!$E$14:$AD$553,16),\"\")","v":""},{"$f":"IF($AE141=1,VLOOKUP($F141,all!$E$14:$AD$553,17),\"\")","v":""},{"$f":"IF($AE141=1,VLOOKUP($F141,all!$E$14:$AD$553,18),\"\")","v":""},{"$f":"IF($AE141=1,VLOOKUP($F141,all!$E$14:$AD$553,19),\"\")","v":""},{"$f":"IF($AE141=1,VLOOKUP($F141,all!$E$14:$AD$553,20),\"\")","v":""},{"$f":"IF($AE141=1,VLOOKUP($F141,all!$E$14:$AD$553,21),\"\")","v":""},{"$f":"IF($AE141=1,VLOOKUP($F141,all!$E$14:$AD$553,22),\"\")","v":""},{"$f":"IF($AE141=1,VLOOKUP($F141,all!$E$14:$AD$553,23),\"\")","v":""},{"$f":"IF($AE141=1,VLOOKUP($F141,all!$E$14:$AD$553,24),\"\")","v":""},{"$f":"IF($AE141=1,VLOOKUP($F141,all!$E$14:$AD$553,25),\"\")","v":""},null,{"$f":"COUNTIF(all!$E$14:$E$553,F141)","v":0}]
[{"$f":"IF(OR('Y2'!$W$1=6,('Y2'!$W$1=7)),\"\",'Y2'!AA137)","v":175},{"$f":"IF(OR('Y2'!$W$1=6,('Y2'!$W$1=7)),\"\",'Y2'!AB137)","v":3.75},null,{"$f":"IF(OR('Y2'!$W$1=6,('Y2'!$W$1=7)),\"\",'Y2'!AC137)","v":11.6},null,109,{"$f":"IF($AE142=1,VLOOKUP($F142,all!$E$14:$AD$553,3),\"\")","v":""},{"$f":"IF($AE142=1,VLOOKUP($F142,all!$E$14:$AD$553,4),\"\")","v":""},{"$f":"IF($AE142=1,VLOOKUP($F142,all!$E$14:$AD$553,5),\"\")","v":""},{"$f":"IF($AE142=1,VLOOKUP($F142,all!$E$14:$AD$553,6),\"\")","v":""},{"$f":"IF($AE142=1,VLOOKUP($F142,all!$E$14:$AD$553,7),\"\")","v":""},{"$f":"IF($AE142=1,VLOOKUP($F142,all!$E$14:$AD$553,8),\"\")","v":""},{"$f":"IF($AE142=1,VLOOKUP($F142,all!$E$14:$AD$553,9),\"\")","v":""},{"$f":"IF($AE142=1,VLOOKUP($F142,all!$E$14:$AD$553,10),\"\")","v":""},{"$f":"IF($AE142=1,VLOOKUP($F142,all!$E$14:$AD$553,11),\"\")","v":""},{"$f":"IF($AE142=1,VLOOKUP($F142,all!$E$14:$AD$553,12),\"\")","v":""},{"$f":"IF($AE142=1,VLOOKUP($F142,all!$E$14:$AD$553,13),\"\")","v":""},{"$f":"IF($AE142=1,VLOOKUP($F142,all!$E$14:$AD$553,14),\"\")","v":""},{"$f":"IF($AE142=1,VLOOKUP($F142,all!$E$14:$AD$553,15),\"\")","v":""},{"$f":"IF($AE142=1,VLOOKUP($F142,all!$E$14:$AD$553,16),\"\")","v":""},{"$f":"IF($AE142=1,VLOOKUP($F142,all!$E$14:$AD$553,17),\"\")","v":""},{"$f":"IF($AE142=1,VLOOKUP($F142,all!$E$14:$AD$553,18),\"\")","v":""},{"$f":"IF($AE142=1,VLOOKUP($F142,all!$E$14:$AD$553,19),\"\")","v":""},{"$f":"IF($AE142=1,VLOOKUP($F142,all!$E$14:$AD$553,20),\"\")","v":""},{"$f":"IF($AE142=1,VLOOKUP($F142,all!$E$14:$AD$553,21),\"\")","v":""},{"$f":"IF($AE142=1,VLOOKUP($F142,all!$E$14:$AD$553,22),\"\")","v":""},{"$f":"IF($AE142=1,VLOOKUP($F142,all!$E$14:$AD$553,23),\"\")","v":""},{"$f":"IF($AE142=1,VLOOKUP($F142,all!$E$14:$AD$553,24),\"\")","v":""},{"$f":"IF($AE142=1,VLOOKUP($F142,all!$E$14:$AD$553,25),\"\")","v":""},null,{"$f":"COUNTIF(all!$E$14:$E$553,F142)","v":0}]
[{"$f":"IF(OR('Y2'!$W$1=6,('Y2'!$W$1=7)),\"\",'Y2'!AA138)","v":180},{"$f":"IF(OR('Y2'!$W$1=6,('Y2'!$W$1=7)),\"\",'Y2'!AB138)","v":2.2799999999999998},null,{"$f":"IF(OR('Y2'!$W$1=6,('Y2'!$W$1=7)),\"\",'Y2'!AC138)","v":14.97},null,110,{"$f":"IF($AE143=1,VLOOKUP($F143,all!$E$14:$AD$553,3),\"\")","v":""},{"$f":"IF($AE143=1,VLOOKUP($F143,all!$E$14:$AD$553,4),\"\")","v":""},{"$f":"IF($AE143=1,VLOOKUP($F143,all!$E$14:$AD$553,5),\"\")","v":""},{"$f":"IF($AE143=1,VLOOKUP($F143,all!$E$14:$AD$553,6),\"\")","v":""},{"$f":"IF($AE143=1,VLOOKUP($F143,all!$E$14:$AD$553,7),\"\")","v":""},{"$f":"IF($AE143=1,VLOOKUP($F143,all!$E$14:$AD$553,8),\"\")","v":""},{"$f":"IF($AE143=1,VLOOKUP($F143,all!$E$14:$AD$553,9),\"\")","v":""},{"$f":"IF($AE143=1,VLOOKUP($F143,all!$E$14:$AD$553,10),\"\")","v":""},{"$f":"IF($AE143=1,VLOOKUP($F143,all!$E$14:$AD$553,11),\"\")","v":""},{"$f":"IF($AE143=1,VLOOKUP($F143,all!$E$14:$AD$553,12),\"\")","v":""},{"$f":"IF($AE143=1,VLOOKUP($F143,all!$E$14:$AD$553,13),\"\")","v":""},{"$f":"IF($AE143=1,VLOOKUP($F143,all!$E$14:$AD$553,14),\"\")","v":""},{"$f":"IF($AE143=1,VLOOKUP($F143,all!$E$14:$AD$553,15),\"\")","v":""},{"$f":"IF($AE143=1,VLOOKUP($F143,all!$E$14:$AD$553,16),\"\")","v":""},{"$f":"IF($AE143=1,VLOOKUP($F143,all!$E$14:$AD$553,17),\"\")","v":""},{"$f":"IF($AE143=1,VLOOKUP($F143,all!$E$14:$AD$553,18),\"\")","v":""},{"$f":"IF($AE143=1,VLOOKUP($F143,all!$E$14:$AD$553,19),\"\")","v":""},{"$f":"IF($AE143=1,VLOOKUP($F143,all!$E$14:$AD$553,20),\"\")","v":""},{"$f":"IF($AE143=1,VLOOKUP($F143,all!$E$14:$AD$553,21),\"\")","v":""},{"$f":"IF($AE143=1,VLOOKUP($F143,all!$E$14:$AD$553,22),\"\")","v":""},{"$f":"IF($AE143=1,VLOOKUP($F143,all!$E$14:$AD$553,23),\"\")","v":""},{"$f":"IF($AE143=1,VLOOKUP($F143,all!$E$14:$AD$553,24),\"\")","v":""},{"$f":"IF($AE143=1,VLOOKUP($F143,all!$E$14:$AD$553,25),\"\")","v":""},null,{"$f":"COUNTIF(all!$E$14:$E$553,F143)","v":0}]
[{"$f":"IF(OR('Y2'!$W$1=6,('Y2'!$W$1=7)),\"\",'Y2'!AA139)","v":185},{"$f":"IF(OR('Y2'!$W$1=6,('Y2'!$W$1=7)),\"\",'Y2'!AB139)","v":1.22},null,{"$f":"IF(OR('Y2'!$W$1=6,('Y2'!$W$1=7)),\"\",'Y2'!AC139)","v":19.03},null,111,{"$f":"IF($AE144=1,VLOOKUP($F144,all!$E$14:$AD$553,3),\"\")","v":""},{"$f":"IF($AE144=1,VLOOKUP($F144,all!$E$14:$AD$553,4),\"\")","v":""},{"$f":"IF($AE144=1,VLOOKUP($F144,all!$E$14:$AD$553,5),\"\")","v":""},{"$f":"IF($AE144=1,VLOOKUP($F144,all!$E$14:$AD$553,6),\"\")","v":""},{"$f":"IF($AE144=1,VLOOKUP($F144,all!$E$14:$AD$553,7),\"\")","v":""},{"$f":"IF($AE144=1,VLOOKUP($F144,all!$E$14:$AD$553,8),\"\")","v":""},{"$f":"IF($AE144=1,VLOOKUP($F144,all!$E$14:$AD$553,9),\"\")","v":""},{"$f":"IF($AE144=1,VLOOKUP($F144,all!$E$14:$AD$553,10),\"\")","v":""},{"$f":"IF($AE144=1,VLOOKUP($F144,all!$E$14:$AD$553,11),\"\")","v":""},{"$f":"IF($AE144=1,VLOOKUP($F144,all!$E$14:$AD$553,12),\"\")","v":""},{"$f":"IF($AE144=1,VLOOKUP($F144,all!$E$14:$AD$553,13),\"\")","v":""},{"$f":"IF($AE144=1,VLOOKUP($F144,all!$E$14:$AD$553,14),\"\")","v":""},{"$f":"IF($AE144=1,VLOOKUP($F144,all!$E$14:$AD$553,15),\"\")","v":""},{"$f":"IF($AE144=1,VLOOKUP($F144,all!$E$14:$AD$553,16),\"\")","v":""},{"$f":"IF($AE144=1,VLOOKUP($F144,all!$E$14:$AD$553,17),\"\")","v":""},{"$f":"IF($AE144=1,VLOOKUP($F144,all!$E$14:$AD$553,18),\"\")","v":""},{"$f":"IF($AE144=1,VLOOKUP($F144,all!$E$14:$AD$553,19),\"\")","v":""},{"$f":"IF($AE144=1,VLOOKUP($F144,all!$E$14:$AD$553,20),\"\")","v":""},{"$f":"IF($AE144=1,VLOOKUP($F144,all!$E$14:$AD$553,21),\"\")","v":""},{"$f":"IF($AE144=1,VLOOKUP($F144,all!$E$14:$AD$553,22),\"\")","v":""},{"$f":"IF($AE144=1,VLOOKUP($F144,all!$E$14:$AD$553,23),\"\")","v":""},{"$f":"IF($AE144=1,VLOOKUP($F144,all!$E$14:$AD$553,24),\"\")","v":""},{"$f":"IF($AE144=1,VLOOKUP($F144,all!$E$14:$AD$553,25),\"\")","v":""},null,{"$f":"COUNTIF(all!$E$14:$E$553,F144)","v":0}]
[{"$f":"IF(OR('Y2'!$W$1=6,('Y2'!$W$1=7)),\"\",'Y2'!AA140)","v":190},{"$f":"IF(OR('Y2'!$W$1=6,('Y2'!$W$1=7)),\"\",'Y2'!AB140)","v":0.67},null,{"$f":"IF(OR('Y2'!$W$1=6,('Y2'!$W$1=7)),\"\",'Y2'!AC140)","v":23.27},null,112,{"$f":"IF($AE145=1,VLOOKUP($F145,all!$E$14:$AD$553,3),\"\")","v":""},{"$f":"IF($AE145=1,VLOOKUP($F145,all!$E$14:$AD$553,4),\"\")","v":""},{"$f":"IF($AE145=1,VLOOKUP($F145,all!$E$14:$AD$553,5),\"\")","v":""},{"$f":"IF($AE145=1,VLOOKUP($F145,all!$E$14:$AD$553,6),\"\")","v":""},{"$f":"IF($AE145=1,VLOOKUP($F145,all!$E$14:$AD$553,7),\"\")","v":""},{"$f":"IF($AE145=1,VLOOKUP($F145,all!$E$14:$AD$553,8),\"\")","v":""},{"$f":"IF($AE145=1,VLOOKUP($F145,all!$E$14:$AD$553,9),\"\")","v":""},{"$f":"IF($AE145=1,VLOOKUP($F145,all!$E$14:$AD$553,10),\"\")","v":""},{"$f":"IF($AE145=1,VLOOKUP($F145,all!$E$14:$AD$553,11),\"\")","v":""},{"$f":"IF($AE145=1,VLOOKUP($F145,all!$E$14:$AD$553,12),\"\")","v":""},{"$f":"IF($AE145=1,VLOOKUP($F145,all!$E$14:$AD$553,13),\"\")","v":""},{"$f":"IF($AE145=1,VLOOKUP($F145,all!$E$14:$AD$553,14),\"\")","v":""},{"$f":"IF($AE145=1,VLOOKUP($F145,all!$E$14:$AD$553,15),\"\")","v":""},{"$f":"IF($AE145=1,VLOOKUP($F145,all!$E$14:$AD$553,16),\"\")","v":""},{"$f":"IF($AE145=1,VLOOKUP($F145,all!$E$14:$AD$553,17),\"\")","v":""},{"$f":"IF($AE145=1,VLOOKUP($F145,all!$E$14:$AD$553,18),\"\")","v":""},{"$f":"IF($AE145=1,VLOOKUP($F145,all!$E$14:$AD$553,19),\"\")","v":""},{"$f":"IF($AE145=1,VLOOKUP($F145,all!$E$14:$AD$553,20),\"\")","v":""},{"$f":"IF($AE145=1,VLOOKUP($F145,all!$E$14:$AD$553,21),\"\")","v":""},{"$f":"IF($AE145=1,VLOOKUP($F145,all!$E$14:$AD$553,22),\"\")","v":""},{"$f":"IF($AE145=1,VLOOKUP($F145,all!$E$14:$AD$553,23),\"\")","v":""},{"$f":"IF($AE145=1,VLOOKUP($F145,all!$E$14:$AD$553,24),\"\")","v":""},{"$f":"IF($AE145=1,VLOOKUP($F145,all!$E$14:$AD$553,25),\"\")","v":""},null,{"$f":"COUNTIF(all!$E$14:$E$553,F145)","v":0}]
[{"$f":"IF(OR('Y2'!$W$1=6,('Y2'!$W$1=7)),\"\",'Y2'!AA141)","v":195},{"$f":"IF(OR('Y2'!$W$1=6,('Y2'!$W$1=7)),\"\",'Y2'!AB141)","v":0.36},null,{"$f":"IF(OR('Y2'!$W$1=6,('Y2'!$W$1=7)),\"\",'Y2'!AC141)","v":27.65},null,113,{"$f":"IF($AE146=1,VLOOKUP($F146,all!$E$14:$AD$553,3),\"\")","v":""},{"$f":"IF($AE146=1,VLOOKUP($F146,all!$E$14:$AD$553,4),\"\")","v":""},{"$f":"IF($AE146=1,VLOOKUP($F146,all!$E$14:$AD$553,5),\"\")","v":""},{"$f":"IF($AE146=1,VLOOKUP($F146,all!$E$14:$AD$553,6),\"\")","v":""},{"$f":"IF($AE146=1,VLOOKUP($F146,all!$E$14:$AD$553,7),\"\")","v":""},{"$f":"IF($AE146=1,VLOOKUP($F146,all!$E$14:$AD$553,8),\"\")","v":""},{"$f":"IF($AE146=1,VLOOKUP($F146,all!$E$14:$AD$553,9),\"\")","v":""},{"$f":"IF($AE146=1,VLOOKUP($F146,all!$E$14:$AD$553,10),\"\")","v":""},{"$f":"IF($AE146=1,VLOOKUP($F146,all!$E$14:$AD$553,11),\"\")","v":""},{"$f":"IF($AE146=1,VLOOKUP($F146,all!$E$14:$AD$553,12),\"\")","v":""},{"$f":"IF($AE146=1,VLOOKUP($F146,all!$E$14:$AD$553,13),\"\")","v":""},{"$f":"IF($AE146=1,VLOOKUP($F146,all!$E$14:$AD$553,14),\"\")","v":""},{"$f":"IF($AE146=1,VLOOKUP($F146,all!$E$14:$AD$553,15),\"\")","v":""},{"$f":"IF($AE146=1,VLOOKUP($F146,all!$E$14:$AD$553,16),\"\")","v":""},{"$f":"IF($AE146=1,VLOOKUP($F146,all!$E$14:$AD$553,17),\"\")","v":""},{"$f":"IF($AE146=1,VLOOKUP($F146,all!$E$14:$AD$553,18),\"\")","v":""},{"$f":"IF($AE146=1,VLOOKUP($F146,all!$E$14:$AD$553,19),\"\")","v":""},{"$f":"IF($AE146=1,VLOOKUP($F146,all!$E$14:$AD$553,20),\"\")","v":""},{"$f":"IF($AE146=1,VLOOKUP($F146,all!$E$14:$AD$553,21),\"\")","v":""},{"$f":"IF($AE146=1,VLOOKUP($F146,all!$E$14:$AD$553,22),\"\")","v":""},{"$f":"IF($AE146=1,VLOOKUP($F146,all!$E$14:$AD$553,23),\"\")","v":""},{"$f":"IF($AE146=1,VLOOKUP($F146,all!$E$14:$AD$553,24),\"\")","v":""},{"$f":"IF($AE146=1,VLOOKUP($F146,all!$E$14:$AD$553,25),\"\")","v":""},null,{"$f":"COUNTIF(all!$E$14:$E$553,F146)","v":0}]
[{"$f":"IF(OR('Y2'!$W$1=6,('Y2'!$W$1=7)),\"\",'Y2'!AA142)","v":200},{"$f":"IF(OR('Y2'!$W$1=6,('Y2'!$W$1=7)),\"\",'Y2'!AB142)","v":0.19},null,{"$f":"IF(OR('Y2'!$W$1=6,('Y2'!$W$1=7)),\"\",'Y2'!AC142)","v":31.79},null,114,{"$f":"IF($AE147=1,VLOOKUP($F147,all!$E$14:$AD$553,3),\"\")","v":""},{"$f":"IF($AE147=1,VLOOKUP($F147,all!$E$14:$AD$553,4),\"\")","v":""},{"$f":"IF($AE147=1,VLOOKUP($F147,all!$E$14:$AD$553,5),\"\")","v":""},{"$f":"IF($AE147=1,VLOOKUP($F147,all!$E$14:$AD$553,6),\"\")","v":""},{"$f":"IF($AE147=1,VLOOKUP($F147,all!$E$14:$AD$553,7),\"\")","v":""},{"$f":"IF($AE147=1,VLOOKUP($F147,all!$E$14:$AD$553,8),\"\")","v":""},{"$f":"IF($AE147=1,VLOOKUP($F147,all!$E$14:$AD$553,9),\"\")","v":""},{"$f":"IF($AE147=1,VLOOKUP($F147,all!$E$14:$AD$553,10),\"\")","v":""},{"$f":"IF($AE147=1,VLOOKUP($F147,all!$E$14:$AD$553,11),\"\")","v":""},{"$f":"IF($AE147=1,VLOOKUP($F147,all!$E$14:$AD$553,12),\"\")","v":""},{"$f":"IF($AE147=1,VLOOKUP($F147,all!$E$14:$AD$553,13),\"\")","v":""},{"$f":"IF($AE147=1,VLOOKUP($F147,all!$E$14:$AD$553,14),\"\")","v":""},{"$f":"IF($AE147=1,VLOOKUP($F147,all!$E$14:$AD$553,15),\"\")","v":""},{"$f":"IF($AE147=1,VLOOKUP($F147,all!$E$14:$AD$553,16),\"\")","v":""},{"$f":"IF($AE147=1,VLOOKUP($F147,all!$E$14:$AD$553,17),\"\")","v":""},{"$f":"IF($AE147=1,VLOOKUP($F147,all!$E$14:$AD$553,18),\"\")","v":""},{"$f":"IF($AE147=1,VLOOKUP($F147,all!$E$14:$AD$553,19),\"\")","v":""},{"$f":"IF($AE147=1,VLOOKUP($F147,all!$E$14:$AD$553,20),\"\")","v":""},{"$f":"IF($AE147=1,VLOOKUP($F147,all!$E$14:$AD$553,21),\"\")","v":""},{"$f":"IF($AE147=1,VLOOKUP($F147,all!$E$14:$AD$553,22),\"\")","v":""},{"$f":"IF($AE147=1,VLOOKUP($F147,all!$E$14:$AD$553,23),\"\")","v":""},{"$f":"IF($AE147=1,VLOOKUP($F147,all!$E$14:$AD$553,24),\"\")","v":""},{"$f":"IF($AE147=1,VLOOKUP($F147,all!$E$14:$AD$553,25),\"\")","v":""},null,{"$f":"COUNTIF(all!$E$14:$E$553,F147)","v":0}]
[{"$f":"IF(OR('Y2'!$W$1=6,('Y2'!$W$1=7)),\"\",'Y2'!AA143)","v":205},{"$f":"IF(OR('Y2'!$W$1=6,('Y2'!$W$1=7)),\"\",'Y2'!AB143)","v":0.13},null,{"$f":"IF(OR('Y2'!$W$1=6,('Y2'!$W$1=7)),\"\",'Y2'!AC143)","v":37.619999999999997},null,115,{"$f":"IF($AE148=1,VLOOKUP($F148,all!$E$14:$AD$553,3),\"\")","v":""},{"$f":"IF($AE148=1,VLOOKUP($F148,all!$E$14:$AD$553,4),\"\")","v":""},{"$f":"IF($AE148=1,VLOOKUP($F148,all!$E$14:$AD$553,5),\"\")","v":""},{"$f":"IF($AE148=1,VLOOKUP($F148,all!$E$14:$AD$553,6),\"\")","v":""},{"$f":"IF($AE148=1,VLOOKUP($F148,all!$E$14:$AD$553,7),\"\")","v":""},{"$f":"IF($AE148=1,VLOOKUP($F148,all!$E$14:$AD$553,8),\"\")","v":""},{"$f":"IF($AE148=1,VLOOKUP($F148,all!$E$14:$AD$553,9),\"\")","v":""},{"$f":"IF($AE148=1,VLOOKUP($F148,all!$E$14:$AD$553,10),\"\")","v":""},{"$f":"IF($AE148=1,VLOOKUP($F148,all!$E$14:$AD$553,11),\"\")","v":""},{"$f":"IF($AE148=1,VLOOKUP($F148,all!$E$14:$AD$553,12),\"\")","v":""},{"$f":"IF($AE148=1,VLOOKUP($F148,all!$E$14:$AD$553,13),\"\")","v":""},{"$f":"IF($AE148=1,VLOOKUP($F148,all!$E$14:$AD$553,14),\"\")","v":""},{"$f":"IF($AE148=1,VLOOKUP($F148,all!$E$14:$AD$553,15),\"\")","v":""},{"$f":"IF($AE148=1,VLOOKUP($F148,all!$E$14:$AD$553,16),\"\")","v":""},{"$f":"IF($AE148=1,VLOOKUP($F148,all!$E$14:$AD$553,17),\"\")","v":""},{"$f":"IF($AE148=1,VLOOKUP($F148,all!$E$14:$AD$553,18),\"\")","v":""},{"$f":"IF($AE148=1,VLOOKUP($F148,all!$E$14:$AD$553,19),\"\")","v":""},{"$f":"IF($AE148=1,VLOOKUP($F148,all!$E$14:$AD$553,20),\"\")","v":""},{"$f":"IF($AE148=1,VLOOKUP($F148,all!$E$14:$AD$553,21),\"\")","v":""},{"$f":"IF($AE148=1,VLOOKUP($F148,all!$E$14:$AD$553,22),\"\")","v":""},{"$f":"IF($AE148=1,VLOOKUP($F148,all!$E$14:$AD$553,23),\"\")","v":""},{"$f":"IF($AE148=1,VLOOKUP($F148,all!$E$14:$AD$553,24),\"\")","v":""},{"$f":"IF($AE148=1,VLOOKUP($F148,all!$E$14:$AD$553,25),\"\")","v":""},null,{"$f":"COUNTIF(all!$E$14:$E$553,F148)","v":0}]
[{"$f":"IF(OR('Y2'!$W$1=6,('Y2'!$W$1=7)),\"\",'Y2'!AA144)","v":210},{"$f":"IF(OR('Y2'!$W$1=6,('Y2'!$W$1=7)),\"\",'Y2'!AB144)","v":0.09},null,{"$f":"IF(OR('Y2'!$W$1=6,('Y2'!$W$1=7)),\"\",'Y2'!AC144)","v":40.799999999999997},null,116,{"$f":"IF($AE149=1,VLOOKUP($F149,all!$E$14:$AD$553,3),\"\")","v":""},{"$f":"IF($AE149=1,VLOOKUP($F149,all!$E$14:$AD$553,4),\"\")","v":""},{"$f":"IF($AE149=1,VLOOKUP($F149,all!$E$14:$AD$553,5),\"\")","v":""},{"$f":"IF($AE149=1,VLOOKUP($F149,all!$E$14:$AD$553,6),\"\")","v":""},{"$f":"IF($AE149=1,VLOOKUP($F149,all!$E$14:$AD$553,7),\"\")","v":""},{"$f":"IF($AE149=1,VLOOKUP($F149,all!$E$14:$AD$553,8),\"\")","v":""},{"$f":"IF($AE149=1,VLOOKUP($F149,all!$E$14:$AD$553,9),\"\")","v":""},{"$f":"IF($AE149=1,VLOOKUP($F149,all!$E$14:$AD$553,10),\"\")","v":""},{"$f":"IF($AE149=1,VLOOKUP($F149,all!$E$14:$AD$553,11),\"\")","v":""},{"$f":"IF($AE149=1,VLOOKUP($F149,all!$E$14:$AD$553,12),\"\")","v":""},{"$f":"IF($AE149=1,VLOOKUP($F149,all!$E$14:$AD$553,13),\"\")","v":""},{"$f":"IF($AE149=1,VLOOKUP($F149,all!$E$14:$AD$553,14),\"\")","v":""},{"$f":"IF($AE149=1,VLOOKUP($F149,all!$E$14:$AD$553,15),\"\")","v":""},{"$f":"IF($AE149=1,VLOOKUP($F149,all!$E$14:$AD$553,16),\"\")","v":""},{"$f":"IF($AE149=1,VLOOKUP($F149,all!$E$14:$AD$553,17),\"\")","v":""},{"$f":"IF($AE149=1,VLOOKUP($F149,all!$E$14:$AD$553,18),\"\")","v":""},{"$f":"IF($AE149=1,VLOOKUP($F149,all!$E$14:$AD$553,19),\"\")","v":""},{"$f":"IF($AE149=1,VLOOKUP($F149,all!$E$14:$AD$553,20),\"\")","v":""},{"$f":"IF($AE149=1,VLOOKUP($F149,all!$E$14:$AD$553,21),\"\")","v":""},{"$f":"IF($AE149=1,VLOOKUP($F149,all!$E$14:$AD$553,22),\"\")","v":""},{"$f":"IF($AE149=1,VLOOKUP($F149,all!$E$14:$AD$553,23),\"\")","v":""},{"$f":"IF($AE149=1,VLOOKUP($F149,all!$E$14:$AD$553,24),\"\")","v":""},{"$f":"IF($AE149=1,VLOOKUP($F149,all!$E$14:$AD$553,25),\"\")","v":""},null,{"$f":"COUNTIF(all!$E$14:$E$553,F149)","v":0}]
[{"$f":"IF(OR('Y2'!$W$1=6,('Y2'!$W$1=7)),\"\",'Y2'!AA145)","v":215},{"$f":"IF(OR('Y2'!$W$1=6,('Y2'!$W$1=7)),\"\",'Y2'!AB145)","v":0.05},null,{"$f":"IF(OR('Y2'!$W$1=6,('Y2'!$W$1=7)),\"\",'Y2'!AC145)","v":42.9},null,117,{"$f":"IF($AE150=1,VLOOKUP($F150,all!$E$14:$AD$553,3),\"\")","v":""},{"$f":"IF($AE150=1,VLOOKUP($F150,all!$E$14:$AD$553,4),\"\")","v":""},{"$f":"IF($AE150=1,VLOOKUP($F150,all!$E$14:$AD$553,5),\"\")","v":""},{"$f":"IF($AE150=1,VLOOKUP($F150,all!$E$14:$AD$553,6),\"\")","v":""},{"$f":"IF($AE150=1,VLOOKUP($F150,all!$E$14:$AD$553,7),\"\")","v":""},{"$f":"IF($AE150=1,VLOOKUP($F150,all!$E$14:$AD$553,8),\"\")","v":""},{"$f":"IF($AE150=1,VLOOKUP($F150,all!$E$14:$AD$553,9),\"\")","v":""},{"$f":"IF($AE150=1,VLOOKUP($F150,all!$E$14:$AD$553,10),\"\")","v":""},{"$f":"IF($AE150=1,VLOOKUP($F150,all!$E$14:$AD$553,11),\"\")","v":""},{"$f":"IF($AE150=1,VLOOKUP($F150,all!$E$14:$AD$553,12),\"\")","v":""},{"$f":"IF($AE150=1,VLOOKUP($F150,all!$E$14:$AD$553,13),\"\")","v":""},{"$f":"IF($AE150=1,VLOOKUP($F150,all!$E$14:$AD$553,14),\"\")","v":""},{"$f":"IF($AE150=1,VLOOKUP($F150,all!$E$14:$AD$553,15),\"\")","v":""},{"$f":"IF($AE150=1,VLOOKUP($F150,all!$E$14:$AD$553,16),\"\")","v":""},{"$f":"IF($AE150=1,VLOOKUP($F150,all!$E$14:$AD$553,17),\"\")","v":""},{"$f":"IF($AE150=1,VLOOKUP($F150,all!$E$14:$AD$553,18),\"\")","v":""},{"$f":"IF($AE150=1,VLOOKUP($F150,all!$E$14:$AD$553,19),\"\")","v":""},{"$f":"IF($AE150=1,VLOOKUP($F150,all!$E$14:$AD$553,20),\"\")","v":""},{"$f":"IF($AE150=1,VLOOKUP($F150,all!$E$14:$AD$553,21),\"\")","v":""},{"$f":"IF($AE150=1,VLOOKUP($F150,all!$E$14:$AD$553,22),\"\")","v":""},{"$f":"IF($AE150=1,VLOOKUP($F150,all!$E$14:$AD$553,23),\"\")","v":""},{"$f":"IF($AE150=1,VLOOKUP($F150,all!$E$14:$AD$553,24),\"\")","v":""},{"$f":"IF($AE150=1,VLOOKUP($F150,all!$E$14:$AD$553,25),\"\")","v":""},null,{"$f":"COUNTIF(all!$E$14:$E$553,F150)","v":0}]
[{"$f":"IF(OR('Y2'!$W$1=6,('Y2'!$W$1=7)),\"\",'Y2'!AA146)","v":220},{"$f":"IF(OR('Y2'!$W$1=6,('Y2'!$W$1=7)),\"\",'Y2'!AB146)","v":0.04},null,{"$f":"IF(OR('Y2'!$W$1=6,('Y2'!$W$1=7)),\"\",'Y2'!AC146)","v":52.2},null,118,{"$f":"IF($AE151=1,VLOOKUP($F151,all!$E$14:$AD$553,3),\"\")","v":""},{"$f":"IF($AE151=1,VLOOKUP($F151,all!$E$14:$AD$553,4),\"\")","v":""},{"$f":"IF($AE151=1,VLOOKUP($F151,all!$E$14:$AD$553,5),\"\")","v":""},{"$f":"IF($AE151=1,VLOOKUP($F151,all!$E$14:$AD$553,6),\"\")","v":""},{"$f":"IF($AE151=1,VLOOKUP($F151,all!$E$14:$AD$553,7),\"\")","v":""},{"$f":"IF($AE151=1,VLOOKUP($F151,all!$E$14:$AD$553,8),\"\")","v":""},{"$f":"IF($AE151=1,VLOOKUP($F151,all!$E$14:$AD$553,9),\"\")","v":""},{"$f":"IF($AE151=1,VLOOKUP($F151,all!$E$14:$AD$553,10),\"\")","v":""},{"$f":"IF($AE151=1,VLOOKUP($F151,all!$E$14:$AD$553,11),\"\")","v":""},{"$f":"IF($AE151=1,VLOOKUP($F151,all!$E$14:$AD$553,12),\"\")","v":""},{"$f":"IF($AE151=1,VLOOKUP($F151,all!$E$14:$AD$553,13),\"\")","v":""},{"$f":"IF($AE151=1,VLOOKUP($F151,all!$E$14:$AD$553,14),\"\")","v":""},{"$f":"IF($AE151=1,VLOOKUP($F151,all!$E$14:$AD$553,15),\"\")","v":""},{"$f":"IF($AE151=1,VLOOKUP($F151,all!$E$14:$AD$553,16),\"\")","v":""},{"$f":"IF($AE151=1,VLOOKUP($F151,all!$E$14:$AD$553,17),\"\")","v":""},{"$f":"IF($AE151=1,VLOOKUP($F151,all!$E$14:$AD$553,18),\"\")","v":""},{"$f":"IF($AE151=1,VLOOKUP($F151,all!$E$14:$AD$553,19),\"\")","v":""},{"$f":"IF($AE151=1,VLOOKUP($F151,all!$E$14:$AD$553,20),\"\")","v":""},{"$f":"IF($AE151=1,VLOOKUP($F151,all!$E$14:$AD$553,21),\"\")","v":""},{"$f":"IF($AE151=1,VLOOKUP($F151,all!$E$14:$AD$553,22),\"\")","v":""},{"$f":"IF($AE151=1,VLOOKUP($F151,all!$E$14:$AD$553,23),\"\")","v":""},{"$f":"IF($AE151=1,VLOOKUP($F151,all!$E$14:$AD$553,24),\"\")","v":""},{"$f":"IF($AE151=1,VLOOKUP($F151,all!$E$14:$AD$553,25),\"\")","v":""},null,{"$f":"COUNTIF(all!$E$14:$E$553,F151)","v":0}]
[{"$f":"IF(OR('Y2'!$W$1=6,('Y2'!$W$1=7)),\"\",'Y2'!AA147)","v":225},{"$f":"IF(OR('Y2'!$W$1=6,('Y2'!$W$1=7)),\"\",'Y2'!AB147)","v":0.03},null,{"$f":"IF(OR('Y2'!$W$1=6,('Y2'!$W$1=7)),\"\",'Y2'!AC147)","v":55.55},null,119,{"$f":"IF($AE152=1,VLOOKUP($F152,all!$E$14:$AD$553,3),\"\")","v":""},{"$f":"IF($AE152=1,VLOOKUP($F152,all!$E$14:$AD$553,4),\"\")","v":""},{"$f":"IF($AE152=1,VLOOKUP($F152,all!$E$14:$AD$553,5),\"\")","v":""},{"$f":"IF($AE152=1,VLOOKUP($F152,all!$E$14:$AD$553,6),\"\")","v":""},{"$f":"IF($AE152=1,VLOOKUP($F152,all!$E$14:$AD$553,7),\"\")","v":""},{"$f":"IF($AE152=1,VLOOKUP($F152,all!$E$14:$AD$553,8),\"\")","v":""},{"$f":"IF($AE152=1,VLOOKUP($F152,all!$E$14:$AD$553,9),\"\")","v":""},{"$f":"IF($AE152=1,VLOOKUP($F152,all!$E$14:$AD$553,10),\"\")","v":""},{"$f":"IF($AE152=1,VLOOKUP($F152,all!$E$14:$AD$553,11),\"\")","v":""},{"$f":"IF($AE152=1,VLOOKUP($F152,all!$E$14:$AD$553,12),\"\")","v":""},{"$f":"IF($AE152=1,VLOOKUP($F152,all!$E$14:$AD$553,13),\"\")","v":""},{"$f":"IF($AE152=1,VLOOKUP($F152,all!$E$14:$AD$553,14),\"\")","v":""},{"$f":"IF($AE152=1,VLOOKUP($F152,all!$E$14:$AD$553,15),\"\")","v":""},{"$f":"IF($AE152=1,VLOOKUP($F152,all!$E$14:$AD$553,16),\"\")","v":""},{"$f":"IF($AE152=1,VLOOKUP($F152,all!$E$14:$AD$553,17),\"\")","v":""},{"$f":"IF($AE152=1,VLOOKUP($F152,all!$E$14:$AD$553,18),\"\")","v":""},{"$f":"IF($AE152=1,VLOOKUP($F152,all!$E$14:$AD$553,19),\"\")","v":""},{"$f":"IF($AE152=1,VLOOKUP($F152,all!$E$14:$AD$553,20),\"\")","v":""},{"$f":"IF($AE152=1,VLOOKUP($F152,all!$E$14:$AD$553,21),\"\")","v":""},{"$f":"IF($AE152=1,VLOOKUP($F152,all!$E$14:$AD$553,22),\"\")","v":""},{"$f":"IF($AE152=1,VLOOKUP($F152,all!$E$14:$AD$553,23),\"\")","v":""},{"$f":"IF($AE152=1,VLOOKUP($F152,all!$E$14:$AD$553,24),\"\")","v":""},{"$f":"IF($AE152=1,VLOOKUP($F152,all!$E$14:$AD$553,25),\"\")","v":""},null,{"$f":"COUNTIF(all!$E$14:$E$553,F152)","v":0}]
[{"$f":"IF(OR('Y2'!$W$1=6,('Y2'!$W$1=7)),\"\",'Y2'!AA148)","v":230},{"$f":"IF(OR('Y2'!$W$1=6,('Y2'!$W$1=7)),\"\",'Y2'!AB148)","v":0.02},null,{"$f":"IF(OR('Y2'!$W$1=6,('Y2'!$W$1=7)),\"\",'Y2'!AC148)","v":60.55},null,120,{"$f":"IF($AE153=1,VLOOKUP($F153,all!$E$14:$AD$553,3),\"\")","v":""},{"$f":"IF($AE153=1,VLOOKUP($F153,all!$E$14:$AD$553,4),\"\")","v":""},{"$f":"IF($AE153=1,VLOOKUP($F153,all!$E$14:$AD$553,5),\"\")","v":""},{"$f":"IF($AE153=1,VLOOKUP($F153,all!$E$14:$AD$553,6),\"\")","v":""},{"$f":"IF($AE153=1,VLOOKUP($F153,all!$E$14:$AD$553,7),\"\")","v":""},{"$f":"IF($AE153=1,VLOOKUP($F153,all!$E$14:$AD$553,8),\"\")","v":""},{"$f":"IF($AE153=1,VLOOKUP($F153,all!$E$14:$AD$553,9),\"\")","v":""},{"$f":"IF($AE153=1,VLOOKUP($F153,all!$E$14:$AD$553,10),\"\")","v":""},{"$f":"IF($AE153=1,VLOOKUP($F153,all!$E$14:$AD$553,11),\"\")","v":""},{"$f":"IF($AE153=1,VLOOKUP($F153,all!$E$14:$AD$553,12),\"\")","v":""},{"$f":"IF($AE153=1,VLOOKUP($F153,all!$E$14:$AD$553,13),\"\")","v":""},{"$f":"IF($AE153=1,VLOOKUP($F153,all!$E$14:$AD$553,14),\"\")","v":""},{"$f":"IF($AE153=1,VLOOKUP($F153,all!$E$14:$AD$553,15),\"\")","v":""},{"$f":"IF($AE153=1,VLOOKUP($F153,all!$E$14:$AD$553,16),\"\")","v":""},{"$f":"IF($AE153=1,VLOOKUP($F153,all!$E$14:$AD$553,17),\"\")","v":""},{"$f":"IF($AE153=1,VLOOKUP($F153,all!$E$14:$AD$553,18),\"\")","v":""},{"$f":"IF($AE153=1,VLOOKUP($F153,all!$E$14:$AD$553,19),\"\")","v":""},{"$f":"IF($AE153=1,VLOOKUP($F153,all!$E$14:$AD$553,20),\"\")","v":""},{"$f":"IF($AE153=1,VLOOKUP($F153,all!$E$14:$AD$553,21),\"\")","v":""},{"$f":"IF($AE153=1,VLOOKUP($F153,all!$E$14:$AD$553,22),\"\")","v":""},{"$f":"IF($AE153=1,VLOOKUP($F153,all!$E$14:$AD$553,23),\"\")","v":""},{"$f":"IF($AE153=1,VLOOKUP($F153,all!$E$14:$AD$553,24),\"\")","v":""},{"$f":"IF($AE153=1,VLOOKUP($F153,all!$E$14:$AD$553,25),\"\")","v":""},null,{"$f":"COUNTIF(all!$E$14:$E$553,F153)","v":0}]
[{"$f":"IF(OR('Y2'!$W$1=6,('Y2'!$W$1=7)),\"\",'Y2'!AA149)","v":235},{"$f":"IF(OR('Y2'!$W$1=6,('Y2'!$W$1=7)),\"\",'Y2'!AB149)","v":0.05},null,{"$f":"IF(OR('Y2'!$W$1=6,('Y2'!$W$1=7)),\"\",'Y2'!AC149)","v":93.1},null,121,{"$f":"IF($AE154=1,VLOOKUP($F154,all!$E$14:$AD$553,3),\"\")","v":""},{"$f":"IF($AE154=1,VLOOKUP($F154,all!$E$14:$AD$553,4),\"\")","v":""},{"$f":"IF($AE154=1,VLOOKUP($F154,all!$E$14:$AD$553,5),\"\")","v":""},{"$f":"IF($AE154=1,VLOOKUP($F154,all!$E$14:$AD$553,6),\"\")","v":""},{"$f":"IF($AE154=1,VLOOKUP($F154,all!$E$14:$AD$553,7),\"\")","v":""},{"$f":"IF($AE154=1,VLOOKUP($F154,all!$E$14:$AD$553,8),\"\")","v":""},{"$f":"IF($AE154=1,VLOOKUP($F154,all!$E$14:$AD$553,9),\"\")","v":""},{"$f":"IF($AE154=1,VLOOKUP($F154,all!$E$14:$AD$553,10),\"\")","v":""},{"$f":"IF($AE154=1,VLOOKUP($F154,all!$E$14:$AD$553,11),\"\")","v":""},{"$f":"IF($AE154=1,VLOOKUP($F154,all!$E$14:$AD$553,12),\"\")","v":""},{"$f":"IF($AE154=1,VLOOKUP($F154,all!$E$14:$AD$553,13),\"\")","v":""},{"$f":"IF($AE154=1,VLOOKUP($F154,all!$E$14:$AD$553,14),\"\")","v":""},{"$f":"IF($AE154=1,VLOOKUP($F154,all!$E$14:$AD$553,15),\"\")","v":""},{"$f":"IF($AE154=1,VLOOKUP($F154,all!$E$14:$AD$553,16),\"\")","v":""},{"$f":"IF($AE154=1,VLOOKUP($F154,all!$E$14:$AD$553,17),\"\")","v":""},{"$f":"IF($AE154=1,VLOOKUP($F154,all!$E$14:$AD$553,18),\"\")","v":""},{"$f":"IF($AE154=1,VLOOKUP($F154,all!$E$14:$AD$553,19),\"\")","v":""},{"$f":"IF($AE154=1,VLOOKUP($F154,all!$E$14:$AD$553,20),\"\")","v":""},{"$f":"IF($AE154=1,VLOOKUP($F154,all!$E$14:$AD$553,21),\"\")","v":""},{"$f":"IF($AE154=1,VLOOKUP($F154,all!$E$14:$AD$553,22),\"\")","v":""},{"$f":"IF($AE154=1,VLOOKUP($F154,all!$E$14:$AD$553,23),\"\")","v":""},{"$f":"IF($AE154=1,VLOOKUP($F154,all!$E$14:$AD$553,24),\"\")","v":""},{"$f":"IF($AE154=1,VLOOKUP($F154,all!$E$14:$AD$553,25),\"\")","v":""},null,{"$f":"COUNTIF(all!$E$14:$E$553,F154)","v":0}]
[{"$f":"IF(OR('Y2'!$W$1=6,('Y2'!$W$1=7)),\"\",'Y2'!AA150)","v":240},{"$f":"IF(OR('Y2'!$W$1=6,('Y2'!$W$1=7)),\"\",'Y2'!AB150)","v":0.01},null,{"$f":"IF(OR('Y2'!$W$1=6,('Y2'!$W$1=7)),\"\",'Y2'!AC150)","v":72.599999999999994},null,122,{"$f":"IF($AE155=1,VLOOKUP($F155,all!$E$14:$AD$553,3),\"\")","v":""},{"$f":"IF($AE155=1,VLOOKUP($F155,all!$E$14:$AD$553,4),\"\")","v":""},{"$f":"IF($AE155=1,VLOOKUP($F155,all!$E$14:$AD$553,5),\"\")","v":""},{"$f":"IF($AE155=1,VLOOKUP($F155,all!$E$14:$AD$553,6),\"\")","v":""},{"$f":"IF($AE155=1,VLOOKUP($F155,all!$E$14:$AD$553,7),\"\")","v":""},{"$f":"IF($AE155=1,VLOOKUP($F155,all!$E$14:$AD$553,8),\"\")","v":""},{"$f":"IF($AE155=1,VLOOKUP($F155,all!$E$14:$AD$553,9),\"\")","v":""},{"$f":"IF($AE155=1,VLOOKUP($F155,all!$E$14:$AD$553,10),\"\")","v":""},{"$f":"IF($AE155=1,VLOOKUP($F155,all!$E$14:$AD$553,11),\"\")","v":""},{"$f":"IF($AE155=1,VLOOKUP($F155,all!$E$14:$AD$553,12),\"\")","v":""},{"$f":"IF($AE155=1,VLOOKUP($F155,all!$E$14:$AD$553,13),\"\")","v":""},{"$f":"IF($AE155=1,VLOOKUP($F155,all!$E$14:$AD$553,14),\"\")","v":""},{"$f":"IF($AE155=1,VLOOKUP($F155,all!$E$14:$AD$553,15),\"\")","v":""},{"$f":"IF($AE155=1,VLOOKUP($F155,all!$E$14:$AD$553,16),\"\")","v":""},{"$f":"IF($AE155=1,VLOOKUP($F155,all!$E$14:$AD$553,17),\"\")","v":""},{"$f":"IF($AE155=1,VLOOKUP($F155,all!$E$14:$AD$553,18),\"\")","v":""},{"$f":"IF($AE155=1,VLOOKUP($F155,all!$E$14:$AD$553,19),\"\")","v":""},{"$f":"IF($AE155=1,VLOOKUP($F155,all!$E$14:$AD$553,20),\"\")","v":""},{"$f":"IF($AE155=1,VLOOKUP($F155,all!$E$14:$AD$553,21),\"\")","v":""},{"$f":"IF($AE155=1,VLOOKUP($F155,all!$E$14:$AD$553,22),\"\")","v":""},{"$f":"IF($AE155=1,VLOOKUP($F155,all!$E$14:$AD$553,23),\"\")","v":""},{"$f":"IF($AE155=1,VLOOKUP($F155,all!$E$14:$AD$553,24),\"\")","v":""},{"$f":"IF($AE155=1,VLOOKUP($F155,all!$E$14:$AD$553,25),\"\")","v":""},null,{"$f":"COUNTIF(all!$E$14:$E$553,F155)","v":0}]
[{"$f":"IF(OR('Y2'!$W$1=6,('Y2'!$W$1=7)),\"\",'Y2'!AA151)","v":245},{"$f":"IF(OR('Y2'!$W$1=6,('Y2'!$W$1=7)),\"\",'Y2'!AB151)","v":0.01},null,{"$f":"IF(OR('Y2'!$W$1=6,('Y2'!$W$1=7)),\"\",'Y2'!AC151)","v":77.95},null,123,{"$f":"IF($AE156=1,VLOOKUP($F156,all!$E$14:$AD$553,3),\"\")","v":""},{"$f":"IF($AE156=1,VLOOKUP($F156,all!$E$14:$AD$553,4),\"\")","v":""},{"$f":"IF($AE156=1,VLOOKUP($F156,all!$E$14:$AD$553,5),\"\")","v":""},{"$f":"IF($AE156=1,VLOOKUP($F156,all!$E$14:$AD$553,6),\"\")","v":""},{"$f":"IF($AE156=1,VLOOKUP($F156,all!$E$14:$AD$553,7),\"\")","v":""},{"$f":"IF($AE156=1,VLOOKUP($F156,all!$E$14:$AD$553,8),\"\")","v":""},{"$f":"IF($AE156=1,VLOOKUP($F156,all!$E$14:$AD$553,9),\"\")","v":""},{"$f":"IF($AE156=1,VLOOKUP($F156,all!$E$14:$AD$553,10),\"\")","v":""},{"$f":"IF($AE156=1,VLOOKUP($F156,all!$E$14:$AD$553,11),\"\")","v":""},{"$f":"IF($AE156=1,VLOOKUP($F156,all!$E$14:$AD$553,12),\"\")","v":""},{"$f":"IF($AE156=1,VLOOKUP($F156,all!$E$14:$AD$553,13),\"\")","v":""},{"$f":"IF($AE156=1,VLOOKUP($F156,all!$E$14:$AD$553,14),\"\")","v":""},{"$f":"IF($AE156=1,VLOOKUP($F156,all!$E$14:$AD$553,15),\"\")","v":""},{"$f":"IF($AE156=1,VLOOKUP($F156,all!$E$14:$AD$553,16),\"\")","v":""},{"$f":"IF($AE156=1,VLOOKUP($F156,all!$E$14:$AD$553,17),\"\")","v":""},{"$f":"IF($AE156=1,VLOOKUP($F156,all!$E$14:$AD$553,18),\"\")","v":""},{"$f":"IF($AE156=1,VLOOKUP($F156,all!$E$14:$AD$553,19),\"\")","v":""},{"$f":"IF($AE156=1,VLOOKUP($F156,all!$E$14:$AD$553,20),\"\")","v":""},{"$f":"IF($AE156=1,VLOOKUP($F156,all!$E$14:$AD$553,21),\"\")","v":""},{"$f":"IF($AE156=1,VLOOKUP($F156,all!$E$14:$AD$553,22),\"\")","v":""},{"$f":"IF($AE156=1,VLOOKUP($F156,all!$E$14:$AD$553,23),\"\")","v":""},{"$f":"IF($AE156=1,VLOOKUP($F156,all!$E$14:$AD$553,24),\"\")","v":""},{"$f":"IF($AE156=1,VLOOKUP($F156,all!$E$14:$AD$553,25),\"\")","v":""},null,{"$f":"COUNTIF(all!$E$14:$E$553,F156)","v":0}]
[{"$f":"IF(OR('Y2'!$W$1=6,('Y2'!$W$1=7)),\"\",'Y2'!AA152)","v":250},{"$f":"IF(OR('Y2'!$W$1=6,('Y2'!$W$1=7)),\"\",'Y2'!AB152)","v":0.01},null,{"$f":"IF(OR('Y2'!$W$1=6,('Y2'!$W$1=7)),\"\",'Y2'!AC152)","v":86.95},null,124,{"$f":"IF($AE157=1,VLOOKUP($F157,all!$E$14:$AD$553,3),\"\")","v":""},{"$f":"IF($AE157=1,VLOOKUP($F157,all!$E$14:$AD$553,4),\"\")","v":""},{"$f":"IF($AE157=1,VLOOKUP($F157,all!$E$14:$AD$553,5),\"\")","v":""},{"$f":"IF($AE157=1,VLOOKUP($F157,all!$E$14:$AD$553,6),\"\")","v":""},{"$f":"IF($AE157=1,VLOOKUP($F157,all!$E$14:$AD$553,7),\"\")","v":""},{"$f":"IF($AE157=1,VLOOKUP($F157,all!$E$14:$AD$553,8),\"\")","v":""},{"$f":"IF($AE157=1,VLOOKUP($F157,all!$E$14:$AD$553,9),\"\")","v":""},{"$f":"IF($AE157=1,VLOOKUP($F157,all!$E$14:$AD$553,10),\"\")","v":""},{"$f":"IF($AE157=1,VLOOKUP($F157,all!$E$14:$AD$553,11),\"\")","v":""},{"$f":"IF($AE157=1,VLOOKUP($F157,all!$E$14:$AD$553,12),\"\")","v":""},{"$f":"IF($AE157=1,VLOOKUP($F157,all!$E$14:$AD$553,13),\"\")","v":""},{"$f":"IF($AE157=1,VLOOKUP($F157,all!$E$14:$AD$553,14),\"\")","v":""},{"$f":"IF($AE157=1,VLOOKUP($F157,all!$E$14:$AD$553,15),\"\")","v":""},{"$f":"IF($AE157=1,VLOOKUP($F157,all!$E$14:$AD$553,16),\"\")","v":""},{"$f":"IF($AE157=1,VLOOKUP($F157,all!$E$14:$AD$553,17),\"\")","v":""},{"$f":"IF($AE157=1,VLOOKUP($F157,all!$E$14:$AD$553,18),\"\")","v":""},{"$f":"IF($AE157=1,VLOOKUP($F157,all!$E$14:$AD$553,19),\"\")","v":""},{"$f":"IF($AE157=1,VLOOKUP($F157,all!$E$14:$AD$553,20),\"\")","v":""},{"$f":"IF($AE157=1,VLOOKUP($F157,all!$E$14:$AD$553,21),\"\")","v":""},{"$f":"IF($AE157=1,VLOOKUP($F157,all!$E$14:$AD$553,22),\"\")","v":""},{"$f":"IF($AE157=1,VLOOKUP($F157,all!$E$14:$AD$553,23),\"\")","v":""},{"$f":"IF($AE157=1,VLOOKUP($F157,all!$E$14:$AD$553,24),\"\")","v":""},{"$f":"IF($AE157=1,VLOOKUP($F157,all!$E$14:$AD$553,25),\"\")","v":""},null,{"$f":"COUNTIF(all!$E$14:$E$553,F157)","v":0}]
[{"$f":"IF(OR('Y2'!$W$1=6,('Y2'!$W$1=7)),\"\",'Y2'!AA153)","v":255},{"$f":"IF(OR('Y2'!$W$1=6,('Y2'!$W$1=7)),\"\",'Y2'!AB153)","v":0.01},null,{"$f":"IF(OR('Y2'!$W$1=6,('Y2'!$W$1=7)),\"\",'Y2'!AC153)","v":102.3},null,125,{"$f":"IF($AE158=1,VLOOKUP($F158,all!$E$14:$AD$553,3),\"\")","v":""},{"$f":"IF($AE158=1,VLOOKUP($F158,all!$E$14:$AD$553,4),\"\")","v":""},{"$f":"IF($AE158=1,VLOOKUP($F158,all!$E$14:$AD$553,5),\"\")","v":""},{"$f":"IF($AE158=1,VLOOKUP($F158,all!$E$14:$AD$553,6),\"\")","v":""},{"$f":"IF($AE158=1,VLOOKUP($F158,all!$E$14:$AD$553,7),\"\")","v":""},{"$f":"IF($AE158=1,VLOOKUP($F158,all!$E$14:$AD$553,8),\"\")","v":""},{"$f":"IF($AE158=1,VLOOKUP($F158,all!$E$14:$AD$553,9),\"\")","v":""},{"$f":"IF($AE158=1,VLOOKUP($F158,all!$E$14:$AD$553,10),\"\")","v":""},{"$f":"IF($AE158=1,VLOOKUP($F158,all!$E$14:$AD$553,11),\"\")","v":""},{"$f":"IF($AE158=1,VLOOKUP($F158,all!$E$14:$AD$553,12),\"\")","v":""},{"$f":"IF($AE158=1,VLOOKUP($F158,all!$E$14:$AD$553,13),\"\")","v":""},{"$f":"IF($AE158=1,VLOOKUP($F158,all!$E$14:$AD$553,14),\"\")","v":""},{"$f":"IF($AE158=1,VLOOKUP($F158,all!$E$14:$AD$553,15),\"\")","v":""},{"$f":"IF($AE158=1,VLOOKUP($F158,all!$E$14:$AD$553,16),\"\")","v":""},{"$f":"IF($AE158=1,VLOOKUP($F158,all!$E$14:$AD$553,17),\"\")","v":""},{"$f":"IF($AE158=1,VLOOKUP($F158,all!$E$14:$AD$553,18),\"\")","v":""},{"$f":"IF($AE158=1,VLOOKUP($F158,all!$E$14:$AD$553,19),\"\")","v":""},{"$f":"IF($AE158=1,VLOOKUP($F158,all!$E$14:$AD$553,20),\"\")","v":""},{"$f":"IF($AE158=1,VLOOKUP($F158,all!$E$14:$AD$553,21),\"\")","v":""},{"$f":"IF($AE158=1,VLOOKUP($F158,all!$E$14:$AD$553,22),\"\")","v":""},{"$f":"IF($AE158=1,VLOOKUP($F158,all!$E$14:$AD$553,23),\"\")","v":""},{"$f":"IF($AE158=1,VLOOKUP($F158,all!$E$14:$AD$553,24),\"\")","v":""},{"$f":"IF($AE158=1,VLOOKUP($F158,all!$E$14:$AD$553,25),\"\")","v":""},null,{"$f":"COUNTIF(all!$E$14:$E$553,F158)","v":0},null,null,null,null,null,null,null,"probability: be points"]
[{"$f":"IF(OR('Y2'!$W$1=6,('Y2'!$W$1=7)),\"\",'Y2'!AA154)","v":260},{"$f":"IF(OR('Y2'!$W$1=6,('Y2'!$W$1=7)),\"\",'Y2'!AB154)","v":0.01},null,{"$f":"IF(OR('Y2'!$W$1=6,('Y2'!$W$1=7)),\"\",'Y2'!AC154)","v":87.8},null,126,{"$f":"IF($AE159=1,VLOOKUP($F159,all!$E$14:$AD$553,3),\"\")","v":""},{"$f":"IF($AE159=1,VLOOKUP($F159,all!$E$14:$AD$553,4),\"\")","v":""},{"$f":"IF($AE159=1,VLOOKUP($F159,all!$E$14:$AD$553,5),\"\")","v":""},{"$f":"IF($AE159=1,VLOOKUP($F159,all!$E$14:$AD$553,6),\"\")","v":""},{"$f":"IF($AE159=1,VLOOKUP($F159,all!$E$14:$AD$553,7),\"\")","v":""},{"$f":"IF($AE159=1,VLOOKUP($F159,all!$E$14:$AD$553,8),\"\")","v":""},{"$f":"IF($AE159=1,VLOOKUP($F159,all!$E$14:$AD$553,9),\"\")","v":""},{"$f":"IF($AE159=1,VLOOKUP($F159,all!$E$14:$AD$553,10),\"\")","v":""},{"$f":"IF($AE159=1,VLOOKUP($F159,all!$E$14:$AD$553,11),\"\")","v":""},{"$f":"IF($AE159=1,VLOOKUP($F159,all!$E$14:$AD$553,12),\"\")","v":""},{"$f":"IF($AE159=1,VLOOKUP($F159,all!$E$14:$AD$553,13),\"\")","v":""},{"$f":"IF($AE159=1,VLOOKUP($F159,all!$E$14:$AD$553,14),\"\")","v":""},{"$f":"IF($AE159=1,VLOOKUP($F159,all!$E$14:$AD$553,15),\"\")","v":""},{"$f":"IF($AE159=1,VLOOKUP($F159,all!$E$14:$AD$553,16),\"\")","v":""},{"$f":"IF($AE159=1,VLOOKUP($F159,all!$E$14:$AD$553,17),\"\")","v":""},{"$f":"IF($AE159=1,VLOOKUP($F159,all!$E$14:$AD$553,18),\"\")","v":""},{"$f":"IF($AE159=1,VLOOKUP($F159,all!$E$14:$AD$553,19),\"\")","v":""},{"$f":"IF($AE159=1,VLOOKUP($F159,all!$E$14:$AD$553,20),\"\")","v":""},{"$f":"IF($AE159=1,VLOOKUP($F159,all!$E$14:$AD$553,21),\"\")","v":""},{"$f":"IF($AE159=1,VLOOKUP($F159,all!$E$14:$AD$553,22),\"\")","v":""},{"$f":"IF($AE159=1,VLOOKUP($F159,all!$E$14:$AD$553,23),\"\")","v":""},{"$f":"IF($AE159=1,VLOOKUP($F159,all!$E$14:$AD$553,24),\"\")","v":""},{"$f":"IF($AE159=1,VLOOKUP($F159,all!$E$14:$AD$553,25),\"\")","v":""},null,{"$f":"COUNTIF(all!$E$14:$E$553,F159)","v":0},null,null,null,null,null,null,null,"probability: 1 std dev"]
[{"$f":"IF(OR('Y2'!$W$1=6,('Y2'!$W$1=7)),\"\",'Y2'!AA155)","v":265},{"$f":"IF(OR('Y2'!$W$1=6,('Y2'!$W$1=7)),\"\",'Y2'!AB155)","v":0.01},null,{"$f":"IF(OR('Y2'!$W$1=6,('Y2'!$W$1=7)),\"\",'Y2'!AC155)","v":97.5},null,127,{"$f":"IF($AE160=1,VLOOKUP($F160,all!$E$14:$AD$553,3),\"\")","v":""},{"$f":"IF($AE160=1,VLOOKUP($F160,all!$E$14:$AD$553,4),\"\")","v":""},{"$f":"IF($AE160=1,VLOOKUP($F160,all!$E$14:$AD$553,5),\"\")","v":""},{"$f":"IF($AE160=1,VLOOKUP($F160,all!$E$14:$AD$553,6),\"\")","v":""},{"$f":"IF($AE160=1,VLOOKUP($F160,all!$E$14:$AD$553,7),\"\")","v":""},{"$f":"IF($AE160=1,VLOOKUP($F160,all!$E$14:$AD$553,8),\"\")","v":""},{"$f":"IF($AE160=1,VLOOKUP($F160,all!$E$14:$AD$553,9),\"\")","v":""},{"$f":"IF($AE160=1,VLOOKUP($F160,all!$E$14:$AD$553,10),\"\")","v":""},{"$f":"IF($AE160=1,VLOOKUP($F160,all!$E$14:$AD$553,11),\"\")","v":""},{"$f":"IF($AE160=1,VLOOKUP($F160,all!$E$14:$AD$553,12),\"\")","v":""},{"$f":"IF($AE160=1,VLOOKUP($F160,all!$E$14:$AD$553,13),\"\")","v":""},{"$f":"IF($AE160=1,VLOOKUP($F160,all!$E$14:$AD$553,14),\"\")","v":""},{"$f":"IF($AE160=1,VLOOKUP($F160,all!$E$14:$AD$553,15),\"\")","v":""},{"$f":"IF($AE160=1,VLOOKUP($F160,all!$E$14:$AD$553,16),\"\")","v":""},{"$f":"IF($AE160=1,VLOOKUP($F160,all!$E$14:$AD$553,17),\"\")","v":""},{"$f":"IF($AE160=1,VLOOKUP($F160,all!$E$14:$AD$553,18),\"\")","v":""},{"$f":"IF($AE160=1,VLOOKUP($F160,all!$E$14:$AD$553,19),\"\")","v":""},{"$f":"IF($AE160=1,VLOOKUP($F160,all!$E$14:$AD$553,20),\"\")","v":""},{"$f":"IF($AE160=1,VLOOKUP($F160,all!$E$14:$AD$553,21),\"\")","v":""},{"$f":"IF($AE160=1,VLOOKUP($F160,all!$E$14:$AD$553,22),\"\")","v":""},{"$f":"IF($AE160=1,VLOOKUP($F160,all!$E$14:$AD$553,23),\"\")","v":""},{"$f":"IF($AE160=1,VLOOKUP($F160,all!$E$14:$AD$553,24),\"\")","v":""},{"$f":"IF($AE160=1,VLOOKUP($F160,all!$E$14:$AD$553,25),\"\")","v":""},null,{"$f":"COUNTIF(all!$E$14:$E$553,F160)","v":0},null,"PROB"]
[{"$f":"IF(OR('Y2'!$W$1=6,('Y2'!$W$1=7)),\"\",'Y2'!AA156)","v":270},{"$f":"IF(OR('Y2'!$W$1=6,('Y2'!$W$1=7)),\"\",'Y2'!AB156)","v":0.01},null,{"$f":"IF(OR('Y2'!$W$1=6,('Y2'!$W$1=7)),\"\",'Y2'!AC156)","v":102.85},null,128,{"$f":"IF($AE161=1,VLOOKUP($F161,all!$E$14:$AD$553,3),\"\")","v":""},{"$f":"IF($AE161=1,VLOOKUP($F161,all!$E$14:$AD$553,4),\"\")","v":""},{"$f":"IF($AE161=1,VLOOKUP($F161,all!$E$14:$AD$553,5),\"\")","v":""},{"$f":"IF($AE161=1,VLOOKUP($F161,all!$E$14:$AD$553,6),\"\")","v":""},{"$f":"IF($AE161=1,VLOOKUP($F161,all!$E$14:$AD$553,7),\"\")","v":""},{"$f":"IF($AE161=1,VLOOKUP($F161,all!$E$14:$AD$553,8),\"\")","v":""},{"$f":"IF($AE161=1,VLOOKUP($F161,all!$E$14:$AD$553,9),\"\")","v":""},{"$f":"IF($AE161=1,VLOOKUP($F161,all!$E$14:$AD$553,10),\"\")","v":""},{"$f":"IF($AE161=1,VLOOKUP($F161,all!$E$14:$AD$553,11),\"\")","v":""},{"$f":"IF($AE161=1,VLOOKUP($F161,all!$E$14:$AD$553,12),\"\")","v":""},{"$f":"IF($AE161=1,VLOOKUP($F161,all!$E$14:$AD$553,13),\"\")","v":""},{"$f":"IF($AE161=1,VLOOKUP($F161,all!$E$14:$AD$553,14),\"\")","v":""},{"$f":"IF($AE161=1,VLOOKUP($F161,all!$E$14:$AD$553,15),\"\")","v":""},{"$f":"IF($AE161=1,VLOOKUP($F161,all!$E$14:$AD$553,16),\"\")","v":""},{"$f":"IF($AE161=1,VLOOKUP($F161,all!$E$14:$AD$553,17),\"\")","v":""},{"$f":"IF($AE161=1,VLOOKUP($F161,all!$E$14:$AD$553,18),\"\")","v":""},{"$f":"IF($AE161=1,VLOOKUP($F161,all!$E$14:$AD$553,19),\"\")","v":""},{"$f":"IF($AE161=1,VLOOKUP($F161,all!$E$14:$AD$553,20),\"\")","v":""},{"$f":"IF($AE161=1,VLOOKUP($F161,all!$E$14:$AD$553,21),\"\")","v":""},{"$f":"IF($AE161=1,VLOOKUP($F161,all!$E$14:$AD$553,22),\"\")","v":""},{"$f":"IF($AE161=1,VLOOKUP($F161,all!$E$14:$AD$553,23),\"\")","v":""},{"$f":"IF($AE161=1,VLOOKUP($F161,all!$E$14:$AD$553,24),\"\")","v":""},{"$f":"IF($AE161=1,VLOOKUP($F161,all!$E$14:$AD$553,25),\"\")","v":""},null,{"$f":"COUNTIF(all!$E$14:$E$553,F161)","v":0},null,{"$f":"1-0.0227","v":0.97729999999999995},{"$f":"CONCATENATE(\"2sd 95% +/-\",ROUND(AI161,1))","v":"2sd 95% +/-19.8"},{"$f":"ABS($C$2-AK161)","v":19.768074891243032},{"$f":"NORMSDIST(LN(AK161/$C$2)/($B$6*SQRT((MAX($I$4:$I$9,NOW()+1)-NOW())/365)))","v":0.98043790705552569},187.68807489124302,"be1",{"$f":"R13","v":0}]
[{"$f":"IF(OR('Y2'!$W$1=6,('Y2'!$W$1=7)),\"\",'Y2'!AA157)","v":280},{"$f":"IF(OR('Y2'!$W$1=6,('Y2'!$W$1=7)),\"\",'Y2'!AB157)","v":0.01},null,{"$f":"IF(OR('Y2'!$W$1=6,('Y2'!$W$1=7)),\"\",'Y2'!AC157)","v":107.8},null,129,{"$f":"IF($AE162=1,VLOOKUP($F162,all!$E$14:$AD$553,3),\"\")","v":""},{"$f":"IF($AE162=1,VLOOKUP($F162,all!$E$14:$AD$553,4),\"\")","v":""},{"$f":"IF($AE162=1,VLOOKUP($F162,all!$E$14:$AD$553,5),\"\")","v":""},{"$f":"IF($AE162=1,VLOOKUP($F162,all!$E$14:$AD$553,6),\"\")","v":""},{"$f":"IF($AE162=1,VLOOKUP($F162,all!$E$14:$AD$553,7),\"\")","v":""},{"$f":"IF($AE162=1,VLOOKUP($F162,all!$E$14:$AD$553,8),\"\")","v":""},{"$f":"IF($AE162=1,VLOOKUP($F162,all!$E$14:$AD$553,9),\"\")","v":""},{"$f":"IF($AE162=1,VLOOKUP($F162,all!$E$14:$AD$553,10),\"\")","v":""},{"$f":"IF($AE162=1,VLOOKUP($F162,all!$E$14:$AD$553,11),\"\")","v":""},{"$f":"IF($AE162=1,VLOOKUP($F162,all!$E$14:$AD$553,12),\"\")","v":""},{"$f":"IF($AE162=1,VLOOKUP($F162,all!$E$14:$AD$553,13),\"\")","v":""},{"$f":"IF($AE162=1,VLOOKUP($F162,all!$E$14:$AD$553,14),\"\")","v":""},{"$f":"IF($AE162=1,VLOOKUP($F162,all!$E$14:$AD$553,15),\"\")","v":""},{"$f":"IF($AE162=1,VLOOKUP($F162,all!$E$14:$AD$553,16),\"\")","v":""},{"$f":"IF($AE162=1,VLOOKUP($F162,all!$E$14:$AD$553,17),\"\")","v":""},{"$f":"IF($AE162=1,VLOOKUP($F162,all!$E$14:$AD$553,18),\"\")","v":""},{"$f":"IF($AE162=1,VLOOKUP($F162,all!$E$14:$AD$553,19),\"\")","v":""},{"$f":"IF($AE162=1,VLOOKUP($F162,all!$E$14:$AD$553,20),\"\")","v":""},{"$f":"IF($AE162=1,VLOOKUP($F162,all!$E$14:$AD$553,21),\"\")","v":""},{"$f":"IF($AE162=1,VLOOKUP($F162,all!$E$14:$AD$553,22),\"\")","v":""},{"$f":"IF($AE162=1,VLOOKUP($F162,all!$E$14:$AD$553,23),\"\")","v":""},{"$f":"IF($AE162=1,VLOOKUP($F162,all!$E$14:$AD$553,24),\"\")","v":""},{"$f":"IF($AE162=1,VLOOKUP($F162,all!$E$14:$AD$553,25),\"\")","v":""},null,{"$f":"COUNTIF(all!$E$14:$E$553,F162)","v":0},null,{"$f":"1-0.1587","v":0.84129999999999994},{"$f":"CONCATENATE(\"1 sd 68% +/-\",ROUND(AI162,1))","v":"1 sd 68% +/-8.2"},{"$f":"ABS($C$2-AK162)","v":8.2338900972187332},{"$f":"NORMSDIST(LN(AK162/$C$2)/($B$6*SQRT((MAX($I$4:$I$9,NOW()+1)-NOW())/365)))","v":0.81254058071114299},176.15389009721872,"be2",{"$f":"S13","v":0}]
[{"$f":"IF(OR('Y2'!$W$1=6,('Y2'!$W$1=7)),\"\",'Y2'!AA158)","v":290},{"$f":"IF(OR('Y2'!$W$1=6,('Y2'!$W$1=7)),\"\",'Y2'!AB158)","v":0.01},null,{"$f":"IF(OR('Y2'!$W$1=6,('Y2'!$W$1=7)),\"\",'Y2'!AC158)","v":116.75},null,130,{"$f":"IF($AE163=1,VLOOKUP($F163,all!$E$14:$AD$553,3),\"\")","v":""},{"$f":"IF($AE163=1,VLOOKUP($F163,all!$E$14:$AD$553,4),\"\")","v":""},{"$f":"IF($AE163=1,VLOOKUP($F163,all!$E$14:$AD$553,5),\"\")","v":""},{"$f":"IF($AE163=1,VLOOKUP($F163,all!$E$14:$AD$553,6),\"\")","v":""},{"$f":"IF($AE163=1,VLOOKUP($F163,all!$E$14:$AD$553,7),\"\")","v":""},{"$f":"IF($AE163=1,VLOOKUP($F163,all!$E$14:$AD$553,8),\"\")","v":""},{"$f":"IF($AE163=1,VLOOKUP($F163,all!$E$14:$AD$553,9),\"\")","v":""},{"$f":"IF($AE163=1,VLOOKUP($F163,all!$E$14:$AD$553,10),\"\")","v":""},{"$f":"IF($AE163=1,VLOOKUP($F163,all!$E$14:$AD$553,11),\"\")","v":""},{"$f":"IF($AE163=1,VLOOKUP($F163,all!$E$14:$AD$553,12),\"\")","v":""},{"$f":"IF($AE163=1,VLOOKUP($F163,all!$E$14:$AD$553,13),\"\")","v":""},{"$f":"IF($AE163=1,VLOOKUP($F163,all!$E$14:$AD$553,14),\"\")","v":""},{"$f":"IF($AE163=1,VLOOKUP($F163,all!$E$14:$AD$553,15),\"\")","v":""},{"$f":"IF($AE163=1,VLOOKUP($F163,all!$E$14:$AD$553,16),\"\")","v":""},{"$f":"IF($AE163=1,VLOOKUP($F163,all!$E$14:$AD$553,17),\"\")","v":""},{"$f":"IF($AE163=1,VLOOKUP($F163,all!$E$14:$AD$553,18),\"\")","v":""},{"$f":"IF($AE163=1,VLOOKUP($F163,all!$E$14:$AD$553,19),\"\")","v":""},{"$f":"IF($AE163=1,VLOOKUP($F163,all!$E$14:$AD$553,20),\"\")","v":""},{"$f":"IF($AE163=1,VLOOKUP($F163,all!$E$14:$AD$553,21),\"\")","v":""},{"$f":"IF($AE163=1,VLOOKUP($F163,all!$E$14:$AD$553,22),\"\")","v":""},{"$f":"IF($AE163=1,VLOOKUP($F163,all!$E$14:$AD$553,23),\"\")","v":""},{"$f":"IF($AE163=1,VLOOKUP($F163,all!$E$14:$AD$553,24),\"\")","v":""},{"$f":"IF($AE163=1,VLOOKUP($F163,all!$E$14:$AD$553,25),\"\")","v":""},null,{"$f":"COUNTIF(all!$E$14:$E$553,F163)","v":0},null,null,null,null,null,null,null,2]
[{"$f":"IF(OR('Y2'!$W$1=6,('Y2'!$W$1=7)),\"\",'Y2'!AA159)","v":300},{"$f":"IF(OR('Y2'!$W$1=6,('Y2'!$W$1=7)),\"\",'Y2'!AB159)","v":0.01},null,{"$f":"IF(OR('Y2'!$W$1=6,('Y2'!$W$1=7)),\"\",'Y2'!AC159)","v":130.35},null,131,{"$f":"IF($AE164=1,VLOOKUP($F164,all!$E$14:$AD$553,3),\"\")","v":""},{"$f":"IF($AE164=1,VLOOKUP($F164,all!$E$14:$AD$553,4),\"\")","v":""},{"$f":"IF($AE164=1,VLOOKUP($F164,all!$E$14:$AD$553,5),\"\")","v":""},{"$f":"IF($AE164=1,VLOOKUP($F164,all!$E$14:$AD$553,6),\"\")","v":""},{"$f":"IF($AE164=1,VLOOKUP($F164,all!$E$14:$AD$553,7),\"\")","v":""},{"$f":"IF($AE164=1,VLOOKUP($F164,all!$E$14:$AD$553,8),\"\")","v":""},{"$f":"IF($AE164=1,VLOOKUP($F164,all!$E$14:$AD$553,9),\"\")","v":""},{"$f":"IF($AE164=1,VLOOKUP($F164,all!$E$14:$AD$553,10),\"\")","v":""},{"$f":"IF($AE164=1,VLOOKUP($F164,all!$E$14:$AD$553,11),\"\")","v":""},{"$f":"IF($AE164=1,VLOOKUP($F164,all!$E$14:$AD$553,12),\"\")","v":""},{"$f":"IF($AE164=1,VLOOKUP($F164,all!$E$14:$AD$553,13),\"\")","v":""},{"$f":"IF($AE164=1,VLOOKUP($F164,all!$E$14:$AD$553,14),\"\")","v":""},{"$f":"IF($AE164=1,VLOOKUP($F164,all!$E$14:$AD$553,15),\"\")","v":""},{"$f":"IF($AE164=1,VLOOKUP($F164,all!$E$14:$AD$553,16),\"\")","v":""},{"$f":"IF($AE164=1,VLOOKUP($F164,all!$E$14:$AD$553,17),\"\")","v":""},{"$f":"IF($AE164=1,VLOOKUP($F164,all!$E$14:$AD$553,18),\"\")","v":""},{"$f":"IF($AE164=1,VLOOKUP($F164,all!$E$14:$AD$553,19),\"\")","v":""},{"$f":"IF($AE164=1,VLOOKUP($F164,all!$E$14:$AD$553,20),\"\")","v":""},{"$f":"IF($AE164=1,VLOOKUP($F164,all!$E$14:$AD$553,21),\"\")","v":""},{"$f":"IF($AE164=1,VLOOKUP($F164,all!$E$14:$AD$553,22),\"\")","v":""},{"$f":"IF($AE164=1,VLOOKUP($F164,all!$E$14:$AD$553,23),\"\")","v":""},{"$f":"IF($AE164=1,VLOOKUP($F164,all!$E$14:$AD$553,24),\"\")","v":""},{"$f":"IF($AE164=1,VLOOKUP($F164,all!$E$14:$AD$553,25),\"\")","v":""},null,{"$f":"COUNTIF(all!$E$14:$E$553,F164)","v":0},null,"probability vs price (0% prob of profit)",null,null,"1sd 68","be","be1 be2","1sd or be"]
[{"$f":"IF(OR('Y2'!$W$1=6,('Y2'!$W$1=7)),\"\",'Y2'!AA160)","v":""},{"$f":"IF(OR('Y2'!$W$1=6,('Y2'!$W$1=7)),\"\",'Y2'!AB160)","v":""},null,{"$f":"IF(OR('Y2'!$W$1=6,('Y2'!$W$1=7)),\"\",'Y2'!AC160)","v":""},null,132,{"$f":"IF($AE165=1,VLOOKUP($F165,all!$E$14:$AD$553,3),\"\")","v":""},{"$f":"IF($AE165=1,VLOOKUP($F165,all!$E$14:$AD$553,4),\"\")","v":""},{"$f":"IF($AE165=1,VLOOKUP($F165,all!$E$14:$AD$553,5),\"\")","v":""},{"$f":"IF($AE165=1,VLOOKUP($F165,all!$E$14:$AD$553,6),\"\")","v":""},{"$f":"IF($AE165=1,VLOOKUP($F165,all!$E$14:$AD$553,7),\"\")","v":""},{"$f":"IF($AE165=1,VLOOKUP($F165,all!$E$14:$AD$553,8),\"\")","v":""},{"$f":"IF($AE165=1,VLOOKUP($F165,all!$E$14:$AD$553,9),\"\")","v":""},{"$f":"IF($AE165=1,VLOOKUP($F165,all!$E$14:$AD$553,10),\"\")","v":""},{"$f":"IF($AE165=1,VLOOKUP($F165,all!$E$14:$AD$553,11),\"\")","v":""},{"$f":"IF($AE165=1,VLOOKUP($F165,all!$E$14:$AD$553,12),\"\")","v":""},{"$f":"IF($AE165=1,VLOOKUP($F165,all!$E$14:$AD$553,13),\"\")","v":""},{"$f":"IF($AE165=1,VLOOKUP($F165,all!$E$14:$AD$553,14),\"\")","v":""},{"$f":"IF($AE165=1,VLOOKUP($F165,all!$E$14:$AD$553,15),\"\")","v":""},{"$f":"IF($AE165=1,VLOOKUP($F165,all!$E$14:$AD$553,16),\"\")","v":""},{"$f":"IF($AE165=1,VLOOKUP($F165,all!$E$14:$AD$553,17),\"\")","v":""},{"$f":"IF($AE165=1,VLOOKUP($F165,all!$E$14:$AD$553,18),\"\")","v":""},{"$f":"IF($AE165=1,VLOOKUP($F165,all!$E$14:$AD$553,19),\"\")","v":""},{"$f":"IF($AE165=1,VLOOKUP($F165,all!$E$14:$AD$553,20),\"\")","v":""},{"$f":"IF($AE165=1,VLOOKUP($F165,all!$E$14:$AD$553,21),\"\")","v":""},{"$f":"IF($AE165=1,VLOOKUP($F165,all!$E$14:$AD$553,22),\"\")","v":""},{"$f":"IF($AE165=1,VLOOKUP($F165,all!$E$14:$AD$553,23),\"\")","v":""},{"$f":"IF($AE165=1,VLOOKUP($F165,all!$E$14:$AD$553,24),\"\")","v":""},{"$f":"IF($AE165=1,VLOOKUP($F165,all!$E$14:$AD$553,25),\"\")","v":""},null,{"$f":"COUNTIF(all!$E$14:$E$553,F165)","v":0},null,1,{"$f":"Q3","v":83.95999999999998},{"$f":"NORMDIST(AH165,$C$2,$AI$162,FALSE)","v":1.279732342182405E-24},{"$f":"IF(($AH$191-AH165)<=$AI$162,AI165,\"\")","v":""},{"$f":"IF($AM$162=0,IF(AH165>$AM$161,AI165,\"\"),AL165)","v":1.279732342182405E-24},{"$f":"IF(AND(AH165>$AM$161,AH165<$AM$162),AI165,\"\")","v":""},{"$f":"IF($AM$163=1,AK165,AJ165)","v":""}]
[{"$f":"IF(OR('Y2'!$W$1=6,('Y2'!$W$1=7)),\"\",'Y2'!AA161)","v":""},{"$f":"IF(OR('Y2'!$W$1=6,('Y2'!$W$1=7)),\"\",'Y2'!AB161)","v":""},null,{"$f":"IF(OR('Y2'!$W$1=6,('Y2'!$W$1=7)),\"\",'Y2'!AC161)","v":""},null,133,{"$f":"IF($AE166=1,VLOOKUP($F166,all!$E$14:$AD$553,3),\"\")","v":""},{"$f":"IF($AE166=1,VLOOKUP($F166,all!$E$14:$AD$553,4),\"\")","v":""},{"$f":"IF($AE166=1,VLOOKUP($F166,all!$E$14:$AD$553,5),\"\")","v":""},{"$f":"IF($AE166=1,VLOOKUP($F166,all!$E$14:$AD$553,6),\"\")","v":""},{"$f":"IF($AE166=1,VLOOKUP($F166,all!$E$14:$AD$553,7),\"\")","v":""},{"$f":"IF($AE166=1,VLOOKUP($F166,all!$E$14:$AD$553,8),\"\")","v":""},{"$f":"IF($AE166=1,VLOOKUP($F166,all!$E$14:$AD$553,9),\"\")","v":""},{"$f":"IF($AE166=1,VLOOKUP($F166,all!$E$14:$AD$553,10),\"\")","v":""},{"$f":"IF($AE166=1,VLOOKUP($F166,all!$E$14:$AD$553,11),\"\")","v":""},{"$f":"IF($AE166=1,VLOOKUP($F166,all!$E$14:$AD$553,12),\"\")","v":""},{"$f":"IF($AE166=1,VLOOKUP($F166,all!$E$14:$AD$553,13),\"\")","v":""},{"$f":"IF($AE166=1,VLOOKUP($F166,all!$E$14:$AD$553,14),\"\")","v":""},{"$f":"IF($AE166=1,VLOOKUP($F166,all!$E$14:$AD$553,15),\"\")","v":""},{"$f":"IF($AE166=1,VLOOKUP($F166,all!$E$14:$AD$553,16),\"\")","v":""},{"$f":"IF($AE166=1,VLOOKUP($F166,all!$E$14:$AD$553,17),\"\")","v":""},{"$f":"IF($AE166=1,VLOOKUP($F166,all!$E$14:$AD$553,18),\"\")","v":""},{"$f":"IF($AE166=1,VLOOKUP($F166,all!$E$14:$AD$553,19),\"\")","v":""},{"$f":"IF($AE166=1,VLOOKUP($F166,all!$E$14:$AD$553,20),\"\")","v":""},{"$f":"IF($AE166=1,VLOOKUP($F166,all!$E$14:$AD$553,21),\"\")","v":""},{"$f":"IF($AE166=1,VLOOKUP($F166,all!$E$14:$AD$553,22),\"\")","v":""},{"$f":"IF($AE166=1,VLOOKUP($F166,all!$E$14:$AD$553,23),\"\")","v":""},{"$f":"IF($AE166=1,VLOOKUP($F166,all!$E$14:$AD$553,24),\"\")","v":""},{"$f":"IF($AE166=1,VLOOKUP($F166,all!$E$14:$AD$553,25),\"\")","v":""},null,{"$f":"COUNTIF(all!$E$14:$E$553,F166)","v":0},null,2,{"$f":"$AH$165+AG165*($AH$217-$AH$165)/52","v":87.189230769230747},{"$f":"NORMDIST(AH166,$C$2,$AI$162,FALSE)","v":6.4640244408850985E-23},"",{"$f":"IF($AM$162=0,IF(AH166>$AM$161,AI166,\"\"),AL166)","v":6.4640244408850985E-23},{"$f":"IF(AND(AH166>$AM$161,AH166<$AM$162),AI166,\"\")","v":""},{"$f":"IF($AM$163=1,AK166,AJ166)","v":""},"NORMDIST(x,mean,standard_dev,cumulative)"]
[{"$f":"IF(OR('Y2'!$W$1=6,('Y2'!$W$1=7)),\"\",'Y2'!AA162)","v":""},{"$f":"IF(OR('Y2'!$W$1=6,('Y2'!$W$1=7)),\"\",'Y2'!AB162)","v":""},null,{"$f":"IF(OR('Y2'!$W$1=6,('Y2'!$W$1=7)),\"\",'Y2'!AC162)","v":""},null,134,{"$f":"IF($AE167=1,VLOOKUP($F167,all!$E$14:$AD$553,3),\"\")","v":""},{"$f":"IF($AE167=1,VLOOKUP($F167,all!$E$14:$AD$553,4),\"\")","v":""},{"$f":"IF($AE167=1,VLOOKUP($F167,all!$E$14:$AD$553,5),\"\")","v":""},{"$f":"IF($AE167=1,VLOOKUP($F167,all!$E$14:$AD$553,6),\"\")","v":""},{"$f":"IF($AE167=1,VLOOKUP($F167,all!$E$14:$AD$553,7),\"\")","v":""},{"$f":"IF($AE167=1,VLOOKUP($F167,all!$E$14:$AD$553,8),\"\")","v":""},{"$f":"IF($AE167=1,VLOOKUP($F167,all!$E$14:$AD$553,9),\"\")","v":""},{"$f":"IF($AE167=1,VLOOKUP($F167,all!$E$14:$AD$553,10),\"\")","v":""},{"$f":"IF($AE167=1,VLOOKUP($F167,all!$E$14:$AD$553,11),\"\")","v":""},{"$f":"IF($AE167=1,VLOOKUP($F167,all!$E$14:$AD$553,12),\"\")","v":""},{"$f":"IF($AE167=1,VLOOKUP($F167,all!$E$14:$AD$553,13),\"\")","v":""},{"$f":"IF($AE167=1,VLOOKUP($F167,all!$E$14:$AD$553,14),\"\")","v":""},{"$f":"IF($AE167=1,VLOOKUP($F167,all!$E$14:$AD$553,15),\"\")","v":""},{"$f":"IF($AE167=1,VLOOKUP($F167,all!$E$14:$AD$553,16),\"\")","v":""},{"$f":"IF($AE167=1,VLOOKUP($F167,all!$E$14:$AD$553,17),\"\")","v":""},{"$f":"IF($AE167=1,VLOOKUP($F167,all!$E$14:$AD$553,18),\"\")","v":""},{"$f":"IF($AE167=1,VLOOKUP($F167,all!$E$14:$AD$553,19),\"\")","v":""},{"$f":"IF($AE167=1,VLOOKUP($F167,all!$E$14:$AD$553,20),\"\")","v":""},{"$f":"IF($AE167=1,VLOOKUP($F167,all!$E$14:$AD$553,21),\"\")","v":""},{"$f":"IF($AE167=1,VLOOKUP($F167,all!$E$14:$AD$553,22),\"\")","v":""},{"$f":"IF($AE167=1,VLOOKUP($F167,all!$E$14:$AD$553,23),\"\")","v":""},{"$f":"IF($AE167=1,VLOOKUP($F167,all!$E$14:$AD$553,24),\"\")","v":""},{"$f":"IF($AE167=1,VLOOKUP($F167,all!$E$14:$AD$553,25),\"\")","v":""},null,{"$f":"COUNTIF(all!$E$14:$E$553,F167)","v":0},null,3,{"$f":"$AH$165+AG166*($AH$217-$AH$165)/52","v":90.418461538461514},2.7995450947479361E-21,"",2.7995450947479361E-21,{"$f":"IF(AND(AH167>$AM$161,AH167<$AM$162),AI167,\"\")","v":""},""]
[{"$f":"IF(OR('Y2'!$W$1=6,('Y2'!$W$1=7)),\"\",'Y2'!AA163)","v":""},{"$f":"IF(OR('Y2'!$W$1=6,('Y2'!$W$1=7)),\"\",'Y2'!AB163)","v":""},null,{"$f":"IF(OR('Y2'!$W$1=6,('Y2'!$W$1=7)),\"\",'Y2'!AC163)","v":""},null,135,{"$f":"IF($AE168=1,VLOOKUP($F168,all!$E$14:$AD$553,3),\"\")","v":""},{"$f":"IF($AE168=1,VLOOKUP($F168,all!$E$14:$AD$553,4),\"\")","v":""},{"$f":"IF($AE168=1,VLOOKUP($F168,all!$E$14:$AD$553,5),\"\")","v":""},{"$f":"IF($AE168=1,VLOOKUP($F168,all!$E$14:$AD$553,6),\"\")","v":""},{"$f":"IF($AE168=1,VLOOKUP($F168,all!$E$14:$AD$553,7),\"\")","v":""},{"$f":"IF($AE168=1,VLOOKUP($F168,all!$E$14:$AD$553,8),\"\")","v":""},{"$f":"IF($AE168=1,VLOOKUP($F168,all!$E$14:$AD$553,9),\"\")","v":""},{"$f":"IF($AE168=1,VLOOKUP($F168,all!$E$14:$AD$553,10),\"\")","v":""},{"$f":"IF($AE168=1,VLOOKUP($F168,all!$E$14:$AD$553,11),\"\")","v":""},{"$f":"IF($AE168=1,VLOOKUP($F168,all!$E$14:$AD$553,12),\"\")","v":""},{"$f":"IF($AE168=1,VLOOKUP($F168,all!$E$14:$AD$553,13),\"\")","v":""},{"$f":"IF($AE168=1,VLOOKUP($F168,all!$E$14:$AD$553,14),\"\")","v":""},{"$f":"IF($AE168=1,VLOOKUP($F168,all!$E$14:$AD$553,15),\"\")","v":""},{"$f":"IF($AE168=1,VLOOKUP($F168,all!$E$14:$AD$553,16),\"\")","v":""},{"$f":"IF($AE168=1,VLOOKUP($F168,all!$E$14:$AD$553,17),\"\")","v":""},{"$f":"IF($AE168=1,VLOOKUP($F168,all!$E$14:$AD$553,18),\"\")","v":""},{"$f":"IF($AE168=1,VLOOKUP($F168,all!$E$14:$AD$553,19),\"\")","v":""},{"$f":"IF($AE168=1,VLOOKUP($F168,all!$E$14:$AD$553,20),\"\")","v":""},{"$f":"IF($AE168=1,VLOOKUP($F168,all!$E$14:$AD$553,21),\"\")","v":""},{"$f":"IF($AE168=1,VLOOKUP($F168,all!$E$14:$AD$553,22),\"\")","v":""},{"$f":"IF($AE168=1,VLOOKUP($F168,all!$E$14:$AD$553,23),\"\")","v":""},{"$f":"IF($AE168=1,VLOOKUP($F168,all!$E$14:$AD$553,24),\"\")","v":""},{"$f":"IF($AE168=1,VLOOKUP($F168,all!$E$14:$AD$553,25),\"\")","v":""},null,{"$f":"COUNTIF(all!$E$14:$E$553,F168)","v":0},null,4,93.647692307692296,1.0396150994667383E-19,"",1.0396150994667383E-19,"",""]
[{"$f":"IF(OR('Y2'!$W$1=6,('Y2'!$W$1=7)),\"\",'Y2'!AA164)","v":""},{"$f":"IF(OR('Y2'!$W$1=6,('Y2'!$W$1=7)),\"\",'Y2'!AB164)","v":""},null,{"$f":"IF(OR('Y2'!$W$1=6,('Y2'!$W$1=7)),\"\",'Y2'!AC164)","v":""},null,136,{"$f":"IF($AE169=1,VLOOKUP($F169,all!$E$14:$AD$553,3),\"\")","v":""},{"$f":"IF($AE169=1,VLOOKUP($F169,all!$E$14:$AD$553,4),\"\")","v":""},{"$f":"IF($AE169=1,VLOOKUP($F169,all!$E$14:$AD$553,5),\"\")","v":""},{"$f":"IF($AE169=1,VLOOKUP($F169,all!$E$14:$AD$553,6),\"\")","v":""},{"$f":"IF($AE169=1,VLOOKUP($F169,all!$E$14:$AD$553,7),\"\")","v":""},{"$f":"IF($AE169=1,VLOOKUP($F169,all!$E$14:$AD$553,8),\"\")","v":""},{"$f":"IF($AE169=1,VLOOKUP($F169,all!$E$14:$AD$553,9),\"\")","v":""},{"$f":"IF($AE169=1,VLOOKUP($F169,all!$E$14:$AD$553,10),\"\")","v":""},{"$f":"IF($AE169=1,VLOOKUP($F169,all!$E$14:$AD$553,11),\"\")","v":""},{"$f":"IF($AE169=1,VLOOKUP($F169,all!$E$14:$AD$553,12),\"\")","v":""},{"$f":"IF($AE169=1,VLOOKUP($F169,all!$E$14:$AD$553,13),\"\")","v":""},{"$f":"IF($AE169=1,VLOOKUP($F169,all!$E$14:$AD$553,14),\"\")","v":""},{"$f":"IF($AE169=1,VLOOKUP($F169,all!$E$14:$AD$553,15),\"\")","v":""},{"$f":"IF($AE169=1,VLOOKUP($F169,all!$E$14:$AD$553,16),\"\")","v":""},{"$f":"IF($AE169=1,VLOOKUP($F169,all!$E$14:$AD$553,17),\"\")","v":""},{"$f":"IF($AE169=1,VLOOKUP($F169,all!$E$14:$AD$553,18),\"\")","v":""},{"$f":"IF($AE169=1,VLOOKUP($F169,all!$E$14:$AD$553,19),\"\")","v":""},{"$f":"IF($AE169=1,VLOOKUP($F169,all!$E$14:$AD$553,20),\"\")","v":""},{"$f":"IF($AE169=1,VLOOKUP($F169,all!$E$14:$AD$553,21),\"\")","v":""},{"$f":"IF($AE169=1,VLOOKUP($F169,all!$E$14:$AD$553,22),\"\")","v":""},{"$f":"IF($AE169=1,VLOOKUP($F169,all!$E$14:$AD$553,23),\"\")","v":""},{"$f":"IF($AE169=1,VLOOKUP($F169,all!$E$14:$AD$553,24),\"\")","v":""},{"$f":"IF($AE169=1,VLOOKUP($F169,all!$E$14:$AD$553,25),\"\")","v":""},null,{"$f":"COUNTIF(all!$E$14:$E$553,F169)","v":0},null,5,96.876923076923063,3.3102311665038523E-18,"",3.3102311665038523E-18,"",""]
[{"$f":"IF(OR('Y2'!$W$1=6,('Y2'!$W$1=7)),\"\",'Y2'!AA165)","v":""},{"$f":"IF(OR('Y2'!$W$1=6,('Y2'!$W$1=7)),\"\",'Y2'!AB165)","v":""},null,{"$f":"IF(OR('Y2'!$W$1=6,('Y2'!$W$1=7)),\"\",'Y2'!AC165)","v":""},null,137,{"$f":"IF($AE170=1,VLOOKUP($F170,all!$E$14:$AD$553,3),\"\")","v":""},{"$f":"IF($AE170=1,VLOOKUP($F170,all!$E$14:$AD$553,4),\"\")","v":""},{"$f":"IF($AE170=1,VLOOKUP($F170,all!$E$14:$AD$553,5),\"\")","v":""},{"$f":"IF($AE170=1,VLOOKUP($F170,all!$E$14:$AD$553,6),\"\")","v":""},{"$f":"IF($AE170=1,VLOOKUP($F170,all!$E$14:$AD$553,7),\"\")","v":""},{"$f":"IF($AE170=1,VLOOKUP($F170,all!$E$14:$AD$553,8),\"\")","v":""},{"$f":"IF($AE170=1,VLOOKUP($F170,all!$E$14:$AD$553,9),\"\")","v":""},{"$f":"IF($AE170=1,VLOOKUP($F170,all!$E$14:$AD$553,10),\"\")","v":""},{"$f":"IF($AE170=1,VLOOKUP($F170,all!$E$14:$AD$553,11),\"\")","v":""},{"$f":"IF($AE170=1,VLOOKUP($F170,all!$E$14:$AD$553,12),\"\")","v":""},{"$f":"IF($AE170=1,VLOOKUP($F170,all!$E$14:$AD$553,13),\"\")","v":""},{"$f":"IF($AE170=1,VLOOKUP($F170,all!$E$14:$AD$553,14),\"\")","v":""},{"$f":"IF($AE170=1,VLOOKUP($F170,all!$E$14:$AD$553,15),\"\")","v":""},{"$f":"IF($AE170=1,VLOOKUP($F170,all!$E$14:$AD$553,16),\"\")","v":""},{"$f":"IF($AE170=1,VLOOKUP($F170,all!$E$14:$AD$553,17),\"\")","v":""},{"$f":"IF($AE170=1,VLOOKUP($F170,all!$E$14:$AD$553,18),\"\")","v":""},{"$f":"IF($AE170=1,VLOOKUP($F170,all!$E$14:$AD$553,19),\"\")","v":""},{"$f":"IF($AE170=1,VLOOKUP($F170,all!$E$14:$AD$553,20),\"\")","v":""},{"$f":"IF($AE170=1,VLOOKUP($F170,all!$E$14:$AD$553,21),\"\")","v":""},{"$f":"IF($AE170=1,VLOOKUP($F170,all!$E$14:$AD$553,22),\"\")","v":""},{"$f":"IF($AE170=1,VLOOKUP($F170,all!$E$14:$AD$553,23),\"\")","v":""},{"$f":"IF($AE170=1,VLOOKUP($F170,all!$E$14:$AD$553,24),\"\")","v":""},{"$f":"IF($AE170=1,VLOOKUP($F170,all!$E$14:$AD$553,25),\"\")","v":""},null,{"$f":"COUNTIF(all!$E$14:$E$553,F170)","v":0},null,6,100.10615384615383,9.0374249050988746E-17,"",9.0374249050988746E-17,"",""]
[{"$f":"IF(OR('Y2'!$W$1=6,('Y2'!$W$1=7)),\"\",'Y2'!AA166)","v":""},{"$f":"IF(OR('Y2'!$W$1=6,('Y2'!$W$1=7)),\"\",'Y2'!AB166)","v":""},null,{"$f":"IF(OR('Y2'!$W$1=6,('Y2'!$W$1=7)),\"\",'Y2'!AC166)","v":""},null,138,{"$f":"IF($AE171=1,VLOOKUP($F171,all!$E$14:$AD$553,3),\"\")","v":""},{"$f":"IF($AE171=1,VLOOKUP($F171,all!$E$14:$AD$553,4),\"\")","v":""},{"$f":"IF($AE171=1,VLOOKUP($F171,all!$E$14:$AD$553,5),\"\")","v":""},{"$f":"IF($AE171=1,VLOOKUP($F171,all!$E$14:$AD$553,6),\"\")","v":""},{"$f":"IF($AE171=1,VLOOKUP($F171,all!$E$14:$AD$553,7),\"\")","v":""},{"$f":"IF($AE171=1,VLOOKUP($F171,all!$E$14:$AD$553,8),\"\")","v":""},{"$f":"IF($AE171=1,VLOOKUP($F171,all!$E$14:$AD$553,9),\"\")","v":""},{"$f":"IF($AE171=1,VLOOKUP($F171,all!$E$14:$AD$553,10),\"\")","v":""},{"$f":"IF($AE171=1,VLOOKUP($F171,all!$E$14:$AD$553,11),\"\")","v":""},{"$f":"IF($AE171=1,VLOOKUP($F171,all!$E$14:$AD$553,12),\"\")","v":""},{"$f":"IF($AE171=1,VLOOKUP($F171,all!$E$14:$AD$553,13),\"\")","v":""},{"$f":"IF($AE171=1,VLOOKUP($F171,all!$E$14:$AD$553,14),\"\")","v":""},{"$f":"IF($AE171=1,VLOOKUP($F171,all!$E$14:$AD$553,15),\"\")","v":""},{"$f":"IF($AE171=1,VLOOKUP($F171,all!$E$14:$AD$553,16),\"\")","v":""},{"$f":"IF($AE171=1,VLOOKUP($F171,all!$E$14:$AD$553,17),\"\")","v":""},{"$f":"IF($AE171=1,VLOOKUP($F171,all!$E$14:$AD$553,18),\"\")","v":""},{"$f":"IF($AE171=1,VLOOKUP($F171,all!$E$14:$AD$553,19),\"\")","v":""},{"$f":"IF($AE171=1,VLOOKUP($F171,all!$E$14:$AD$553,20),\"\")","v":""},{"$f":"IF($AE171=1,VLOOKUP($F171,all!$E$14:$AD$553,21),\"\")","v":""},{"$f":"IF($AE171=1,VLOOKUP($F171,all!$E$14:$AD$553,22),\"\")","v":""},{"$f":"IF($AE171=1,VLOOKUP($F171,all!$E$14:$AD$553,23),\"\")","v":""},{"$f":"IF($AE171=1,VLOOKUP($F171,all!$E$14:$AD$553,24),\"\")","v":""},{"$f":"IF($AE171=1,VLOOKUP($F171,all!$E$14:$AD$553,25),\"\")","v":""},null,{"$f":"COUNTIF(all!$E$14:$E$553,F171)","v":0},null,7,103.3353846153846,2.1155910130424964E-15,"",2.1155910130424964E-15,"",""]
[{"$f":"IF(OR('Y2'!$W$1=6,('Y2'!$W$1=7)),\"\",'Y2'!AA167)","v":""},{"$f":"IF(OR('Y2'!$W$1=6,('Y2'!$W$1=7)),\"\",'Y2'!AB167)","v":""},null,{"$f":"IF(OR('Y2'!$W$1=6,('Y2'!$W$1=7)),\"\",'Y2'!AC167)","v":""},null,139,{"$f":"IF($AE172=1,VLOOKUP($F172,all!$E$14:$AD$553,3),\"\")","v":""},{"$f":"IF($AE172=1,VLOOKUP($F172,all!$E$14:$AD$553,4),\"\")","v":""},{"$f":"IF($AE172=1,VLOOKUP($F172,all!$E$14:$AD$553,5),\"\")","v":""},{"$f":"IF($AE172=1,VLOOKUP($F172,all!$E$14:$AD$553,6),\"\")","v":""},{"$f":"IF($AE172=1,VLOOKUP($F172,all!$E$14:$AD$553,7),\"\")","v":""},{"$f":"IF($AE172=1,VLOOKUP($F172,all!$E$14:$AD$553,8),\"\")","v":""},{"$f":"IF($AE172=1,VLOOKUP($F172,all!$E$14:$AD$553,9),\"\")","v":""},{"$f":"IF($AE172=1,VLOOKUP($F172,all!$E$14:$AD$553,10),\"\")","v":""},{"$f":"IF($AE172=1,VLOOKUP($F172,all!$E$14:$AD$553,11),\"\")","v":""},{"$f":"IF($AE172=1,VLOOKUP($F172,all!$E$14:$AD$553,12),\"\")","v":""},{"$f":"IF($AE172=1,VLOOKUP($F172,all!$E$14:$AD$553,13),\"\")","v":""},{"$f":"IF($AE172=1,VLOOKUP($F172,all!$E$14:$AD$553,14),\"\")","v":""},{"$f":"IF($AE172=1,VLOOKUP($F172,all!$E$14:$AD$553,15),\"\")","v":""},{"$f":"IF($AE172=1,VLOOKUP($F172,all!$E$14:$AD$553,16),\"\")","v":""},{"$f":"IF($AE172=1,VLOOKUP($F172,all!$E$14:$AD$553,17),\"\")","v":""},{"$f":"IF($AE172=1,VLOOKUP($F172,all!$E$14:$AD$553,18),\"\")","v":""},{"$f":"IF($AE172=1,VLOOKUP($F172,all!$E$14:$AD$553,19),\"\")","v":""},{"$f":"IF($AE172=1,VLOOKUP($F172,all!$E$14:$AD$553,20),\"\")","v":""},{"$f":"IF($AE172=1,VLOOKUP($F172,all!$E$14:$AD$553,21),\"\")","v":""},{"$f":"IF($AE172=1,VLOOKUP($F172,all!$E$14:$AD$553,22),\"\")","v":""},{"$f":"IF($AE172=1,VLOOKUP($F172,all!$E$14:$AD$553,23),\"\")","v":""},{"$f":"IF($AE172=1,VLOOKUP($F172,all!$E$14:$AD$553,24),\"\")","v":""},{"$f":"IF($AE172=1,VLOOKUP($F172,all!$E$14:$AD$553,25),\"\")","v":""},null,{"$f":"COUNTIF(all!$E$14:$E$553,F172)","v":0},null,8,106.56461538461537,4.2463849201360619E-14,"",4.2463849201360619E-14,"",""]
[{"$f":"IF(OR('Y2'!$W$1=6,('Y2'!$W$1=7)),\"\",'Y2'!AA168)","v":""},{"$f":"IF(OR('Y2'!$W$1=6,('Y2'!$W$1=7)),\"\",'Y2'!AB168)","v":""},null,{"$f":"IF(OR('Y2'!$W$1=6,('Y2'!$W$1=7)),\"\",'Y2'!AC168)","v":""},null,140,{"$f":"IF($AE173=1,VLOOKUP($F173,all!$E$14:$AD$553,3),\"\")","v":""},{"$f":"IF($AE173=1,VLOOKUP($F173,all!$E$14:$AD$553,4),\"\")","v":""},{"$f":"IF($AE173=1,VLOOKUP($F173,all!$E$14:$AD$553,5),\"\")","v":""},{"$f":"IF($AE173=1,VLOOKUP($F173,all!$E$14:$AD$553,6),\"\")","v":""},{"$f":"IF($AE173=1,VLOOKUP($F173,all!$E$14:$AD$553,7),\"\")","v":""},{"$f":"IF($AE173=1,VLOOKUP($F173,all!$E$14:$AD$553,8),\"\")","v":""},{"$f":"IF($AE173=1,VLOOKUP($F173,all!$E$14:$AD$553,9),\"\")","v":""},{"$f":"IF($AE173=1,VLOOKUP($F173,all!$E$14:$AD$553,10),\"\")","v":""},{"$f":"IF($AE173=1,VLOOKUP($F173,all!$E$14:$AD$553,11),\"\")","v":""},{"$f":"IF($AE173=1,VLOOKUP($F173,all!$E$14:$AD$553,12),\"\")","v":""},{"$f":"IF($AE173=1,VLOOKUP($F173,all!$E$14:$AD$553,13),\"\")","v":""},{"$f":"IF($AE173=1,VLOOKUP($F173,all!$E$14:$AD$553,14),\"\")","v":""},{"$f":"IF($AE173=1,VLOOKUP($F173,all!$E$14:$AD$553,15),\"\")","v":""},{"$f":"IF($AE173=1,VLOOKUP($F173,all!$E$14:$AD$553,16),\"\")","v":""},{"$f":"IF($AE173=1,VLOOKUP($F173,all!$E$14:$AD$553,17),\"\")","v":""},{"$f":"IF($AE173=1,VLOOKUP($F173,all!$E$14:$AD$553,18),\"\")","v":""},{"$f":"IF($AE173=1,VLOOKUP($F173,all!$E$14:$AD$553,19),\"\")","v":""},{"$f":"IF($AE173=1,VLOOKUP($F173,all!$E$14:$AD$553,20),\"\")","v":""},{"$f":"IF($AE173=1,VLOOKUP($F173,all!$E$14:$AD$553,21),\"\")","v":""},{"$f":"IF($AE173=1,VLOOKUP($F173,all!$E$14:$AD$553,22),\"\")","v":""},{"$f":"IF($AE173=1,VLOOKUP($F173,all!$E$14:$AD$553,23),\"\")","v":""},{"$f":"IF($AE173=1,VLOOKUP($F173,all!$E$14:$AD$553,24),\"\")","v":""},{"$f":"IF($AE173=1,VLOOKUP($F173,all!$E$14:$AD$553,25),\"\")","v":""},null,{"$f":"COUNTIF(all!$E$14:$E$553,F173)","v":0},null,9,109.79384615384613,7.3081531169124761E-13,"",7.3081531169124761E-13,"",""]
[{"$f":"IF(OR('Y2'!$W$1=6,('Y2'!$W$1=7)),\"\",'Y2'!AA169)","v":""},{"$f":"IF(OR('Y2'!$W$1=6,('Y2'!$W$1=7)),\"\",'Y2'!AB169)","v":""},null,{"$f":"IF(OR('Y2'!$W$1=6,('Y2'!$W$1=7)),\"\",'Y2'!AC169)","v":""},null,141,{"$f":"IF($AE174=1,VLOOKUP($F174,all!$E$14:$AD$553,3),\"\")","v":""},{"$f":"IF($AE174=1,VLOOKUP($F174,all!$E$14:$AD$553,4),\"\")","v":""},{"$f":"IF($AE174=1,VLOOKUP($F174,all!$E$14:$AD$553,5),\"\")","v":""},{"$f":"IF($AE174=1,VLOOKUP($F174,all!$E$14:$AD$553,6),\"\")","v":""},{"$f":"IF($AE174=1,VLOOKUP($F174,all!$E$14:$AD$553,7),\"\")","v":""},{"$f":"IF($AE174=1,VLOOKUP($F174,all!$E$14:$AD$553,8),\"\")","v":""},{"$f":"IF($AE174=1,VLOOKUP($F174,all!$E$14:$AD$553,9),\"\")","v":""},{"$f":"IF($AE174=1,VLOOKUP($F174,all!$E$14:$AD$553,10),\"\")","v":""},{"$f":"IF($AE174=1,VLOOKUP($F174,all!$E$14:$AD$553,11),\"\")","v":""},{"$f":"IF($AE174=1,VLOOKUP($F174,all!$E$14:$AD$553,12),\"\")","v":""},{"$f":"IF($AE174=1,VLOOKUP($F174,all!$E$14:$AD$553,13),\"\")","v":""},{"$f":"IF($AE174=1,VLOOKUP($F174,all!$E$14:$AD$553,14),\"\")","v":""},{"$f":"IF($AE174=1,VLOOKUP($F174,all!$E$14:$AD$553,15),\"\")","v":""},{"$f":"IF($AE174=1,VLOOKUP($F174,all!$E$14:$AD$553,16),\"\")","v":""},{"$f":"IF($AE174=1,VLOOKUP($F174,all!$E$14:$AD$553,17),\"\")","v":""},{"$f":"IF($AE174=1,VLOOKUP($F174,all!$E$14:$AD$553,18),\"\")","v":""},{"$f":"IF($AE174=1,VLOOKUP($F174,all!$E$14:$AD$553,19),\"\")","v":""},{"$f":"IF($AE174=1,VLOOKUP($F174,all!$E$14:$AD$553,20),\"\")","v":""},{"$f":"IF($AE174=1,VLOOKUP($F174,all!$E$14:$AD$553,21),\"\")","v":""},{"$f":"IF($AE174=1,VLOOKUP($F174,all!$E$14:$AD$553,22),\"\")","v":""},{"$f":"IF($AE174=1,VLOOKUP($F174,all!$E$14:$AD$553,23),\"\")","v":""},{"$f":"IF($AE174=1,VLOOKUP($F174,all!$E$14:$AD$553,24),\"\")","v":""},{"$f":"IF($AE174=1,VLOOKUP($F174,all!$E$14:$AD$553,25),\"\")","v":""},null,{"$f":"COUNTIF(all!$E$14:$E$553,F174)","v":0},null,10,113.0230769230769,1.0784413973712694E-11,"",1.0784413973712694E-11,"",""]
[{"$f":"IF(OR('Y2'!$W$1=6,('Y2'!$W$1=7)),\"\",'Y2'!AA170)","v":""},{"$f":"IF(OR('Y2'!$W$1=6,('Y2'!$W$1=7)),\"\",'Y2'!AB170)","v":""},null,{"$f":"IF(OR('Y2'!$W$1=6,('Y2'!$W$1=7)),\"\",'Y2'!AC170)","v":""},null,142,{"$f":"IF($AE175=1,VLOOKUP($F175,all!$E$14:$AD$553,3),\"\")","v":""},{"$f":"IF($AE175=1,VLOOKUP($F175,all!$E$14:$AD$553,4),\"\")","v":""},{"$f":"IF($AE175=1,VLOOKUP($F175,all!$E$14:$AD$553,5),\"\")","v":""},{"$f":"IF($AE175=1,VLOOKUP($F175,all!$E$14:$AD$553,6),\"\")","v":""},{"$f":"IF($AE175=1,VLOOKUP($F175,all!$E$14:$AD$553,7),\"\")","v":""},{"$f":"IF($AE175=1,VLOOKUP($F175,all!$E$14:$AD$553,8),\"\")","v":""},{"$f":"IF($AE175=1,VLOOKUP($F175,all!$E$14:$AD$553,9),\"\")","v":""},{"$f":"IF($AE175=1,VLOOKUP($F175,all!$E$14:$AD$553,10),\"\")","v":""},{"$f":"IF($AE175=1,VLOOKUP($F175,all!$E$14:$AD$553,11),\"\")","v":""},{"$f":"IF($AE175=1,VLOOKUP($F175,all!$E$14:$AD$553,12),\"\")","v":""},{"$f":"IF($AE175=1,VLOOKUP($F175,all!$E$14:$AD$553,13),\"\")","v":""},{"$f":"IF($AE175=1,VLOOKUP($F175,all!$E$14:$AD$553,14),\"\")","v":""},{"$f":"IF($AE175=1,VLOOKUP($F175,all!$E$14:$AD$553,15),\"\")","v":""},{"$f":"IF($AE175=1,VLOOKUP($F175,all!$E$14:$AD$553,16),\"\")","v":""},{"$f":"IF($AE175=1,VLOOKUP($F175,all!$E$14:$AD$553,17),\"\")","v":""},{"$f":"IF($AE175=1,VLOOKUP($F175,all!$E$14:$AD$553,18),\"\")","v":""},{"$f":"IF($AE175=1,VLOOKUP($F175,all!$E$14:$AD$553,19),\"\")","v":""},{"$f":"IF($AE175=1,VLOOKUP($F175,all!$E$14:$AD$553,20),\"\")","v":""},{"$f":"IF($AE175=1,VLOOKUP($F175,all!$E$14:$AD$553,21),\"\")","v":""},{"$f":"IF($AE175=1,VLOOKUP($F175,all!$E$14:$AD$553,22),\"\")","v":""},{"$f":"IF($AE175=1,VLOOKUP($F175,all!$E$14:$AD$553,23),\"\")","v":""},{"$f":"IF($AE175=1,VLOOKUP($F175,all!$E$14:$AD$553,24),\"\")","v":""},{"$f":"IF($AE175=1,VLOOKUP($F175,all!$E$14:$AD$553,25),\"\")","v":""},null,{"$f":"COUNTIF(all!$E$14:$E$553,F175)","v":0},null,11,116.25230769230768,1.3645394518448638E-10,"",1.3645394518448638E-10,"",""]
[{"$f":"IF(OR('Y2'!$W$1=6,('Y2'!$W$1=7)),\"\",'Y2'!AA171)","v":""},{"$f":"IF(OR('Y2'!$W$1=6,('Y2'!$W$1=7)),\"\",'Y2'!AB171)","v":""},null,{"$f":"IF(OR('Y2'!$W$1=6,('Y2'!$W$1=7)),\"\",'Y2'!AC171)","v":""},null,143,{"$f":"IF($AE176=1,VLOOKUP($F176,all!$E$14:$AD$553,3),\"\")","v":""},{"$f":"IF($AE176=1,VLOOKUP($F176,all!$E$14:$AD$553,4),\"\")","v":""},{"$f":"IF($AE176=1,VLOOKUP($F176,all!$E$14:$AD$553,5),\"\")","v":""},{"$f":"IF($AE176=1,VLOOKUP($F176,all!$E$14:$AD$553,6),\"\")","v":""},{"$f":"IF($AE176=1,VLOOKUP($F176,all!$E$14:$AD$553,7),\"\")","v":""},{"$f":"IF($AE176=1,VLOOKUP($F176,all!$E$14:$AD$553,8),\"\")","v":""},{"$f":"IF($AE176=1,VLOOKUP($F176,all!$E$14:$AD$553,9),\"\")","v":""},{"$f":"IF($AE176=1,VLOOKUP($F176,all!$E$14:$AD$553,10),\"\")","v":""},{"$f":"IF($AE176=1,VLOOKUP($F176,all!$E$14:$AD$553,11),\"\")","v":""},{"$f":"IF($AE176=1,VLOOKUP($F176,all!$E$14:$AD$553,12),\"\")","v":""},{"$f":"IF($AE176=1,VLOOKUP($F176,all!$E$14:$AD$553,13),\"\")","v":""},{"$f":"IF($AE176=1,VLOOKUP($F176,all!$E$14:$AD$553,14),\"\")","v":""},{"$f":"IF($AE176=1,VLOOKUP($F176,all!$E$14:$AD$553,15),\"\")","v":""},{"$f":"IF($AE176=1,VLOOKUP($F176,all!$E$14:$AD$553,16),\"\")","v":""},{"$f":"IF($AE176=1,VLOOKUP($F176,all!$E$14:$AD$553,17),\"\")","v":""},{"$f":"IF($AE176=1,VLOOKUP($F176,all!$E$14:$AD$553,18),\"\")","v":""},{"$f":"IF($AE176=1,VLOOKUP($F176,all!$E$14:$AD$553,19),\"\")","v":""},{"$f":"IF($AE176=1,VLOOKUP($F176,all!$E$14:$AD$553,20),\"\")","v":""},{"$f":"IF($AE176=1,VLOOKUP($F176,all!$E$14:$AD$553,21),\"\")","v":""},{"$f":"IF($AE176=1,VLOOKUP($F176,all!$E$14:$AD$553,22),\"\")","v":""},{"$f":"IF($AE176=1,VLOOKUP($F176,all!$E$14:$AD$553,23),\"\")","v":""},{"$f":"IF($AE176=1,VLOOKUP($F176,all!$E$14:$AD$553,24),\"\")","v":""},{"$f":"IF($AE176=1,VLOOKUP($F176,all!$E$14:$AD$553,25),\"\")","v":""},null,{"$f":"COUNTIF(all!$E$14:$E$553,F176)","v":0},null,12,119.48153846153843,1.4803904551102317E-9,"",1.4803904551102317E-9,"",""]
[{"$f":"IF(OR('Y2'!$W$1=6,('Y2'!$W$1=7)),\"\",'Y2'!AA172)","v":""},{"$f":"IF(OR('Y2'!$W$1=6,('Y2'!$W$1=7)),\"\",'Y2'!AB172)","v":""},null,{"$f":"IF(OR('Y2'!$W$1=6,('Y2'!$W$1=7)),\"\",'Y2'!AC172)","v":""},null,144,{"$f":"IF($AE177=1,VLOOKUP($F177,all!$E$14:$AD$553,3),\"\")","v":""},{"$f":"IF($AE177=1,VLOOKUP($F177,all!$E$14:$AD$553,4),\"\")","v":""},{"$f":"IF($AE177=1,VLOOKUP($F177,all!$E$14:$AD$553,5),\"\")","v":""},{"$f":"IF($AE177=1,VLOOKUP($F177,all!$E$14:$AD$553,6),\"\")","v":""},{"$f":"IF($AE177=1,VLOOKUP($F177,all!$E$14:$AD$553,7),\"\")","v":""},{"$f":"IF($AE177=1,VLOOKUP($F177,all!$E$14:$AD$553,8),\"\")","v":""},{"$f":"IF($AE177=1,VLOOKUP($F177,all!$E$14:$AD$553,9),\"\")","v":""},{"$f":"IF($AE177=1,VLOOKUP($F177,all!$E$14:$AD$553,10),\"\")","v":""},{"$f":"IF($AE177=1,VLOOKUP($F177,all!$E$14:$AD$553,11),\"\")","v":""},{"$f":"IF($AE177=1,VLOOKUP($F177,all!$E$14:$AD$553,12),\"\")","v":""},{"$f":"IF($AE177=1,VLOOKUP($F177,all!$E$14:$AD$553,13),\"\")","v":""},{"$f":"IF($AE177=1,VLOOKUP($F177,all!$E$14:$AD$553,14),\"\")","v":""},{"$f":"IF($AE177=1,VLOOKUP($F177,all!$E$14:$AD$553,15),\"\")","v":""},{"$f":"IF($AE177=1,VLOOKUP($F177,all!$E$14:$AD$553,16),\"\")","v":""},{"$f":"IF($AE177=1,VLOOKUP($F177,all!$E$14:$AD$553,17),\"\")","v":""},{"$f":"IF($AE177=1,VLOOKUP($F177,all!$E$14:$AD$553,18),\"\")","v":""},{"$f":"IF($AE177=1,VLOOKUP($F177,all!$E$14:$AD$553,19),\"\")","v":""},{"$f":"IF($AE177=1,VLOOKUP($F177,all!$E$14:$AD$553,20),\"\")","v":""},{"$f":"IF($AE177=1,VLOOKUP($F177,all!$E$14:$AD$553,21),\"\")","v":""},{"$f":"IF($AE177=1,VLOOKUP($F177,all!$E$14:$AD$553,22),\"\")","v":""},{"$f":"IF($AE177=1,VLOOKUP($F177,all!$E$14:$AD$553,23),\"\")","v":""},{"$f":"IF($AE177=1,VLOOKUP($F177,all!$E$14:$AD$553,24),\"\")","v":""},{"$f":"IF($AE177=1,VLOOKUP($F177,all!$E$14:$AD$553,25),\"\")","v":""},null,{"$f":"COUNTIF(all!$E$14:$E$553,F177)","v":0},null,13,122.71076923076922,1.3771051091812238E-8,{"$f":"IF(($AH$191-AH177)<=$AI$162,AI177,\"\")","v":""},1.3771051091812238E-8,"",""]
[{"$f":"IF(OR('Y2'!$W$1=6,('Y2'!$W$1=7)),\"\",'Y2'!AA173)","v":""},{"$f":"IF(OR('Y2'!$W$1=6,('Y2'!$W$1=7)),\"\",'Y2'!AB173)","v":""},null,{"$f":"IF(OR('Y2'!$W$1=6,('Y2'!$W$1=7)),\"\",'Y2'!AC173)","v":""},null,145,{"$f":"IF($AE178=1,VLOOKUP($F178,all!$E$14:$AD$553,3),\"\")","v":""},{"$f":"IF($AE178=1,VLOOKUP($F178,all!$E$14:$AD$553,4),\"\")","v":""},{"$f":"IF($AE178=1,VLOOKUP($F178,all!$E$14:$AD$553,5),\"\")","v":""},{"$f":"IF($AE178=1,VLOOKUP($F178,all!$E$14:$AD$553,6),\"\")","v":""},{"$f":"IF($AE178=1,VLOOKUP($F178,all!$E$14:$AD$553,7),\"\")","v":""},{"$f":"IF($AE178=1,VLOOKUP($F178,all!$E$14:$AD$553,8),\"\")","v":""},{"$f":"IF($AE178=1,VLOOKUP($F178,all!$E$14:$AD$553,9),\"\")","v":""},{"$f":"IF($AE178=1,VLOOKUP($F178,all!$E$14:$AD$553,10),\"\")","v":""},{"$f":"IF($AE178=1,VLOOKUP($F178,all!$E$14:$AD$553,11),\"\")","v":""},{"$f":"IF($AE178=1,VLOOKUP($F178,all!$E$14:$AD$553,12),\"\")","v":""},{"$f":"IF($AE178=1,VLOOKUP($F178,all!$E$14:$AD$553,13),\"\")","v":""},{"$f":"IF($AE178=1,VLOOKUP($F178,all!$E$14:$AD$553,14),\"\")","v":""},{"$f":"IF($AE178=1,VLOOKUP($F178,all!$E$14:$AD$553,15),\"\")","v":""},{"$f":"IF($AE178=1,VLOOKUP($F178,all!$E$14:$AD$553,16),\"\")","v":""},{"$f":"IF($AE178=1,VLOOKUP($F178,all!$E$14:$AD$553,17),\"\")","v":""},{"$f":"IF($AE178=1,VLOOKUP($F178,all!$E$14:$AD$553,18),\"\")","v":""},{"$f":"IF($AE178=1,VLOOKUP($F178,all!$E$14:$AD$553,19),\"\")","v":""},{"$f":"IF($AE178=1,VLOOKUP($F178,all!$E$14:$AD$553,20),\"\")","v":""},{"$f":"IF($AE178=1,VLOOKUP($F178,all!$E$14:$AD$553,21),\"\")","v":""},{"$f":"IF($AE178=1,VLOOKUP($F178,all!$E$14:$AD$553,22),\"\")","v":""},{"$f":"IF($AE178=1,VLOOKUP($F178,all!$E$14:$AD$553,23),\"\")","v":""},{"$f":"IF($AE178=1,VLOOKUP($F178,all!$E$14:$AD$553,24),\"\")","v":""},{"$f":"IF($AE178=1,VLOOKUP($F178,all!$E$14:$AD$553,25),\"\")","v":""},null,{"$f":"COUNTIF(all!$E$14:$E$553,F178)","v":0},null,14,125.93999999999998,1.0983949724701584E-7,"",1.0983949724701584E-7,"",""]
[{"$f":"IF(OR('Y2'!$W$1=6,('Y2'!$W$1=7)),\"\",'Y2'!AA174)","v":""},{"$f":"IF(OR('Y2'!$W$1=6,('Y2'!$W$1=7)),\"\",'Y2'!AB174)","v":""},null,{"$f":"IF(OR('Y2'!$W$1=6,('Y2'!$W$1=7)),\"\",'Y2'!AC174)","v":""},null,146,{"$f":"IF($AE179=1,VLOOKUP($F179,all!$E$14:$AD$553,3),\"\")","v":""},{"$f":"IF($AE179=1,VLOOKUP($F179,all!$E$14:$AD$553,4),\"\")","v":""},{"$f":"IF($AE179=1,VLOOKUP($F179,all!$E$14:$AD$553,5),\"\")","v":""},{"$f":"IF($AE179=1,VLOOKUP($F179,all!$E$14:$AD$553,6),\"\")","v":""},{"$f":"IF($AE179=1,VLOOKUP($F179,all!$E$14:$AD$553,7),\"\")","v":""},{"$f":"IF($AE179=1,VLOOKUP($F179,all!$E$14:$AD$553,8),\"\")","v":""},{"$f":"IF($AE179=1,VLOOKUP($F179,all!$E$14:$AD$553,9),\"\")","v":""},{"$f":"IF($AE179=1,VLOOKUP($F179,all!$E$14:$AD$553,10),\"\")","v":""},{"$f":"IF($AE179=1,VLOOKUP($F179,all!$E$14:$AD$553,11),\"\")","v":""},{"$f":"IF($AE179=1,VLOOKUP($F179,all!$E$14:$AD$553,12),\"\")","v":""},{"$f":"IF($AE179=1,VLOOKUP($F179,all!$E$14:$AD$553,13),\"\")","v":""},{"$f":"IF($AE179=1,VLOOKUP($F179,all!$E$14:$AD$553,14),\"\")","v":""},{"$f":"IF($AE179=1,VLOOKUP($F179,all!$E$14:$AD$553,15),\"\")","v":""},{"$f":"IF($AE179=1,VLOOKUP($F179,all!$E$14:$AD$553,16),\"\")","v":""},{"$f":"IF($AE179=1,VLOOKUP($F179,all!$E$14:$AD$553,17),\"\")","v":""},{"$f":"IF($AE179=1,VLOOKUP($F179,all!$E$14:$AD$553,18),\"\")","v":""},{"$f":"IF($AE179=1,VLOOKUP($F179,all!$E$14:$AD$553,19),\"\")","v":""},{"$f":"IF($AE179=1,VLOOKUP($F179,all!$E$14:$AD$553,20),\"\")","v":""},{"$f":"IF($AE179=1,VLOOKUP($F179,all!$E$14:$AD$553,21),\"\")","v":""},{"$f":"IF($AE179=1,VLOOKUP($F179,all!$E$14:$AD$553,22),\"\")","v":""},{"$f":"IF($AE179=1,VLOOKUP($F179,all!$E$14:$AD$553,23),\"\")","v":""},{"$f":"IF($AE179=1,VLOOKUP($F179,all!$E$14:$AD$553,24),\"\")","v":""},{"$f":"IF($AE179=1,VLOOKUP($F179,all!$E$14:$AD$553,25),\"\")","v":""},null,{"$f":"COUNTIF(all!$E$14:$E$553,F179)","v":0},null,15,129.16923076923075,7.511914164755244E-7,"",7.511914164755244E-7,"",""]
[{"$f":"IF(OR('Y2'!$W$1=6,('Y2'!$W$1=7)),\"\",'Y2'!AA175)","v":""},{"$f":"IF(OR('Y2'!$W$1=6,('Y2'!$W$1=7)),\"\",'Y2'!AB175)","v":""},null,{"$f":"IF(OR('Y2'!$W$1=6,('Y2'!$W$1=7)),\"\",'Y2'!AC175)","v":""},null,147,{"$f":"IF($AE180=1,VLOOKUP($F180,all!$E$14:$AD$553,3),\"\")","v":""},{"$f":"IF($AE180=1,VLOOKUP($F180,all!$E$14:$AD$553,4),\"\")","v":""},{"$f":"IF($AE180=1,VLOOKUP($F180,all!$E$14:$AD$553,5),\"\")","v":""},{"$f":"IF($AE180=1,VLOOKUP($F180,all!$E$14:$AD$553,6),\"\")","v":""},{"$f":"IF($AE180=1,VLOOKUP($F180,all!$E$14:$AD$553,7),\"\")","v":""},{"$f":"IF($AE180=1,VLOOKUP($F180,all!$E$14:$AD$553,8),\"\")","v":""},{"$f":"IF($AE180=1,VLOOKUP($F180,all!$E$14:$AD$553,9),\"\")","v":""},{"$f":"IF($AE180=1,VLOOKUP($F180,all!$E$14:$AD$553,10),\"\")","v":""},{"$f":"IF($AE180=1,VLOOKUP($F180,all!$E$14:$AD$553,11),\"\")","v":""},{"$f":"IF($AE180=1,VLOOKUP($F180,all!$E$14:$AD$553,12),\"\")","v":""},{"$f":"IF($AE180=1,VLOOKUP($F180,all!$E$14:$AD$553,13),\"\")","v":""},{"$f":"IF($AE180=1,VLOOKUP($F180,all!$E$14:$AD$553,14),\"\")","v":""},{"$f":"IF($AE180=1,VLOOKUP($F180,all!$E$14:$AD$553,15),\"\")","v":""},{"$f":"IF($AE180=1,VLOOKUP($F180,all!$E$14:$AD$553,16),\"\")","v":""},{"$f":"IF($AE180=1,VLOOKUP($F180,all!$E$14:$AD$553,17),\"\")","v":""},{"$f":"IF($AE180=1,VLOOKUP($F180,all!$E$14:$AD$553,18),\"\")","v":""},{"$f":"IF($AE180=1,VLOOKUP($F180,all!$E$14:$AD$553,19),\"\")","v":""},{"$f":"IF($AE180=1,VLOOKUP($F180,all!$E$14:$AD$553,20),\"\")","v":""},{"$f":"IF($AE180=1,VLOOKUP($F180,all!$E$14:$AD$553,21),\"\")","v":""},{"$f":"IF($AE180=1,VLOOKUP($F180,all!$E$14:$AD$553,22),\"\")","v":""},{"$f":"IF($AE180=1,VLOOKUP($F180,all!$E$14:$AD$553,23),\"\")","v":""},{"$f":"IF($AE180=1,VLOOKUP($F180,all!$E$14:$AD$553,24),\"\")","v":""},{"$f":"IF($AE180=1,VLOOKUP($F180,all!$E$14:$AD$553,25),\"\")","v":""},null,{"$f":"COUNTIF(all!$E$14:$E$553,F180)","v":0},null,16,132.3984615384615,4.4049738113623168E-6,"",4.4049738113623168E-6,"",""]
[{"$f":"IF(OR('Y2'!$W$1=6,('Y2'!$W$1=7)),\"\",'Y2'!AA176)","v":""},{"$f":"IF(OR('Y2'!$W$1=6,('Y2'!$W$1=7)),\"\",'Y2'!AB176)","v":""},null,{"$f":"IF(OR('Y2'!$W$1=6,('Y2'!$W$1=7)),\"\",'Y2'!AC176)","v":""},null,148,{"$f":"IF($AE181=1,VLOOKUP($F181,all!$E$14:$AD$553,3),\"\")","v":""},{"$f":"IF($AE181=1,VLOOKUP($F181,all!$E$14:$AD$553,4),\"\")","v":""},{"$f":"IF($AE181=1,VLOOKUP($F181,all!$E$14:$AD$553,5),\"\")","v":""},{"$f":"IF($AE181=1,VLOOKUP($F181,all!$E$14:$AD$553,6),\"\")","v":""},{"$f":"IF($AE181=1,VLOOKUP($F181,all!$E$14:$AD$553,7),\"\")","v":""},{"$f":"IF($AE181=1,VLOOKUP($F181,all!$E$14:$AD$553,8),\"\")","v":""},{"$f":"IF($AE181=1,VLOOKUP($F181,all!$E$14:$AD$553,9),\"\")","v":""},{"$f":"IF($AE181=1,VLOOKUP($F181,all!$E$14:$AD$553,10),\"\")","v":""},{"$f":"IF($AE181=1,VLOOKUP($F181,all!$E$14:$AD$553,11),\"\")","v":""},{"$f":"IF($AE181=1,VLOOKUP($F181,all!$E$14:$AD$553,12),\"\")","v":""},{"$f":"IF($AE181=1,VLOOKUP($F181,all!$E$14:$AD$553,13),\"\")","v":""},{"$f":"IF($AE181=1,VLOOKUP($F181,all!$E$14:$AD$553,14),\"\")","v":""},{"$f":"IF($AE181=1,VLOOKUP($F181,all!$E$14:$AD$553,15),\"\")","v":""},{"$f":"IF($AE181=1,VLOOKUP($F181,all!$E$14:$AD$553,16),\"\")","v":""},{"$f":"IF($AE181=1,VLOOKUP($F181,all!$E$14:$AD$553,17),\"\")","v":""},{"$f":"IF($AE181=1,VLOOKUP($F181,all!$E$14:$AD$553,18),\"\")","v":""},{"$f":"IF($AE181=1,VLOOKUP($F181,all!$E$14:$AD$553,19),\"\")","v":""},{"$f":"IF($AE181=1,VLOOKUP($F181,all!$E$14:$AD$553,20),\"\")","v":""},{"$f":"IF($AE181=1,VLOOKUP($F181,all!$E$14:$AD$553,21),\"\")","v":""},{"$f":"IF($AE181=1,VLOOKUP($F181,all!$E$14:$AD$553,22),\"\")","v":""},{"$f":"IF($AE181=1,VLOOKUP($F181,all!$E$14:$AD$553,23),\"\")","v":""},{"$f":"IF($AE181=1,VLOOKUP($F181,all!$E$14:$AD$553,24),\"\")","v":""},{"$f":"IF($AE181=1,VLOOKUP($F181,all!$E$14:$AD$553,25),\"\")","v":""},null,{"$f":"COUNTIF(all!$E$14:$E$553,F181)","v":0},null,17,135.62769230769229,2.2148110332045097E-5,"",2.2148110332045097E-5,"",""]
[{"$f":"IF(OR('Y2'!$W$1=6,('Y2'!$W$1=7)),\"\",'Y2'!AA177)","v":""},{"$f":"IF(OR('Y2'!$W$1=6,('Y2'!$W$1=7)),\"\",'Y2'!AB177)","v":""},null,{"$f":"IF(OR('Y2'!$W$1=6,('Y2'!$W$1=7)),\"\",'Y2'!AC177)","v":""},null,149,{"$f":"IF($AE182=1,VLOOKUP($F182,all!$E$14:$AD$553,3),\"\")","v":""},{"$f":"IF($AE182=1,VLOOKUP($F182,all!$E$14:$AD$553,4),\"\")","v":""},{"$f":"IF($AE182=1,VLOOKUP($F182,all!$E$14:$AD$553,5),\"\")","v":""},{"$f":"IF($AE182=1,VLOOKUP($F182,all!$E$14:$AD$553,6),\"\")","v":""},{"$f":"IF($AE182=1,VLOOKUP($F182,all!$E$14:$AD$553,7),\"\")","v":""},{"$f":"IF($AE182=1,VLOOKUP($F182,all!$E$14:$AD$553,8),\"\")","v":""},{"$f":"IF($AE182=1,VLOOKUP($F182,all!$E$14:$AD$553,9),\"\")","v":""},{"$f":"IF($AE182=1,VLOOKUP($F182,all!$E$14:$AD$553,10),\"\")","v":""},{"$f":"IF($AE182=1,VLOOKUP($F182,all!$E$14:$AD$553,11),\"\")","v":""},{"$f":"IF($AE182=1,VLOOKUP($F182,all!$E$14:$AD$553,12),\"\")","v":""},{"$f":"IF($AE182=1,VLOOKUP($F182,all!$E$14:$AD$553,13),\"\")","v":""},{"$f":"IF($AE182=1,VLOOKUP($F182,all!$E$14:$AD$553,14),\"\")","v":""},{"$f":"IF($AE182=1,VLOOKUP($F182,all!$E$14:$AD$553,15),\"\")","v":""},{"$f":"IF($AE182=1,VLOOKUP($F182,all!$E$14:$AD$553,16),\"\")","v":""},{"$f":"IF($AE182=1,VLOOKUP($F182,all!$E$14:$AD$553,17),\"\")","v":""},{"$f":"IF($AE182=1,VLOOKUP($F182,all!$E$14:$AD$553,18),\"\")","v":""},{"$f":"IF($AE182=1,VLOOKUP($F182,all!$E$14:$AD$553,19),\"\")","v":""},{"$f":"IF($AE182=1,VLOOKUP($F182,all!$E$14:$AD$553,20),\"\")","v":""},{"$f":"IF($AE182=1,VLOOKUP($F182,all!$E$14:$AD$553,21),\"\")","v":""},{"$f":"IF($AE182=1,VLOOKUP($F182,all!$E$14:$AD$553,22),\"\")","v":""},{"$f":"IF($AE182=1,VLOOKUP($F182,all!$E$14:$AD$553,23),\"\")","v":""},{"$f":"IF($AE182=1,VLOOKUP($F182,all!$E$14:$AD$553,24),\"\")","v":""},{"$f":"IF($AE182=1,VLOOKUP($F182,all!$E$14:$AD$553,25),\"\")","v":""},null,{"$f":"COUNTIF(all!$E$14:$E$553,F182)","v":0},null,18,138.85692307692307,9.5484012159202447E-5,"",9.5484012159202447E-5,"",""]
[{"$f":"IF(OR('Y2'!$W$1=6,('Y2'!$W$1=7)),\"\",'Y2'!AA178)","v":""},{"$f":"IF(OR('Y2'!$W$1=6,('Y2'!$W$1=7)),\"\",'Y2'!AB178)","v":""},null,{"$f":"IF(OR('Y2'!$W$1=6,('Y2'!$W$1=7)),\"\",'Y2'!AC178)","v":""},null,150,{"$f":"IF($AE183=1,VLOOKUP($F183,all!$E$14:$AD$553,3),\"\")","v":""},{"$f":"IF($AE183=1,VLOOKUP($F183,all!$E$14:$AD$553,4),\"\")","v":""},{"$f":"IF($AE183=1,VLOOKUP($F183,all!$E$14:$AD$553,5),\"\")","v":""},{"$f":"IF($AE183=1,VLOOKUP($F183,all!$E$14:$AD$553,6),\"\")","v":""},{"$f":"IF($AE183=1,VLOOKUP($F183,all!$E$14:$AD$553,7),\"\")","v":""},{"$f":"IF($AE183=1,VLOOKUP($F183,all!$E$14:$AD$553,8),\"\")","v":""},{"$f":"IF($AE183=1,VLOOKUP($F183,all!$E$14:$AD$553,9),\"\")","v":""},{"$f":"IF($AE183=1,VLOOKUP($F183,all!$E$14:$AD$553,10),\"\")","v":""},{"$f":"IF($AE183=1,VLOOKUP($F183,all!$E$14:$AD$553,11),\"\")","v":""},{"$f":"IF($AE183=1,VLOOKUP($F183,all!$E$14:$AD$553,12),\"\")","v":""},{"$f":"IF($AE183=1,VLOOKUP($F183,all!$E$14:$AD$553,13),\"\")","v":""},{"$f":"IF($AE183=1,VLOOKUP($F183,all!$E$14:$AD$553,14),\"\")","v":""},{"$f":"IF($AE183=1,VLOOKUP($F183,all!$E$14:$AD$553,15),\"\")","v":""},{"$f":"IF($AE183=1,VLOOKUP($F183,all!$E$14:$AD$553,16),\"\")","v":""},{"$f":"IF($AE183=1,VLOOKUP($F183,all!$E$14:$AD$553,17),\"\")","v":""},{"$f":"IF($AE183=1,VLOOKUP($F183,all!$E$14:$AD$553,18),\"\")","v":""},{"$f":"IF($AE183=1,VLOOKUP($F183,all!$E$14:$AD$553,19),\"\")","v":""},{"$f":"IF($AE183=1,VLOOKUP($F183,all!$E$14:$AD$553,20),\"\")","v":""},{"$f":"IF($AE183=1,VLOOKUP($F183,all!$E$14:$AD$553,21),\"\")","v":""},{"$f":"IF($AE183=1,VLOOKUP($F183,all!$E$14:$AD$553,22),\"\")","v":""},{"$f":"IF($AE183=1,VLOOKUP($F183,all!$E$14:$AD$553,23),\"\")","v":""},{"$f":"IF($AE183=1,VLOOKUP($F183,all!$E$14:$AD$553,24),\"\")","v":""},{"$f":"IF($AE183=1,VLOOKUP($F183,all!$E$14:$AD$553,25),\"\")","v":""},null,{"$f":"COUNTIF(all!$E$14:$E$553,F183)","v":0},null,19,142.08615384615382,3.5295982390488254E-4,"",3.5295982390488254E-4,"",""]
[{"$f":"IF(OR('Y2'!$W$1=6,('Y2'!$W$1=7)),\"\",'Y2'!AA179)","v":""},{"$f":"IF(OR('Y2'!$W$1=6,('Y2'!$W$1=7)),\"\",'Y2'!AB179)","v":""},null,{"$f":"IF(OR('Y2'!$W$1=6,('Y2'!$W$1=7)),\"\",'Y2'!AC179)","v":""},null,151,{"$f":"IF($AE184=1,VLOOKUP($F184,all!$E$14:$AD$553,3),\"\")","v":""},{"$f":"IF($AE184=1,VLOOKUP($F184,all!$E$14:$AD$553,4),\"\")","v":""},{"$f":"IF($AE184=1,VLOOKUP($F184,all!$E$14:$AD$553,5),\"\")","v":""},{"$f":"IF($AE184=1,VLOOKUP($F184,all!$E$14:$AD$553,6),\"\")","v":""},{"$f":"IF($AE184=1,VLOOKUP($F184,all!$E$14:$AD$553,7),\"\")","v":""},{"$f":"IF($AE184=1,VLOOKUP($F184,all!$E$14:$AD$553,8),\"\")","v":""},{"$f":"IF($AE184=1,VLOOKUP($F184,all!$E$14:$AD$553,9),\"\")","v":""},{"$f":"IF($AE184=1,VLOOKUP($F184,all!$E$14:$AD$553,10),\"\")","v":""},{"$f":"IF($AE184=1,VLOOKUP($F184,all!$E$14:$AD$553,11),\"\")","v":""},{"$f":"IF($AE184=1,VLOOKUP($F184,all!$E$14:$AD$553,12),\"\")","v":""},{"$f":"IF($AE184=1,VLOOKUP($F184,all!$E$14:$AD$553,13),\"\")","v":""},{"$f":"IF($AE184=1,VLOOKUP($F184,all!$E$14:$AD$553,14),\"\")","v":""},{"$f":"IF($AE184=1,VLOOKUP($F184,all!$E$14:$AD$553,15),\"\")","v":""},{"$f":"IF($AE184=1,VLOOKUP($F184,all!$E$14:$AD$553,16),\"\")","v":""},{"$f":"IF($AE184=1,VLOOKUP($F184,all!$E$14:$AD$553,17),\"\")","v":""},{"$f":"IF($AE184=1,VLOOKUP($F184,all!$E$14:$AD$553,18),\"\")","v":""},{"$f":"IF($AE184=1,VLOOKUP($F184,all!$E$14:$AD$553,19),\"\")","v":""},{"$f":"IF($AE184=1,VLOOKUP($F184,all!$E$14:$AD$553,20),\"\")","v":""},{"$f":"IF($AE184=1,VLOOKUP($F184,all!$E$14:$AD$553,21),\"\")","v":""},{"$f":"IF($AE184=1,VLOOKUP($F184,all!$E$14:$AD$553,22),\"\")","v":""},{"$f":"IF($AE184=1,VLOOKUP($F184,all!$E$14:$AD$553,23),\"\")","v":""},{"$f":"IF($AE184=1,VLOOKUP($F184,all!$E$14:$AD$553,24),\"\")","v":""},{"$f":"IF($AE184=1,VLOOKUP($F184,all!$E$14:$AD$553,25),\"\")","v":""},null,{"$f":"COUNTIF(all!$E$14:$E$553,F184)","v":0},null,20,145.3153846153846,1.1187177332848311E-3,"",1.1187177332848311E-3,"",""]
[{"$f":"IF(OR('Y2'!$W$1=6,('Y2'!$W$1=7)),\"\",'Y2'!AA180)","v":""},{"$f":"IF(OR('Y2'!$W$1=6,('Y2'!$W$1=7)),\"\",'Y2'!AB180)","v":""},null,{"$f":"IF(OR('Y2'!$W$1=6,('Y2'!$W$1=7)),\"\",'Y2'!AC180)","v":""},null,152,{"$f":"IF($AE185=1,VLOOKUP($F185,all!$E$14:$AD$553,3),\"\")","v":""},{"$f":"IF($AE185=1,VLOOKUP($F185,all!$E$14:$AD$553,4),\"\")","v":""},{"$f":"IF($AE185=1,VLOOKUP($F185,all!$E$14:$AD$553,5),\"\")","v":""},{"$f":"IF($AE185=1,VLOOKUP($F185,all!$E$14:$AD$553,6),\"\")","v":""},{"$f":"IF($AE185=1,VLOOKUP($F185,all!$E$14:$AD$553,7),\"\")","v":""},{"$f":"IF($AE185=1,VLOOKUP($F185,all!$E$14:$AD$553,8),\"\")","v":""},{"$f":"IF($AE185=1,VLOOKUP($F185,all!$E$14:$AD$553,9),\"\")","v":""},{"$f":"IF($AE185=1,VLOOKUP($F185,all!$E$14:$AD$553,10),\"\")","v":""},{"$f":"IF($AE185=1,VLOOKUP($F185,all!$E$14:$AD$553,11),\"\")","v":""},{"$f":"IF($AE185=1,VLOOKUP($F185,all!$E$14:$AD$553,12),\"\")","v":""},{"$f":"IF($AE185=1,VLOOKUP($F185,all!$E$14:$AD$553,13),\"\")","v":""},{"$f":"IF($AE185=1,VLOOKUP($F185,all!$E$14:$AD$553,14),\"\")","v":""},{"$f":"IF($AE185=1,VLOOKUP($F185,all!$E$14:$AD$553,15),\"\")","v":""},{"$f":"IF($AE185=1,VLOOKUP($F185,all!$E$14:$AD$553,16),\"\")","v":""},{"$f":"IF($AE185=1,VLOOKUP($F185,all!$E$14:$AD$553,17),\"\")","v":""},{"$f":"IF($AE185=1,VLOOKUP($F185,all!$E$14:$AD$553,18),\"\")","v":""},{"$f":"IF($AE185=1,VLOOKUP($F185,all!$E$14:$AD$553,19),\"\")","v":""},{"$f":"IF($AE185=1,VLOOKUP($F185,all!$E$14:$AD$553,20),\"\")","v":""},{"$f":"IF($AE185=1,VLOOKUP($F185,all!$E$14:$AD$553,21),\"\")","v":""},{"$f":"IF($AE185=1,VLOOKUP($F185,all!$E$14:$AD$553,22),\"\")","v":""},{"$f":"IF($AE185=1,VLOOKUP($F185,all!$E$14:$AD$553,23),\"\")","v":""},{"$f":"IF($AE185=1,VLOOKUP($F185,all!$E$14:$AD$553,24),\"\")","v":""},{"$f":"IF($AE185=1,VLOOKUP($F185,all!$E$14:$AD$553,25),\"\")","v":""},null,{"$f":"COUNTIF(all!$E$14:$E$553,F185)","v":0},null,21,148.54461538461538,3.0402997524213472E-3,"",3.0402997524213472E-3,"",""]
[{"$f":"IF(OR('Y2'!$W$1=6,('Y2'!$W$1=7)),\"\",'Y2'!AA181)","v":""},{"$f":"IF(OR('Y2'!$W$1=6,('Y2'!$W$1=7)),\"\",'Y2'!AB181)","v":""},null,{"$f":"IF(OR('Y2'!$W$1=6,('Y2'!$W$1=7)),\"\",'Y2'!AC181)","v":""},null,153,{"$f":"IF($AE186=1,VLOOKUP($F186,all!$E$14:$AD$553,3),\"\")","v":""},{"$f":"IF($AE186=1,VLOOKUP($F186,all!$E$14:$AD$553,4),\"\")","v":""},{"$f":"IF($AE186=1,VLOOKUP($F186,all!$E$14:$AD$553,5),\"\")","v":""},{"$f":"IF($AE186=1,VLOOKUP($F186,all!$E$14:$AD$553,6),\"\")","v":""},{"$f":"IF($AE186=1,VLOOKUP($F186,all!$E$14:$AD$553,7),\"\")","v":""},{"$f":"IF($AE186=1,VLOOKUP($F186,all!$E$14:$AD$553,8),\"\")","v":""},{"$f":"IF($AE186=1,VLOOKUP($F186,all!$E$14:$AD$553,9),\"\")","v":""},{"$f":"IF($AE186=1,VLOOKUP($F186,all!$E$14:$AD$553,10),\"\")","v":""},{"$f":"IF($AE186=1,VLOOKUP($F186,all!$E$14:$AD$553,11),\"\")","v":""},{"$f":"IF($AE186=1,VLOOKUP($F186,all!$E$14:$AD$553,12),\"\")","v":""},{"$f":"IF($AE186=1,VLOOKUP($F186,all!$E$14:$AD$553,13),\"\")","v":""},{"$f":"IF($AE186=1,VLOOKUP($F186,all!$E$14:$AD$553,14),\"\")","v":""},{"$f":"IF($AE186=1,VLOOKUP($F186,all!$E$14:$AD$553,15),\"\")","v":""},{"$f":"IF($AE186=1,VLOOKUP($F186,all!$E$14:$AD$553,16),\"\")","v":""},{"$f":"IF($AE186=1,VLOOKUP($F186,all!$E$14:$AD$553,17),\"\")","v":""},{"$f":"IF($AE186=1,VLOOKUP($F186,all!$E$14:$AD$553,18),\"\")","v":""},{"$f":"IF($AE186=1,VLOOKUP($F186,all!$E$14:$AD$553,19),\"\")","v":""},{"$f":"IF($AE186=1,VLOOKUP($F186,all!$E$14:$AD$553,20),\"\")","v":""},{"$f":"IF($AE186=1,VLOOKUP($F186,all!$E$14:$AD$553,21),\"\")","v":""},{"$f":"IF($AE186=1,VLOOKUP($F186,all!$E$14:$AD$553,22),\"\")","v":""},{"$f":"IF($AE186=1,VLOOKUP($F186,all!$E$14:$AD$553,23),\"\")","v":""},{"$f":"IF($AE186=1,VLOOKUP($F186,all!$E$14:$AD$553,24),\"\")","v":""},{"$f":"IF($AE186=1,VLOOKUP($F186,all!$E$14:$AD$553,25),\"\")","v":""},null,{"$f":"COUNTIF(all!$E$14:$E$553,F186)","v":0},null,22,151.77384615384614,7.0845605998680478E-3,"",7.0845605998680478E-3,"",""]
[{"$f":"IF(OR('Y2'!$W$1=6,('Y2'!$W$1=7)),\"\",'Y2'!AA182)","v":""},{"$f":"IF(OR('Y2'!$W$1=6,('Y2'!$W$1=7)),\"\",'Y2'!AB182)","v":""},null,{"$f":"IF(OR('Y2'!$W$1=6,('Y2'!$W$1=7)),\"\",'Y2'!AC182)","v":""},null,154,{"$f":"IF($AE187=1,VLOOKUP($F187,all!$E$14:$AD$553,3),\"\")","v":""},{"$f":"IF($AE187=1,VLOOKUP($F187,all!$E$14:$AD$553,4),\"\")","v":""},{"$f":"IF($AE187=1,VLOOKUP($F187,all!$E$14:$AD$553,5),\"\")","v":""},{"$f":"IF($AE187=1,VLOOKUP($F187,all!$E$14:$AD$553,6),\"\")","v":""},{"$f":"IF($AE187=1,VLOOKUP($F187,all!$E$14:$AD$553,7),\"\")","v":""},{"$f":"IF($AE187=1,VLOOKUP($F187,all!$E$14:$AD$553,8),\"\")","v":""},{"$f":"IF($AE187=1,VLOOKUP($F187,all!$E$14:$AD$553,9),\"\")","v":""},{"$f":"IF($AE187=1,VLOOKUP($F187,all!$E$14:$AD$553,10),\"\")","v":""},{"$f":"IF($AE187=1,VLOOKUP($F187,all!$E$14:$AD$553,11),\"\")","v":""},{"$f":"IF($AE187=1,VLOOKUP($F187,all!$E$14:$AD$553,12),\"\")","v":""},{"$f":"IF($AE187=1,VLOOKUP($F187,all!$E$14:$AD$553,13),\"\")","v":""},{"$f":"IF($AE187=1,VLOOKUP($F187,all!$E$14:$AD$553,14),\"\")","v":""},{"$f":"IF($AE187=1,VLOOKUP($F187,all!$E$14:$AD$553,15),\"\")","v":""},{"$f":"IF($AE187=1,VLOOKUP($F187,all!$E$14:$AD$553,16),\"\")","v":""},{"$f":"IF($AE187=1,VLOOKUP($F187,all!$E$14:$AD$553,17),\"\")","v":""},{"$f":"IF($AE187=1,VLOOKUP($F187,all!$E$14:$AD$553,18),\"\")","v":""},{"$f":"IF($AE187=1,VLOOKUP($F187,all!$E$14:$AD$553,19),\"\")","v":""},{"$f":"IF($AE187=1,VLOOKUP($F187,all!$E$14:$AD$553,20),\"\")","v":""},{"$f":"IF($AE187=1,VLOOKUP($F187,all!$E$14:$AD$553,21),\"\")","v":""},{"$f":"IF($AE187=1,VLOOKUP($F187,all!$E$14:$AD$553,22),\"\")","v":""},{"$f":"IF($AE187=1,VLOOKUP($F187,all!$E$14:$AD$553,23),\"\")","v":""},{"$f":"IF($AE187=1,VLOOKUP($F187,all!$E$14:$AD$553,24),\"\")","v":""},{"$f":"IF($AE187=1,VLOOKUP($F187,all!$E$14:$AD$553,25),\"\")","v":""},null,{"$f":"COUNTIF(all!$E$14:$E$553,F187)","v":0},null,23,155.00307692307689,1.4155006347739975E-2,"",1.4155006347739975E-2,"",""]
[{"$f":"IF(OR('Y2'!$W$1=6,('Y2'!$W$1=7)),\"\",'Y2'!AA183)","v":""},{"$f":"IF(OR('Y2'!$W$1=6,('Y2'!$W$1=7)),\"\",'Y2'!AB183)","v":""},null,{"$f":"IF(OR('Y2'!$W$1=6,('Y2'!$W$1=7)),\"\",'Y2'!AC183)","v":""},null,155,{"$f":"IF($AE188=1,VLOOKUP($F188,all!$E$14:$AD$553,3),\"\")","v":""},{"$f":"IF($AE188=1,VLOOKUP($F188,all!$E$14:$AD$553,4),\"\")","v":""},{"$f":"IF($AE188=1,VLOOKUP($F188,all!$E$14:$AD$553,5),\"\")","v":""},{"$f":"IF($AE188=1,VLOOKUP($F188,all!$E$14:$AD$553,6),\"\")","v":""},{"$f":"IF($AE188=1,VLOOKUP($F188,all!$E$14:$AD$553,7),\"\")","v":""},{"$f":"IF($AE188=1,VLOOKUP($F188,all!$E$14:$AD$553,8),\"\")","v":""},{"$f":"IF($AE188=1,VLOOKUP($F188,all!$E$14:$AD$553,9),\"\")","v":""},{"$f":"IF($AE188=1,VLOOKUP($F188,all!$E$14:$AD$553,10),\"\")","v":""},{"$f":"IF($AE188=1,VLOOKUP($F188,all!$E$14:$AD$553,11),\"\")","v":""},{"$f":"IF($AE188=1,VLOOKUP($F188,all!$E$14:$AD$553,12),\"\")","v":""},{"$f":"IF($AE188=1,VLOOKUP($F188,all!$E$14:$AD$553,13),\"\")","v":""},{"$f":"IF($AE188=1,VLOOKUP($F188,all!$E$14:$AD$553,14),\"\")","v":""},{"$f":"IF($AE188=1,VLOOKUP($F188,all!$E$14:$AD$553,15),\"\")","v":""},{"$f":"IF($AE188=1,VLOOKUP($F188,all!$E$14:$AD$553,16),\"\")","v":""},{"$f":"IF($AE188=1,VLOOKUP($F188,all!$E$14:$AD$553,17),\"\")","v":""},{"$f":"IF($AE188=1,VLOOKUP($F188,all!$E$14:$AD$553,18),\"\")","v":""},{"$f":"IF($AE188=1,VLOOKUP($F188,all!$E$14:$AD$553,19),\"\")","v":""},{"$f":"IF($AE188=1,VLOOKUP($F188,all!$E$14:$AD$553,20),\"\")","v":""},{"$f":"IF($AE188=1,VLOOKUP($F188,all!$E$14:$AD$553,21),\"\")","v":""},{"$f":"IF($AE188=1,VLOOKUP($F188,all!$E$14:$AD$553,22),\"\")","v":""},{"$f":"IF($AE188=1,VLOOKUP($F188,all!$E$14:$AD$553,23),\"\")","v":""},{"$f":"IF($AE188=1,VLOOKUP($F188,all!$E$14:$AD$553,24),\"\")","v":""},{"$f":"IF($AE188=1,VLOOKUP($F188,all!$E$14:$AD$553,25),\"\")","v":""},null,{"$f":"COUNTIF(all!$E$14:$E$553,F188)","v":0},null,24,158.23230769230767,2.4249782682509768E-2,"",2.4249782682509768E-2,"",""]
[{"$f":"IF(OR('Y2'!$W$1=6,('Y2'!$W$1=7)),\"\",'Y2'!AA184)","v":""},{"$f":"IF(OR('Y2'!$W$1=6,('Y2'!$W$1=7)),\"\",'Y2'!AB184)","v":""},null,{"$f":"IF(OR('Y2'!$W$1=6,('Y2'!$W$1=7)),\"\",'Y2'!AC184)","v":""},null,156,{"$f":"IF($AE189=1,VLOOKUP($F189,all!$E$14:$AD$553,3),\"\")","v":""},{"$f":"IF($AE189=1,VLOOKUP($F189,all!$E$14:$AD$553,4),\"\")","v":""},{"$f":"IF($AE189=1,VLOOKUP($F189,all!$E$14:$AD$553,5),\"\")","v":""},{"$f":"IF($AE189=1,VLOOKUP($F189,all!$E$14:$AD$553,6),\"\")","v":""},{"$f":"IF($AE189=1,VLOOKUP($F189,all!$E$14:$AD$553,7),\"\")","v":""},{"$f":"IF($AE189=1,VLOOKUP($F189,all!$E$14:$AD$553,8),\"\")","v":""},{"$f":"IF($AE189=1,VLOOKUP($F189,all!$E$14:$AD$553,9),\"\")","v":""},{"$f":"IF($AE189=1,VLOOKUP($F189,all!$E$14:$AD$553,10),\"\")","v":""},{"$f":"IF($AE189=1,VLOOKUP($F189,all!$E$14:$AD$553,11),\"\")","v":""},{"$f":"IF($AE189=1,VLOOKUP($F189,all!$E$14:$AD$553,12),\"\")","v":""},{"$f":"IF($AE189=1,VLOOKUP($F189,all!$E$14:$AD$553,13),\"\")","v":""},{"$f":"IF($AE189=1,VLOOKUP($F189,all!$E$14:$AD$553,14),\"\")","v":""},{"$f":"IF($AE189=1,VLOOKUP($F189,all!$E$14:$AD$553,15),\"\")","v":""},{"$f":"IF($AE189=1,VLOOKUP($F189,all!$E$14:$AD$553,16),\"\")","v":""},{"$f":"IF($AE189=1,VLOOKUP($F189,all!$E$14:$AD$553,17),\"\")","v":""},{"$f":"IF($AE189=1,VLOOKUP($F189,all!$E$14:$AD$553,18),\"\")","v":""},{"$f":"IF($AE189=1,VLOOKUP($F189,all!$E$14:$AD$553,19),\"\")","v":""},{"$f":"IF($AE189=1,VLOOKUP($F189,all!$E$14:$AD$553,20),\"\")","v":""},{"$f":"IF($AE189=1,VLOOKUP($F189,all!$E$14:$AD$553,21),\"\")","v":""},{"$f":"IF($AE189=1,VLOOKUP($F189,all!$E$14:$AD$553,22),\"\")","v":""},{"$f":"IF($AE189=1,VLOOKUP($F189,all!$E$14:$AD$553,23),\"\")","v":""},{"$f":"IF($AE189=1,VLOOKUP($F189,all!$E$14:$AD$553,24),\"\")","v":""},{"$f":"IF($AE189=1,VLOOKUP($F189,all!$E$14:$AD$553,25),\"\")","v":""},null,{"$f":"COUNTIF(all!$E$14:$E$553,F189)","v":0},null,25,161.46153846153845,3.56210130955147E-2,3.56210130955147E-2,3.56210130955147E-2,"",3.56210130955147E-2]
[{"$f":"IF(OR('Y2'!$W$1=6,('Y2'!$W$1=7)),\"\",'Y2'!AA185)","v":""},{"$f":"IF(OR('Y2'!$W$1=6,('Y2'!$W$1=7)),\"\",'Y2'!AB185)","v":""},null,{"$f":"IF(OR('Y2'!$W$1=6,('Y2'!$W$1=7)),\"\",'Y2'!AC185)","v":""},null,157,{"$f":"IF($AE190=1,VLOOKUP($F190,all!$E$14:$AD$553,3),\"\")","v":""},{"$f":"IF($AE190=1,VLOOKUP($F190,all!$E$14:$AD$553,4),\"\")","v":""},{"$f":"IF($AE190=1,VLOOKUP($F190,all!$E$14:$AD$553,5),\"\")","v":""},{"$f":"IF($AE190=1,VLOOKUP($F190,all!$E$14:$AD$553,6),\"\")","v":""},{"$f":"IF($AE190=1,VLOOKUP($F190,all!$E$14:$AD$553,7),\"\")","v":""},{"$f":"IF($AE190=1,VLOOKUP($F190,all!$E$14:$AD$553,8),\"\")","v":""},{"$f":"IF($AE190=1,VLOOKUP($F190,all!$E$14:$AD$553,9),\"\")","v":""},{"$f":"IF($AE190=1,VLOOKUP($F190,all!$E$14:$AD$553,10),\"\")","v":""},{"$f":"IF($AE190=1,VLOOKUP($F190,all!$E$14:$AD$553,11),\"\")","v":""},{"$f":"IF($AE190=1,VLOOKUP($F190,all!$E$14:$AD$553,12),\"\")","v":""},{"$f":"IF($AE190=1,VLOOKUP($F190,all!$E$14:$AD$553,13),\"\")","v":""},{"$f":"IF($AE190=1,VLOOKUP($F190,all!$E$14:$AD$553,14),\"\")","v":""},{"$f":"IF($AE190=1,VLOOKUP($F190,all!$E$14:$AD$553,15),\"\")","v":""},{"$f":"IF($AE190=1,VLOOKUP($F190,all!$E$14:$AD$553,16),\"\")","v":""},{"$f":"IF($AE190=1,VLOOKUP($F190,all!$E$14:$AD$553,17),\"\")","v":""},{"$f":"IF($AE190=1,VLOOKUP($F190,all!$E$14:$AD$553,18),\"\")","v":""},{"$f":"IF($AE190=1,VLOOKUP($F190,all!$E$14:$AD$553,19),\"\")","v":""},{"$f":"IF($AE190=1,VLOOKUP($F190,all!$E$14:$AD$553,20),\"\")","v":""},{"$f":"IF($AE190=1,VLOOKUP($F190,all!$E$14:$AD$553,21),\"\")","v":""},{"$f":"IF($AE190=1,VLOOKUP($F190,all!$E$14:$AD$553,22),\"\")","v":""},{"$f":"IF($AE190=1,VLOOKUP($F190,all!$E$14:$AD$553,23),\"\")","v":""},{"$f":"IF($AE190=1,VLOOKUP($F190,all!$E$14:$AD$553,24),\"\")","v":""},{"$f":"IF($AE190=1,VLOOKUP($F190,all!$E$14:$AD$553,25),\"\")","v":""},null,{"$f":"COUNTIF(all!$E$14:$E$553,F190)","v":0},null,26,164.69076923076921,4.4864756676225762E-2,{"$f":"IF(($AH$191-AH190)<=$AI$162,AI190,\"\")","v":4.4864756676225762E-2},4.4864756676225762E-2,"",4.4864756676225762E-2]
[{"$f":"IF(OR('Y2'!$W$1=6,('Y2'!$W$1=7)),\"\",'Y2'!AA186)","v":""},{"$f":"IF(OR('Y2'!$W$1=6,('Y2'!$W$1=7)),\"\",'Y2'!AB186)","v":""},null,{"$f":"IF(OR('Y2'!$W$1=6,('Y2'!$W$1=7)),\"\",'Y2'!AC186)","v":""},null,158,{"$f":"IF($AE191=1,VLOOKUP($F191,all!$E$14:$AD$553,3),\"\")","v":""},{"$f":"IF($AE191=1,VLOOKUP($F191,all!$E$14:$AD$553,4),\"\")","v":""},{"$f":"IF($AE191=1,VLOOKUP($F191,all!$E$14:$AD$553,5),\"\")","v":""},{"$f":"IF($AE191=1,VLOOKUP($F191,all!$E$14:$AD$553,6),\"\")","v":""},{"$f":"IF($AE191=1,VLOOKUP($F191,all!$E$14:$AD$553,7),\"\")","v":""},{"$f":"IF($AE191=1,VLOOKUP($F191,all!$E$14:$AD$553,8),\"\")","v":""},{"$f":"IF($AE191=1,VLOOKUP($F191,all!$E$14:$AD$553,9),\"\")","v":""},{"$f":"IF($AE191=1,VLOOKUP($F191,all!$E$14:$AD$553,10),\"\")","v":""},{"$f":"IF($AE191=1,VLOOKUP($F191,all!$E$14:$AD$553,11),\"\")","v":""},{"$f":"IF($AE191=1,VLOOKUP($F191,all!$E$14:$AD$553,12),\"\")","v":""},{"$f":"IF($AE191=1,VLOOKUP($F191,all!$E$14:$AD$553,13),\"\")","v":""},{"$f":"IF($AE191=1,VLOOKUP($F191,all!$E$14:$AD$553,14),\"\")","v":""},{"$f":"IF($AE191=1,VLOOKUP($F191,all!$E$14:$AD$553,15),\"\")","v":""},{"$f":"IF($AE191=1,VLOOKUP($F191,all!$E$14:$AD$553,16),\"\")","v":""},{"$f":"IF($AE191=1,VLOOKUP($F191,all!$E$14:$AD$553,17),\"\")","v":""},{"$f":"IF($AE191=1,VLOOKUP($F191,all!$E$14:$AD$553,18),\"\")","v":""},{"$f":"IF($AE191=1,VLOOKUP($F191,all!$E$14:$AD$553,19),\"\")","v":""},{"$f":"IF($AE191=1,VLOOKUP($F191,all!$E$14:$AD$553,20),\"\")","v":""},{"$f":"IF($AE191=1,VLOOKUP($F191,all!$E$14:$AD$553,21),\"\")","v":""},{"$f":"IF($AE191=1,VLOOKUP($F191,all!$E$14:$AD$553,22),\"\")","v":""},{"$f":"IF($AE191=1,VLOOKUP($F191,all!$E$14:$AD$553,23),\"\")","v":""},{"$f":"IF($AE191=1,VLOOKUP($F191,all!$E$14:$AD$553,24),\"\")","v":""},{"$f":"IF($AE191=1,VLOOKUP($F191,all!$E$14:$AD$553,25),\"\")","v":""},null,{"$f":"COUNTIF(all!$E$14:$E$553,F191)","v":0},null,27,167.92,4.845125155801977E-2,{"$f":"AI191","v":4.845125155801977E-2},4.845125155801977E-2,"",4.845125155801977E-2]
[{"$f":"IF(OR('Y2'!$W$1=6,('Y2'!$W$1=7)),\"\",'Y2'!AA187)","v":""},{"$f":"IF(OR('Y2'!$W$1=6,('Y2'!$W$1=7)),\"\",'Y2'!AB187)","v":""},null,{"$f":"IF(OR('Y2'!$W$1=6,('Y2'!$W$1=7)),\"\",'Y2'!AC187)","v":""},null,159,{"$f":"IF($AE192=1,VLOOKUP($F192,all!$E$14:$AD$553,3),\"\")","v":""},{"$f":"IF($AE192=1,VLOOKUP($F192,all!$E$14:$AD$553,4),\"\")","v":""},{"$f":"IF($AE192=1,VLOOKUP($F192,all!$E$14:$AD$553,5),\"\")","v":""},{"$f":"IF($AE192=1,VLOOKUP($F192,all!$E$14:$AD$553,6),\"\")","v":""},{"$f":"IF($AE192=1,VLOOKUP($F192,all!$E$14:$AD$553,7),\"\")","v":""},{"$f":"IF($AE192=1,VLOOKUP($F192,all!$E$14:$AD$553,8),\"\")","v":""},{"$f":"IF($AE192=1,VLOOKUP($F192,all!$E$14:$AD$553,9),\"\")","v":""},{"$f":"IF($AE192=1,VLOOKUP($F192,all!$E$14:$AD$553,10),\"\")","v":""},{"$f":"IF($AE192=1,VLOOKUP($F192,all!$E$14:$AD$553,11),\"\")","v":""},{"$f":"IF($AE192=1,VLOOKUP($F192,all!$E$14:$AD$553,12),\"\")","v":""},{"$f":"IF($AE192=1,VLOOKUP($F192,all!$E$14:$AD$553,13),\"\")","v":""},{"$f":"IF($AE192=1,VLOOKUP($F192,all!$E$14:$AD$553,14),\"\")","v":""},{"$f":"IF($AE192=1,VLOOKUP($F192,all!$E$14:$AD$553,15),\"\")","v":""},{"$f":"IF($AE192=1,VLOOKUP($F192,all!$E$14:$AD$553,16),\"\")","v":""},{"$f":"IF($AE192=1,VLOOKUP($F192,all!$E$14:$AD$553,17),\"\")","v":""},{"$f":"IF($AE192=1,VLOOKUP($F192,all!$E$14:$AD$553,18),\"\")","v":""},{"$f":"IF($AE192=1,VLOOKUP($F192,all!$E$14:$AD$553,19),\"\")","v":""},{"$f":"IF($AE192=1,VLOOKUP($F192,all!$E$14:$AD$553,20),\"\")","v":""},{"$f":"IF($AE192=1,VLOOKUP($F192,all!$E$14:$AD$553,21),\"\")","v":""},{"$f":"IF($AE192=1,VLOOKUP($F192,all!$E$14:$AD$553,22),\"\")","v":""},{"$f":"IF($AE192=1,VLOOKUP($F192,all!$E$14:$AD$553,23),\"\")","v":""},{"$f":"IF($AE192=1,VLOOKUP($F192,all!$E$14:$AD$553,24),\"\")","v":""},{"$f":"IF($AE192=1,VLOOKUP($F192,all!$E$14:$AD$553,25),\"\")","v":""},null,{"$f":"COUNTIF(all!$E$14:$E$553,F192)","v":0},null,28,171.14923076923077,4.4864756676225762E-2,{"$f":"IF((AH192-$AH$191)<=$AI$162,AI192,\"\")","v":4.4864756676225762E-2},4.4864756676225762E-2,"",4.4864756676225762E-2]
[{"$f":"IF(OR('Y2'!$W$1=6,('Y2'!$W$1=7)),\"\",'Y2'!AA188)","v":""},{"$f":"IF(OR('Y2'!$W$1=6,('Y2'!$W$1=7)),\"\",'Y2'!AB188)","v":""},null,{"$f":"IF(OR('Y2'!$W$1=6,('Y2'!$W$1=7)),\"\",'Y2'!AC188)","v":""},null,160,{"$f":"IF($AE193=1,VLOOKUP($F193,all!$E$14:$AD$553,3),\"\")","v":""},{"$f":"IF($AE193=1,VLOOKUP($F193,all!$E$14:$AD$553,4),\"\")","v":""},{"$f":"IF($AE193=1,VLOOKUP($F193,all!$E$14:$AD$553,5),\"\")","v":""},{"$f":"IF($AE193=1,VLOOKUP($F193,all!$E$14:$AD$553,6),\"\")","v":""},{"$f":"IF($AE193=1,VLOOKUP($F193,all!$E$14:$AD$553,7),\"\")","v":""},{"$f":"IF($AE193=1,VLOOKUP($F193,all!$E$14:$AD$553,8),\"\")","v":""},{"$f":"IF($AE193=1,VLOOKUP($F193,all!$E$14:$AD$553,9),\"\")","v":""},{"$f":"IF($AE193=1,VLOOKUP($F193,all!$E$14:$AD$553,10),\"\")","v":""},{"$f":"IF($AE193=1,VLOOKUP($F193,all!$E$14:$AD$553,11),\"\")","v":""},{"$f":"IF($AE193=1,VLOOKUP($F193,all!$E$14:$AD$553,12),\"\")","v":""},{"$f":"IF($AE193=1,VLOOKUP($F193,all!$E$14:$AD$553,13),\"\")","v":""},{"$f":"IF($AE193=1,VLOOKUP($F193,all!$E$14:$AD$553,14),\"\")","v":""},{"$f":"IF($AE193=1,VLOOKUP($F193,all!$E$14:$AD$553,15),\"\")","v":""},{"$f":"IF($AE193=1,VLOOKUP($F193,all!$E$14:$AD$553,16),\"\")","v":""},{"$f":"IF($AE193=1,VLOOKUP($F193,all!$E$14:$AD$553,17),\"\")","v":""},{"$f":"IF($AE193=1,VLOOKUP($F193,all!$E$14:$AD$553,18),\"\")","v":""},{"$f":"IF($AE193=1,VLOOKUP($F193,all!$E$14:$AD$553,19),\"\")","v":""},{"$f":"IF($AE193=1,VLOOKUP($F193,all!$E$14:$AD$553,20),\"\")","v":""},{"$f":"IF($AE193=1,VLOOKUP($F193,all!$E$14:$AD$553,21),\"\")","v":""},{"$f":"IF($AE193=1,VLOOKUP($F193,all!$E$14:$AD$553,22),\"\")","v":""},{"$f":"IF($AE193=1,VLOOKUP($F193,all!$E$14:$AD$553,23),\"\")","v":""},{"$f":"IF($AE193=1,VLOOKUP($F193,all!$E$14:$AD$553,24),\"\")","v":""},{"$f":"IF($AE193=1,VLOOKUP($F193,all!$E$14:$AD$553,25),\"\")","v":""},null,{"$f":"COUNTIF(all!$E$14:$E$553,F193)","v":0},null,29,174.37846153846152,3.56210130955147E-2,{"$f":"IF((AH193-$AH$191)<=$AI$162,AI193,\"\")","v":3.56210130955147E-2},3.56210130955147E-2,"",3.56210130955147E-2]
[{"$f":"IF(OR('Y2'!$W$1=6,('Y2'!$W$1=7)),\"\",'Y2'!AA189)","v":""},{"$f":"IF(OR('Y2'!$W$1=6,('Y2'!$W$1=7)),\"\",'Y2'!AB189)","v":""},null,{"$f":"IF(OR('Y2'!$W$1=6,('Y2'!$W$1=7)),\"\",'Y2'!AC189)","v":""},null,161,{"$f":"IF($AE194=1,VLOOKUP($F194,all!$E$14:$AD$553,3),\"\")","v":""},{"$f":"IF($AE194=1,VLOOKUP($F194,all!$E$14:$AD$553,4),\"\")","v":""},{"$f":"IF($AE194=1,VLOOKUP($F194,all!$E$14:$AD$553,5),\"\")","v":""},{"$f":"IF($AE194=1,VLOOKUP($F194,all!$E$14:$AD$553,6),\"\")","v":""},{"$f":"IF($AE194=1,VLOOKUP($F194,all!$E$14:$AD$553,7),\"\")","v":""},{"$f":"IF($AE194=1,VLOOKUP($F194,all!$E$14:$AD$553,8),\"\")","v":""},{"$f":"IF($AE194=1,VLOOKUP($F194,all!$E$14:$AD$553,9),\"\")","v":""},{"$f":"IF($AE194=1,VLOOKUP($F194,all!$E$14:$AD$553,10),\"\")","v":""},{"$f":"IF($AE194=1,VLOOKUP($F194,all!$E$14:$AD$553,11),\"\")","v":""},{"$f":"IF($AE194=1,VLOOKUP($F194,all!$E$14:$AD$553,12),\"\")","v":""},{"$f":"IF($AE194=1,VLOOKUP($F194,all!$E$14:$AD$553,13),\"\")","v":""},{"$f":"IF($AE194=1,VLOOKUP($F194,all!$E$14:$AD$553,14),\"\")","v":""},{"$f":"IF($AE194=1,VLOOKUP($F194,all!$E$14:$AD$553,15),\"\")","v":""},{"$f":"IF($AE194=1,VLOOKUP($F194,all!$E$14:$AD$553,16),\"\")","v":""},{"$f":"IF($AE194=1,VLOOKUP($F194,all!$E$14:$AD$553,17),\"\")","v":""},{"$f":"IF($AE194=1,VLOOKUP($F194,all!$E$14:$AD$553,18),\"\")","v":""},{"$f":"IF($AE194=1,VLOOKUP($F194,all!$E$14:$AD$553,19),\"\")","v":""},{"$f":"IF($AE194=1,VLOOKUP($F194,all!$E$14:$AD$553,20),\"\")","v":""},{"$f":"IF($AE194=1,VLOOKUP($F194,all!$E$14:$AD$553,21),\"\")","v":""},{"$f":"IF($AE194=1,VLOOKUP($F194,all!$E$14:$AD$553,22),\"\")","v":""},{"$f":"IF($AE194=1,VLOOKUP($F194,all!$E$14:$AD$553,23),\"\")","v":""},{"$f":"IF($AE194=1,VLOOKUP($F194,all!$E$14:$AD$553,24),\"\")","v":""},{"$f":"IF($AE194=1,VLOOKUP($F194,all!$E$14:$AD$553,25),\"\")","v":""},null,{"$f":"COUNTIF(all!$E$14:$E$553,F194)","v":0},null,30,177.60769230769228,2.4249782682509873E-2,"",2.4249782682509873E-2,"",""]
[{"$f":"IF(OR('Y2'!$W$1=6,('Y2'!$W$1=7)),\"\",'Y2'!AA190)","v":""},{"$f":"IF(OR('Y2'!$W$1=6,('Y2'!$W$1=7)),\"\",'Y2'!AB190)","v":""},null,{"$f":"IF(OR('Y2'!$W$1=6,('Y2'!$W$1=7)),\"\",'Y2'!AC190)","v":""},null,162,{"$f":"IF($AE195=1,VLOOKUP($F195,all!$E$14:$AD$553,3),\"\")","v":""},{"$f":"IF($AE195=1,VLOOKUP($F195,all!$E$14:$AD$553,4),\"\")","v":""},{"$f":"IF($AE195=1,VLOOKUP($F195,all!$E$14:$AD$553,5),\"\")","v":""},{"$f":"IF($AE195=1,VLOOKUP($F195,all!$E$14:$AD$553,6),\"\")","v":""},{"$f":"IF($AE195=1,VLOOKUP($F195,all!$E$14:$AD$553,7),\"\")","v":""},{"$f":"IF($AE195=1,VLOOKUP($F195,all!$E$14:$AD$553,8),\"\")","v":""},{"$f":"IF($AE195=1,VLOOKUP($F195,all!$E$14:$AD$553,9),\"\")","v":""},{"$f":"IF($AE195=1,VLOOKUP($F195,all!$E$14:$AD$553,10),\"\")","v":""},{"$f":"IF($AE195=1,VLOOKUP($F195,all!$E$14:$AD$553,11),\"\")","v":""},{"$f":"IF($AE195=1,VLOOKUP($F195,all!$E$14:$AD$553,12),\"\")","v":""},{"$f":"IF($AE195=1,VLOOKUP($F195,all!$E$14:$AD$553,13),\"\")","v":""},{"$f":"IF($AE195=1,VLOOKUP($F195,all!$E$14:$AD$553,14),\"\")","v":""},{"$f":"IF($AE195=1,VLOOKUP($F195,all!$E$14:$AD$553,15),\"\")","v":""},{"$f":"IF($AE195=1,VLOOKUP($F195,all!$E$14:$AD$553,16),\"\")","v":""},{"$f":"IF($AE195=1,VLOOKUP($F195,all!$E$14:$AD$553,17),\"\")","v":""},{"$f":"IF($AE195=1,VLOOKUP($F195,all!$E$14:$AD$553,18),\"\")","v":""},{"$f":"IF($AE195=1,VLOOKUP($F195,all!$E$14:$AD$553,19),\"\")","v":""},{"$f":"IF($AE195=1,VLOOKUP($F195,all!$E$14:$AD$553,20),\"\")","v":""},{"$f":"IF($AE195=1,VLOOKUP($F195,all!$E$14:$AD$553,21),\"\")","v":""},{"$f":"IF($AE195=1,VLOOKUP($F195,all!$E$14:$AD$553,22),\"\")","v":""},{"$f":"IF($AE195=1,VLOOKUP($F195,all!$E$14:$AD$553,23),\"\")","v":""},{"$f":"IF($AE195=1,VLOOKUP($F195,all!$E$14:$AD$553,24),\"\")","v":""},{"$f":"IF($AE195=1,VLOOKUP($F195,all!$E$14:$AD$553,25),\"\")","v":""},null,{"$f":"COUNTIF(all!$E$14:$E$553,F195)","v":0},null,31,180.83692307692306,1.4155006347740062E-2,"",1.4155006347740062E-2,"",""]
[{"$f":"IF(OR('Y2'!$W$1=6,('Y2'!$W$1=7)),\"\",'Y2'!AA191)","v":""},{"$f":"IF(OR('Y2'!$W$1=6,('Y2'!$W$1=7)),\"\",'Y2'!AB191)","v":""},null,{"$f":"IF(OR('Y2'!$W$1=6,('Y2'!$W$1=7)),\"\",'Y2'!AC191)","v":""},null,163,{"$f":"IF($AE196=1,VLOOKUP($F196,all!$E$14:$AD$553,3),\"\")","v":""},{"$f":"IF($AE196=1,VLOOKUP($F196,all!$E$14:$AD$553,4),\"\")","v":""},{"$f":"IF($AE196=1,VLOOKUP($F196,all!$E$14:$AD$553,5),\"\")","v":""},{"$f":"IF($AE196=1,VLOOKUP($F196,all!$E$14:$AD$553,6),\"\")","v":""},{"$f":"IF($AE196=1,VLOOKUP($F196,all!$E$14:$AD$553,7),\"\")","v":""},{"$f":"IF($AE196=1,VLOOKUP($F196,all!$E$14:$AD$553,8),\"\")","v":""},{"$f":"IF($AE196=1,VLOOKUP($F196,all!$E$14:$AD$553,9),\"\")","v":""},{"$f":"IF($AE196=1,VLOOKUP($F196,all!$E$14:$AD$553,10),\"\")","v":""},{"$f":"IF($AE196=1,VLOOKUP($F196,all!$E$14:$AD$553,11),\"\")","v":""},{"$f":"IF($AE196=1,VLOOKUP($F196,all!$E$14:$AD$553,12),\"\")","v":""},{"$f":"IF($AE196=1,VLOOKUP($F196,all!$E$14:$AD$553,13),\"\")","v":""},{"$f":"IF($AE196=1,VLOOKUP($F196,all!$E$14:$AD$553,14),\"\")","v":""},{"$f":"IF($AE196=1,VLOOKUP($F196,all!$E$14:$AD$553,15),\"\")","v":""},{"$f":"IF($AE196=1,VLOOKUP($F196,all!$E$14:$AD$553,16),\"\")","v":""},{"$f":"IF($AE196=1,VLOOKUP($F196,all!$E$14:$AD$553,17),\"\")","v":""},{"$f":"IF($AE196=1,VLOOKUP($F196,all!$E$14:$AD$553,18),\"\")","v":""},{"$f":"IF($AE196=1,VLOOKUP($F196,all!$E$14:$AD$553,19),\"\")","v":""},{"$f":"IF($AE196=1,VLOOKUP($F196,all!$E$14:$AD$553,20),\"\")","v":""},{"$f":"IF($AE196=1,VLOOKUP($F196,all!$E$14:$AD$553,21),\"\")","v":""},{"$f":"IF($AE196=1,VLOOKUP($F196,all!$E$14:$AD$553,22),\"\")","v":""},{"$f":"IF($AE196=1,VLOOKUP($F196,all!$E$14:$AD$553,23),\"\")","v":""},{"$f":"IF($AE196=1,VLOOKUP($F196,all!$E$14:$AD$553,24),\"\")","v":""},{"$f":"IF($AE196=1,VLOOKUP($F196,all!$E$14:$AD$553,25),\"\")","v":""},null,{"$f":"COUNTIF(all!$E$14:$E$553,F196)","v":0},null,32,184.06615384615384,7.0845605998680478E-3,"",7.0845605998680478E-3,"",""]
[{"$f":"IF(OR('Y2'!$W$1=6,('Y2'!$W$1=7)),\"\",'Y2'!AA192)","v":""},{"$f":"IF(OR('Y2'!$W$1=6,('Y2'!$W$1=7)),\"\",'Y2'!AB192)","v":""},null,{"$f":"IF(OR('Y2'!$W$1=6,('Y2'!$W$1=7)),\"\",'Y2'!AC192)","v":""},null,164,{"$f":"IF($AE197=1,VLOOKUP($F197,all!$E$14:$AD$553,3),\"\")","v":""},{"$f":"IF($AE197=1,VLOOKUP($F197,all!$E$14:$AD$553,4),\"\")","v":""},{"$f":"IF($AE197=1,VLOOKUP($F197,all!$E$14:$AD$553,5),\"\")","v":""},{"$f":"IF($AE197=1,VLOOKUP($F197,all!$E$14:$AD$553,6),\"\")","v":""},{"$f":"IF($AE197=1,VLOOKUP($F197,all!$E$14:$AD$553,7),\"\")","v":""},{"$f":"IF($AE197=1,VLOOKUP($F197,all!$E$14:$AD$553,8),\"\")","v":""},{"$f":"IF($AE197=1,VLOOKUP($F197,all!$E$14:$AD$553,9),\"\")","v":""},{"$f":"IF($AE197=1,VLOOKUP($F197,all!$E$14:$AD$553,10),\"\")","v":""},{"$f":"IF($AE197=1,VLOOKUP($F197,all!$E$14:$AD$553,11),\"\")","v":""},{"$f":"IF($AE197=1,VLOOKUP($F197,all!$E$14:$AD$553,12),\"\")","v":""},{"$f":"IF($AE197=1,VLOOKUP($F197,all!$E$14:$AD$553,13),\"\")","v":""},{"$f":"IF($AE197=1,VLOOKUP($F197,all!$E$14:$AD$553,14),\"\")","v":""},{"$f":"IF($AE197=1,VLOOKUP($F197,all!$E$14:$AD$553,15),\"\")","v":""},{"$f":"IF($AE197=1,VLOOKUP($F197,all!$E$14:$AD$553,16),\"\")","v":""},{"$f":"IF($AE197=1,VLOOKUP($F197,all!$E$14:$AD$553,17),\"\")","v":""},{"$f":"IF($AE197=1,VLOOKUP($F197,all!$E$14:$AD$553,18),\"\")","v":""},{"$f":"IF($AE197=1,VLOOKUP($F197,all!$E$14:$AD$553,19),\"\")","v":""},{"$f":"IF($AE197=1,VLOOKUP($F197,all!$E$14:$AD$553,20),\"\")","v":""},{"$f":"IF($AE197=1,VLOOKUP($F197,all!$E$14:$AD$553,21),\"\")","v":""},{"$f":"IF($AE197=1,VLOOKUP($F197,all!$E$14:$AD$553,22),\"\")","v":""},{"$f":"IF($AE197=1,VLOOKUP($F197,all!$E$14:$AD$553,23),\"\")","v":""},{"$f":"IF($AE197=1,VLOOKUP($F197,all!$E$14:$AD$553,24),\"\")","v":""},{"$f":"IF($AE197=1,VLOOKUP($F197,all!$E$14:$AD$553,25),\"\")","v":""},null,{"$f":"COUNTIF(all!$E$14:$E$553,F197)","v":0},null,33,187.29538461538459,3.0402997524213472E-3,"",3.0402997524213472E-3,"",""]
[{"$f":"IF(OR('Y2'!$W$1=6,('Y2'!$W$1=7)),\"\",'Y2'!AA193)","v":""},{"$f":"IF(OR('Y2'!$W$1=6,('Y2'!$W$1=7)),\"\",'Y2'!AB193)","v":""},null,{"$f":"IF(OR('Y2'!$W$1=6,('Y2'!$W$1=7)),\"\",'Y2'!AC193)","v":""},null,165,{"$f":"IF($AE198=1,VLOOKUP($F198,all!$E$14:$AD$553,3),\"\")","v":""},{"$f":"IF($AE198=1,VLOOKUP($F198,all!$E$14:$AD$553,4),\"\")","v":""},{"$f":"IF($AE198=1,VLOOKUP($F198,all!$E$14:$AD$553,5),\"\")","v":""},{"$f":"IF($AE198=1,VLOOKUP($F198,all!$E$14:$AD$553,6),\"\")","v":""},{"$f":"IF($AE198=1,VLOOKUP($F198,all!$E$14:$AD$553,7),\"\")","v":""},{"$f":"IF($AE198=1,VLOOKUP($F198,all!$E$14:$AD$553,8),\"\")","v":""},{"$f":"IF($AE198=1,VLOOKUP($F198,all!$E$14:$AD$553,9),\"\")","v":""},{"$f":"IF($AE198=1,VLOOKUP($F198,all!$E$14:$AD$553,10),\"\")","v":""},{"$f":"IF($AE198=1,VLOOKUP($F198,all!$E$14:$AD$553,11),\"\")","v":""},{"$f":"IF($AE198=1,VLOOKUP($F198,all!$E$14:$AD$553,12),\"\")","v":""},{"$f":"IF($AE198=1,VLOOKUP($F198,all!$E$14:$AD$553,13),\"\")","v":""},{"$f":"IF($AE198=1,VLOOKUP($F198,all!$E$14:$AD$553,14),\"\")","v":""},{"$f":"IF($AE198=1,VLOOKUP($F198,all!$E$14:$AD$553,15),\"\")","v":""},{"$f":"IF($AE198=1,VLOOKUP($F198,all!$E$14:$AD$553,16),\"\")","v":""},{"$f":"IF($AE198=1,VLOOKUP($F198,all!$E$14:$AD$553,17),\"\")","v":""},{"$f":"IF($AE198=1,VLOOKUP($F198,all!$E$14:$AD$553,18),\"\")","v":""},{"$f":"IF($AE198=1,VLOOKUP($F198,all!$E$14:$AD$553,19),\"\")","v":""},{"$f":"IF($AE198=1,VLOOKUP($F198,all!$E$14:$AD$553,20),\"\")","v":""},{"$f":"IF($AE198=1,VLOOKUP($F198,all!$E$14:$AD$553,21),\"\")","v":""},{"$f":"IF($AE198=1,VLOOKUP($F198,all!$E$14:$AD$553,22),\"\")","v":""},{"$f":"IF($AE198=1,VLOOKUP($F198,all!$E$14:$AD$553,23),\"\")","v":""},{"$f":"IF($AE198=1,VLOOKUP($F198,all!$E$14:$AD$553,24),\"\")","v":""},{"$f":"IF($AE198=1,VLOOKUP($F198,all!$E$14:$AD$553,25),\"\")","v":""},null,{"$f":"COUNTIF(all!$E$14:$E$553,F198)","v":0},null,34,190.52461538461537,1.1187177332848311E-3,"",1.1187177332848311E-3,"",""]
[{"$f":"IF(OR('Y2'!$W$1=6,('Y2'!$W$1=7)),\"\",'Y2'!AA194)","v":""},{"$f":"IF(OR('Y2'!$W$1=6,('Y2'!$W$1=7)),\"\",'Y2'!AB194)","v":""},null,{"$f":"IF(OR('Y2'!$W$1=6,('Y2'!$W$1=7)),\"\",'Y2'!AC194)","v":""},null,166,{"$f":"IF($AE199=1,VLOOKUP($F199,all!$E$14:$AD$553,3),\"\")","v":""},{"$f":"IF($AE199=1,VLOOKUP($F199,all!$E$14:$AD$553,4),\"\")","v":""},{"$f":"IF($AE199=1,VLOOKUP($F199,all!$E$14:$AD$553,5),\"\")","v":""},{"$f":"IF($AE199=1,VLOOKUP($F199,all!$E$14:$AD$553,6),\"\")","v":""},{"$f":"IF($AE199=1,VLOOKUP($F199,all!$E$14:$AD$553,7),\"\")","v":""},{"$f":"IF($AE199=1,VLOOKUP($F199,all!$E$14:$AD$553,8),\"\")","v":""},{"$f":"IF($AE199=1,VLOOKUP($F199,all!$E$14:$AD$553,9),\"\")","v":""},{"$f":"IF($AE199=1,VLOOKUP($F199,all!$E$14:$AD$553,10),\"\")","v":""},{"$f":"IF($AE199=1,VLOOKUP($F199,all!$E$14:$AD$553,11),\"\")","v":""},{"$f":"IF($AE199=1,VLOOKUP($F199,all!$E$14:$AD$553,12),\"\")","v":""},{"$f":"IF($AE199=1,VLOOKUP($F199,all!$E$14:$AD$553,13),\"\")","v":""},{"$f":"IF($AE199=1,VLOOKUP($F199,all!$E$14:$AD$553,14),\"\")","v":""},{"$f":"IF($AE199=1,VLOOKUP($F199,all!$E$14:$AD$553,15),\"\")","v":""},{"$f":"IF($AE199=1,VLOOKUP($F199,all!$E$14:$AD$553,16),\"\")","v":""},{"$f":"IF($AE199=1,VLOOKUP($F199,all!$E$14:$AD$553,17),\"\")","v":""},{"$f":"IF($AE199=1,VLOOKUP($F199,all!$E$14:$AD$553,18),\"\")","v":""},{"$f":"IF($AE199=1,VLOOKUP($F199,all!$E$14:$AD$553,19),\"\")","v":""},{"$f":"IF($AE199=1,VLOOKUP($F199,all!$E$14:$AD$553,20),\"\")","v":""},{"$f":"IF($AE199=1,VLOOKUP($F199,all!$E$14:$AD$553,21),\"\")","v":""},{"$f":"IF($AE199=1,VLOOKUP($F199,all!$E$14:$AD$553,22),\"\")","v":""},{"$f":"IF($AE199=1,VLOOKUP($F199,all!$E$14:$AD$553,23),\"\")","v":""},{"$f":"IF($AE199=1,VLOOKUP($F199,all!$E$14:$AD$553,24),\"\")","v":""},{"$f":"IF($AE199=1,VLOOKUP($F199,all!$E$14:$AD$553,25),\"\")","v":""},null,{"$f":"COUNTIF(all!$E$14:$E$553,F199)","v":0},null,35,193.75384615384615,3.5295982390488254E-4,"",3.5295982390488254E-4,"",""]
[{"$f":"IF(OR('Y2'!$W$1=6,('Y2'!$W$1=7)),\"\",'Y2'!AA195)","v":""},{"$f":"IF(OR('Y2'!$W$1=6,('Y2'!$W$1=7)),\"\",'Y2'!AB195)","v":""},null,{"$f":"IF(OR('Y2'!$W$1=6,('Y2'!$W$1=7)),\"\",'Y2'!AC195)","v":""},null,167,{"$f":"IF($AE200=1,VLOOKUP($F200,all!$E$14:$AD$553,3),\"\")","v":""},{"$f":"IF($AE200=1,VLOOKUP($F200,all!$E$14:$AD$553,4),\"\")","v":""},{"$f":"IF($AE200=1,VLOOKUP($F200,all!$E$14:$AD$553,5),\"\")","v":""},{"$f":"IF($AE200=1,VLOOKUP($F200,all!$E$14:$AD$553,6),\"\")","v":""},{"$f":"IF($AE200=1,VLOOKUP($F200,all!$E$14:$AD$553,7),\"\")","v":""},{"$f":"IF($AE200=1,VLOOKUP($F200,all!$E$14:$AD$553,8),\"\")","v":""},{"$f":"IF($AE200=1,VLOOKUP($F200,all!$E$14:$AD$553,9),\"\")","v":""},{"$f":"IF($AE200=1,VLOOKUP($F200,all!$E$14:$AD$553,10),\"\")","v":""},{"$f":"IF($AE200=1,VLOOKUP($F200,all!$E$14:$AD$553,11),\"\")","v":""},{"$f":"IF($AE200=1,VLOOKUP($F200,all!$E$14:$AD$553,12),\"\")","v":""},{"$f":"IF($AE200=1,VLOOKUP($F200,all!$E$14:$AD$553,13),\"\")","v":""},{"$f":"IF($AE200=1,VLOOKUP($F200,all!$E$14:$AD$553,14),\"\")","v":""},{"$f":"IF($AE200=1,VLOOKUP($F200,all!$E$14:$AD$553,15),\"\")","v":""},{"$f":"IF($AE200=1,VLOOKUP($F200,all!$E$14:$AD$553,16),\"\")","v":""},{"$f":"IF($AE200=1,VLOOKUP($F200,all!$E$14:$AD$553,17),\"\")","v":""},{"$f":"IF($AE200=1,VLOOKUP($F200,all!$E$14:$AD$553,18),\"\")","v":""},{"$f":"IF($AE200=1,VLOOKUP($F200,all!$E$14:$AD$553,19),\"\")","v":""},{"$f":"IF($AE200=1,VLOOKUP($F200,all!$E$14:$AD$553,20),\"\")","v":""},{"$f":"IF($AE200=1,VLOOKUP($F200,all!$E$14:$AD$553,21),\"\")","v":""},{"$f":"IF($AE200=1,VLOOKUP($F200,all!$E$14:$AD$553,22),\"\")","v":""},{"$f":"IF($AE200=1,VLOOKUP($F200,all!$E$14:$AD$553,23),\"\")","v":""},{"$f":"IF($AE200=1,VLOOKUP($F200,all!$E$14:$AD$553,24),\"\")","v":""},{"$f":"IF($AE200=1,VLOOKUP($F200,all!$E$14:$AD$553,25),\"\")","v":""},null,{"$f":"COUNTIF(all!$E$14:$E$553,F200)","v":0},null,36,196.98307692307691,9.5484012159202447E-5,"",9.5484012159202447E-5,"",""]
[{"$f":"IF(OR('Y2'!$W$1=6,('Y2'!$W$1=7)),\"\",'Y2'!AA196)","v":""},{"$f":"IF(OR('Y2'!$W$1=6,('Y2'!$W$1=7)),\"\",'Y2'!AB196)","v":""},null,{"$f":"IF(OR('Y2'!$W$1=6,('Y2'!$W$1=7)),\"\",'Y2'!AC196)","v":""},null,168,{"$f":"IF($AE201=1,VLOOKUP($F201,all!$E$14:$AD$553,3),\"\")","v":""},{"$f":"IF($AE201=1,VLOOKUP($F201,all!$E$14:$AD$553,4),\"\")","v":""},{"$f":"IF($AE201=1,VLOOKUP($F201,all!$E$14:$AD$553,5),\"\")","v":""},{"$f":"IF($AE201=1,VLOOKUP($F201,all!$E$14:$AD$553,6),\"\")","v":""},{"$f":"IF($AE201=1,VLOOKUP($F201,all!$E$14:$AD$553,7),\"\")","v":""},{"$f":"IF($AE201=1,VLOOKUP($F201,all!$E$14:$AD$553,8),\"\")","v":""},{"$f":"IF($AE201=1,VLOOKUP($F201,all!$E$14:$AD$553,9),\"\")","v":""},{"$f":"IF($AE201=1,VLOOKUP($F201,all!$E$14:$AD$553,10),\"\")","v":""},{"$f":"IF($AE201=1,VLOOKUP($F201,all!$E$14:$AD$553,11),\"\")","v":""},{"$f":"IF($AE201=1,VLOOKUP($F201,all!$E$14:$AD$553,12),\"\")","v":""},{"$f":"IF($AE201=1,VLOOKUP($F201,all!$E$14:$AD$553,13),\"\")","v":""},{"$f":"IF($AE201=1,VLOOKUP($F201,all!$E$14:$AD$553,14),\"\")","v":""},{"$f":"IF($AE201=1,VLOOKUP($F201,all!$E$14:$AD$553,15),\"\")","v":""},{"$f":"IF($AE201=1,VLOOKUP($F201,all!$E$14:$AD$553,16),\"\")","v":""},{"$f":"IF($AE201=1,VLOOKUP($F201,all!$E$14:$AD$553,17),\"\")","v":""},{"$f":"IF($AE201=1,VLOOKUP($F201,all!$E$14:$AD$553,18),\"\")","v":""},{"$f":"IF($AE201=1,VLOOKUP($F201,all!$E$14:$AD$553,19),\"\")","v":""},{"$f":"IF($AE201=1,VLOOKUP($F201,all!$E$14:$AD$553,20),\"\")","v":""},{"$f":"IF($AE201=1,VLOOKUP($F201,all!$E$14:$AD$553,21),\"\")","v":""},{"$f":"IF($AE201=1,VLOOKUP($F201,all!$E$14:$AD$553,22),\"\")","v":""},{"$f":"IF($AE201=1,VLOOKUP($F201,all!$E$14:$AD$553,23),\"\")","v":""},{"$f":"IF($AE201=1,VLOOKUP($F201,all!$E$14:$AD$553,24),\"\")","v":""},{"$f":"IF($AE201=1,VLOOKUP($F201,all!$E$14:$AD$553,25),\"\")","v":""},null,{"$f":"COUNTIF(all!$E$14:$E$553,F201)","v":0},null,37,200.21230769230769,2.2148110332045097E-5,"",2.2148110332045097E-5,"",""]
[{"$f":"IF(OR('Y2'!$W$1=6,('Y2'!$W$1=7)),\"\",'Y2'!AA197)","v":""},{"$f":"IF(OR('Y2'!$W$1=6,('Y2'!$W$1=7)),\"\",'Y2'!AB197)","v":""},null,{"$f":"IF(OR('Y2'!$W$1=6,('Y2'!$W$1=7)),\"\",'Y2'!AC197)","v":""},null,169,{"$f":"IF($AE202=1,VLOOKUP($F202,all!$E$14:$AD$553,3),\"\")","v":""},{"$f":"IF($AE202=1,VLOOKUP($F202,all!$E$14:$AD$553,4),\"\")","v":""},{"$f":"IF($AE202=1,VLOOKUP($F202,all!$E$14:$AD$553,5),\"\")","v":""},{"$f":"IF($AE202=1,VLOOKUP($F202,all!$E$14:$AD$553,6),\"\")","v":""},{"$f":"IF($AE202=1,VLOOKUP($F202,all!$E$14:$AD$553,7),\"\")","v":""},{"$f":"IF($AE202=1,VLOOKUP($F202,all!$E$14:$AD$553,8),\"\")","v":""},{"$f":"IF($AE202=1,VLOOKUP($F202,all!$E$14:$AD$553,9),\"\")","v":""},{"$f":"IF($AE202=1,VLOOKUP($F202,all!$E$14:$AD$553,10),\"\")","v":""},{"$f":"IF($AE202=1,VLOOKUP($F202,all!$E$14:$AD$553,11),\"\")","v":""},{"$f":"IF($AE202=1,VLOOKUP($F202,all!$E$14:$AD$553,12),\"\")","v":""},{"$f":"IF($AE202=1,VLOOKUP($F202,all!$E$14:$AD$553,13),\"\")","v":""},{"$f":"IF($AE202=1,VLOOKUP($F202,all!$E$14:$AD$553,14),\"\")","v":""},{"$f":"IF($AE202=1,VLOOKUP($F202,all!$E$14:$AD$553,15),\"\")","v":""},{"$f":"IF($AE202=1,VLOOKUP($F202,all!$E$14:$AD$553,16),\"\")","v":""},{"$f":"IF($AE202=1,VLOOKUP($F202,all!$E$14:$AD$553,17),\"\")","v":""},{"$f":"IF($AE202=1,VLOOKUP($F202,all!$E$14:$AD$553,18),\"\")","v":""},{"$f":"IF($AE202=1,VLOOKUP($F202,all!$E$14:$AD$553,19),\"\")","v":""},{"$f":"IF($AE202=1,VLOOKUP($F202,all!$E$14:$AD$553,20),\"\")","v":""},{"$f":"IF($AE202=1,VLOOKUP($F202,all!$E$14:$AD$553,21),\"\")","v":""},{"$f":"IF($AE202=1,VLOOKUP($F202,all!$E$14:$AD$553,22),\"\")","v":""},{"$f":"IF($AE202=1,VLOOKUP($F202,all!$E$14:$AD$553,23),\"\")","v":""},{"$f":"IF($AE202=1,VLOOKUP($F202,all!$E$14:$AD$553,24),\"\")","v":""},{"$f":"IF($AE202=1,VLOOKUP($F202,all!$E$14:$AD$553,25),\"\")","v":""},null,{"$f":"COUNTIF(all!$E$14:$E$553,F202)","v":0},null,38,203.44153846153847,4.4049738113623168E-6,"",4.4049738113623168E-6,"",""]
[{"$f":"IF(OR('Y2'!$W$1=6,('Y2'!$W$1=7)),\"\",'Y2'!AA198)","v":""},{"$f":"IF(OR('Y2'!$W$1=6,('Y2'!$W$1=7)),\"\",'Y2'!AB198)","v":""},null,{"$f":"IF(OR('Y2'!$W$1=6,('Y2'!$W$1=7)),\"\",'Y2'!AC198)","v":""},null,170,{"$f":"IF($AE203=1,VLOOKUP($F203,all!$E$14:$AD$553,3),\"\")","v":""},{"$f":"IF($AE203=1,VLOOKUP($F203,all!$E$14:$AD$553,4),\"\")","v":""},{"$f":"IF($AE203=1,VLOOKUP($F203,all!$E$14:$AD$553,5),\"\")","v":""},{"$f":"IF($AE203=1,VLOOKUP($F203,all!$E$14:$AD$553,6),\"\")","v":""},{"$f":"IF($AE203=1,VLOOKUP($F203,all!$E$14:$AD$553,7),\"\")","v":""},{"$f":"IF($AE203=1,VLOOKUP($F203,all!$E$14:$AD$553,8),\"\")","v":""},{"$f":"IF($AE203=1,VLOOKUP($F203,all!$E$14:$AD$553,9),\"\")","v":""},{"$f":"IF($AE203=1,VLOOKUP($F203,all!$E$14:$AD$553,10),\"\")","v":""},{"$f":"IF($AE203=1,VLOOKUP($F203,all!$E$14:$AD$553,11),\"\")","v":""},{"$f":"IF($AE203=1,VLOOKUP($F203,all!$E$14:$AD$553,12),\"\")","v":""},{"$f":"IF($AE203=1,VLOOKUP($F203,all!$E$14:$AD$553,13),\"\")","v":""},{"$f":"IF($AE203=1,VLOOKUP($F203,all!$E$14:$AD$553,14),\"\")","v":""},{"$f":"IF($AE203=1,VLOOKUP($F203,all!$E$14:$AD$553,15),\"\")","v":""},{"$f":"IF($AE203=1,VLOOKUP($F203,all!$E$14:$AD$553,16),\"\")","v":""},{"$f":"IF($AE203=1,VLOOKUP($F203,all!$E$14:$AD$553,17),\"\")","v":""},{"$f":"IF($AE203=1,VLOOKUP($F203,all!$E$14:$AD$553,18),\"\")","v":""},{"$f":"IF($AE203=1,VLOOKUP($F203,all!$E$14:$AD$553,19),\"\")","v":""},{"$f":"IF($AE203=1,VLOOKUP($F203,all!$E$14:$AD$553,20),\"\")","v":""},{"$f":"IF($AE203=1,VLOOKUP($F203,all!$E$14:$AD$553,21),\"\")","v":""},{"$f":"IF($AE203=1,VLOOKUP($F203,all!$E$14:$AD$553,22),\"\")","v":""},{"$f":"IF($AE203=1,VLOOKUP($F203,all!$E$14:$AD$553,23),\"\")","v":""},{"$f":"IF($AE203=1,VLOOKUP($F203,all!$E$14:$AD$553,24),\"\")","v":""},{"$f":"IF($AE203=1,VLOOKUP($F203,all!$E$14:$AD$553,25),\"\")","v":""},null,{"$f":"COUNTIF(all!$E$14:$E$553,F203)","v":0},null,39,206.67076923076922,7.511914164755244E-7,"",7.511914164755244E-7,"",""]
[{"$f":"IF(OR('Y2'!$W$1=6,('Y2'!$W$1=7)),\"\",'Y2'!AA199)","v":""},{"$f":"IF(OR('Y2'!$W$1=6,('Y2'!$W$1=7)),\"\",'Y2'!AB199)","v":""},null,{"$f":"IF(OR('Y2'!$W$1=6,('Y2'!$W$1=7)),\"\",'Y2'!AC199)","v":""},null,171,{"$f":"IF($AE204=1,VLOOKUP($F204,all!$E$14:$AD$553,3),\"\")","v":""},{"$f":"IF($AE204=1,VLOOKUP($F204,all!$E$14:$AD$553,4),\"\")","v":""},{"$f":"IF($AE204=1,VLOOKUP($F204,all!$E$14:$AD$553,5),\"\")","v":""},{"$f":"IF($AE204=1,VLOOKUP($F204,all!$E$14:$AD$553,6),\"\")","v":""},{"$f":"IF($AE204=1,VLOOKUP($F204,all!$E$14:$AD$553,7),\"\")","v":""},{"$f":"IF($AE204=1,VLOOKUP($F204,all!$E$14:$AD$553,8),\"\")","v":""},{"$f":"IF($AE204=1,VLOOKUP($F204,all!$E$14:$AD$553,9),\"\")","v":""},{"$f":"IF($AE204=1,VLOOKUP($F204,all!$E$14:$AD$553,10),\"\")","v":""},{"$f":"IF($AE204=1,VLOOKUP($F204,all!$E$14:$AD$553,11),\"\")","v":""},{"$f":"IF($AE204=1,VLOOKUP($F204,all!$E$14:$AD$553,12),\"\")","v":""},{"$f":"IF($AE204=1,VLOOKUP($F204,all!$E$14:$AD$553,13),\"\")","v":""},{"$f":"IF($AE204=1,VLOOKUP($F204,all!$E$14:$AD$553,14),\"\")","v":""},{"$f":"IF($AE204=1,VLOOKUP($F204,all!$E$14:$AD$553,15),\"\")","v":""},{"$f":"IF($AE204=1,VLOOKUP($F204,all!$E$14:$AD$553,16),\"\")","v":""},{"$f":"IF($AE204=1,VLOOKUP($F204,all!$E$14:$AD$553,17),\"\")","v":""},{"$f":"IF($AE204=1,VLOOKUP($F204,all!$E$14:$AD$553,18),\"\")","v":""},{"$f":"IF($AE204=1,VLOOKUP($F204,all!$E$14:$AD$553,19),\"\")","v":""},{"$f":"IF($AE204=1,VLOOKUP($F204,all!$E$14:$AD$553,20),\"\")","v":""},{"$f":"IF($AE204=1,VLOOKUP($F204,all!$E$14:$AD$553,21),\"\")","v":""},{"$f":"IF($AE204=1,VLOOKUP($F204,all!$E$14:$AD$553,22),\"\")","v":""},{"$f":"IF($AE204=1,VLOOKUP($F204,all!$E$14:$AD$553,23),\"\")","v":""},{"$f":"IF($AE204=1,VLOOKUP($F204,all!$E$14:$AD$553,24),\"\")","v":""},{"$f":"IF($AE204=1,VLOOKUP($F204,all!$E$14:$AD$553,25),\"\")","v":""},null,{"$f":"COUNTIF(all!$E$14:$E$553,F204)","v":0},null,40,209.9,1.0983949724701464E-7,"",1.0983949724701464E-7,"",""]
[{"$f":"IF(OR('Y2'!$W$1=6,('Y2'!$W$1=7)),\"\",'Y2'!AA200)","v":""},{"$f":"IF(OR('Y2'!$W$1=6,('Y2'!$W$1=7)),\"\",'Y2'!AB200)","v":""},null,{"$f":"IF(OR('Y2'!$W$1=6,('Y2'!$W$1=7)),\"\",'Y2'!AC200)","v":""},null,172,{"$f":"IF($AE205=1,VLOOKUP($F205,all!$E$14:$AD$553,3),\"\")","v":""},{"$f":"IF($AE205=1,VLOOKUP($F205,all!$E$14:$AD$553,4),\"\")","v":""},{"$f":"IF($AE205=1,VLOOKUP($F205,all!$E$14:$AD$553,5),\"\")","v":""},{"$f":"IF($AE205=1,VLOOKUP($F205,all!$E$14:$AD$553,6),\"\")","v":""},{"$f":"IF($AE205=1,VLOOKUP($F205,all!$E$14:$AD$553,7),\"\")","v":""},{"$f":"IF($AE205=1,VLOOKUP($F205,all!$E$14:$AD$553,8),\"\")","v":""},{"$f":"IF($AE205=1,VLOOKUP($F205,all!$E$14:$AD$553,9),\"\")","v":""},{"$f":"IF($AE205=1,VLOOKUP($F205,all!$E$14:$AD$553,10),\"\")","v":""},{"$f":"IF($AE205=1,VLOOKUP($F205,all!$E$14:$AD$553,11),\"\")","v":""},{"$f":"IF($AE205=1,VLOOKUP($F205,all!$E$14:$AD$553,12),\"\")","v":""},{"$f":"IF($AE205=1,VLOOKUP($F205,all!$E$14:$AD$553,13),\"\")","v":""},{"$f":"IF($AE205=1,VLOOKUP($F205,all!$E$14:$AD$553,14),\"\")","v":""},{"$f":"IF($AE205=1,VLOOKUP($F205,all!$E$14:$AD$553,15),\"\")","v":""},{"$f":"IF($AE205=1,VLOOKUP($F205,all!$E$14:$AD$553,16),\"\")","v":""},{"$f":"IF($AE205=1,VLOOKUP($F205,all!$E$14:$AD$553,17),\"\")","v":""},{"$f":"IF($AE205=1,VLOOKUP($F205,all!$E$14:$AD$553,18),\"\")","v":""},{"$f":"IF($AE205=1,VLOOKUP($F205,all!$E$14:$AD$553,19),\"\")","v":""},{"$f":"IF($AE205=1,VLOOKUP($F205,all!$E$14:$AD$553,20),\"\")","v":""},{"$f":"IF($AE205=1,VLOOKUP($F205,all!$E$14:$AD$553,21),\"\")","v":""},{"$f":"IF($AE205=1,VLOOKUP($F205,all!$E$14:$AD$553,22),\"\")","v":""},{"$f":"IF($AE205=1,VLOOKUP($F205,all!$E$14:$AD$553,23),\"\")","v":""},{"$f":"IF($AE205=1,VLOOKUP($F205,all!$E$14:$AD$553,24),\"\")","v":""},{"$f":"IF($AE205=1,VLOOKUP($F205,all!$E$14:$AD$553,25),\"\")","v":""},null,{"$f":"COUNTIF(all!$E$14:$E$553,F205)","v":0},null,41,213.12923076923076,1.3771051091812238E-8,"",1.3771051091812238E-8,"",""]
[{"$f":"IF(OR('Y2'!$W$1=6,('Y2'!$W$1=7)),\"\",'Y2'!AA201)","v":""},{"$f":"IF(OR('Y2'!$W$1=6,('Y2'!$W$1=7)),\"\",'Y2'!AB201)","v":""},null,{"$f":"IF(OR('Y2'!$W$1=6,('Y2'!$W$1=7)),\"\",'Y2'!AC201)","v":""},null,173,{"$f":"IF($AE206=1,VLOOKUP($F206,all!$E$14:$AD$553,3),\"\")","v":""},{"$f":"IF($AE206=1,VLOOKUP($F206,all!$E$14:$AD$553,4),\"\")","v":""},{"$f":"IF($AE206=1,VLOOKUP($F206,all!$E$14:$AD$553,5),\"\")","v":""},{"$f":"IF($AE206=1,VLOOKUP($F206,all!$E$14:$AD$553,6),\"\")","v":""},{"$f":"IF($AE206=1,VLOOKUP($F206,all!$E$14:$AD$553,7),\"\")","v":""},{"$f":"IF($AE206=1,VLOOKUP($F206,all!$E$14:$AD$553,8),\"\")","v":""},{"$f":"IF($AE206=1,VLOOKUP($F206,all!$E$14:$AD$553,9),\"\")","v":""},{"$f":"IF($AE206=1,VLOOKUP($F206,all!$E$14:$AD$553,10),\"\")","v":""},{"$f":"IF($AE206=1,VLOOKUP($F206,all!$E$14:$AD$553,11),\"\")","v":""},{"$f":"IF($AE206=1,VLOOKUP($F206,all!$E$14:$AD$553,12),\"\")","v":""},{"$f":"IF($AE206=1,VLOOKUP($F206,all!$E$14:$AD$553,13),\"\")","v":""},{"$f":"IF($AE206=1,VLOOKUP($F206,all!$E$14:$AD$553,14),\"\")","v":""},{"$f":"IF($AE206=1,VLOOKUP($F206,all!$E$14:$AD$553,15),\"\")","v":""},{"$f":"IF($AE206=1,VLOOKUP($F206,all!$E$14:$AD$553,16),\"\")","v":""},{"$f":"IF($AE206=1,VLOOKUP($F206,all!$E$14:$AD$553,17),\"\")","v":""},{"$f":"IF($AE206=1,VLOOKUP($F206,all!$E$14:$AD$553,18),\"\")","v":""},{"$f":"IF($AE206=1,VLOOKUP($F206,all!$E$14:$AD$553,19),\"\")","v":""},{"$f":"IF($AE206=1,VLOOKUP($F206,all!$E$14:$AD$553,20),\"\")","v":""},{"$f":"IF($AE206=1,VLOOKUP($F206,all!$E$14:$AD$553,21),\"\")","v":""},{"$f":"IF($AE206=1,VLOOKUP($F206,all!$E$14:$AD$553,22),\"\")","v":""},{"$f":"IF($AE206=1,VLOOKUP($F206,all!$E$14:$AD$553,23),\"\")","v":""},{"$f":"IF($AE206=1,VLOOKUP($F206,all!$E$14:$AD$553,24),\"\")","v":""},{"$f":"IF($AE206=1,VLOOKUP($F206,all!$E$14:$AD$553,25),\"\")","v":""},null,{"$f":"COUNTIF(all!$E$14:$E$553,F206)","v":0},null,42,216.35846153846151,1.4803904551102582E-9,"",1.4803904551102582E-9,"",""]
[{"$f":"IF(OR('Y2'!$W$1=6,('Y2'!$W$1=7)),\"\",'Y2'!AA202)","v":""},{"$f":"IF(OR('Y2'!$W$1=6,('Y2'!$W$1=7)),\"\",'Y2'!AB202)","v":""},null,{"$f":"IF(OR('Y2'!$W$1=6,('Y2'!$W$1=7)),\"\",'Y2'!AC202)","v":""},null,174,{"$f":"IF($AE207=1,VLOOKUP($F207,all!$E$14:$AD$553,3),\"\")","v":""},{"$f":"IF($AE207=1,VLOOKUP($F207,all!$E$14:$AD$553,4),\"\")","v":""},{"$f":"IF($AE207=1,VLOOKUP($F207,all!$E$14:$AD$553,5),\"\")","v":""},{"$f":"IF($AE207=1,VLOOKUP($F207,all!$E$14:$AD$553,6),\"\")","v":""},{"$f":"IF($AE207=1,VLOOKUP($F207,all!$E$14:$AD$553,7),\"\")","v":""},{"$f":"IF($AE207=1,VLOOKUP($F207,all!$E$14:$AD$553,8),\"\")","v":""},{"$f":"IF($AE207=1,VLOOKUP($F207,all!$E$14:$AD$553,9),\"\")","v":""},{"$f":"IF($AE207=1,VLOOKUP($F207,all!$E$14:$AD$553,10),\"\")","v":""},{"$f":"IF($AE207=1,VLOOKUP($F207,all!$E$14:$AD$553,11),\"\")","v":""},{"$f":"IF($AE207=1,VLOOKUP($F207,all!$E$14:$AD$553,12),\"\")","v":""},{"$f":"IF($AE207=1,VLOOKUP($F207,all!$E$14:$AD$553,13),\"\")","v":""},{"$f":"IF($AE207=1,VLOOKUP($F207,all!$E$14:$AD$553,14),\"\")","v":""},{"$f":"IF($AE207=1,VLOOKUP($F207,all!$E$14:$AD$553,15),\"\")","v":""},{"$f":"IF($AE207=1,VLOOKUP($F207,all!$E$14:$AD$553,16),\"\")","v":""},{"$f":"IF($AE207=1,VLOOKUP($F207,all!$E$14:$AD$553,17),\"\")","v":""},{"$f":"IF($AE207=1,VLOOKUP($F207,all!$E$14:$AD$553,18),\"\")","v":""},{"$f":"IF($AE207=1,VLOOKUP($F207,all!$E$14:$AD$553,19),\"\")","v":""},{"$f":"IF($AE207=1,VLOOKUP($F207,all!$E$14:$AD$553,20),\"\")","v":""},{"$f":"IF($AE207=1,VLOOKUP($F207,all!$E$14:$AD$553,21),\"\")","v":""},{"$f":"IF($AE207=1,VLOOKUP($F207,all!$E$14:$AD$553,22),\"\")","v":""},{"$f":"IF($AE207=1,VLOOKUP($F207,all!$E$14:$AD$553,23),\"\")","v":""},{"$f":"IF($AE207=1,VLOOKUP($F207,all!$E$14:$AD$553,24),\"\")","v":""},{"$f":"IF($AE207=1,VLOOKUP($F207,all!$E$14:$AD$553,25),\"\")","v":""},null,{"$f":"COUNTIF(all!$E$14:$E$553,F207)","v":0},null,43,219.58769230769229,1.3645394518448638E-10,"",1.3645394518448638E-10,"",""]
[{"$f":"IF(OR('Y2'!$W$1=6,('Y2'!$W$1=7)),\"\",'Y2'!AA203)","v":""},{"$f":"IF(OR('Y2'!$W$1=6,('Y2'!$W$1=7)),\"\",'Y2'!AB203)","v":""},null,{"$f":"IF(OR('Y2'!$W$1=6,('Y2'!$W$1=7)),\"\",'Y2'!AC203)","v":""},null,175,{"$f":"IF($AE208=1,VLOOKUP($F208,all!$E$14:$AD$553,3),\"\")","v":""},{"$f":"IF($AE208=1,VLOOKUP($F208,all!$E$14:$AD$553,4),\"\")","v":""},{"$f":"IF($AE208=1,VLOOKUP($F208,all!$E$14:$AD$553,5),\"\")","v":""},{"$f":"IF($AE208=1,VLOOKUP($F208,all!$E$14:$AD$553,6),\"\")","v":""},{"$f":"IF($AE208=1,VLOOKUP($F208,all!$E$14:$AD$553,7),\"\")","v":""},{"$f":"IF($AE208=1,VLOOKUP($F208,all!$E$14:$AD$553,8),\"\")","v":""},{"$f":"IF($AE208=1,VLOOKUP($F208,all!$E$14:$AD$553,9),\"\")","v":""},{"$f":"IF($AE208=1,VLOOKUP($F208,all!$E$14:$AD$553,10),\"\")","v":""},{"$f":"IF($AE208=1,VLOOKUP($F208,all!$E$14:$AD$553,11),\"\")","v":""},{"$f":"IF($AE208=1,VLOOKUP($F208,all!$E$14:$AD$553,12),\"\")","v":""},{"$f":"IF($AE208=1,VLOOKUP($F208,all!$E$14:$AD$553,13),\"\")","v":""},{"$f":"IF($AE208=1,VLOOKUP($F208,all!$E$14:$AD$553,14),\"\")","v":""},{"$f":"IF($AE208=1,VLOOKUP($F208,all!$E$14:$AD$553,15),\"\")","v":""},{"$f":"IF($AE208=1,VLOOKUP($F208,all!$E$14:$AD$553,16),\"\")","v":""},{"$f":"IF($AE208=1,VLOOKUP($F208,all!$E$14:$AD$553,17),\"\")","v":""},{"$f":"IF($AE208=1,VLOOKUP($F208,all!$E$14:$AD$553,18),\"\")","v":""},{"$f":"IF($AE208=1,VLOOKUP($F208,all!$E$14:$AD$553,19),\"\")","v":""},{"$f":"IF($AE208=1,VLOOKUP($F208,all!$E$14:$AD$553,20),\"\")","v":""},{"$f":"IF($AE208=1,VLOOKUP($F208,all!$E$14:$AD$553,21),\"\")","v":""},{"$f":"IF($AE208=1,VLOOKUP($F208,all!$E$14:$AD$553,22),\"\")","v":""},{"$f":"IF($AE208=1,VLOOKUP($F208,all!$E$14:$AD$553,23),\"\")","v":""},{"$f":"IF($AE208=1,VLOOKUP($F208,all!$E$14:$AD$553,24),\"\")","v":""},{"$f":"IF($AE208=1,VLOOKUP($F208,all!$E$14:$AD$553,25),\"\")","v":""},null,{"$f":"COUNTIF(all!$E$14:$E$553,F208)","v":0},null,44,222.81692307692308,1.0784413973712694E-11,"",1.0784413973712694E-11,"",""]
[{"$f":"IF(OR('Y2'!$W$1=6,('Y2'!$W$1=7)),\"\",'Y2'!AA204)","v":""},{"$f":"IF(OR('Y2'!$W$1=6,('Y2'!$W$1=7)),\"\",'Y2'!AB204)","v":""},null,{"$f":"IF(OR('Y2'!$W$1=6,('Y2'!$W$1=7)),\"\",'Y2'!AC204)","v":""},null,176,{"$f":"IF($AE209=1,VLOOKUP($F209,all!$E$14:$AD$553,3),\"\")","v":""},{"$f":"IF($AE209=1,VLOOKUP($F209,all!$E$14:$AD$553,4),\"\")","v":""},{"$f":"IF($AE209=1,VLOOKUP($F209,all!$E$14:$AD$553,5),\"\")","v":""},{"$f":"IF($AE209=1,VLOOKUP($F209,all!$E$14:$AD$553,6),\"\")","v":""},{"$f":"IF($AE209=1,VLOOKUP($F209,all!$E$14:$AD$553,7),\"\")","v":""},{"$f":"IF($AE209=1,VLOOKUP($F209,all!$E$14:$AD$553,8),\"\")","v":""},{"$f":"IF($AE209=1,VLOOKUP($F209,all!$E$14:$AD$553,9),\"\")","v":""},{"$f":"IF($AE209=1,VLOOKUP($F209,all!$E$14:$AD$553,10),\"\")","v":""},{"$f":"IF($AE209=1,VLOOKUP($F209,all!$E$14:$AD$553,11),\"\")","v":""},{"$f":"IF($AE209=1,VLOOKUP($F209,all!$E$14:$AD$553,12),\"\")","v":""},{"$f":"IF($AE209=1,VLOOKUP($F209,all!$E$14:$AD$553,13),\"\")","v":""},{"$f":"IF($AE209=1,VLOOKUP($F209,all!$E$14:$AD$553,14),\"\")","v":""},{"$f":"IF($AE209=1,VLOOKUP($F209,all!$E$14:$AD$553,15),\"\")","v":""},{"$f":"IF($AE209=1,VLOOKUP($F209,all!$E$14:$AD$553,16),\"\")","v":""},{"$f":"IF($AE209=1,VLOOKUP($F209,all!$E$14:$AD$553,17),\"\")","v":""},{"$f":"IF($AE209=1,VLOOKUP($F209,all!$E$14:$AD$553,18),\"\")","v":""},{"$f":"IF($AE209=1,VLOOKUP($F209,all!$E$14:$AD$553,19),\"\")","v":""},{"$f":"IF($AE209=1,VLOOKUP($F209,all!$E$14:$AD$553,20),\"\")","v":""},{"$f":"IF($AE209=1,VLOOKUP($F209,all!$E$14:$AD$553,21),\"\")","v":""},{"$f":"IF($AE209=1,VLOOKUP($F209,all!$E$14:$AD$553,22),\"\")","v":""},{"$f":"IF($AE209=1,VLOOKUP($F209,all!$E$14:$AD$553,23),\"\")","v":""},{"$f":"IF($AE209=1,VLOOKUP($F209,all!$E$14:$AD$553,24),\"\")","v":""},{"$f":"IF($AE209=1,VLOOKUP($F209,all!$E$14:$AD$553,25),\"\")","v":""},null,{"$f":"COUNTIF(all!$E$14:$E$553,F209)","v":0},null,45,226.04615384615383,7.3081531169125549E-13,"",7.3081531169125549E-13,"",""]
[{"$f":"IF(OR('Y2'!$W$1=6,('Y2'!$W$1=7)),\"\",'Y2'!AA205)","v":""},{"$f":"IF(OR('Y2'!$W$1=6,('Y2'!$W$1=7)),\"\",'Y2'!AB205)","v":""},null,{"$f":"IF(OR('Y2'!$W$1=6,('Y2'!$W$1=7)),\"\",'Y2'!AC205)","v":""},null,177,{"$f":"IF($AE210=1,VLOOKUP($F210,all!$E$14:$AD$553,3),\"\")","v":""},{"$f":"IF($AE210=1,VLOOKUP($F210,all!$E$14:$AD$553,4),\"\")","v":""},{"$f":"IF($AE210=1,VLOOKUP($F210,all!$E$14:$AD$553,5),\"\")","v":""},{"$f":"IF($AE210=1,VLOOKUP($F210,all!$E$14:$AD$553,6),\"\")","v":""},{"$f":"IF($AE210=1,VLOOKUP($F210,all!$E$14:$AD$553,7),\"\")","v":""},{"$f":"IF($AE210=1,VLOOKUP($F210,all!$E$14:$AD$553,8),\"\")","v":""},{"$f":"IF($AE210=1,VLOOKUP($F210,all!$E$14:$AD$553,9),\"\")","v":""},{"$f":"IF($AE210=1,VLOOKUP($F210,all!$E$14:$AD$553,10),\"\")","v":""},{"$f":"IF($AE210=1,VLOOKUP($F210,all!$E$14:$AD$553,11),\"\")","v":""},{"$f":"IF($AE210=1,VLOOKUP($F210,all!$E$14:$AD$553,12),\"\")","v":""},{"$f":"IF($AE210=1,VLOOKUP($F210,all!$E$14:$AD$553,13),\"\")","v":""},{"$f":"IF($AE210=1,VLOOKUP($F210,all!$E$14:$AD$553,14),\"\")","v":""},{"$f":"IF($AE210=1,VLOOKUP($F210,all!$E$14:$AD$553,15),\"\")","v":""},{"$f":"IF($AE210=1,VLOOKUP($F210,all!$E$14:$AD$553,16),\"\")","v":""},{"$f":"IF($AE210=1,VLOOKUP($F210,all!$E$14:$AD$553,17),\"\")","v":""},{"$f":"IF($AE210=1,VLOOKUP($F210,all!$E$14:$AD$553,18),\"\")","v":""},{"$f":"IF($AE210=1,VLOOKUP($F210,all!$E$14:$AD$553,19),\"\")","v":""},{"$f":"IF($AE210=1,VLOOKUP($F210,all!$E$14:$AD$553,20),\"\")","v":""},{"$f":"IF($AE210=1,VLOOKUP($F210,all!$E$14:$AD$553,21),\"\")","v":""},{"$f":"IF($AE210=1,VLOOKUP($F210,all!$E$14:$AD$553,22),\"\")","v":""},{"$f":"IF($AE210=1,VLOOKUP($F210,all!$E$14:$AD$553,23),\"\")","v":""},{"$f":"IF($AE210=1,VLOOKUP($F210,all!$E$14:$AD$553,24),\"\")","v":""},{"$f":"IF($AE210=1,VLOOKUP($F210,all!$E$14:$AD$553,25),\"\")","v":""},null,{"$f":"COUNTIF(all!$E$14:$E$553,F210)","v":0},null,46,229.27538461538461,4.2463849201360619E-14,"",4.2463849201360619E-14,"",""]
[{"$f":"IF(OR('Y2'!$W$1=6,('Y2'!$W$1=7)),\"\",'Y2'!AA206)","v":""},{"$f":"IF(OR('Y2'!$W$1=6,('Y2'!$W$1=7)),\"\",'Y2'!AB206)","v":""},null,{"$f":"IF(OR('Y2'!$W$1=6,('Y2'!$W$1=7)),\"\",'Y2'!AC206)","v":""},null,178,{"$f":"IF($AE211=1,VLOOKUP($F211,all!$E$14:$AD$553,3),\"\")","v":""},{"$f":"IF($AE211=1,VLOOKUP($F211,all!$E$14:$AD$553,4),\"\")","v":""},{"$f":"IF($AE211=1,VLOOKUP($F211,all!$E$14:$AD$553,5),\"\")","v":""},{"$f":"IF($AE211=1,VLOOKUP($F211,all!$E$14:$AD$553,6),\"\")","v":""},{"$f":"IF($AE211=1,VLOOKUP($F211,all!$E$14:$AD$553,7),\"\")","v":""},{"$f":"IF($AE211=1,VLOOKUP($F211,all!$E$14:$AD$553,8),\"\")","v":""},{"$f":"IF($AE211=1,VLOOKUP($F211,all!$E$14:$AD$553,9),\"\")","v":""},{"$f":"IF($AE211=1,VLOOKUP($F211,all!$E$14:$AD$553,10),\"\")","v":""},{"$f":"IF($AE211=1,VLOOKUP($F211,all!$E$14:$AD$553,11),\"\")","v":""},{"$f":"IF($AE211=1,VLOOKUP($F211,all!$E$14:$AD$553,12),\"\")","v":""},{"$f":"IF($AE211=1,VLOOKUP($F211,all!$E$14:$AD$553,13),\"\")","v":""},{"$f":"IF($AE211=1,VLOOKUP($F211,all!$E$14:$AD$553,14),\"\")","v":""},{"$f":"IF($AE211=1,VLOOKUP($F211,all!$E$14:$AD$553,15),\"\")","v":""},{"$f":"IF($AE211=1,VLOOKUP($F211,all!$E$14:$AD$553,16),\"\")","v":""},{"$f":"IF($AE211=1,VLOOKUP($F211,all!$E$14:$AD$553,17),\"\")","v":""},{"$f":"IF($AE211=1,VLOOKUP($F211,all!$E$14:$AD$553,18),\"\")","v":""},{"$f":"IF($AE211=1,VLOOKUP($F211,all!$E$14:$AD$553,19),\"\")","v":""},{"$f":"IF($AE211=1,VLOOKUP($F211,all!$E$14:$AD$553,20),\"\")","v":""},{"$f":"IF($AE211=1,VLOOKUP($F211,all!$E$14:$AD$553,21),\"\")","v":""},{"$f":"IF($AE211=1,VLOOKUP($F211,all!$E$14:$AD$553,22),\"\")","v":""},{"$f":"IF($AE211=1,VLOOKUP($F211,all!$E$14:$AD$553,23),\"\")","v":""},{"$f":"IF($AE211=1,VLOOKUP($F211,all!$E$14:$AD$553,24),\"\")","v":""},{"$f":"IF($AE211=1,VLOOKUP($F211,all!$E$14:$AD$553,25),\"\")","v":""},null,{"$f":"COUNTIF(all!$E$14:$E$553,F211)","v":0},null,47,232.50461538461536,2.1155910130425264E-15,"",2.1155910130425264E-15,"",""]
[{"$f":"IF(OR('Y2'!$W$1=6,('Y2'!$W$1=7)),\"\",'Y2'!AA207)","v":""},{"$f":"IF(OR('Y2'!$W$1=6,('Y2'!$W$1=7)),\"\",'Y2'!AB207)","v":""},null,{"$f":"IF(OR('Y2'!$W$1=6,('Y2'!$W$1=7)),\"\",'Y2'!AC207)","v":""},null,179,{"$f":"IF($AE212=1,VLOOKUP($F212,all!$E$14:$AD$553,3),\"\")","v":""},{"$f":"IF($AE212=1,VLOOKUP($F212,all!$E$14:$AD$553,4),\"\")","v":""},{"$f":"IF($AE212=1,VLOOKUP($F212,all!$E$14:$AD$553,5),\"\")","v":""},{"$f":"IF($AE212=1,VLOOKUP($F212,all!$E$14:$AD$553,6),\"\")","v":""},{"$f":"IF($AE212=1,VLOOKUP($F212,all!$E$14:$AD$553,7),\"\")","v":""},{"$f":"IF($AE212=1,VLOOKUP($F212,all!$E$14:$AD$553,8),\"\")","v":""},{"$f":"IF($AE212=1,VLOOKUP($F212,all!$E$14:$AD$553,9),\"\")","v":""},{"$f":"IF($AE212=1,VLOOKUP($F212,all!$E$14:$AD$553,10),\"\")","v":""},{"$f":"IF($AE212=1,VLOOKUP($F212,all!$E$14:$AD$553,11),\"\")","v":""},{"$f":"IF($AE212=1,VLOOKUP($F212,all!$E$14:$AD$553,12),\"\")","v":""},{"$f":"IF($AE212=1,VLOOKUP($F212,all!$E$14:$AD$553,13),\"\")","v":""},{"$f":"IF($AE212=1,VLOOKUP($F212,all!$E$14:$AD$553,14),\"\")","v":""},{"$f":"IF($AE212=1,VLOOKUP($F212,all!$E$14:$AD$553,15),\"\")","v":""},{"$f":"IF($AE212=1,VLOOKUP($F212,all!$E$14:$AD$553,16),\"\")","v":""},{"$f":"IF($AE212=1,VLOOKUP($F212,all!$E$14:$AD$553,17),\"\")","v":""},{"$f":"IF($AE212=1,VLOOKUP($F212,all!$E$14:$AD$553,18),\"\")","v":""},{"$f":"IF($AE212=1,VLOOKUP($F212,all!$E$14:$AD$553,19),\"\")","v":""},{"$f":"IF($AE212=1,VLOOKUP($F212,all!$E$14:$AD$553,20),\"\")","v":""},{"$f":"IF($AE212=1,VLOOKUP($F212,all!$E$14:$AD$553,21),\"\")","v":""},{"$f":"IF($AE212=1,VLOOKUP($F212,all!$E$14:$AD$553,22),\"\")","v":""},{"$f":"IF($AE212=1,VLOOKUP($F212,all!$E$14:$AD$553,23),\"\")","v":""},{"$f":"IF($AE212=1,VLOOKUP($F212,all!$E$14:$AD$553,24),\"\")","v":""},{"$f":"IF($AE212=1,VLOOKUP($F212,all!$E$14:$AD$553,25),\"\")","v":""},null,{"$f":"COUNTIF(all!$E$14:$E$553,F212)","v":0},null,48,235.73384615384614,9.0374249050988746E-17,"",9.0374249050988746E-17,"",""]
[{"$f":"IF(OR('Y2'!$W$1=6,('Y2'!$W$1=7)),\"\",'Y2'!AA208)","v":""},{"$f":"IF(OR('Y2'!$W$1=6,('Y2'!$W$1=7)),\"\",'Y2'!AB208)","v":""},null,{"$f":"IF(OR('Y2'!$W$1=6,('Y2'!$W$1=7)),\"\",'Y2'!AC208)","v":""},null,180,{"$f":"IF($AE213=1,VLOOKUP($F213,all!$E$14:$AD$553,3),\"\")","v":""},{"$f":"IF($AE213=1,VLOOKUP($F213,all!$E$14:$AD$553,4),\"\")","v":""},{"$f":"IF($AE213=1,VLOOKUP($F213,all!$E$14:$AD$553,5),\"\")","v":""},{"$f":"IF($AE213=1,VLOOKUP($F213,all!$E$14:$AD$553,6),\"\")","v":""},{"$f":"IF($AE213=1,VLOOKUP($F213,all!$E$14:$AD$553,7),\"\")","v":""},{"$f":"IF($AE213=1,VLOOKUP($F213,all!$E$14:$AD$553,8),\"\")","v":""},{"$f":"IF($AE213=1,VLOOKUP($F213,all!$E$14:$AD$553,9),\"\")","v":""},{"$f":"IF($AE213=1,VLOOKUP($F213,all!$E$14:$AD$553,10),\"\")","v":""},{"$f":"IF($AE213=1,VLOOKUP($F213,all!$E$14:$AD$553,11),\"\")","v":""},{"$f":"IF($AE213=1,VLOOKUP($F213,all!$E$14:$AD$553,12),\"\")","v":""},{"$f":"IF($AE213=1,VLOOKUP($F213,all!$E$14:$AD$553,13),\"\")","v":""},{"$f":"IF($AE213=1,VLOOKUP($F213,all!$E$14:$AD$553,14),\"\")","v":""},{"$f":"IF($AE213=1,VLOOKUP($F213,all!$E$14:$AD$553,15),\"\")","v":""},{"$f":"IF($AE213=1,VLOOKUP($F213,all!$E$14:$AD$553,16),\"\")","v":""},{"$f":"IF($AE213=1,VLOOKUP($F213,all!$E$14:$AD$553,17),\"\")","v":""},{"$f":"IF($AE213=1,VLOOKUP($F213,all!$E$14:$AD$553,18),\"\")","v":""},{"$f":"IF($AE213=1,VLOOKUP($F213,all!$E$14:$AD$553,19),\"\")","v":""},{"$f":"IF($AE213=1,VLOOKUP($F213,all!$E$14:$AD$553,20),\"\")","v":""},{"$f":"IF($AE213=1,VLOOKUP($F213,all!$E$14:$AD$553,21),\"\")","v":""},{"$f":"IF($AE213=1,VLOOKUP($F213,all!$E$14:$AD$553,22),\"\")","v":""},{"$f":"IF($AE213=1,VLOOKUP($F213,all!$E$14:$AD$553,23),\"\")","v":""},{"$f":"IF($AE213=1,VLOOKUP($F213,all!$E$14:$AD$553,24),\"\")","v":""},{"$f":"IF($AE213=1,VLOOKUP($F213,all!$E$14:$AD$553,25),\"\")","v":""},null,{"$f":"COUNTIF(all!$E$14:$E$553,F213)","v":0},null,49,238.96307692307693,3.3102311665037822E-18,"",3.3102311665037822E-18,"",""]
[{"$f":"IF(OR('Y2'!$W$1=6,('Y2'!$W$1=7)),\"\",'Y2'!AA209)","v":""},{"$f":"IF(OR('Y2'!$W$1=6,('Y2'!$W$1=7)),\"\",'Y2'!AB209)","v":""},null,{"$f":"IF(OR('Y2'!$W$1=6,('Y2'!$W$1=7)),\"\",'Y2'!AC209)","v":""},null,181,{"$f":"IF($AE214=1,VLOOKUP($F214,all!$E$14:$AD$553,3),\"\")","v":""},{"$f":"IF($AE214=1,VLOOKUP($F214,all!$E$14:$AD$553,4),\"\")","v":""},{"$f":"IF($AE214=1,VLOOKUP($F214,all!$E$14:$AD$553,5),\"\")","v":""},{"$f":"IF($AE214=1,VLOOKUP($F214,all!$E$14:$AD$553,6),\"\")","v":""},{"$f":"IF($AE214=1,VLOOKUP($F214,all!$E$14:$AD$553,7),\"\")","v":""},{"$f":"IF($AE214=1,VLOOKUP($F214,all!$E$14:$AD$553,8),\"\")","v":""},{"$f":"IF($AE214=1,VLOOKUP($F214,all!$E$14:$AD$553,9),\"\")","v":""},{"$f":"IF($AE214=1,VLOOKUP($F214,all!$E$14:$AD$553,10),\"\")","v":""},{"$f":"IF($AE214=1,VLOOKUP($F214,all!$E$14:$AD$553,11),\"\")","v":""},{"$f":"IF($AE214=1,VLOOKUP($F214,all!$E$14:$AD$553,12),\"\")","v":""},{"$f":"IF($AE214=1,VLOOKUP($F214,all!$E$14:$AD$553,13),\"\")","v":""},{"$f":"IF($AE214=1,VLOOKUP($F214,all!$E$14:$AD$553,14),\"\")","v":""},{"$f":"IF($AE214=1,VLOOKUP($F214,all!$E$14:$AD$553,15),\"\")","v":""},{"$f":"IF($AE214=1,VLOOKUP($F214,all!$E$14:$AD$553,16),\"\")","v":""},{"$f":"IF($AE214=1,VLOOKUP($F214,all!$E$14:$AD$553,17),\"\")","v":""},{"$f":"IF($AE214=1,VLOOKUP($F214,all!$E$14:$AD$553,18),\"\")","v":""},{"$f":"IF($AE214=1,VLOOKUP($F214,all!$E$14:$AD$553,19),\"\")","v":""},{"$f":"IF($AE214=1,VLOOKUP($F214,all!$E$14:$AD$553,20),\"\")","v":""},{"$f":"IF($AE214=1,VLOOKUP($F214,all!$E$14:$AD$553,21),\"\")","v":""},{"$f":"IF($AE214=1,VLOOKUP($F214,all!$E$14:$AD$553,22),\"\")","v":""},{"$f":"IF($AE214=1,VLOOKUP($F214,all!$E$14:$AD$553,23),\"\")","v":""},{"$f":"IF($AE214=1,VLOOKUP($F214,all!$E$14:$AD$553,24),\"\")","v":""},{"$f":"IF($AE214=1,VLOOKUP($F214,all!$E$14:$AD$553,25),\"\")","v":""},null,{"$f":"COUNTIF(all!$E$14:$E$553,F214)","v":0},null,50,242.19230769230768,1.0396150994667383E-19,"",1.0396150994667383E-19,"",""]
[{"$f":"IF(OR('Y2'!$W$1=6,('Y2'!$W$1=7)),\"\",'Y2'!AA210)","v":""},{"$f":"IF(OR('Y2'!$W$1=6,('Y2'!$W$1=7)),\"\",'Y2'!AB210)","v":""},null,{"$f":"IF(OR('Y2'!$W$1=6,('Y2'!$W$1=7)),\"\",'Y2'!AC210)","v":""},null,182,{"$f":"IF($AE215=1,VLOOKUP($F215,all!$E$14:$AD$553,3),\"\")","v":""},{"$f":"IF($AE215=1,VLOOKUP($F215,all!$E$14:$AD$553,4),\"\")","v":""},{"$f":"IF($AE215=1,VLOOKUP($F215,all!$E$14:$AD$553,5),\"\")","v":""},{"$f":"IF($AE215=1,VLOOKUP($F215,all!$E$14:$AD$553,6),\"\")","v":""},{"$f":"IF($AE215=1,VLOOKUP($F215,all!$E$14:$AD$553,7),\"\")","v":""},{"$f":"IF($AE215=1,VLOOKUP($F215,all!$E$14:$AD$553,8),\"\")","v":""},{"$f":"IF($AE215=1,VLOOKUP($F215,all!$E$14:$AD$553,9),\"\")","v":""},{"$f":"IF($AE215=1,VLOOKUP($F215,all!$E$14:$AD$553,10),\"\")","v":""},{"$f":"IF($AE215=1,VLOOKUP($F215,all!$E$14:$AD$553,11),\"\")","v":""},{"$f":"IF($AE215=1,VLOOKUP($F215,all!$E$14:$AD$553,12),\"\")","v":""},{"$f":"IF($AE215=1,VLOOKUP($F215,all!$E$14:$AD$553,13),\"\")","v":""},{"$f":"IF($AE215=1,VLOOKUP($F215,all!$E$14:$AD$553,14),\"\")","v":""},{"$f":"IF($AE215=1,VLOOKUP($F215,all!$E$14:$AD$553,15),\"\")","v":""},{"$f":"IF($AE215=1,VLOOKUP($F215,all!$E$14:$AD$553,16),\"\")","v":""},{"$f":"IF($AE215=1,VLOOKUP($F215,all!$E$14:$AD$553,17),\"\")","v":""},{"$f":"IF($AE215=1,VLOOKUP($F215,all!$E$14:$AD$553,18),\"\")","v":""},{"$f":"IF($AE215=1,VLOOKUP($F215,all!$E$14:$AD$553,19),\"\")","v":""},{"$f":"IF($AE215=1,VLOOKUP($F215,all!$E$14:$AD$553,20),\"\")","v":""},{"$f":"IF($AE215=1,VLOOKUP($F215,all!$E$14:$AD$553,21),\"\")","v":""},{"$f":"IF($AE215=1,VLOOKUP($F215,all!$E$14:$AD$553,22),\"\")","v":""},{"$f":"IF($AE215=1,VLOOKUP($F215,all!$E$14:$AD$553,23),\"\")","v":""},{"$f":"IF($AE215=1,VLOOKUP($F215,all!$E$14:$AD$553,24),\"\")","v":""},{"$f":"IF($AE215=1,VLOOKUP($F215,all!$E$14:$AD$553,25),\"\")","v":""},null,{"$f":"COUNTIF(all!$E$14:$E$553,F215)","v":0},null,51,245.42153846153843,2.7995450947480361E-21,"",2.7995450947480361E-21,"",""]
[{"$f":"IF(OR('Y2'!$W$1=6,('Y2'!$W$1=7)),\"\",'Y2'!AA211)","v":""},{"$f":"IF(OR('Y2'!$W$1=6,('Y2'!$W$1=7)),\"\",'Y2'!AB211)","v":""},null,{"$f":"IF(OR('Y2'!$W$1=6,('Y2'!$W$1=7)),\"\",'Y2'!AC211)","v":""},null,183,{"$f":"IF($AE216=1,VLOOKUP($F216,all!$E$14:$AD$553,3),\"\")","v":""},{"$f":"IF($AE216=1,VLOOKUP($F216,all!$E$14:$AD$553,4),\"\")","v":""},{"$f":"IF($AE216=1,VLOOKUP($F216,all!$E$14:$AD$553,5),\"\")","v":""},{"$f":"IF($AE216=1,VLOOKUP($F216,all!$E$14:$AD$553,6),\"\")","v":""},{"$f":"IF($AE216=1,VLOOKUP($F216,all!$E$14:$AD$553,7),\"\")","v":""},{"$f":"IF($AE216=1,VLOOKUP($F216,all!$E$14:$AD$553,8),\"\")","v":""},{"$f":"IF($AE216=1,VLOOKUP($F216,all!$E$14:$AD$553,9),\"\")","v":""},{"$f":"IF($AE216=1,VLOOKUP($F216,all!$E$14:$AD$553,10),\"\")","v":""},{"$f":"IF($AE216=1,VLOOKUP($F216,all!$E$14:$AD$553,11),\"\")","v":""},{"$f":"IF($AE216=1,VLOOKUP($F216,all!$E$14:$AD$553,12),\"\")","v":""},{"$f":"IF($AE216=1,VLOOKUP($F216,all!$E$14:$AD$553,13),\"\")","v":""},{"$f":"IF($AE216=1,VLOOKUP($F216,all!$E$14:$AD$553,14),\"\")","v":""},{"$f":"IF($AE216=1,VLOOKUP($F216,all!$E$14:$AD$553,15),\"\")","v":""},{"$f":"IF($AE216=1,VLOOKUP($F216,all!$E$14:$AD$553,16),\"\")","v":""},{"$f":"IF($AE216=1,VLOOKUP($F216,all!$E$14:$AD$553,17),\"\")","v":""},{"$f":"IF($AE216=1,VLOOKUP($F216,all!$E$14:$AD$553,18),\"\")","v":""},{"$f":"IF($AE216=1,VLOOKUP($F216,all!$E$14:$AD$553,19),\"\")","v":""},{"$f":"IF($AE216=1,VLOOKUP($F216,all!$E$14:$AD$553,20),\"\")","v":""},{"$f":"IF($AE216=1,VLOOKUP($F216,all!$E$14:$AD$553,21),\"\")","v":""},{"$f":"IF($AE216=1,VLOOKUP($F216,all!$E$14:$AD$553,22),\"\")","v":""},{"$f":"IF($AE216=1,VLOOKUP($F216,all!$E$14:$AD$553,23),\"\")","v":""},{"$f":"IF($AE216=1,VLOOKUP($F216,all!$E$14:$AD$553,24),\"\")","v":""},{"$f":"IF($AE216=1,VLOOKUP($F216,all!$E$14:$AD$553,25),\"\")","v":""},null,{"$f":"COUNTIF(all!$E$14:$E$553,F216)","v":0},null,52,248.65076923076921,6.4640244408850985E-23,"",6.4640244408850985E-23,"",""]
[{"$f":"IF(OR('Y2'!$W$1=6,('Y2'!$W$1=7)),\"\",'Y2'!AA212)","v":""},{"$f":"IF(OR('Y2'!$W$1=6,('Y2'!$W$1=7)),\"\",'Y2'!AB212)","v":""},null,{"$f":"IF(OR('Y2'!$W$1=6,('Y2'!$W$1=7)),\"\",'Y2'!AC212)","v":""},null,184,{"$f":"IF($AE217=1,VLOOKUP($F217,all!$E$14:$AD$553,3),\"\")","v":""},{"$f":"IF($AE217=1,VLOOKUP($F217,all!$E$14:$AD$553,4),\"\")","v":""},{"$f":"IF($AE217=1,VLOOKUP($F217,all!$E$14:$AD$553,5),\"\")","v":""},{"$f":"IF($AE217=1,VLOOKUP($F217,all!$E$14:$AD$553,6),\"\")","v":""},{"$f":"IF($AE217=1,VLOOKUP($F217,all!$E$14:$AD$553,7),\"\")","v":""},{"$f":"IF($AE217=1,VLOOKUP($F217,all!$E$14:$AD$553,8),\"\")","v":""},{"$f":"IF($AE217=1,VLOOKUP($F217,all!$E$14:$AD$553,9),\"\")","v":""},{"$f":"IF($AE217=1,VLOOKUP($F217,all!$E$14:$AD$553,10),\"\")","v":""},{"$f":"IF($AE217=1,VLOOKUP($F217,all!$E$14:$AD$553,11),\"\")","v":""},{"$f":"IF($AE217=1,VLOOKUP($F217,all!$E$14:$AD$553,12),\"\")","v":""},{"$f":"IF($AE217=1,VLOOKUP($F217,all!$E$14:$AD$553,13),\"\")","v":""},{"$f":"IF($AE217=1,VLOOKUP($F217,all!$E$14:$AD$553,14),\"\")","v":""},{"$f":"IF($AE217=1,VLOOKUP($F217,all!$E$14:$AD$553,15),\"\")","v":""},{"$f":"IF($AE217=1,VLOOKUP($F217,all!$E$14:$AD$553,16),\"\")","v":""},{"$f":"IF($AE217=1,VLOOKUP($F217,all!$E$14:$AD$553,17),\"\")","v":""},{"$f":"IF($AE217=1,VLOOKUP($F217,all!$E$14:$AD$553,18),\"\")","v":""},{"$f":"IF($AE217=1,VLOOKUP($F217,all!$E$14:$AD$553,19),\"\")","v":""},{"$f":"IF($AE217=1,VLOOKUP($F217,all!$E$14:$AD$553,20),\"\")","v":""},{"$f":"IF($AE217=1,VLOOKUP($F217,all!$E$14:$AD$553,21),\"\")","v":""},{"$f":"IF($AE217=1,VLOOKUP($F217,all!$E$14:$AD$553,22),\"\")","v":""},{"$f":"IF($AE217=1,VLOOKUP($F217,all!$E$14:$AD$553,23),\"\")","v":""},{"$f":"IF($AE217=1,VLOOKUP($F217,all!$E$14:$AD$553,24),\"\")","v":""},{"$f":"IF($AE217=1,VLOOKUP($F217,all!$E$14:$AD$553,25),\"\")","v":""},null,{"$f":"COUNTIF(all!$E$14:$E$553,F217)","v":0},null,53,{"$f":"AA3","v":251.88},1.279732342182405E-24,"",1.279732342182405E-24,"",""]
[null,null,null,null,null,185,{"$f":"IF($AE218=1,VLOOKUP($F218,all!$E$14:$AD$553,3),\"\")","v":""},{"$f":"IF($AE218=1,VLOOKUP($F218,all!$E$14:$AD$553,4),\"\")","v":""},{"$f":"IF($AE218=1,VLOOKUP($F218,all!$E$14:$AD$553,5),\"\")","v":""},{"$f":"IF($AE218=1,VLOOKUP($F218,all!$E$14:$AD$553,6),\"\")","v":""},{"$f":"IF($AE218=1,VLOOKUP($F218,all!$E$14:$AD$553,7),\"\")","v":""},{"$f":"IF($AE218=1,VLOOKUP($F218,all!$E$14:$AD$553,8),\"\")","v":""},{"$f":"IF($AE218=1,VLOOKUP($F218,all!$E$14:$AD$553,9),\"\")","v":""},{"$f":"IF($AE218=1,VLOOKUP($F218,all!$E$14:$AD$553,10),\"\")","v":""},{"$f":"IF($AE218=1,VLOOKUP($F218,all!$E$14:$AD$553,11),\"\")","v":""},{"$f":"IF($AE218=1,VLOOKUP($F218,all!$E$14:$AD$553,12),\"\")","v":""},{"$f":"IF($AE218=1,VLOOKUP($F218,all!$E$14:$AD$553,13),\"\")","v":""},{"$f":"IF($AE218=1,VLOOKUP($F218,all!$E$14:$AD$553,14),\"\")","v":""},{"$f":"IF($AE218=1,VLOOKUP($F218,all!$E$14:$AD$553,15),\"\")","v":""},{"$f":"IF($AE218=1,VLOOKUP($F218,all!$E$14:$AD$553,16),\"\")","v":""},{"$f":"IF($AE218=1,VLOOKUP($F218,all!$E$14:$AD$553,17),\"\")","v":""},{"$f":"IF($AE218=1,VLOOKUP($F218,all!$E$14:$AD$553,18),\"\")","v":""},{"$f":"IF($AE218=1,VLOOKUP($F218,all!$E$14:$AD$553,19),\"\")","v":""},{"$f":"IF($AE218=1,VLOOKUP($F218,all!$E$14:$AD$553,20),\"\")","v":""},{"$f":"IF($AE218=1,VLOOKUP($F218,all!$E$14:$AD$553,21),\"\")","v":""},{"$f":"IF($AE218=1,VLOOKUP($F218,all!$E$14:$AD$553,22),\"\")","v":""},{"$f":"IF($AE218=1,VLOOKUP($F218,all!$E$14:$AD$553,23),\"\")","v":""},{"$f":"IF($AE218=1,VLOOKUP($F218,all!$E$14:$AD$553,24),\"\")","v":""},{"$f":"IF($AE218=1,VLOOKUP($F218,all!$E$14:$AD$553,25),\"\")","v":""},null,{"$f":"COUNTIF(all!$E$14:$E$553,F218)","v":0}]
[null,null,null,null,null,186,{"$f":"IF($AE219=1,VLOOKUP($F219,all!$E$14:$AD$553,3),\"\")","v":""},{"$f":"IF($AE219=1,VLOOKUP($F219,all!$E$14:$AD$553,4),\"\")","v":""},{"$f":"IF($AE219=1,VLOOKUP($F219,all!$E$14:$AD$553,5),\"\")","v":""},{"$f":"IF($AE219=1,VLOOKUP($F219,all!$E$14:$AD$553,6),\"\")","v":""},{"$f":"IF($AE219=1,VLOOKUP($F219,all!$E$14:$AD$553,7),\"\")","v":""},{"$f":"IF($AE219=1,VLOOKUP($F219,all!$E$14:$AD$553,8),\"\")","v":""},{"$f":"IF($AE219=1,VLOOKUP($F219,all!$E$14:$AD$553,9),\"\")","v":""},{"$f":"IF($AE219=1,VLOOKUP($F219,all!$E$14:$AD$553,10),\"\")","v":""},{"$f":"IF($AE219=1,VLOOKUP($F219,all!$E$14:$AD$553,11),\"\")","v":""},{"$f":"IF($AE219=1,VLOOKUP($F219,all!$E$14:$AD$553,12),\"\")","v":""},{"$f":"IF($AE219=1,VLOOKUP($F219,all!$E$14:$AD$553,13),\"\")","v":""},{"$f":"IF($AE219=1,VLOOKUP($F219,all!$E$14:$AD$553,14),\"\")","v":""},{"$f":"IF($AE219=1,VLOOKUP($F219,all!$E$14:$AD$553,15),\"\")","v":""},{"$f":"IF($AE219=1,VLOOKUP($F219,all!$E$14:$AD$553,16),\"\")","v":""},{"$f":"IF($AE219=1,VLOOKUP($F219,all!$E$14:$AD$553,17),\"\")","v":""},{"$f":"IF($AE219=1,VLOOKUP($F219,all!$E$14:$AD$553,18),\"\")","v":""},{"$f":"IF($AE219=1,VLOOKUP($F219,all!$E$14:$AD$553,19),\"\")","v":""},{"$f":"IF($AE219=1,VLOOKUP($F219,all!$E$14:$AD$553,20),\"\")","v":""},{"$f":"IF($AE219=1,VLOOKUP($F219,all!$E$14:$AD$553,21),\"\")","v":""},{"$f":"IF($AE219=1,VLOOKUP($F219,all!$E$14:$AD$553,22),\"\")","v":""},{"$f":"IF($AE219=1,VLOOKUP($F219,all!$E$14:$AD$553,23),\"\")","v":""},{"$f":"IF($AE219=1,VLOOKUP($F219,all!$E$14:$AD$553,24),\"\")","v":""},{"$f":"IF($AE219=1,VLOOKUP($F219,all!$E$14:$AD$553,25),\"\")","v":""},null,{"$f":"COUNTIF(all!$E$14:$E$553,F219)","v":0}]
[null,null,null,null,null,187,{"$f":"IF($AE220=1,VLOOKUP($F220,all!$E$14:$AD$553,3),\"\")","v":""},{"$f":"IF($AE220=1,VLOOKUP($F220,all!$E$14:$AD$553,4),\"\")","v":""},{"$f":"IF($AE220=1,VLOOKUP($F220,all!$E$14:$AD$553,5),\"\")","v":""},{"$f":"IF($AE220=1,VLOOKUP($F220,all!$E$14:$AD$553,6),\"\")","v":""},{"$f":"IF($AE220=1,VLOOKUP($F220,all!$E$14:$AD$553,7),\"\")","v":""},{"$f":"IF($AE220=1,VLOOKUP($F220,all!$E$14:$AD$553,8),\"\")","v":""},{"$f":"IF($AE220=1,VLOOKUP($F220,all!$E$14:$AD$553,9),\"\")","v":""},{"$f":"IF($AE220=1,VLOOKUP($F220,all!$E$14:$AD$553,10),\"\")","v":""},{"$f":"IF($AE220=1,VLOOKUP($F220,all!$E$14:$AD$553,11),\"\")","v":""},{"$f":"IF($AE220=1,VLOOKUP($F220,all!$E$14:$AD$553,12),\"\")","v":""},{"$f":"IF($AE220=1,VLOOKUP($F220,all!$E$14:$AD$553,13),\"\")","v":""},{"$f":"IF($AE220=1,VLOOKUP($F220,all!$E$14:$AD$553,14),\"\")","v":""},{"$f":"IF($AE220=1,VLOOKUP($F220,all!$E$14:$AD$553,15),\"\")","v":""},{"$f":"IF($AE220=1,VLOOKUP($F220,all!$E$14:$AD$553,16),\"\")","v":""},{"$f":"IF($AE220=1,VLOOKUP($F220,all!$E$14:$AD$553,17),\"\")","v":""},{"$f":"IF($AE220=1,VLOOKUP($F220,all!$E$14:$AD$553,18),\"\")","v":""},{"$f":"IF($AE220=1,VLOOKUP($F220,all!$E$14:$AD$553,19),\"\")","v":""},{"$f":"IF($AE220=1,VLOOKUP($F220,all!$E$14:$AD$553,20),\"\")","v":""},{"$f":"IF($AE220=1,VLOOKUP($F220,all!$E$14:$AD$553,21),\"\")","v":""},{"$f":"IF($AE220=1,VLOOKUP($F220,all!$E$14:$AD$553,22),\"\")","v":""},{"$f":"IF($AE220=1,VLOOKUP($F220,all!$E$14:$AD$553,23),\"\")","v":""},{"$f":"IF($AE220=1,VLOOKUP($F220,all!$E$14:$AD$553,24),\"\")","v":""},{"$f":"IF($AE220=1,VLOOKUP($F220,all!$E$14:$AD$553,25),\"\")","v":""},null,{"$f":"COUNTIF(all!$E$14:$E$553,F220)","v":0}]
[null,null,null,null,null,188,{"$f":"IF($AE221=1,VLOOKUP($F221,all!$E$14:$AD$553,3),\"\")","v":""},{"$f":"IF($AE221=1,VLOOKUP($F221,all!$E$14:$AD$553,4),\"\")","v":""},{"$f":"IF($AE221=1,VLOOKUP($F221,all!$E$14:$AD$553,5),\"\")","v":""},{"$f":"IF($AE221=1,VLOOKUP($F221,all!$E$14:$AD$553,6),\"\")","v":""},{"$f":"IF($AE221=1,VLOOKUP($F221,all!$E$14:$AD$553,7),\"\")","v":""},{"$f":"IF($AE221=1,VLOOKUP($F221,all!$E$14:$AD$553,8),\"\")","v":""},{"$f":"IF($AE221=1,VLOOKUP($F221,all!$E$14:$AD$553,9),\"\")","v":""},{"$f":"IF($AE221=1,VLOOKUP($F221,all!$E$14:$AD$553,10),\"\")","v":""},{"$f":"IF($AE221=1,VLOOKUP($F221,all!$E$14:$AD$553,11),\"\")","v":""},{"$f":"IF($AE221=1,VLOOKUP($F221,all!$E$14:$AD$553,12),\"\")","v":""},{"$f":"IF($AE221=1,VLOOKUP($F221,all!$E$14:$AD$553,13),\"\")","v":""},{"$f":"IF($AE221=1,VLOOKUP($F221,all!$E$14:$AD$553,14),\"\")","v":""},{"$f":"IF($AE221=1,VLOOKUP($F221,all!$E$14:$AD$553,15),\"\")","v":""},{"$f":"IF($AE221=1,VLOOKUP($F221,all!$E$14:$AD$553,16),\"\")","v":""},{"$f":"IF($AE221=1,VLOOKUP($F221,all!$E$14:$AD$553,17),\"\")","v":""},{"$f":"IF($AE221=1,VLOOKUP($F221,all!$E$14:$AD$553,18),\"\")","v":""},{"$f":"IF($AE221=1,VLOOKUP($F221,all!$E$14:$AD$553,19),\"\")","v":""},{"$f":"IF($AE221=1,VLOOKUP($F221,all!$E$14:$AD$553,20),\"\")","v":""},{"$f":"IF($AE221=1,VLOOKUP($F221,all!$E$14:$AD$553,21),\"\")","v":""},{"$f":"IF($AE221=1,VLOOKUP($F221,all!$E$14:$AD$553,22),\"\")","v":""},{"$f":"IF($AE221=1,VLOOKUP($F221,all!$E$14:$AD$553,23),\"\")","v":""},{"$f":"IF($AE221=1,VLOOKUP($F221,all!$E$14:$AD$553,24),\"\")","v":""},{"$f":"IF($AE221=1,VLOOKUP($F221,all!$E$14:$AD$553,25),\"\")","v":""},null,{"$f":"COUNTIF(all!$E$14:$E$553,F221)","v":0}]
[null,null,null,null,null,189,{"$f":"IF($AE222=1,VLOOKUP($F222,all!$E$14:$AD$553,3),\"\")","v":""},{"$f":"IF($AE222=1,VLOOKUP($F222,all!$E$14:$AD$553,4),\"\")","v":""},{"$f":"IF($AE222=1,VLOOKUP($F222,all!$E$14:$AD$553,5),\"\")","v":""},{"$f":"IF($AE222=1,VLOOKUP($F222,all!$E$14:$AD$553,6),\"\")","v":""},{"$f":"IF($AE222=1,VLOOKUP($F222,all!$E$14:$AD$553,7),\"\")","v":""},{"$f":"IF($AE222=1,VLOOKUP($F222,all!$E$14:$AD$553,8),\"\")","v":""},{"$f":"IF($AE222=1,VLOOKUP($F222,all!$E$14:$AD$553,9),\"\")","v":""},{"$f":"IF($AE222=1,VLOOKUP($F222,all!$E$14:$AD$553,10),\"\")","v":""},{"$f":"IF($AE222=1,VLOOKUP($F222,all!$E$14:$AD$553,11),\"\")","v":""},{"$f":"IF($AE222=1,VLOOKUP($F222,all!$E$14:$AD$553,12),\"\")","v":""},{"$f":"IF($AE222=1,VLOOKUP($F222,all!$E$14:$AD$553,13),\"\")","v":""},{"$f":"IF($AE222=1,VLOOKUP($F222,all!$E$14:$AD$553,14),\"\")","v":""},{"$f":"IF($AE222=1,VLOOKUP($F222,all!$E$14:$AD$553,15),\"\")","v":""},{"$f":"IF($AE222=1,VLOOKUP($F222,all!$E$14:$AD$553,16),\"\")","v":""},{"$f":"IF($AE222=1,VLOOKUP($F222,all!$E$14:$AD$553,17),\"\")","v":""},{"$f":"IF($AE222=1,VLOOKUP($F222,all!$E$14:$AD$553,18),\"\")","v":""},{"$f":"IF($AE222=1,VLOOKUP($F222,all!$E$14:$AD$553,19),\"\")","v":""},{"$f":"IF($AE222=1,VLOOKUP($F222,all!$E$14:$AD$553,20),\"\")","v":""},{"$f":"IF($AE222=1,VLOOKUP($F222,all!$E$14:$AD$553,21),\"\")","v":""},{"$f":"IF($AE222=1,VLOOKUP($F222,all!$E$14:$AD$553,22),\"\")","v":""},{"$f":"IF($AE222=1,VLOOKUP($F222,all!$E$14:$AD$553,23),\"\")","v":""},{"$f":"IF($AE222=1,VLOOKUP($F222,all!$E$14:$AD$553,24),\"\")","v":""},{"$f":"IF($AE222=1,VLOOKUP($F222,all!$E$14:$AD$553,25),\"\")","v":""},null,{"$f":"COUNTIF(all!$E$14:$E$553,F222)","v":0}]
[null,null,null,null,null,190,{"$f":"IF($AE223=1,VLOOKUP($F223,all!$E$14:$AD$553,3),\"\")","v":""},{"$f":"IF($AE223=1,VLOOKUP($F223,all!$E$14:$AD$553,4),\"\")","v":""},{"$f":"IF($AE223=1,VLOOKUP($F223,all!$E$14:$AD$553,5),\"\")","v":""},{"$f":"IF($AE223=1,VLOOKUP($F223,all!$E$14:$AD$553,6),\"\")","v":""},{"$f":"IF($AE223=1,VLOOKUP($F223,all!$E$14:$AD$553,7),\"\")","v":""},{"$f":"IF($AE223=1,VLOOKUP($F223,all!$E$14:$AD$553,8),\"\")","v":""},{"$f":"IF($AE223=1,VLOOKUP($F223,all!$E$14:$AD$553,9),\"\")","v":""},{"$f":"IF($AE223=1,VLOOKUP($F223,all!$E$14:$AD$553,10),\"\")","v":""},{"$f":"IF($AE223=1,VLOOKUP($F223,all!$E$14:$AD$553,11),\"\")","v":""},{"$f":"IF($AE223=1,VLOOKUP($F223,all!$E$14:$AD$553,12),\"\")","v":""},{"$f":"IF($AE223=1,VLOOKUP($F223,all!$E$14:$AD$553,13),\"\")","v":""},{"$f":"IF($AE223=1,VLOOKUP($F223,all!$E$14:$AD$553,14),\"\")","v":""},{"$f":"IF($AE223=1,VLOOKUP($F223,all!$E$14:$AD$553,15),\"\")","v":""},{"$f":"IF($AE223=1,VLOOKUP($F223,all!$E$14:$AD$553,16),\"\")","v":""},{"$f":"IF($AE223=1,VLOOKUP($F223,all!$E$14:$AD$553,17),\"\")","v":""},{"$f":"IF($AE223=1,VLOOKUP($F223,all!$E$14:$AD$553,18),\"\")","v":""},{"$f":"IF($AE223=1,VLOOKUP($F223,all!$E$14:$AD$553,19),\"\")","v":""},{"$f":"IF($AE223=1,VLOOKUP($F223,all!$E$14:$AD$553,20),\"\")","v":""},{"$f":"IF($AE223=1,VLOOKUP($F223,all!$E$14:$AD$553,21),\"\")","v":""},{"$f":"IF($AE223=1,VLOOKUP($F223,all!$E$14:$AD$553,22),\"\")","v":""},{"$f":"IF($AE223=1,VLOOKUP($F223,all!$E$14:$AD$553,23),\"\")","v":""},{"$f":"IF($AE223=1,VLOOKUP($F223,all!$E$14:$AD$553,24),\"\")","v":""},{"$f":"IF($AE223=1,VLOOKUP($F223,all!$E$14:$AD$553,25),\"\")","v":""},null,{"$f":"COUNTIF(all!$E$14:$E$553,F223)","v":0},null,"striek inteval"]
[null,null,null,null,null,191,{"$f":"IF($AE224=1,VLOOKUP($F224,all!$E$14:$AD$553,3),\"\")","v":""},{"$f":"IF($AE224=1,VLOOKUP($F224,all!$E$14:$AD$553,4),\"\")","v":""},{"$f":"IF($AE224=1,VLOOKUP($F224,all!$E$14:$AD$553,5),\"\")","v":""},{"$f":"IF($AE224=1,VLOOKUP($F224,all!$E$14:$AD$553,6),\"\")","v":""},{"$f":"IF($AE224=1,VLOOKUP($F224,all!$E$14:$AD$553,7),\"\")","v":""},{"$f":"IF($AE224=1,VLOOKUP($F224,all!$E$14:$AD$553,8),\"\")","v":""},{"$f":"IF($AE224=1,VLOOKUP($F224,all!$E$14:$AD$553,9),\"\")","v":""},{"$f":"IF($AE224=1,VLOOKUP($F224,all!$E$14:$AD$553,10),\"\")","v":""},{"$f":"IF($AE224=1,VLOOKUP($F224,all!$E$14:$AD$553,11),\"\")","v":""},{"$f":"IF($AE224=1,VLOOKUP($F224,all!$E$14:$AD$553,12),\"\")","v":""},{"$f":"IF($AE224=1,VLOOKUP($F224,all!$E$14:$AD$553,13),\"\")","v":""},{"$f":"IF($AE224=1,VLOOKUP($F224,all!$E$14:$AD$553,14),\"\")","v":""},{"$f":"IF($AE224=1,VLOOKUP($F224,all!$E$14:$AD$553,15),\"\")","v":""},{"$f":"IF($AE224=1,VLOOKUP($F224,all!$E$14:$AD$553,16),\"\")","v":""},{"$f":"IF($AE224=1,VLOOKUP($F224,all!$E$14:$AD$553,17),\"\")","v":""},{"$f":"IF($AE224=1,VLOOKUP($F224,all!$E$14:$AD$553,18),\"\")","v":""},{"$f":"IF($AE224=1,VLOOKUP($F224,all!$E$14:$AD$553,19),\"\")","v":""},{"$f":"IF($AE224=1,VLOOKUP($F224,all!$E$14:$AD$553,20),\"\")","v":""},{"$f":"IF($AE224=1,VLOOKUP($F224,all!$E$14:$AD$553,21),\"\")","v":""},{"$f":"IF($AE224=1,VLOOKUP($F224,all!$E$14:$AD$553,22),\"\")","v":""},{"$f":"IF($AE224=1,VLOOKUP($F224,all!$E$14:$AD$553,23),\"\")","v":""},{"$f":"IF($AE224=1,VLOOKUP($F224,all!$E$14:$AD$553,24),\"\")","v":""},{"$f":"IF($AE224=1,VLOOKUP($F224,all!$E$14:$AD$553,25),\"\")","v":""},null,{"$f":"COUNTIF(all!$E$14:$E$553,F224)","v":0}]
[null,null,null,null,null,192,{"$f":"IF($AE225=1,VLOOKUP($F225,all!$E$14:$AD$553,3),\"\")","v":""},{"$f":"IF($AE225=1,VLOOKUP($F225,all!$E$14:$AD$553,4),\"\")","v":""},{"$f":"IF($AE225=1,VLOOKUP($F225,all!$E$14:$AD$553,5),\"\")","v":""},{"$f":"IF($AE225=1,VLOOKUP($F225,all!$E$14:$AD$553,6),\"\")","v":""},{"$f":"IF($AE225=1,VLOOKUP($F225,all!$E$14:$AD$553,7),\"\")","v":""},{"$f":"IF($AE225=1,VLOOKUP($F225,all!$E$14:$AD$553,8),\"\")","v":""},{"$f":"IF($AE225=1,VLOOKUP($F225,all!$E$14:$AD$553,9),\"\")","v":""},{"$f":"IF($AE225=1,VLOOKUP($F225,all!$E$14:$AD$553,10),\"\")","v":""},{"$f":"IF($AE225=1,VLOOKUP($F225,all!$E$14:$AD$553,11),\"\")","v":""},{"$f":"IF($AE225=1,VLOOKUP($F225,all!$E$14:$AD$553,12),\"\")","v":""},{"$f":"IF($AE225=1,VLOOKUP($F225,all!$E$14:$AD$553,13),\"\")","v":""},{"$f":"IF($AE225=1,VLOOKUP($F225,all!$E$14:$AD$553,14),\"\")","v":""},{"$f":"IF($AE225=1,VLOOKUP($F225,all!$E$14:$AD$553,15),\"\")","v":""},{"$f":"IF($AE225=1,VLOOKUP($F225,all!$E$14:$AD$553,16),\"\")","v":""},{"$f":"IF($AE225=1,VLOOKUP($F225,all!$E$14:$AD$553,17),\"\")","v":""},{"$f":"IF($AE225=1,VLOOKUP($F225,all!$E$14:$AD$553,18),\"\")","v":""},{"$f":"IF($AE225=1,VLOOKUP($F225,all!$E$14:$AD$553,19),\"\")","v":""},{"$f":"IF($AE225=1,VLOOKUP($F225,all!$E$14:$AD$553,20),\"\")","v":""},{"$f":"IF($AE225=1,VLOOKUP($F225,all!$E$14:$AD$553,21),\"\")","v":""},{"$f":"IF($AE225=1,VLOOKUP($F225,all!$E$14:$AD$553,22),\"\")","v":""},{"$f":"IF($AE225=1,VLOOKUP($F225,all!$E$14:$AD$553,23),\"\")","v":""},{"$f":"IF($AE225=1,VLOOKUP($F225,all!$E$14:$AD$553,24),\"\")","v":""},{"$f":"IF($AE225=1,VLOOKUP($F225,all!$E$14:$AD$553,25),\"\")","v":""},null,{"$f":"COUNTIF(all!$E$14:$E$553,F225)","v":0},null,0.1,0.1]
[null,null,null,null,null,193,{"$f":"IF($AE226=1,VLOOKUP($F226,all!$E$14:$AD$553,3),\"\")","v":""},{"$f":"IF($AE226=1,VLOOKUP($F226,all!$E$14:$AD$553,4),\"\")","v":""},{"$f":"IF($AE226=1,VLOOKUP($F226,all!$E$14:$AD$553,5),\"\")","v":""},{"$f":"IF($AE226=1,VLOOKUP($F226,all!$E$14:$AD$553,6),\"\")","v":""},{"$f":"IF($AE226=1,VLOOKUP($F226,all!$E$14:$AD$553,7),\"\")","v":""},{"$f":"IF($AE226=1,VLOOKUP($F226,all!$E$14:$AD$553,8),\"\")","v":""},{"$f":"IF($AE226=1,VLOOKUP($F226,all!$E$14:$AD$553,9),\"\")","v":""},{"$f":"IF($AE226=1,VLOOKUP($F226,all!$E$14:$AD$553,10),\"\")","v":""},{"$f":"IF($AE226=1,VLOOKUP($F226,all!$E$14:$AD$553,11),\"\")","v":""},{"$f":"IF($AE226=1,VLOOKUP($F226,all!$E$14:$AD$553,12),\"\")","v":""},{"$f":"IF($AE226=1,VLOOKUP($F226,all!$E$14:$AD$553,13),\"\")","v":""},{"$f":"IF($AE226=1,VLOOKUP($F226,all!$E$14:$AD$553,14),\"\")","v":""},{"$f":"IF($AE226=1,VLOOKUP($F226,all!$E$14:$AD$553,15),\"\")","v":""},{"$f":"IF($AE226=1,VLOOKUP($F226,all!$E$14:$AD$553,16),\"\")","v":""},{"$f":"IF($AE226=1,VLOOKUP($F226,all!$E$14:$AD$553,17),\"\")","v":""},{"$f":"IF($AE226=1,VLOOKUP($F226,all!$E$14:$AD$553,18),\"\")","v":""},{"$f":"IF($AE226=1,VLOOKUP($F226,all!$E$14:$AD$553,19),\"\")","v":""},{"$f":"IF($AE226=1,VLOOKUP($F226,all!$E$14:$AD$553,20),\"\")","v":""},{"$f":"IF($AE226=1,VLOOKUP($F226,all!$E$14:$AD$553,21),\"\")","v":""},{"$f":"IF($AE226=1,VLOOKUP($F226,all!$E$14:$AD$553,22),\"\")","v":""},{"$f":"IF($AE226=1,VLOOKUP($F226,all!$E$14:$AD$553,23),\"\")","v":""},{"$f":"IF($AE226=1,VLOOKUP($F226,all!$E$14:$AD$553,24),\"\")","v":""},{"$f":"IF($AE226=1,VLOOKUP($F226,all!$E$14:$AD$553,25),\"\")","v":""},null,{"$f":"COUNTIF(all!$E$14:$E$553,F226)","v":0},null,5,1]
[null,null,null,null,null,194,{"$f":"IF($AE227=1,VLOOKUP($F227,all!$E$14:$AD$553,3),\"\")","v":""},{"$f":"IF($AE227=1,VLOOKUP($F227,all!$E$14:$AD$553,4),\"\")","v":""},{"$f":"IF($AE227=1,VLOOKUP($F227,all!$E$14:$AD$553,5),\"\")","v":""},{"$f":"IF($AE227=1,VLOOKUP($F227,all!$E$14:$AD$553,6),\"\")","v":""},{"$f":"IF($AE227=1,VLOOKUP($F227,all!$E$14:$AD$553,7),\"\")","v":""},{"$f":"IF($AE227=1,VLOOKUP($F227,all!$E$14:$AD$553,8),\"\")","v":""},{"$f":"IF($AE227=1,VLOOKUP($F227,all!$E$14:$AD$553,9),\"\")","v":""},{"$f":"IF($AE227=1,VLOOKUP($F227,all!$E$14:$AD$553,10),\"\")","v":""},{"$f":"IF($AE227=1,VLOOKUP($F227,all!$E$14:$AD$553,11),\"\")","v":""},{"$f":"IF($AE227=1,VLOOKUP($F227,all!$E$14:$AD$553,12),\"\")","v":""},{"$f":"IF($AE227=1,VLOOKUP($F227,all!$E$14:$AD$553,13),\"\")","v":""},{"$f":"IF($AE227=1,VLOOKUP($F227,all!$E$14:$AD$553,14),\"\")","v":""},{"$f":"IF($AE227=1,VLOOKUP($F227,all!$E$14:$AD$553,15),\"\")","v":""},{"$f":"IF($AE227=1,VLOOKUP($F227,all!$E$14:$AD$553,16),\"\")","v":""},{"$f":"IF($AE227=1,VLOOKUP($F227,all!$E$14:$AD$553,17),\"\")","v":""},{"$f":"IF($AE227=1,VLOOKUP($F227,all!$E$14:$AD$553,18),\"\")","v":""},{"$f":"IF($AE227=1,VLOOKUP($F227,all!$E$14:$AD$553,19),\"\")","v":""},{"$f":"IF($AE227=1,VLOOKUP($F227,all!$E$14:$AD$553,20),\"\")","v":""},{"$f":"IF($AE227=1,VLOOKUP($F227,all!$E$14:$AD$553,21),\"\")","v":""},{"$f":"IF($AE227=1,VLOOKUP($F227,all!$E$14:$AD$553,22),\"\")","v":""},{"$f":"IF($AE227=1,VLOOKUP($F227,all!$E$14:$AD$553,23),\"\")","v":""},{"$f":"IF($AE227=1,VLOOKUP($F227,all!$E$14:$AD$553,24),\"\")","v":""},{"$f":"IF($AE227=1,VLOOKUP($F227,all!$E$14:$AD$553,25),\"\")","v":""},null,{"$f":"COUNTIF(all!$E$14:$E$553,F227)","v":0},null,10,2.5]
[null,null,null,null,null,195,{"$f":"IF($AE228=1,VLOOKUP($F228,all!$E$14:$AD$553,3),\"\")","v":""},{"$f":"IF($AE228=1,VLOOKUP($F228,all!$E$14:$AD$553,4),\"\")","v":""},{"$f":"IF($AE228=1,VLOOKUP($F228,all!$E$14:$AD$553,5),\"\")","v":""},{"$f":"IF($AE228=1,VLOOKUP($F228,all!$E$14:$AD$553,6),\"\")","v":""},{"$f":"IF($AE228=1,VLOOKUP($F228,all!$E$14:$AD$553,7),\"\")","v":""},{"$f":"IF($AE228=1,VLOOKUP($F228,all!$E$14:$AD$553,8),\"\")","v":""},{"$f":"IF($AE228=1,VLOOKUP($F228,all!$E$14:$AD$553,9),\"\")","v":""},{"$f":"IF($AE228=1,VLOOKUP($F228,all!$E$14:$AD$553,10),\"\")","v":""},{"$f":"IF($AE228=1,VLOOKUP($F228,all!$E$14:$AD$553,11),\"\")","v":""},{"$f":"IF($AE228=1,VLOOKUP($F228,all!$E$14:$AD$553,12),\"\")","v":""},{"$f":"IF($AE228=1,VLOOKUP($F228,all!$E$14:$AD$553,13),\"\")","v":""},{"$f":"IF($AE228=1,VLOOKUP($F228,all!$E$14:$AD$553,14),\"\")","v":""},{"$f":"IF($AE228=1,VLOOKUP($F228,all!$E$14:$AD$553,15),\"\")","v":""},{"$f":"IF($AE228=1,VLOOKUP($F228,all!$E$14:$AD$553,16),\"\")","v":""},{"$f":"IF($AE228=1,VLOOKUP($F228,all!$E$14:$AD$553,17),\"\")","v":""},{"$f":"IF($AE228=1,VLOOKUP($F228,all!$E$14:$AD$553,18),\"\")","v":""},{"$f":"IF($AE228=1,VLOOKUP($F228,all!$E$14:$AD$553,19),\"\")","v":""},{"$f":"IF($AE228=1,VLOOKUP($F228,all!$E$14:$AD$553,20),\"\")","v":""},{"$f":"IF($AE228=1,VLOOKUP($F228,all!$E$14:$AD$553,21),\"\")","v":""},{"$f":"IF($AE228=1,VLOOKUP($F228,all!$E$14:$AD$553,22),\"\")","v":""},{"$f":"IF($AE228=1,VLOOKUP($F228,all!$E$14:$AD$553,23),\"\")","v":""},{"$f":"IF($AE228=1,VLOOKUP($F228,all!$E$14:$AD$553,24),\"\")","v":""},{"$f":"IF($AE228=1,VLOOKUP($F228,all!$E$14:$AD$553,25),\"\")","v":""},null,{"$f":"COUNTIF(all!$E$14:$E$553,F228)","v":0},null,20,5]
[null,null,null,null,null,196,{"$f":"IF($AE229=1,VLOOKUP($F229,all!$E$14:$AD$553,3),\"\")","v":""},{"$f":"IF($AE229=1,VLOOKUP($F229,all!$E$14:$AD$553,4),\"\")","v":""},{"$f":"IF($AE229=1,VLOOKUP($F229,all!$E$14:$AD$553,5),\"\")","v":""},{"$f":"IF($AE229=1,VLOOKUP($F229,all!$E$14:$AD$553,6),\"\")","v":""},{"$f":"IF($AE229=1,VLOOKUP($F229,all!$E$14:$AD$553,7),\"\")","v":""},{"$f":"IF($AE229=1,VLOOKUP($F229,all!$E$14:$AD$553,8),\"\")","v":""},{"$f":"IF($AE229=1,VLOOKUP($F229,all!$E$14:$AD$553,9),\"\")","v":""},{"$f":"IF($AE229=1,VLOOKUP($F229,all!$E$14:$AD$553,10),\"\")","v":""},{"$f":"IF($AE229=1,VLOOKUP($F229,all!$E$14:$AD$553,11),\"\")","v":""},{"$f":"IF($AE229=1,VLOOKUP($F229,all!$E$14:$AD$553,12),\"\")","v":""},{"$f":"IF($AE229=1,VLOOKUP($F229,all!$E$14:$AD$553,13),\"\")","v":""},{"$f":"IF($AE229=1,VLOOKUP($F229,all!$E$14:$AD$553,14),\"\")","v":""},{"$f":"IF($AE229=1,VLOOKUP($F229,all!$E$14:$AD$553,15),\"\")","v":""},{"$f":"IF($AE229=1,VLOOKUP($F229,all!$E$14:$AD$553,16),\"\")","v":""},{"$f":"IF($AE229=1,VLOOKUP($F229,all!$E$14:$AD$553,17),\"\")","v":""},{"$f":"IF($AE229=1,VLOOKUP($F229,all!$E$14:$AD$553,18),\"\")","v":""},{"$f":"IF($AE229=1,VLOOKUP($F229,all!$E$14:$AD$553,19),\"\")","v":""},{"$f":"IF($AE229=1,VLOOKUP($F229,all!$E$14:$AD$553,20),\"\")","v":""},{"$f":"IF($AE229=1,VLOOKUP($F229,all!$E$14:$AD$553,21),\"\")","v":""},{"$f":"IF($AE229=1,VLOOKUP($F229,all!$E$14:$AD$553,22),\"\")","v":""},{"$f":"IF($AE229=1,VLOOKUP($F229,all!$E$14:$AD$553,23),\"\")","v":""},{"$f":"IF($AE229=1,VLOOKUP($F229,all!$E$14:$AD$553,24),\"\")","v":""},{"$f":"IF($AE229=1,VLOOKUP($F229,all!$E$14:$AD$553,25),\"\")","v":""},null,{"$f":"COUNTIF(all!$E$14:$E$553,F229)","v":0},null,50,10]
[null,null,null,null,null,197,{"$f":"IF($AE230=1,VLOOKUP($F230,all!$E$14:$AD$553,3),\"\")","v":""},{"$f":"IF($AE230=1,VLOOKUP($F230,all!$E$14:$AD$553,4),\"\")","v":""},{"$f":"IF($AE230=1,VLOOKUP($F230,all!$E$14:$AD$553,5),\"\")","v":""},{"$f":"IF($AE230=1,VLOOKUP($F230,all!$E$14:$AD$553,6),\"\")","v":""},{"$f":"IF($AE230=1,VLOOKUP($F230,all!$E$14:$AD$553,7),\"\")","v":""},{"$f":"IF($AE230=1,VLOOKUP($F230,all!$E$14:$AD$553,8),\"\")","v":""},{"$f":"IF($AE230=1,VLOOKUP($F230,all!$E$14:$AD$553,9),\"\")","v":""},{"$f":"IF($AE230=1,VLOOKUP($F230,all!$E$14:$AD$553,10),\"\")","v":""},{"$f":"IF($AE230=1,VLOOKUP($F230,all!$E$14:$AD$553,11),\"\")","v":""},{"$f":"IF($AE230=1,VLOOKUP($F230,all!$E$14:$AD$553,12),\"\")","v":""},{"$f":"IF($AE230=1,VLOOKUP($F230,all!$E$14:$AD$553,13),\"\")","v":""},{"$f":"IF($AE230=1,VLOOKUP($F230,all!$E$14:$AD$553,14),\"\")","v":""},{"$f":"IF($AE230=1,VLOOKUP($F230,all!$E$14:$AD$553,15),\"\")","v":""},{"$f":"IF($AE230=1,VLOOKUP($F230,all!$E$14:$AD$553,16),\"\")","v":""},{"$f":"IF($AE230=1,VLOOKUP($F230,all!$E$14:$AD$553,17),\"\")","v":""},{"$f":"IF($AE230=1,VLOOKUP($F230,all!$E$14:$AD$553,18),\"\")","v":""},{"$f":"IF($AE230=1,VLOOKUP($F230,all!$E$14:$AD$553,19),\"\")","v":""},{"$f":"IF($AE230=1,VLOOKUP($F230,all!$E$14:$AD$553,20),\"\")","v":""},{"$f":"IF($AE230=1,VLOOKUP($F230,all!$E$14:$AD$553,21),\"\")","v":""},{"$f":"IF($AE230=1,VLOOKUP($F230,all!$E$14:$AD$553,22),\"\")","v":""},{"$f":"IF($AE230=1,VLOOKUP($F230,all!$E$14:$AD$553,23),\"\")","v":""},{"$f":"IF($AE230=1,VLOOKUP($F230,all!$E$14:$AD$553,24),\"\")","v":""},{"$f":"IF($AE230=1,VLOOKUP($F230,all!$E$14:$AD$553,25),\"\")","v":""},null,{"$f":"COUNTIF(all!$E$14:$E$553,F230)","v":0},null,500,100]
[null,null,null,null,null,198,{"$f":"IF($AE231=1,VLOOKUP($F231,all!$E$14:$AD$553,3),\"\")","v":""},{"$f":"IF($AE231=1,VLOOKUP($F231,all!$E$14:$AD$553,4),\"\")","v":""},{"$f":"IF($AE231=1,VLOOKUP($F231,all!$E$14:$AD$553,5),\"\")","v":""},{"$f":"IF($AE231=1,VLOOKUP($F231,all!$E$14:$AD$553,6),\"\")","v":""},{"$f":"IF($AE231=1,VLOOKUP($F231,all!$E$14:$AD$553,7),\"\")","v":""},{"$f":"IF($AE231=1,VLOOKUP($F231,all!$E$14:$AD$553,8),\"\")","v":""},{"$f":"IF($AE231=1,VLOOKUP($F231,all!$E$14:$AD$553,9),\"\")","v":""},{"$f":"IF($AE231=1,VLOOKUP($F231,all!$E$14:$AD$553,10),\"\")","v":""},{"$f":"IF($AE231=1,VLOOKUP($F231,all!$E$14:$AD$553,11),\"\")","v":""},{"$f":"IF($AE231=1,VLOOKUP($F231,all!$E$14:$AD$553,12),\"\")","v":""},{"$f":"IF($AE231=1,VLOOKUP($F231,all!$E$14:$AD$553,13),\"\")","v":""},{"$f":"IF($AE231=1,VLOOKUP($F231,all!$E$14:$AD$553,14),\"\")","v":""},{"$f":"IF($AE231=1,VLOOKUP($F231,all!$E$14:$AD$553,15),\"\")","v":""},{"$f":"IF($AE231=1,VLOOKUP($F231,all!$E$14:$AD$553,16),\"\")","v":""},{"$f":"IF($AE231=1,VLOOKUP($F231,all!$E$14:$AD$553,17),\"\")","v":""},{"$f":"IF($AE231=1,VLOOKUP($F231,all!$E$14:$AD$553,18),\"\")","v":""},{"$f":"IF($AE231=1,VLOOKUP($F231,all!$E$14:$AD$553,19),\"\")","v":""},{"$f":"IF($AE231=1,VLOOKUP($F231,all!$E$14:$AD$553,20),\"\")","v":""},{"$f":"IF($AE231=1,VLOOKUP($F231,all!$E$14:$AD$553,21),\"\")","v":""},{"$f":"IF($AE231=1,VLOOKUP($F231,all!$E$14:$AD$553,22),\"\")","v":""},{"$f":"IF($AE231=1,VLOOKUP($F231,all!$E$14:$AD$553,23),\"\")","v":""},{"$f":"IF($AE231=1,VLOOKUP($F231,all!$E$14:$AD$553,24),\"\")","v":""},{"$f":"IF($AE231=1,VLOOKUP($F231,all!$E$14:$AD$553,25),\"\")","v":""},null,{"$f":"COUNTIF(all!$E$14:$E$553,F231)","v":0},null,2000,500]
[null,null,null,null,null,199,{"$f":"IF($AE232=1,VLOOKUP($F232,all!$E$14:$AD$553,3),\"\")","v":""},{"$f":"IF($AE232=1,VLOOKUP($F232,all!$E$14:$AD$553,4),\"\")","v":""},{"$f":"IF($AE232=1,VLOOKUP($F232,all!$E$14:$AD$553,5),\"\")","v":""},{"$f":"IF($AE232=1,VLOOKUP($F232,all!$E$14:$AD$553,6),\"\")","v":""},{"$f":"IF($AE232=1,VLOOKUP($F232,all!$E$14:$AD$553,7),\"\")","v":""},{"$f":"IF($AE232=1,VLOOKUP($F232,all!$E$14:$AD$553,8),\"\")","v":""},{"$f":"IF($AE232=1,VLOOKUP($F232,all!$E$14:$AD$553,9),\"\")","v":""},{"$f":"IF($AE232=1,VLOOKUP($F232,all!$E$14:$AD$553,10),\"\")","v":""},{"$f":"IF($AE232=1,VLOOKUP($F232,all!$E$14:$AD$553,11),\"\")","v":""},{"$f":"IF($AE232=1,VLOOKUP($F232,all!$E$14:$AD$553,12),\"\")","v":""},{"$f":"IF($AE232=1,VLOOKUP($F232,all!$E$14:$AD$553,13),\"\")","v":""},{"$f":"IF($AE232=1,VLOOKUP($F232,all!$E$14:$AD$553,14),\"\")","v":""},{"$f":"IF($AE232=1,VLOOKUP($F232,all!$E$14:$AD$553,15),\"\")","v":""},{"$f":"IF($AE232=1,VLOOKUP($F232,all!$E$14:$AD$553,16),\"\")","v":""},{"$f":"IF($AE232=1,VLOOKUP($F232,all!$E$14:$AD$553,17),\"\")","v":""},{"$f":"IF($AE232=1,VLOOKUP($F232,all!$E$14:$AD$553,18),\"\")","v":""},{"$f":"IF($AE232=1,VLOOKUP($F232,all!$E$14:$AD$553,19),\"\")","v":""},{"$f":"IF($AE232=1,VLOOKUP($F232,all!$E$14:$AD$553,20),\"\")","v":""},{"$f":"IF($AE232=1,VLOOKUP($F232,all!$E$14:$AD$553,21),\"\")","v":""},{"$f":"IF($AE232=1,VLOOKUP($F232,all!$E$14:$AD$553,22),\"\")","v":""},{"$f":"IF($AE232=1,VLOOKUP($F232,all!$E$14:$AD$553,23),\"\")","v":""},{"$f":"IF($AE232=1,VLOOKUP($F232,all!$E$14:$AD$553,24),\"\")","v":""},{"$f":"IF($AE232=1,VLOOKUP($F232,all!$E$14:$AD$553,25),\"\")","v":""},null,{"$f":"COUNTIF(all!$E$14:$E$553,F232)","v":0},null,5000,1000]
[null,null,null,null,null,200,{"$f":"IF($AE233=1,VLOOKUP($F233,all!$E$14:$AD$553,3),\"\")","v":""},{"$f":"IF($AE233=1,VLOOKUP($F233,all!$E$14:$AD$553,4),\"\")","v":""},{"$f":"IF($AE233=1,VLOOKUP($F233,all!$E$14:$AD$553,5),\"\")","v":""},{"$f":"IF($AE233=1,VLOOKUP($F233,all!$E$14:$AD$553,6),\"\")","v":""},{"$f":"IF($AE233=1,VLOOKUP($F233,all!$E$14:$AD$553,7),\"\")","v":""},{"$f":"IF($AE233=1,VLOOKUP($F233,all!$E$14:$AD$553,8),\"\")","v":""},{"$f":"IF($AE233=1,VLOOKUP($F233,all!$E$14:$AD$553,9),\"\")","v":""},{"$f":"IF($AE233=1,VLOOKUP($F233,all!$E$14:$AD$553,10),\"\")","v":""},{"$f":"IF($AE233=1,VLOOKUP($F233,all!$E$14:$AD$553,11),\"\")","v":""},{"$f":"IF($AE233=1,VLOOKUP($F233,all!$E$14:$AD$553,12),\"\")","v":""},{"$f":"IF($AE233=1,VLOOKUP($F233,all!$E$14:$AD$553,13),\"\")","v":""},{"$f":"IF($AE233=1,VLOOKUP($F233,all!$E$14:$AD$553,14),\"\")","v":""},{"$f":"IF($AE233=1,VLOOKUP($F233,all!$E$14:$AD$553,15),\"\")","v":""},{"$f":"IF($AE233=1,VLOOKUP($F233,all!$E$14:$AD$553,16),\"\")","v":""},{"$f":"IF($AE233=1,VLOOKUP($F233,all!$E$14:$AD$553,17),\"\")","v":""},{"$f":"IF($AE233=1,VLOOKUP($F233,all!$E$14:$AD$553,18),\"\")","v":""},{"$f":"IF($AE233=1,VLOOKUP($F233,all!$E$14:$AD$553,19),\"\")","v":""},{"$f":"IF($AE233=1,VLOOKUP($F233,all!$E$14:$AD$553,20),\"\")","v":""},{"$f":"IF($AE233=1,VLOOKUP($F233,all!$E$14:$AD$553,21),\"\")","v":""},{"$f":"IF($AE233=1,VLOOKUP($F233,all!$E$14:$AD$553,22),\"\")","v":""},{"$f":"IF($AE233=1,VLOOKUP($F233,all!$E$14:$AD$553,23),\"\")","v":""},{"$f":"IF($AE233=1,VLOOKUP($F233,all!$E$14:$AD$553,24),\"\")","v":""},{"$f":"IF($AE233=1,VLOOKUP($F233,all!$E$14:$AD$553,25),\"\")","v":""},null,{"$f":"COUNTIF(all!$E$14:$E$553,F233)","v":0},null,10000,1000]
[null,null,null,null,null,201,{"$f":"IF($AE234=1,VLOOKUP($F234,all!$E$14:$AD$553,3),\"\")","v":""},{"$f":"IF($AE234=1,VLOOKUP($F234,all!$E$14:$AD$553,4),\"\")","v":""},{"$f":"IF($AE234=1,VLOOKUP($F234,all!$E$14:$AD$553,5),\"\")","v":""},{"$f":"IF($AE234=1,VLOOKUP($F234,all!$E$14:$AD$553,6),\"\")","v":""},{"$f":"IF($AE234=1,VLOOKUP($F234,all!$E$14:$AD$553,7),\"\")","v":""},{"$f":"IF($AE234=1,VLOOKUP($F234,all!$E$14:$AD$553,8),\"\")","v":""},{"$f":"IF($AE234=1,VLOOKUP($F234,all!$E$14:$AD$553,9),\"\")","v":""},{"$f":"IF($AE234=1,VLOOKUP($F234,all!$E$14:$AD$553,10),\"\")","v":""},{"$f":"IF($AE234=1,VLOOKUP($F234,all!$E$14:$AD$553,11),\"\")","v":""},{"$f":"IF($AE234=1,VLOOKUP($F234,all!$E$14:$AD$553,12),\"\")","v":""},{"$f":"IF($AE234=1,VLOOKUP($F234,all!$E$14:$AD$553,13),\"\")","v":""},{"$f":"IF($AE234=1,VLOOKUP($F234,all!$E$14:$AD$553,14),\"\")","v":""},{"$f":"IF($AE234=1,VLOOKUP($F234,all!$E$14:$AD$553,15),\"\")","v":""},{"$f":"IF($AE234=1,VLOOKUP($F234,all!$E$14:$AD$553,16),\"\")","v":""},{"$f":"IF($AE234=1,VLOOKUP($F234,all!$E$14:$AD$553,17),\"\")","v":""},{"$f":"IF($AE234=1,VLOOKUP($F234,all!$E$14:$AD$553,18),\"\")","v":""},{"$f":"IF($AE234=1,VLOOKUP($F234,all!$E$14:$AD$553,19),\"\")","v":""},{"$f":"IF($AE234=1,VLOOKUP($F234,all!$E$14:$AD$553,20),\"\")","v":""},{"$f":"IF($AE234=1,VLOOKUP($F234,all!$E$14:$AD$553,21),\"\")","v":""},{"$f":"IF($AE234=1,VLOOKUP($F234,all!$E$14:$AD$553,22),\"\")","v":""},{"$f":"IF($AE234=1,VLOOKUP($F234,all!$E$14:$AD$553,23),\"\")","v":""},{"$f":"IF($AE234=1,VLOOKUP($F234,all!$E$14:$AD$553,24),\"\")","v":""},{"$f":"IF($AE234=1,VLOOKUP($F234,all!$E$14:$AD$553,25),\"\")","v":""},null,{"$f":"COUNTIF(all!$E$14:$E$553,F234)","v":0}]
[null,null,null,null,null,202,{"$f":"IF($AE235=1,VLOOKUP($F235,all!$E$14:$AD$553,3),\"\")","v":""},{"$f":"IF($AE235=1,VLOOKUP($F235,all!$E$14:$AD$553,4),\"\")","v":""},{"$f":"IF($AE235=1,VLOOKUP($F235,all!$E$14:$AD$553,5),\"\")","v":""},{"$f":"IF($AE235=1,VLOOKUP($F235,all!$E$14:$AD$553,6),\"\")","v":""},{"$f":"IF($AE235=1,VLOOKUP($F235,all!$E$14:$AD$553,7),\"\")","v":""},{"$f":"IF($AE235=1,VLOOKUP($F235,all!$E$14:$AD$553,8),\"\")","v":""},{"$f":"IF($AE235=1,VLOOKUP($F235,all!$E$14:$AD$553,9),\"\")","v":""},{"$f":"IF($AE235=1,VLOOKUP($F235,all!$E$14:$AD$553,10),\"\")","v":""},{"$f":"IF($AE235=1,VLOOKUP($F235,all!$E$14:$AD$553,11),\"\")","v":""},{"$f":"IF($AE235=1,VLOOKUP($F235,all!$E$14:$AD$553,12),\"\")","v":""},{"$f":"IF($AE235=1,VLOOKUP($F235,all!$E$14:$AD$553,13),\"\")","v":""},{"$f":"IF($AE235=1,VLOOKUP($F235,all!$E$14:$AD$553,14),\"\")","v":""},{"$f":"IF($AE235=1,VLOOKUP($F235,all!$E$14:$AD$553,15),\"\")","v":""},{"$f":"IF($AE235=1,VLOOKUP($F235,all!$E$14:$AD$553,16),\"\")","v":""},{"$f":"IF($AE235=1,VLOOKUP($F235,all!$E$14:$AD$553,17),\"\")","v":""},{"$f":"IF($AE235=1,VLOOKUP($F235,all!$E$14:$AD$553,18),\"\")","v":""},{"$f":"IF($AE235=1,VLOOKUP($F235,all!$E$14:$AD$553,19),\"\")","v":""},{"$f":"IF($AE235=1,VLOOKUP($F235,all!$E$14:$AD$553,20),\"\")","v":""},{"$f":"IF($AE235=1,VLOOKUP($F235,all!$E$14:$AD$553,21),\"\")","v":""},{"$f":"IF($AE235=1,VLOOKUP($F235,all!$E$14:$AD$553,22),\"\")","v":""},{"$f":"IF($AE235=1,VLOOKUP($F235,all!$E$14:$AD$553,23),\"\")","v":""},{"$f":"IF($AE235=1,VLOOKUP($F235,all!$E$14:$AD$553,24),\"\")","v":""},{"$f":"IF($AE235=1,VLOOKUP($F235,all!$E$14:$AD$553,25),\"\")","v":""},null,{"$f":"COUNTIF(all!$E$14:$E$553,F235)","v":0},null,{"$f":"VLOOKUP(AH235,$AG$225:$AH$233,2)","v":1000},7000]
[null,null,null,null,null,203,{"$f":"IF($AE236=1,VLOOKUP($F236,all!$E$14:$AD$553,3),\"\")","v":""},{"$f":"IF($AE236=1,VLOOKUP($F236,all!$E$14:$AD$553,4),\"\")","v":""},{"$f":"IF($AE236=1,VLOOKUP($F236,all!$E$14:$AD$553,5),\"\")","v":""},{"$f":"IF($AE236=1,VLOOKUP($F236,all!$E$14:$AD$553,6),\"\")","v":""},{"$f":"IF($AE236=1,VLOOKUP($F236,all!$E$14:$AD$553,7),\"\")","v":""},{"$f":"IF($AE236=1,VLOOKUP($F236,all!$E$14:$AD$553,8),\"\")","v":""},{"$f":"IF($AE236=1,VLOOKUP($F236,all!$E$14:$AD$553,9),\"\")","v":""},{"$f":"IF($AE236=1,VLOOKUP($F236,all!$E$14:$AD$553,10),\"\")","v":""},{"$f":"IF($AE236=1,VLOOKUP($F236,all!$E$14:$AD$553,11),\"\")","v":""},{"$f":"IF($AE236=1,VLOOKUP($F236,all!$E$14:$AD$553,12),\"\")","v":""},{"$f":"IF($AE236=1,VLOOKUP($F236,all!$E$14:$AD$553,13),\"\")","v":""},{"$f":"IF($AE236=1,VLOOKUP($F236,all!$E$14:$AD$553,14),\"\")","v":""},{"$f":"IF($AE236=1,VLOOKUP($F236,all!$E$14:$AD$553,15),\"\")","v":""},{"$f":"IF($AE236=1,VLOOKUP($F236,all!$E$14:$AD$553,16),\"\")","v":""},{"$f":"IF($AE236=1,VLOOKUP($F236,all!$E$14:$AD$553,17),\"\")","v":""},{"$f":"IF($AE236=1,VLOOKUP($F236,all!$E$14:$AD$553,18),\"\")","v":""},{"$f":"IF($AE236=1,VLOOKUP($F236,all!$E$14:$AD$553,19),\"\")","v":""},{"$f":"IF($AE236=1,VLOOKUP($F236,all!$E$14:$AD$553,20),\"\")","v":""},{"$f":"IF($AE236=1,VLOOKUP($F236,all!$E$14:$AD$553,21),\"\")","v":""},{"$f":"IF($AE236=1,VLOOKUP($F236,all!$E$14:$AD$553,22),\"\")","v":""},{"$f":"IF($AE236=1,VLOOKUP($F236,all!$E$14:$AD$553,23),\"\")","v":""},{"$f":"IF($AE236=1,VLOOKUP($F236,all!$E$14:$AD$553,24),\"\")","v":""},{"$f":"IF($AE236=1,VLOOKUP($F236,all!$E$14:$AD$553,25),\"\")","v":""},null,{"$f":"COUNTIF(all!$E$14:$E$553,F236)","v":0}]
[null,null,null,null,null,204,{"$f":"IF($AE237=1,VLOOKUP($F237,all!$E$14:$AD$553,3),\"\")","v":""},{"$f":"IF($AE237=1,VLOOKUP($F237,all!$E$14:$AD$553,4),\"\")","v":""},{"$f":"IF($AE237=1,VLOOKUP($F237,all!$E$14:$AD$553,5),\"\")","v":""},{"$f":"IF($AE237=1,VLOOKUP($F237,all!$E$14:$AD$553,6),\"\")","v":""},{"$f":"IF($AE237=1,VLOOKUP($F237,all!$E$14:$AD$553,7),\"\")","v":""},{"$f":"IF($AE237=1,VLOOKUP($F237,all!$E$14:$AD$553,8),\"\")","v":""},{"$f":"IF($AE237=1,VLOOKUP($F237,all!$E$14:$AD$553,9),\"\")","v":""},{"$f":"IF($AE237=1,VLOOKUP($F237,all!$E$14:$AD$553,10),\"\")","v":""},{"$f":"IF($AE237=1,VLOOKUP($F237,all!$E$14:$AD$553,11),\"\")","v":""},{"$f":"IF($AE237=1,VLOOKUP($F237,all!$E$14:$AD$553,12),\"\")","v":""},{"$f":"IF($AE237=1,VLOOKUP($F237,all!$E$14:$AD$553,13),\"\")","v":""},{"$f":"IF($AE237=1,VLOOKUP($F237,all!$E$14:$AD$553,14),\"\")","v":""},{"$f":"IF($AE237=1,VLOOKUP($F237,all!$E$14:$AD$553,15),\"\")","v":""},{"$f":"IF($AE237=1,VLOOKUP($F237,all!$E$14:$AD$553,16),\"\")","v":""},{"$f":"IF($AE237=1,VLOOKUP($F237,all!$E$14:$AD$553,17),\"\")","v":""},{"$f":"IF($AE237=1,VLOOKUP($F237,all!$E$14:$AD$553,18),\"\")","v":""},{"$f":"IF($AE237=1,VLOOKUP($F237,all!$E$14:$AD$553,19),\"\")","v":""},{"$f":"IF($AE237=1,VLOOKUP($F237,all!$E$14:$AD$553,20),\"\")","v":""},{"$f":"IF($AE237=1,VLOOKUP($F237,all!$E$14:$AD$553,21),\"\")","v":""},{"$f":"IF($AE237=1,VLOOKUP($F237,all!$E$14:$AD$553,22),\"\")","v":""},{"$f":"IF($AE237=1,VLOOKUP($F237,all!$E$14:$AD$553,23),\"\")","v":""},{"$f":"IF($AE237=1,VLOOKUP($F237,all!$E$14:$AD$553,24),\"\")","v":""},{"$f":"IF($AE237=1,VLOOKUP($F237,all!$E$14:$AD$553,25),\"\")","v":""},null,{"$f":"COUNTIF(all!$E$14:$E$553,F237)","v":0}]
[null,null,null,null,null,205,{"$f":"IF($AE238=1,VLOOKUP($F238,all!$E$14:$AD$553,3),\"\")","v":""},{"$f":"IF($AE238=1,VLOOKUP($F238,all!$E$14:$AD$553,4),\"\")","v":""},{"$f":"IF($AE238=1,VLOOKUP($F238,all!$E$14:$AD$553,5),\"\")","v":""},{"$f":"IF($AE238=1,VLOOKUP($F238,all!$E$14:$AD$553,6),\"\")","v":""},{"$f":"IF($AE238=1,VLOOKUP($F238,all!$E$14:$AD$553,7),\"\")","v":""},{"$f":"IF($AE238=1,VLOOKUP($F238,all!$E$14:$AD$553,8),\"\")","v":""},{"$f":"IF($AE238=1,VLOOKUP($F238,all!$E$14:$AD$553,9),\"\")","v":""},{"$f":"IF($AE238=1,VLOOKUP($F238,all!$E$14:$AD$553,10),\"\")","v":""},{"$f":"IF($AE238=1,VLOOKUP($F238,all!$E$14:$AD$553,11),\"\")","v":""},{"$f":"IF($AE238=1,VLOOKUP($F238,all!$E$14:$AD$553,12),\"\")","v":""},{"$f":"IF($AE238=1,VLOOKUP($F238,all!$E$14:$AD$553,13),\"\")","v":""},{"$f":"IF($AE238=1,VLOOKUP($F238,all!$E$14:$AD$553,14),\"\")","v":""},{"$f":"IF($AE238=1,VLOOKUP($F238,all!$E$14:$AD$553,15),\"\")","v":""},{"$f":"IF($AE238=1,VLOOKUP($F238,all!$E$14:$AD$553,16),\"\")","v":""},{"$f":"IF($AE238=1,VLOOKUP($F238,all!$E$14:$AD$553,17),\"\")","v":""},{"$f":"IF($AE238=1,VLOOKUP($F238,all!$E$14:$AD$553,18),\"\")","v":""},{"$f":"IF($AE238=1,VLOOKUP($F238,all!$E$14:$AD$553,19),\"\")","v":""},{"$f":"IF($AE238=1,VLOOKUP($F238,all!$E$14:$AD$553,20),\"\")","v":""},{"$f":"IF($AE238=1,VLOOKUP($F238,all!$E$14:$AD$553,21),\"\")","v":""},{"$f":"IF($AE238=1,VLOOKUP($F238,all!$E$14:$AD$553,22),\"\")","v":""},{"$f":"IF($AE238=1,VLOOKUP($F238,all!$E$14:$AD$553,23),\"\")","v":""},{"$f":"IF($AE238=1,VLOOKUP($F238,all!$E$14:$AD$553,24),\"\")","v":""},{"$f":"IF($AE238=1,VLOOKUP($F238,all!$E$14:$AD$553,25),\"\")","v":""},null,{"$f":"COUNTIF(all!$E$14:$E$553,F238)","v":0}]
[null,null,null,null,null,206,{"$f":"IF($AE239=1,VLOOKUP($F239,all!$E$14:$AD$553,3),\"\")","v":""},{"$f":"IF($AE239=1,VLOOKUP($F239,all!$E$14:$AD$553,4),\"\")","v":""},{"$f":"IF($AE239=1,VLOOKUP($F239,all!$E$14:$AD$553,5),\"\")","v":""},{"$f":"IF($AE239=1,VLOOKUP($F239,all!$E$14:$AD$553,6),\"\")","v":""},{"$f":"IF($AE239=1,VLOOKUP($F239,all!$E$14:$AD$553,7),\"\")","v":""},{"$f":"IF($AE239=1,VLOOKUP($F239,all!$E$14:$AD$553,8),\"\")","v":""},{"$f":"IF($AE239=1,VLOOKUP($F239,all!$E$14:$AD$553,9),\"\")","v":""},{"$f":"IF($AE239=1,VLOOKUP($F239,all!$E$14:$AD$553,10),\"\")","v":""},{"$f":"IF($AE239=1,VLOOKUP($F239,all!$E$14:$AD$553,11),\"\")","v":""},{"$f":"IF($AE239=1,VLOOKUP($F239,all!$E$14:$AD$553,12),\"\")","v":""},{"$f":"IF($AE239=1,VLOOKUP($F239,all!$E$14:$AD$553,13),\"\")","v":""},{"$f":"IF($AE239=1,VLOOKUP($F239,all!$E$14:$AD$553,14),\"\")","v":""},{"$f":"IF($AE239=1,VLOOKUP($F239,all!$E$14:$AD$553,15),\"\")","v":""},{"$f":"IF($AE239=1,VLOOKUP($F239,all!$E$14:$AD$553,16),\"\")","v":""},{"$f":"IF($AE239=1,VLOOKUP($F239,all!$E$14:$AD$553,17),\"\")","v":""},{"$f":"IF($AE239=1,VLOOKUP($F239,all!$E$14:$AD$553,18),\"\")","v":""},{"$f":"IF($AE239=1,VLOOKUP($F239,all!$E$14:$AD$553,19),\"\")","v":""},{"$f":"IF($AE239=1,VLOOKUP($F239,all!$E$14:$AD$553,20),\"\")","v":""},{"$f":"IF($AE239=1,VLOOKUP($F239,all!$E$14:$AD$553,21),\"\")","v":""},{"$f":"IF($AE239=1,VLOOKUP($F239,all!$E$14:$AD$553,22),\"\")","v":""},{"$f":"IF($AE239=1,VLOOKUP($F239,all!$E$14:$AD$553,23),\"\")","v":""},{"$f":"IF($AE239=1,VLOOKUP($F239,all!$E$14:$AD$553,24),\"\")","v":""},{"$f":"IF($AE239=1,VLOOKUP($F239,all!$E$14:$AD$553,25),\"\")","v":""},null,{"$f":"COUNTIF(all!$E$14:$E$553,F239)","v":0}]
[null,null,null,null,null,207,{"$f":"IF($AE240=1,VLOOKUP($F240,all!$E$14:$AD$553,3),\"\")","v":""},{"$f":"IF($AE240=1,VLOOKUP($F240,all!$E$14:$AD$553,4),\"\")","v":""},{"$f":"IF($AE240=1,VLOOKUP($F240,all!$E$14:$AD$553,5),\"\")","v":""},{"$f":"IF($AE240=1,VLOOKUP($F240,all!$E$14:$AD$553,6),\"\")","v":""},{"$f":"IF($AE240=1,VLOOKUP($F240,all!$E$14:$AD$553,7),\"\")","v":""},{"$f":"IF($AE240=1,VLOOKUP($F240,all!$E$14:$AD$553,8),\"\")","v":""},{"$f":"IF($AE240=1,VLOOKUP($F240,all!$E$14:$AD$553,9),\"\")","v":""},{"$f":"IF($AE240=1,VLOOKUP($F240,all!$E$14:$AD$553,10),\"\")","v":""},{"$f":"IF($AE240=1,VLOOKUP($F240,all!$E$14:$AD$553,11),\"\")","v":""},{"$f":"IF($AE240=1,VLOOKUP($F240,all!$E$14:$AD$553,12),\"\")","v":""},{"$f":"IF($AE240=1,VLOOKUP($F240,all!$E$14:$AD$553,13),\"\")","v":""},{"$f":"IF($AE240=1,VLOOKUP($F240,all!$E$14:$AD$553,14),\"\")","v":""},{"$f":"IF($AE240=1,VLOOKUP($F240,all!$E$14:$AD$553,15),\"\")","v":""},{"$f":"IF($AE240=1,VLOOKUP($F240,all!$E$14:$AD$553,16),\"\")","v":""},{"$f":"IF($AE240=1,VLOOKUP($F240,all!$E$14:$AD$553,17),\"\")","v":""},{"$f":"IF($AE240=1,VLOOKUP($F240,all!$E$14:$AD$553,18),\"\")","v":""},{"$f":"IF($AE240=1,VLOOKUP($F240,all!$E$14:$AD$553,19),\"\")","v":""},{"$f":"IF($AE240=1,VLOOKUP($F240,all!$E$14:$AD$553,20),\"\")","v":""},{"$f":"IF($AE240=1,VLOOKUP($F240,all!$E$14:$AD$553,21),\"\")","v":""},{"$f":"IF($AE240=1,VLOOKUP($F240,all!$E$14:$AD$553,22),\"\")","v":""},{"$f":"IF($AE240=1,VLOOKUP($F240,all!$E$14:$AD$553,23),\"\")","v":""},{"$f":"IF($AE240=1,VLOOKUP($F240,all!$E$14:$AD$553,24),\"\")","v":""},{"$f":"IF($AE240=1,VLOOKUP($F240,all!$E$14:$AD$553,25),\"\")","v":""},null,{"$f":"COUNTIF(all!$E$14:$E$553,F240)","v":0}]
[null,null,null,null,null,208,{"$f":"IF($AE241=1,VLOOKUP($F241,all!$E$14:$AD$553,3),\"\")","v":""},{"$f":"IF($AE241=1,VLOOKUP($F241,all!$E$14:$AD$553,4),\"\")","v":""},{"$f":"IF($AE241=1,VLOOKUP($F241,all!$E$14:$AD$553,5),\"\")","v":""},{"$f":"IF($AE241=1,VLOOKUP($F241,all!$E$14:$AD$553,6),\"\")","v":""},{"$f":"IF($AE241=1,VLOOKUP($F241,all!$E$14:$AD$553,7),\"\")","v":""},{"$f":"IF($AE241=1,VLOOKUP($F241,all!$E$14:$AD$553,8),\"\")","v":""},{"$f":"IF($AE241=1,VLOOKUP($F241,all!$E$14:$AD$553,9),\"\")","v":""},{"$f":"IF($AE241=1,VLOOKUP($F241,all!$E$14:$AD$553,10),\"\")","v":""},{"$f":"IF($AE241=1,VLOOKUP($F241,all!$E$14:$AD$553,11),\"\")","v":""},{"$f":"IF($AE241=1,VLOOKUP($F241,all!$E$14:$AD$553,12),\"\")","v":""},{"$f":"IF($AE241=1,VLOOKUP($F241,all!$E$14:$AD$553,13),\"\")","v":""},{"$f":"IF($AE241=1,VLOOKUP($F241,all!$E$14:$AD$553,14),\"\")","v":""},{"$f":"IF($AE241=1,VLOOKUP($F241,all!$E$14:$AD$553,15),\"\")","v":""},{"$f":"IF($AE241=1,VLOOKUP($F241,all!$E$14:$AD$553,16),\"\")","v":""},{"$f":"IF($AE241=1,VLOOKUP($F241,all!$E$14:$AD$553,17),\"\")","v":""},{"$f":"IF($AE241=1,VLOOKUP($F241,all!$E$14:$AD$553,18),\"\")","v":""},{"$f":"IF($AE241=1,VLOOKUP($F241,all!$E$14:$AD$553,19),\"\")","v":""},{"$f":"IF($AE241=1,VLOOKUP($F241,all!$E$14:$AD$553,20),\"\")","v":""},{"$f":"IF($AE241=1,VLOOKUP($F241,all!$E$14:$AD$553,21),\"\")","v":""},{"$f":"IF($AE241=1,VLOOKUP($F241,all!$E$14:$AD$553,22),\"\")","v":""},{"$f":"IF($AE241=1,VLOOKUP($F241,all!$E$14:$AD$553,23),\"\")","v":""},{"$f":"IF($AE241=1,VLOOKUP($F241,all!$E$14:$AD$553,24),\"\")","v":""},{"$f":"IF($AE241=1,VLOOKUP($F241,all!$E$14:$AD$553,25),\"\")","v":""},null,{"$f":"COUNTIF(all!$E$14:$E$553,F241)","v":0}]
[null,null,null,null,null,209,{"$f":"IF($AE242=1,VLOOKUP($F242,all!$E$14:$AD$553,3),\"\")","v":""},{"$f":"IF($AE242=1,VLOOKUP($F242,all!$E$14:$AD$553,4),\"\")","v":""},{"$f":"IF($AE242=1,VLOOKUP($F242,all!$E$14:$AD$553,5),\"\")","v":""},{"$f":"IF($AE242=1,VLOOKUP($F242,all!$E$14:$AD$553,6),\"\")","v":""},{"$f":"IF($AE242=1,VLOOKUP($F242,all!$E$14:$AD$553,7),\"\")","v":""},{"$f":"IF($AE242=1,VLOOKUP($F242,all!$E$14:$AD$553,8),\"\")","v":""},{"$f":"IF($AE242=1,VLOOKUP($F242,all!$E$14:$AD$553,9),\"\")","v":""},{"$f":"IF($AE242=1,VLOOKUP($F242,all!$E$14:$AD$553,10),\"\")","v":""},{"$f":"IF($AE242=1,VLOOKUP($F242,all!$E$14:$AD$553,11),\"\")","v":""},{"$f":"IF($AE242=1,VLOOKUP($F242,all!$E$14:$AD$553,12),\"\")","v":""},{"$f":"IF($AE242=1,VLOOKUP($F242,all!$E$14:$AD$553,13),\"\")","v":""},{"$f":"IF($AE242=1,VLOOKUP($F242,all!$E$14:$AD$553,14),\"\")","v":""},{"$f":"IF($AE242=1,VLOOKUP($F242,all!$E$14:$AD$553,15),\"\")","v":""},{"$f":"IF($AE242=1,VLOOKUP($F242,all!$E$14:$AD$553,16),\"\")","v":""},{"$f":"IF($AE242=1,VLOOKUP($F242,all!$E$14:$AD$553,17),\"\")","v":""},{"$f":"IF($AE242=1,VLOOKUP($F242,all!$E$14:$AD$553,18),\"\")","v":""},{"$f":"IF($AE242=1,VLOOKUP($F242,all!$E$14:$AD$553,19),\"\")","v":""},{"$f":"IF($AE242=1,VLOOKUP($F242,all!$E$14:$AD$553,20),\"\")","v":""},{"$f":"IF($AE242=1,VLOOKUP($F242,all!$E$14:$AD$553,21),\"\")","v":""},{"$f":"IF($AE242=1,VLOOKUP($F242,all!$E$14:$AD$553,22),\"\")","v":""},{"$f":"IF($AE242=1,VLOOKUP($F242,all!$E$14:$AD$553,23),\"\")","v":""},{"$f":"IF($AE242=1,VLOOKUP($F242,all!$E$14:$AD$553,24),\"\")","v":""},{"$f":"IF($AE242=1,VLOOKUP($F242,all!$E$14:$AD$553,25),\"\")","v":""},null,{"$f":"COUNTIF(all!$E$14:$E$553,F242)","v":0}]
[null,null,null,null,null,210,{"$f":"IF($AE243=1,VLOOKUP($F243,all!$E$14:$AD$553,3),\"\")","v":""},{"$f":"IF($AE243=1,VLOOKUP($F243,all!$E$14:$AD$553,4),\"\")","v":""},{"$f":"IF($AE243=1,VLOOKUP($F243,all!$E$14:$AD$553,5),\"\")","v":""},{"$f":"IF($AE243=1,VLOOKUP($F243,all!$E$14:$AD$553,6),\"\")","v":""},{"$f":"IF($AE243=1,VLOOKUP($F243,all!$E$14:$AD$553,7),\"\")","v":""},{"$f":"IF($AE243=1,VLOOKUP($F243,all!$E$14:$AD$553,8),\"\")","v":""},{"$f":"IF($AE243=1,VLOOKUP($F243,all!$E$14:$AD$553,9),\"\")","v":""},{"$f":"IF($AE243=1,VLOOKUP($F243,all!$E$14:$AD$553,10),\"\")","v":""},{"$f":"IF($AE243=1,VLOOKUP($F243,all!$E$14:$AD$553,11),\"\")","v":""},{"$f":"IF($AE243=1,VLOOKUP($F243,all!$E$14:$AD$553,12),\"\")","v":""},{"$f":"IF($AE243=1,VLOOKUP($F243,all!$E$14:$AD$553,13),\"\")","v":""},{"$f":"IF($AE243=1,VLOOKUP($F243,all!$E$14:$AD$553,14),\"\")","v":""},{"$f":"IF($AE243=1,VLOOKUP($F243,all!$E$14:$AD$553,15),\"\")","v":""},{"$f":"IF($AE243=1,VLOOKUP($F243,all!$E$14:$AD$553,16),\"\")","v":""},{"$f":"IF($AE243=1,VLOOKUP($F243,all!$E$14:$AD$553,17),\"\")","v":""},{"$f":"IF($AE243=1,VLOOKUP($F243,all!$E$14:$AD$553,18),\"\")","v":""},{"$f":"IF($AE243=1,VLOOKUP($F243,all!$E$14:$AD$553,19),\"\")","v":""},{"$f":"IF($AE243=1,VLOOKUP($F243,all!$E$14:$AD$553,20),\"\")","v":""},{"$f":"IF($AE243=1,VLOOKUP($F243,all!$E$14:$AD$553,21),\"\")","v":""},{"$f":"IF($AE243=1,VLOOKUP($F243,all!$E$14:$AD$553,22),\"\")","v":""},{"$f":"IF($AE243=1,VLOOKUP($F243,all!$E$14:$AD$553,23),\"\")","v":""},{"$f":"IF($AE243=1,VLOOKUP($F243,all!$E$14:$AD$553,24),\"\")","v":""},{"$f":"IF($AE243=1,VLOOKUP($F243,all!$E$14:$AD$553,25),\"\")","v":""},null,{"$f":"COUNTIF(all!$E$14:$E$553,F243)","v":0}]
[null,null,null,null,null,211,{"$f":"IF($AE244=1,VLOOKUP($F244,all!$E$14:$AD$553,3),\"\")","v":""},{"$f":"IF($AE244=1,VLOOKUP($F244,all!$E$14:$AD$553,4),\"\")","v":""},{"$f":"IF($AE244=1,VLOOKUP($F244,all!$E$14:$AD$553,5),\"\")","v":""},{"$f":"IF($AE244=1,VLOOKUP($F244,all!$E$14:$AD$553,6),\"\")","v":""},{"$f":"IF($AE244=1,VLOOKUP($F244,all!$E$14:$AD$553,7),\"\")","v":""},{"$f":"IF($AE244=1,VLOOKUP($F244,all!$E$14:$AD$553,8),\"\")","v":""},{"$f":"IF($AE244=1,VLOOKUP($F244,all!$E$14:$AD$553,9),\"\")","v":""},{"$f":"IF($AE244=1,VLOOKUP($F244,all!$E$14:$AD$553,10),\"\")","v":""},{"$f":"IF($AE244=1,VLOOKUP($F244,all!$E$14:$AD$553,11),\"\")","v":""},{"$f":"IF($AE244=1,VLOOKUP($F244,all!$E$14:$AD$553,12),\"\")","v":""},{"$f":"IF($AE244=1,VLOOKUP($F244,all!$E$14:$AD$553,13),\"\")","v":""},{"$f":"IF($AE244=1,VLOOKUP($F244,all!$E$14:$AD$553,14),\"\")","v":""},{"$f":"IF($AE244=1,VLOOKUP($F244,all!$E$14:$AD$553,15),\"\")","v":""},{"$f":"IF($AE244=1,VLOOKUP($F244,all!$E$14:$AD$553,16),\"\")","v":""},{"$f":"IF($AE244=1,VLOOKUP($F244,all!$E$14:$AD$553,17),\"\")","v":""},{"$f":"IF($AE244=1,VLOOKUP($F244,all!$E$14:$AD$553,18),\"\")","v":""},{"$f":"IF($AE244=1,VLOOKUP($F244,all!$E$14:$AD$553,19),\"\")","v":""},{"$f":"IF($AE244=1,VLOOKUP($F244,all!$E$14:$AD$553,20),\"\")","v":""},{"$f":"IF($AE244=1,VLOOKUP($F244,all!$E$14:$AD$553,21),\"\")","v":""},{"$f":"IF($AE244=1,VLOOKUP($F244,all!$E$14:$AD$553,22),\"\")","v":""},{"$f":"IF($AE244=1,VLOOKUP($F244,all!$E$14:$AD$553,23),\"\")","v":""},{"$f":"IF($AE244=1,VLOOKUP($F244,all!$E$14:$AD$553,24),\"\")","v":""},{"$f":"IF($AE244=1,VLOOKUP($F244,all!$E$14:$AD$553,25),\"\")","v":""},null,{"$f":"COUNTIF(all!$E$14:$E$553,F244)","v":0}]
[null,null,null,null,null,212,{"$f":"IF($AE245=1,VLOOKUP($F245,all!$E$14:$AD$553,3),\"\")","v":""},{"$f":"IF($AE245=1,VLOOKUP($F245,all!$E$14:$AD$553,4),\"\")","v":""},{"$f":"IF($AE245=1,VLOOKUP($F245,all!$E$14:$AD$553,5),\"\")","v":""},{"$f":"IF($AE245=1,VLOOKUP($F245,all!$E$14:$AD$553,6),\"\")","v":""},{"$f":"IF($AE245=1,VLOOKUP($F245,all!$E$14:$AD$553,7),\"\")","v":""},{"$f":"IF($AE245=1,VLOOKUP($F245,all!$E$14:$AD$553,8),\"\")","v":""},{"$f":"IF($AE245=1,VLOOKUP($F245,all!$E$14:$AD$553,9),\"\")","v":""},{"$f":"IF($AE245=1,VLOOKUP($F245,all!$E$14:$AD$553,10),\"\")","v":""},{"$f":"IF($AE245=1,VLOOKUP($F245,all!$E$14:$AD$553,11),\"\")","v":""},{"$f":"IF($AE245=1,VLOOKUP($F245,all!$E$14:$AD$553,12),\"\")","v":""},{"$f":"IF($AE245=1,VLOOKUP($F245,all!$E$14:$AD$553,13),\"\")","v":""},{"$f":"IF($AE245=1,VLOOKUP($F245,all!$E$14:$AD$553,14),\"\")","v":""},{"$f":"IF($AE245=1,VLOOKUP($F245,all!$E$14:$AD$553,15),\"\")","v":""},{"$f":"IF($AE245=1,VLOOKUP($F245,all!$E$14:$AD$553,16),\"\")","v":""},{"$f":"IF($AE245=1,VLOOKUP($F245,all!$E$14:$AD$553,17),\"\")","v":""},{"$f":"IF($AE245=1,VLOOKUP($F245,all!$E$14:$AD$553,18),\"\")","v":""},{"$f":"IF($AE245=1,VLOOKUP($F245,all!$E$14:$AD$553,19),\"\")","v":""},{"$f":"IF($AE245=1,VLOOKUP($F245,all!$E$14:$AD$553,20),\"\")","v":""},{"$f":"IF($AE245=1,VLOOKUP($F245,all!$E$14:$AD$553,21),\"\")","v":""},{"$f":"IF($AE245=1,VLOOKUP($F245,all!$E$14:$AD$553,22),\"\")","v":""},{"$f":"IF($AE245=1,VLOOKUP($F245,all!$E$14:$AD$553,23),\"\")","v":""},{"$f":"IF($AE245=1,VLOOKUP($F245,all!$E$14:$AD$553,24),\"\")","v":""},{"$f":"IF($AE245=1,VLOOKUP($F245,all!$E$14:$AD$553,25),\"\")","v":""},null,{"$f":"COUNTIF(all!$E$14:$E$553,F245)","v":0}]
[null,null,null,null,null,213,{"$f":"IF($AE246=1,VLOOKUP($F246,all!$E$14:$AD$553,3),\"\")","v":""},{"$f":"IF($AE246=1,VLOOKUP($F246,all!$E$14:$AD$553,4),\"\")","v":""},{"$f":"IF($AE246=1,VLOOKUP($F246,all!$E$14:$AD$553,5),\"\")","v":""},{"$f":"IF($AE246=1,VLOOKUP($F246,all!$E$14:$AD$553,6),\"\")","v":""},{"$f":"IF($AE246=1,VLOOKUP($F246,all!$E$14:$AD$553,7),\"\")","v":""},{"$f":"IF($AE246=1,VLOOKUP($F246,all!$E$14:$AD$553,8),\"\")","v":""},{"$f":"IF($AE246=1,VLOOKUP($F246,all!$E$14:$AD$553,9),\"\")","v":""},{"$f":"IF($AE246=1,VLOOKUP($F246,all!$E$14:$AD$553,10),\"\")","v":""},{"$f":"IF($AE246=1,VLOOKUP($F246,all!$E$14:$AD$553,11),\"\")","v":""},{"$f":"IF($AE246=1,VLOOKUP($F246,all!$E$14:$AD$553,12),\"\")","v":""},{"$f":"IF($AE246=1,VLOOKUP($F246,all!$E$14:$AD$553,13),\"\")","v":""},{"$f":"IF($AE246=1,VLOOKUP($F246,all!$E$14:$AD$553,14),\"\")","v":""},{"$f":"IF($AE246=1,VLOOKUP($F246,all!$E$14:$AD$553,15),\"\")","v":""},{"$f":"IF($AE246=1,VLOOKUP($F246,all!$E$14:$AD$553,16),\"\")","v":""},{"$f":"IF($AE246=1,VLOOKUP($F246,all!$E$14:$AD$553,17),\"\")","v":""},{"$f":"IF($AE246=1,VLOOKUP($F246,all!$E$14:$AD$553,18),\"\")","v":""},{"$f":"IF($AE246=1,VLOOKUP($F246,all!$E$14:$AD$553,19),\"\")","v":""},{"$f":"IF($AE246=1,VLOOKUP($F246,all!$E$14:$AD$553,20),\"\")","v":""},{"$f":"IF($AE246=1,VLOOKUP($F246,all!$E$14:$AD$553,21),\"\")","v":""},{"$f":"IF($AE246=1,VLOOKUP($F246,all!$E$14:$AD$553,22),\"\")","v":""},{"$f":"IF($AE246=1,VLOOKUP($F246,all!$E$14:$AD$553,23),\"\")","v":""},{"$f":"IF($AE246=1,VLOOKUP($F246,all!$E$14:$AD$553,24),\"\")","v":""},{"$f":"IF($AE246=1,VLOOKUP($F246,all!$E$14:$AD$553,25),\"\")","v":""},null,{"$f":"COUNTIF(all!$E$14:$E$553,F246)","v":0}]
[null,null,null,null,null,214,{"$f":"IF($AE247=1,VLOOKUP($F247,all!$E$14:$AD$553,3),\"\")","v":""},{"$f":"IF($AE247=1,VLOOKUP($F247,all!$E$14:$AD$553,4),\"\")","v":""},{"$f":"IF($AE247=1,VLOOKUP($F247,all!$E$14:$AD$553,5),\"\")","v":""},{"$f":"IF($AE247=1,VLOOKUP($F247,all!$E$14:$AD$553,6),\"\")","v":""},{"$f":"IF($AE247=1,VLOOKUP($F247,all!$E$14:$AD$553,7),\"\")","v":""},{"$f":"IF($AE247=1,VLOOKUP($F247,all!$E$14:$AD$553,8),\"\")","v":""},{"$f":"IF($AE247=1,VLOOKUP($F247,all!$E$14:$AD$553,9),\"\")","v":""},{"$f":"IF($AE247=1,VLOOKUP($F247,all!$E$14:$AD$553,10),\"\")","v":""},{"$f":"IF($AE247=1,VLOOKUP($F247,all!$E$14:$AD$553,11),\"\")","v":""},{"$f":"IF($AE247=1,VLOOKUP($F247,all!$E$14:$AD$553,12),\"\")","v":""},{"$f":"IF($AE247=1,VLOOKUP($F247,all!$E$14:$AD$553,13),\"\")","v":""},{"$f":"IF($AE247=1,VLOOKUP($F247,all!$E$14:$AD$553,14),\"\")","v":""},{"$f":"IF($AE247=1,VLOOKUP($F247,all!$E$14:$AD$553,15),\"\")","v":""},{"$f":"IF($AE247=1,VLOOKUP($F247,all!$E$14:$AD$553,16),\"\")","v":""},{"$f":"IF($AE247=1,VLOOKUP($F247,all!$E$14:$AD$553,17),\"\")","v":""},{"$f":"IF($AE247=1,VLOOKUP($F247,all!$E$14:$AD$553,18),\"\")","v":""},{"$f":"IF($AE247=1,VLOOKUP($F247,all!$E$14:$AD$553,19),\"\")","v":""},{"$f":"IF($AE247=1,VLOOKUP($F247,all!$E$14:$AD$553,20),\"\")","v":""},{"$f":"IF($AE247=1,VLOOKUP($F247,all!$E$14:$AD$553,21),\"\")","v":""},{"$f":"IF($AE247=1,VLOOKUP($F247,all!$E$14:$AD$553,22),\"\")","v":""},{"$f":"IF($AE247=1,VLOOKUP($F247,all!$E$14:$AD$553,23),\"\")","v":""},{"$f":"IF($AE247=1,VLOOKUP($F247,all!$E$14:$AD$553,24),\"\")","v":""},{"$f":"IF($AE247=1,VLOOKUP($F247,all!$E$14:$AD$553,25),\"\")","v":""},null,{"$f":"COUNTIF(all!$E$14:$E$553,F247)","v":0}]
[null,null,null,null,null,215,{"$f":"IF($AE248=1,VLOOKUP($F248,all!$E$14:$AD$553,3),\"\")","v":""},{"$f":"IF($AE248=1,VLOOKUP($F248,all!$E$14:$AD$553,4),\"\")","v":""},{"$f":"IF($AE248=1,VLOOKUP($F248,all!$E$14:$AD$553,5),\"\")","v":""},{"$f":"IF($AE248=1,VLOOKUP($F248,all!$E$14:$AD$553,6),\"\")","v":""},{"$f":"IF($AE248=1,VLOOKUP($F248,all!$E$14:$AD$553,7),\"\")","v":""},{"$f":"IF($AE248=1,VLOOKUP($F248,all!$E$14:$AD$553,8),\"\")","v":""},{"$f":"IF($AE248=1,VLOOKUP($F248,all!$E$14:$AD$553,9),\"\")","v":""},{"$f":"IF($AE248=1,VLOOKUP($F248,all!$E$14:$AD$553,10),\"\")","v":""},{"$f":"IF($AE248=1,VLOOKUP($F248,all!$E$14:$AD$553,11),\"\")","v":""},{"$f":"IF($AE248=1,VLOOKUP($F248,all!$E$14:$AD$553,12),\"\")","v":""},{"$f":"IF($AE248=1,VLOOKUP($F248,all!$E$14:$AD$553,13),\"\")","v":""},{"$f":"IF($AE248=1,VLOOKUP($F248,all!$E$14:$AD$553,14),\"\")","v":""},{"$f":"IF($AE248=1,VLOOKUP($F248,all!$E$14:$AD$553,15),\"\")","v":""},{"$f":"IF($AE248=1,VLOOKUP($F248,all!$E$14:$AD$553,16),\"\")","v":""},{"$f":"IF($AE248=1,VLOOKUP($F248,all!$E$14:$AD$553,17),\"\")","v":""},{"$f":"IF($AE248=1,VLOOKUP($F248,all!$E$14:$AD$553,18),\"\")","v":""},{"$f":"IF($AE248=1,VLOOKUP($F248,all!$E$14:$AD$553,19),\"\")","v":""},{"$f":"IF($AE248=1,VLOOKUP($F248,all!$E$14:$AD$553,20),\"\")","v":""},{"$f":"IF($AE248=1,VLOOKUP($F248,all!$E$14:$AD$553,21),\"\")","v":""},{"$f":"IF($AE248=1,VLOOKUP($F248,all!$E$14:$AD$553,22),\"\")","v":""},{"$f":"IF($AE248=1,VLOOKUP($F248,all!$E$14:$AD$553,23),\"\")","v":""},{"$f":"IF($AE248=1,VLOOKUP($F248,all!$E$14:$AD$553,24),\"\")","v":""},{"$f":"IF($AE248=1,VLOOKUP($F248,all!$E$14:$AD$553,25),\"\")","v":""},null,{"$f":"COUNTIF(all!$E$14:$E$553,F248)","v":0}]
[null,null,null,null,null,216,{"$f":"IF($AE249=1,VLOOKUP($F249,all!$E$14:$AD$553,3),\"\")","v":""},{"$f":"IF($AE249=1,VLOOKUP($F249,all!$E$14:$AD$553,4),\"\")","v":""},{"$f":"IF($AE249=1,VLOOKUP($F249,all!$E$14:$AD$553,5),\"\")","v":""},{"$f":"IF($AE249=1,VLOOKUP($F249,all!$E$14:$AD$553,6),\"\")","v":""},{"$f":"IF($AE249=1,VLOOKUP($F249,all!$E$14:$AD$553,7),\"\")","v":""},{"$f":"IF($AE249=1,VLOOKUP($F249,all!$E$14:$AD$553,8),\"\")","v":""},{"$f":"IF($AE249=1,VLOOKUP($F249,all!$E$14:$AD$553,9),\"\")","v":""},{"$f":"IF($AE249=1,VLOOKUP($F249,all!$E$14:$AD$553,10),\"\")","v":""},{"$f":"IF($AE249=1,VLOOKUP($F249,all!$E$14:$AD$553,11),\"\")","v":""},{"$f":"IF($AE249=1,VLOOKUP($F249,all!$E$14:$AD$553,12),\"\")","v":""},{"$f":"IF($AE249=1,VLOOKUP($F249,all!$E$14:$AD$553,13),\"\")","v":""},{"$f":"IF($AE249=1,VLOOKUP($F249,all!$E$14:$AD$553,14),\"\")","v":""},{"$f":"IF($AE249=1,VLOOKUP($F249,all!$E$14:$AD$553,15),\"\")","v":""},{"$f":"IF($AE249=1,VLOOKUP($F249,all!$E$14:$AD$553,16),\"\")","v":""},{"$f":"IF($AE249=1,VLOOKUP($F249,all!$E$14:$AD$553,17),\"\")","v":""},{"$f":"IF($AE249=1,VLOOKUP($F249,all!$E$14:$AD$553,18),\"\")","v":""},{"$f":"IF($AE249=1,VLOOKUP($F249,all!$E$14:$AD$553,19),\"\")","v":""},{"$f":"IF($AE249=1,VLOOKUP($F249,all!$E$14:$AD$553,20),\"\")","v":""},{"$f":"IF($AE249=1,VLOOKUP($F249,all!$E$14:$AD$553,21),\"\")","v":""},{"$f":"IF($AE249=1,VLOOKUP($F249,all!$E$14:$AD$553,22),\"\")","v":""},{"$f":"IF($AE249=1,VLOOKUP($F249,all!$E$14:$AD$553,23),\"\")","v":""},{"$f":"IF($AE249=1,VLOOKUP($F249,all!$E$14:$AD$553,24),\"\")","v":""},{"$f":"IF($AE249=1,VLOOKUP($F249,all!$E$14:$AD$553,25),\"\")","v":""},null,{"$f":"COUNTIF(all!$E$14:$E$553,F249)","v":0}]
[null,null,null,null,null,217,{"$f":"IF($AE250=1,VLOOKUP($F250,all!$E$14:$AD$553,3),\"\")","v":""},{"$f":"IF($AE250=1,VLOOKUP($F250,all!$E$14:$AD$553,4),\"\")","v":""},{"$f":"IF($AE250=1,VLOOKUP($F250,all!$E$14:$AD$553,5),\"\")","v":""},{"$f":"IF($AE250=1,VLOOKUP($F250,all!$E$14:$AD$553,6),\"\")","v":""},{"$f":"IF($AE250=1,VLOOKUP($F250,all!$E$14:$AD$553,7),\"\")","v":""},{"$f":"IF($AE250=1,VLOOKUP($F250,all!$E$14:$AD$553,8),\"\")","v":""},{"$f":"IF($AE250=1,VLOOKUP($F250,all!$E$14:$AD$553,9),\"\")","v":""},{"$f":"IF($AE250=1,VLOOKUP($F250,all!$E$14:$AD$553,10),\"\")","v":""},{"$f":"IF($AE250=1,VLOOKUP($F250,all!$E$14:$AD$553,11),\"\")","v":""},{"$f":"IF($AE250=1,VLOOKUP($F250,all!$E$14:$AD$553,12),\"\")","v":""},{"$f":"IF($AE250=1,VLOOKUP($F250,all!$E$14:$AD$553,13),\"\")","v":""},{"$f":"IF($AE250=1,VLOOKUP($F250,all!$E$14:$AD$553,14),\"\")","v":""},{"$f":"IF($AE250=1,VLOOKUP($F250,all!$E$14:$AD$553,15),\"\")","v":""},{"$f":"IF($AE250=1,VLOOKUP($F250,all!$E$14:$AD$553,16),\"\")","v":""},{"$f":"IF($AE250=1,VLOOKUP($F250,all!$E$14:$AD$553,17),\"\")","v":""},{"$f":"IF($AE250=1,VLOOKUP($F250,all!$E$14:$AD$553,18),\"\")","v":""},{"$f":"IF($AE250=1,VLOOKUP($F250,all!$E$14:$AD$553,19),\"\")","v":""},{"$f":"IF($AE250=1,VLOOKUP($F250,all!$E$14:$AD$553,20),\"\")","v":""},{"$f":"IF($AE250=1,VLOOKUP($F250,all!$E$14:$AD$553,21),\"\")","v":""},{"$f":"IF($AE250=1,VLOOKUP($F250,all!$E$14:$AD$553,22),\"\")","v":""},{"$f":"IF($AE250=1,VLOOKUP($F250,all!$E$14:$AD$553,23),\"\")","v":""},{"$f":"IF($AE250=1,VLOOKUP($F250,all!$E$14:$AD$553,24),\"\")","v":""},{"$f":"IF($AE250=1,VLOOKUP($F250,all!$E$14:$AD$553,25),\"\")","v":""},null,{"$f":"COUNTIF(all!$E$14:$E$553,F250)","v":0}]
[null,null,null,null,null,218,{"$f":"IF($AE251=1,VLOOKUP($F251,all!$E$14:$AD$553,3),\"\")","v":""},{"$f":"IF($AE251=1,VLOOKUP($F251,all!$E$14:$AD$553,4),\"\")","v":""},{"$f":"IF($AE251=1,VLOOKUP($F251,all!$E$14:$AD$553,5),\"\")","v":""},{"$f":"IF($AE251=1,VLOOKUP($F251,all!$E$14:$AD$553,6),\"\")","v":""},{"$f":"IF($AE251=1,VLOOKUP($F251,all!$E$14:$AD$553,7),\"\")","v":""},{"$f":"IF($AE251=1,VLOOKUP($F251,all!$E$14:$AD$553,8),\"\")","v":""},{"$f":"IF($AE251=1,VLOOKUP($F251,all!$E$14:$AD$553,9),\"\")","v":""},{"$f":"IF($AE251=1,VLOOKUP($F251,all!$E$14:$AD$553,10),\"\")","v":""},{"$f":"IF($AE251=1,VLOOKUP($F251,all!$E$14:$AD$553,11),\"\")","v":""},{"$f":"IF($AE251=1,VLOOKUP($F251,all!$E$14:$AD$553,12),\"\")","v":""},{"$f":"IF($AE251=1,VLOOKUP($F251,all!$E$14:$AD$553,13),\"\")","v":""},{"$f":"IF($AE251=1,VLOOKUP($F251,all!$E$14:$AD$553,14),\"\")","v":""},{"$f":"IF($AE251=1,VLOOKUP($F251,all!$E$14:$AD$553,15),\"\")","v":""},{"$f":"IF($AE251=1,VLOOKUP($F251,all!$E$14:$AD$553,16),\"\")","v":""},{"$f":"IF($AE251=1,VLOOKUP($F251,all!$E$14:$AD$553,17),\"\")","v":""},{"$f":"IF($AE251=1,VLOOKUP($F251,all!$E$14:$AD$553,18),\"\")","v":""},{"$f":"IF($AE251=1,VLOOKUP($F251,all!$E$14:$AD$553,19),\"\")","v":""},{"$f":"IF($AE251=1,VLOOKUP($F251,all!$E$14:$AD$553,20),\"\")","v":""},{"$f":"IF($AE251=1,VLOOKUP($F251,all!$E$14:$AD$553,21),\"\")","v":""},{"$f":"IF($AE251=1,VLOOKUP($F251,all!$E$14:$AD$553,22),\"\")","v":""},{"$f":"IF($AE251=1,VLOOKUP($F251,all!$E$14:$AD$553,23),\"\")","v":""},{"$f":"IF($AE251=1,VLOOKUP($F251,all!$E$14:$AD$553,24),\"\")","v":""},{"$f":"IF($AE251=1,VLOOKUP($F251,all!$E$14:$AD$553,25),\"\")","v":""},null,{"$f":"COUNTIF(all!$E$14:$E$553,F251)","v":0}]
[null,null,null,null,null,219,{"$f":"IF($AE252=1,VLOOKUP($F252,all!$E$14:$AD$553,3),\"\")","v":""},{"$f":"IF($AE252=1,VLOOKUP($F252,all!$E$14:$AD$553,4),\"\")","v":""},{"$f":"IF($AE252=1,VLOOKUP($F252,all!$E$14:$AD$553,5),\"\")","v":""},{"$f":"IF($AE252=1,VLOOKUP($F252,all!$E$14:$AD$553,6),\"\")","v":""},{"$f":"IF($AE252=1,VLOOKUP($F252,all!$E$14:$AD$553,7),\"\")","v":""},{"$f":"IF($AE252=1,VLOOKUP($F252,all!$E$14:$AD$553,8),\"\")","v":""},{"$f":"IF($AE252=1,VLOOKUP($F252,all!$E$14:$AD$553,9),\"\")","v":""},{"$f":"IF($AE252=1,VLOOKUP($F252,all!$E$14:$AD$553,10),\"\")","v":""},{"$f":"IF($AE252=1,VLOOKUP($F252,all!$E$14:$AD$553,11),\"\")","v":""},{"$f":"IF($AE252=1,VLOOKUP($F252,all!$E$14:$AD$553,12),\"\")","v":""},{"$f":"IF($AE252=1,VLOOKUP($F252,all!$E$14:$AD$553,13),\"\")","v":""},{"$f":"IF($AE252=1,VLOOKUP($F252,all!$E$14:$AD$553,14),\"\")","v":""},{"$f":"IF($AE252=1,VLOOKUP($F252,all!$E$14:$AD$553,15),\"\")","v":""},{"$f":"IF($AE252=1,VLOOKUP($F252,all!$E$14:$AD$553,16),\"\")","v":""},{"$f":"IF($AE252=1,VLOOKUP($F252,all!$E$14:$AD$553,17),\"\")","v":""},{"$f":"IF($AE252=1,VLOOKUP($F252,all!$E$14:$AD$553,18),\"\")","v":""},{"$f":"IF($AE252=1,VLOOKUP($F252,all!$E$14:$AD$553,19),\"\")","v":""},{"$f":"IF($AE252=1,VLOOKUP($F252,all!$E$14:$AD$553,20),\"\")","v":""},{"$f":"IF($AE252=1,VLOOKUP($F252,all!$E$14:$AD$553,21),\"\")","v":""},{"$f":"IF($AE252=1,VLOOKUP($F252,all!$E$14:$AD$553,22),\"\")","v":""},{"$f":"IF($AE252=1,VLOOKUP($F252,all!$E$14:$AD$553,23),\"\")","v":""},{"$f":"IF($AE252=1,VLOOKUP($F252,all!$E$14:$AD$553,24),\"\")","v":""},{"$f":"IF($AE252=1,VLOOKUP($F252,all!$E$14:$AD$553,25),\"\")","v":""},null,{"$f":"COUNTIF(all!$E$14:$E$553,F252)","v":0}]
[null,null,null,null,null,220,{"$f":"IF($AE253=1,VLOOKUP($F253,all!$E$14:$AD$553,3),\"\")","v":""},{"$f":"IF($AE253=1,VLOOKUP($F253,all!$E$14:$AD$553,4),\"\")","v":""},{"$f":"IF($AE253=1,VLOOKUP($F253,all!$E$14:$AD$553,5),\"\")","v":""},{"$f":"IF($AE253=1,VLOOKUP($F253,all!$E$14:$AD$553,6),\"\")","v":""},{"$f":"IF($AE253=1,VLOOKUP($F253,all!$E$14:$AD$553,7),\"\")","v":""},{"$f":"IF($AE253=1,VLOOKUP($F253,all!$E$14:$AD$553,8),\"\")","v":""},{"$f":"IF($AE253=1,VLOOKUP($F253,all!$E$14:$AD$553,9),\"\")","v":""},{"$f":"IF($AE253=1,VLOOKUP($F253,all!$E$14:$AD$553,10),\"\")","v":""},{"$f":"IF($AE253=1,VLOOKUP($F253,all!$E$14:$AD$553,11),\"\")","v":""},{"$f":"IF($AE253=1,VLOOKUP($F253,all!$E$14:$AD$553,12),\"\")","v":""},{"$f":"IF($AE253=1,VLOOKUP($F253,all!$E$14:$AD$553,13),\"\")","v":""},{"$f":"IF($AE253=1,VLOOKUP($F253,all!$E$14:$AD$553,14),\"\")","v":""},{"$f":"IF($AE253=1,VLOOKUP($F253,all!$E$14:$AD$553,15),\"\")","v":""},{"$f":"IF($AE253=1,VLOOKUP($F253,all!$E$14:$AD$553,16),\"\")","v":""},{"$f":"IF($AE253=1,VLOOKUP($F253,all!$E$14:$AD$553,17),\"\")","v":""},{"$f":"IF($AE253=1,VLOOKUP($F253,all!$E$14:$AD$553,18),\"\")","v":""},{"$f":"IF($AE253=1,VLOOKUP($F253,all!$E$14:$AD$553,19),\"\")","v":""},{"$f":"IF($AE253=1,VLOOKUP($F253,all!$E$14:$AD$553,20),\"\")","v":""},{"$f":"IF($AE253=1,VLOOKUP($F253,all!$E$14:$AD$553,21),\"\")","v":""},{"$f":"IF($AE253=1,VLOOKUP($F253,all!$E$14:$AD$553,22),\"\")","v":""},{"$f":"IF($AE253=1,VLOOKUP($F253,all!$E$14:$AD$553,23),\"\")","v":""},{"$f":"IF($AE253=1,VLOOKUP($F253,all!$E$14:$AD$553,24),\"\")","v":""},{"$f":"IF($AE253=1,VLOOKUP($F253,all!$E$14:$AD$553,25),\"\")","v":""},null,{"$f":"COUNTIF(all!$E$14:$E$553,F253)","v":0}]
[null,null,null,null,null,221,{"$f":"IF($AE254=1,VLOOKUP($F254,all!$E$14:$AD$553,3),\"\")","v":""},{"$f":"IF($AE254=1,VLOOKUP($F254,all!$E$14:$AD$553,4),\"\")","v":""},{"$f":"IF($AE254=1,VLOOKUP($F254,all!$E$14:$AD$553,5),\"\")","v":""},{"$f":"IF($AE254=1,VLOOKUP($F254,all!$E$14:$AD$553,6),\"\")","v":""},{"$f":"IF($AE254=1,VLOOKUP($F254,all!$E$14:$AD$553,7),\"\")","v":""},{"$f":"IF($AE254=1,VLOOKUP($F254,all!$E$14:$AD$553,8),\"\")","v":""},{"$f":"IF($AE254=1,VLOOKUP($F254,all!$E$14:$AD$553,9),\"\")","v":""},{"$f":"IF($AE254=1,VLOOKUP($F254,all!$E$14:$AD$553,10),\"\")","v":""},{"$f":"IF($AE254=1,VLOOKUP($F254,all!$E$14:$AD$553,11),\"\")","v":""},{"$f":"IF($AE254=1,VLOOKUP($F254,all!$E$14:$AD$553,12),\"\")","v":""},{"$f":"IF($AE254=1,VLOOKUP($F254,all!$E$14:$AD$553,13),\"\")","v":""},{"$f":"IF($AE254=1,VLOOKUP($F254,all!$E$14:$AD$553,14),\"\")","v":""},{"$f":"IF($AE254=1,VLOOKUP($F254,all!$E$14:$AD$553,15),\"\")","v":""},{"$f":"IF($AE254=1,VLOOKUP($F254,all!$E$14:$AD$553,16),\"\")","v":""},{"$f":"IF($AE254=1,VLOOKUP($F254,all!$E$14:$AD$553,17),\"\")","v":""},{"$f":"IF($AE254=1,VLOOKUP($F254,all!$E$14:$AD$553,18),\"\")","v":""},{"$f":"IF($AE254=1,VLOOKUP($F254,all!$E$14:$AD$553,19),\"\")","v":""},{"$f":"IF($AE254=1,VLOOKUP($F254,all!$E$14:$AD$553,20),\"\")","v":""},{"$f":"IF($AE254=1,VLOOKUP($F254,all!$E$14:$AD$553,21),\"\")","v":""},{"$f":"IF($AE254=1,VLOOKUP($F254,all!$E$14:$AD$553,22),\"\")","v":""},{"$f":"IF($AE254=1,VLOOKUP($F254,all!$E$14:$AD$553,23),\"\")","v":""},{"$f":"IF($AE254=1,VLOOKUP($F254,all!$E$14:$AD$553,24),\"\")","v":""},{"$f":"IF($AE254=1,VLOOKUP($F254,all!$E$14:$AD$553,25),\"\")","v":""},null,{"$f":"COUNTIF(all!$E$14:$E$553,F254)","v":0}]
[null,null,null,null,null,222,{"$f":"IF($AE255=1,VLOOKUP($F255,all!$E$14:$AD$553,3),\"\")","v":""},{"$f":"IF($AE255=1,VLOOKUP($F255,all!$E$14:$AD$553,4),\"\")","v":""},{"$f":"IF($AE255=1,VLOOKUP($F255,all!$E$14:$AD$553,5),\"\")","v":""},{"$f":"IF($AE255=1,VLOOKUP($F255,all!$E$14:$AD$553,6),\"\")","v":""},{"$f":"IF($AE255=1,VLOOKUP($F255,all!$E$14:$AD$553,7),\"\")","v":""},{"$f":"IF($AE255=1,VLOOKUP($F255,all!$E$14:$AD$553,8),\"\")","v":""},{"$f":"IF($AE255=1,VLOOKUP($F255,all!$E$14:$AD$553,9),\"\")","v":""},{"$f":"IF($AE255=1,VLOOKUP($F255,all!$E$14:$AD$553,10),\"\")","v":""},{"$f":"IF($AE255=1,VLOOKUP($F255,all!$E$14:$AD$553,11),\"\")","v":""},{"$f":"IF($AE255=1,VLOOKUP($F255,all!$E$14:$AD$553,12),\"\")","v":""},{"$f":"IF($AE255=1,VLOOKUP($F255,all!$E$14:$AD$553,13),\"\")","v":""},{"$f":"IF($AE255=1,VLOOKUP($F255,all!$E$14:$AD$553,14),\"\")","v":""},{"$f":"IF($AE255=1,VLOOKUP($F255,all!$E$14:$AD$553,15),\"\")","v":""},{"$f":"IF($AE255=1,VLOOKUP($F255,all!$E$14:$AD$553,16),\"\")","v":""},{"$f":"IF($AE255=1,VLOOKUP($F255,all!$E$14:$AD$553,17),\"\")","v":""},{"$f":"IF($AE255=1,VLOOKUP($F255,all!$E$14:$AD$553,18),\"\")","v":""},{"$f":"IF($AE255=1,VLOOKUP($F255,all!$E$14:$AD$553,19),\"\")","v":""},{"$f":"IF($AE255=1,VLOOKUP($F255,all!$E$14:$AD$553,20),\"\")","v":""},{"$f":"IF($AE255=1,VLOOKUP($F255,all!$E$14:$AD$553,21),\"\")","v":""},{"$f":"IF($AE255=1,VLOOKUP($F255,all!$E$14:$AD$553,22),\"\")","v":""},{"$f":"IF($AE255=1,VLOOKUP($F255,all!$E$14:$AD$553,23),\"\")","v":""},{"$f":"IF($AE255=1,VLOOKUP($F255,all!$E$14:$AD$553,24),\"\")","v":""},{"$f":"IF($AE255=1,VLOOKUP($F255,all!$E$14:$AD$553,25),\"\")","v":""},null,{"$f":"COUNTIF(all!$E$14:$E$553,F255)","v":0}]
[null,null,null,null,null,223,{"$f":"IF($AE256=1,VLOOKUP($F256,all!$E$14:$AD$553,3),\"\")","v":""},{"$f":"IF($AE256=1,VLOOKUP($F256,all!$E$14:$AD$553,4),\"\")","v":""},{"$f":"IF($AE256=1,VLOOKUP($F256,all!$E$14:$AD$553,5),\"\")","v":""},{"$f":"IF($AE256=1,VLOOKUP($F256,all!$E$14:$AD$553,6),\"\")","v":""},{"$f":"IF($AE256=1,VLOOKUP($F256,all!$E$14:$AD$553,7),\"\")","v":""},{"$f":"IF($AE256=1,VLOOKUP($F256,all!$E$14:$AD$553,8),\"\")","v":""},{"$f":"IF($AE256=1,VLOOKUP($F256,all!$E$14:$AD$553,9),\"\")","v":""},{"$f":"IF($AE256=1,VLOOKUP($F256,all!$E$14:$AD$553,10),\"\")","v":""},{"$f":"IF($AE256=1,VLOOKUP($F256,all!$E$14:$AD$553,11),\"\")","v":""},{"$f":"IF($AE256=1,VLOOKUP($F256,all!$E$14:$AD$553,12),\"\")","v":""},{"$f":"IF($AE256=1,VLOOKUP($F256,all!$E$14:$AD$553,13),\"\")","v":""},{"$f":"IF($AE256=1,VLOOKUP($F256,all!$E$14:$AD$553,14),\"\")","v":""},{"$f":"IF($AE256=1,VLOOKUP($F256,all!$E$14:$AD$553,15),\"\")","v":""},{"$f":"IF($AE256=1,VLOOKUP($F256,all!$E$14:$AD$553,16),\"\")","v":""},{"$f":"IF($AE256=1,VLOOKUP($F256,all!$E$14:$AD$553,17),\"\")","v":""},{"$f":"IF($AE256=1,VLOOKUP($F256,all!$E$14:$AD$553,18),\"\")","v":""},{"$f":"IF($AE256=1,VLOOKUP($F256,all!$E$14:$AD$553,19),\"\")","v":""},{"$f":"IF($AE256=1,VLOOKUP($F256,all!$E$14:$AD$553,20),\"\")","v":""},{"$f":"IF($AE256=1,VLOOKUP($F256,all!$E$14:$AD$553,21),\"\")","v":""},{"$f":"IF($AE256=1,VLOOKUP($F256,all!$E$14:$AD$553,22),\"\")","v":""},{"$f":"IF($AE256=1,VLOOKUP($F256,all!$E$14:$AD$553,23),\"\")","v":""},{"$f":"IF($AE256=1,VLOOKUP($F256,all!$E$14:$AD$553,24),\"\")","v":""},{"$f":"IF($AE256=1,VLOOKUP($F256,all!$E$14:$AD$553,25),\"\")","v":""},null,{"$f":"COUNTIF(all!$E$14:$E$553,F256)","v":0}]
[null,null,null,null,null,224,{"$f":"IF($AE257=1,VLOOKUP($F257,all!$E$14:$AD$553,3),\"\")","v":""},{"$f":"IF($AE257=1,VLOOKUP($F257,all!$E$14:$AD$553,4),\"\")","v":""},{"$f":"IF($AE257=1,VLOOKUP($F257,all!$E$14:$AD$553,5),\"\")","v":""},{"$f":"IF($AE257=1,VLOOKUP($F257,all!$E$14:$AD$553,6),\"\")","v":""},{"$f":"IF($AE257=1,VLOOKUP($F257,all!$E$14:$AD$553,7),\"\")","v":""},{"$f":"IF($AE257=1,VLOOKUP($F257,all!$E$14:$AD$553,8),\"\")","v":""},{"$f":"IF($AE257=1,VLOOKUP($F257,all!$E$14:$AD$553,9),\"\")","v":""},{"$f":"IF($AE257=1,VLOOKUP($F257,all!$E$14:$AD$553,10),\"\")","v":""},{"$f":"IF($AE257=1,VLOOKUP($F257,all!$E$14:$AD$553,11),\"\")","v":""},{"$f":"IF($AE257=1,VLOOKUP($F257,all!$E$14:$AD$553,12),\"\")","v":""},{"$f":"IF($AE257=1,VLOOKUP($F257,all!$E$14:$AD$553,13),\"\")","v":""},{"$f":"IF($AE257=1,VLOOKUP($F257,all!$E$14:$AD$553,14),\"\")","v":""},{"$f":"IF($AE257=1,VLOOKUP($F257,all!$E$14:$AD$553,15),\"\")","v":""},{"$f":"IF($AE257=1,VLOOKUP($F257,all!$E$14:$AD$553,16),\"\")","v":""},{"$f":"IF($AE257=1,VLOOKUP($F257,all!$E$14:$AD$553,17),\"\")","v":""},{"$f":"IF($AE257=1,VLOOKUP($F257,all!$E$14:$AD$553,18),\"\")","v":""},{"$f":"IF($AE257=1,VLOOKUP($F257,all!$E$14:$AD$553,19),\"\")","v":""},{"$f":"IF($AE257=1,VLOOKUP($F257,all!$E$14:$AD$553,20),\"\")","v":""},{"$f":"IF($AE257=1,VLOOKUP($F257,all!$E$14:$AD$553,21),\"\")","v":""},{"$f":"IF($AE257=1,VLOOKUP($F257,all!$E$14:$AD$553,22),\"\")","v":""},{"$f":"IF($AE257=1,VLOOKUP($F257,all!$E$14:$AD$553,23),\"\")","v":""},{"$f":"IF($AE257=1,VLOOKUP($F257,all!$E$14:$AD$553,24),\"\")","v":""},{"$f":"IF($AE257=1,VLOOKUP($F257,all!$E$14:$AD$553,25),\"\")","v":""},null,{"$f":"COUNTIF(all!$E$14:$E$553,F257)","v":0}]
[null,null,null,null,null,225,{"$f":"IF($AE258=1,VLOOKUP($F258,all!$E$14:$AD$553,3),\"\")","v":""},{"$f":"IF($AE258=1,VLOOKUP($F258,all!$E$14:$AD$553,4),\"\")","v":""},{"$f":"IF($AE258=1,VLOOKUP($F258,all!$E$14:$AD$553,5),\"\")","v":""},{"$f":"IF($AE258=1,VLOOKUP($F258,all!$E$14:$AD$553,6),\"\")","v":""},{"$f":"IF($AE258=1,VLOOKUP($F258,all!$E$14:$AD$553,7),\"\")","v":""},{"$f":"IF($AE258=1,VLOOKUP($F258,all!$E$14:$AD$553,8),\"\")","v":""},{"$f":"IF($AE258=1,VLOOKUP($F258,all!$E$14:$AD$553,9),\"\")","v":""},{"$f":"IF($AE258=1,VLOOKUP($F258,all!$E$14:$AD$553,10),\"\")","v":""},{"$f":"IF($AE258=1,VLOOKUP($F258,all!$E$14:$AD$553,11),\"\")","v":""},{"$f":"IF($AE258=1,VLOOKUP($F258,all!$E$14:$AD$553,12),\"\")","v":""},{"$f":"IF($AE258=1,VLOOKUP($F258,all!$E$14:$AD$553,13),\"\")","v":""},{"$f":"IF($AE258=1,VLOOKUP($F258,all!$E$14:$AD$553,14),\"\")","v":""},{"$f":"IF($AE258=1,VLOOKUP($F258,all!$E$14:$AD$553,15),\"\")","v":""},{"$f":"IF($AE258=1,VLOOKUP($F258,all!$E$14:$AD$553,16),\"\")","v":""},{"$f":"IF($AE258=1,VLOOKUP($F258,all!$E$14:$AD$553,17),\"\")","v":""},{"$f":"IF($AE258=1,VLOOKUP($F258,all!$E$14:$AD$553,18),\"\")","v":""},{"$f":"IF($AE258=1,VLOOKUP($F258,all!$E$14:$AD$553,19),\"\")","v":""},{"$f":"IF($AE258=1,VLOOKUP($F258,all!$E$14:$AD$553,20),\"\")","v":""},{"$f":"IF($AE258=1,VLOOKUP($F258,all!$E$14:$AD$553,21),\"\")","v":""},{"$f":"IF($AE258=1,VLOOKUP($F258,all!$E$14:$AD$553,22),\"\")","v":""},{"$f":"IF($AE258=1,VLOOKUP($F258,all!$E$14:$AD$553,23),\"\")","v":""},{"$f":"IF($AE258=1,VLOOKUP($F258,all!$E$14:$AD$553,24),\"\")","v":""},{"$f":"IF($AE258=1,VLOOKUP($F258,all!$E$14:$AD$553,25),\"\")","v":""},null,{"$f":"COUNTIF(all!$E$14:$E$553,F258)","v":0}]
[null,null,null,null,null,226,{"$f":"IF($AE259=1,VLOOKUP($F259,all!$E$14:$AD$553,3),\"\")","v":""},{"$f":"IF($AE259=1,VLOOKUP($F259,all!$E$14:$AD$553,4),\"\")","v":""},{"$f":"IF($AE259=1,VLOOKUP($F259,all!$E$14:$AD$553,5),\"\")","v":""},{"$f":"IF($AE259=1,VLOOKUP($F259,all!$E$14:$AD$553,6),\"\")","v":""},{"$f":"IF($AE259=1,VLOOKUP($F259,all!$E$14:$AD$553,7),\"\")","v":""},{"$f":"IF($AE259=1,VLOOKUP($F259,all!$E$14:$AD$553,8),\"\")","v":""},{"$f":"IF($AE259=1,VLOOKUP($F259,all!$E$14:$AD$553,9),\"\")","v":""},{"$f":"IF($AE259=1,VLOOKUP($F259,all!$E$14:$AD$553,10),\"\")","v":""},{"$f":"IF($AE259=1,VLOOKUP($F259,all!$E$14:$AD$553,11),\"\")","v":""},{"$f":"IF($AE259=1,VLOOKUP($F259,all!$E$14:$AD$553,12),\"\")","v":""},{"$f":"IF($AE259=1,VLOOKUP($F259,all!$E$14:$AD$553,13),\"\")","v":""},{"$f":"IF($AE259=1,VLOOKUP($F259,all!$E$14:$AD$553,14),\"\")","v":""},{"$f":"IF($AE259=1,VLOOKUP($F259,all!$E$14:$AD$553,15),\"\")","v":""},{"$f":"IF($AE259=1,VLOOKUP($F259,all!$E$14:$AD$553,16),\"\")","v":""},{"$f":"IF($AE259=1,VLOOKUP($F259,all!$E$14:$AD$553,17),\"\")","v":""},{"$f":"IF($AE259=1,VLOOKUP($F259,all!$E$14:$AD$553,18),\"\")","v":""},{"$f":"IF($AE259=1,VLOOKUP($F259,all!$E$14:$AD$553,19),\"\")","v":""},{"$f":"IF($AE259=1,VLOOKUP($F259,all!$E$14:$AD$553,20),\"\")","v":""},{"$f":"IF($AE259=1,VLOOKUP($F259,all!$E$14:$AD$553,21),\"\")","v":""},{"$f":"IF($AE259=1,VLOOKUP($F259,all!$E$14:$AD$553,22),\"\")","v":""},{"$f":"IF($AE259=1,VLOOKUP($F259,all!$E$14:$AD$553,23),\"\")","v":""},{"$f":"IF($AE259=1,VLOOKUP($F259,all!$E$14:$AD$553,24),\"\")","v":""},{"$f":"IF($AE259=1,VLOOKUP($F259,all!$E$14:$AD$553,25),\"\")","v":""},null,{"$f":"COUNTIF(all!$E$14:$E$553,F259)","v":0}]
[null,null,null,null,null,227,{"$f":"IF($AE260=1,VLOOKUP($F260,all!$E$14:$AD$553,3),\"\")","v":""},{"$f":"IF($AE260=1,VLOOKUP($F260,all!$E$14:$AD$553,4),\"\")","v":""},{"$f":"IF($AE260=1,VLOOKUP($F260,all!$E$14:$AD$553,5),\"\")","v":""},{"$f":"IF($AE260=1,VLOOKUP($F260,all!$E$14:$AD$553,6),\"\")","v":""},{"$f":"IF($AE260=1,VLOOKUP($F260,all!$E$14:$AD$553,7),\"\")","v":""},{"$f":"IF($AE260=1,VLOOKUP($F260,all!$E$14:$AD$553,8),\"\")","v":""},{"$f":"IF($AE260=1,VLOOKUP($F260,all!$E$14:$AD$553,9),\"\")","v":""},{"$f":"IF($AE260=1,VLOOKUP($F260,all!$E$14:$AD$553,10),\"\")","v":""},{"$f":"IF($AE260=1,VLOOKUP($F260,all!$E$14:$AD$553,11),\"\")","v":""},{"$f":"IF($AE260=1,VLOOKUP($F260,all!$E$14:$AD$553,12),\"\")","v":""},{"$f":"IF($AE260=1,VLOOKUP($F260,all!$E$14:$AD$553,13),\"\")","v":""},{"$f":"IF($AE260=1,VLOOKUP($F260,all!$E$14:$AD$553,14),\"\")","v":""},{"$f":"IF($AE260=1,VLOOKUP($F260,all!$E$14:$AD$553,15),\"\")","v":""},{"$f":"IF($AE260=1,VLOOKUP($F260,all!$E$14:$AD$553,16),\"\")","v":""},{"$f":"IF($AE260=1,VLOOKUP($F260,all!$E$14:$AD$553,17),\"\")","v":""},{"$f":"IF($AE260=1,VLOOKUP($F260,all!$E$14:$AD$553,18),\"\")","v":""},{"$f":"IF($AE260=1,VLOOKUP($F260,all!$E$14:$AD$553,19),\"\")","v":""},{"$f":"IF($AE260=1,VLOOKUP($F260,all!$E$14:$AD$553,20),\"\")","v":""},{"$f":"IF($AE260=1,VLOOKUP($F260,all!$E$14:$AD$553,21),\"\")","v":""},{"$f":"IF($AE260=1,VLOOKUP($F260,all!$E$14:$AD$553,22),\"\")","v":""},{"$f":"IF($AE260=1,VLOOKUP($F260,all!$E$14:$AD$553,23),\"\")","v":""},{"$f":"IF($AE260=1,VLOOKUP($F260,all!$E$14:$AD$553,24),\"\")","v":""},{"$f":"IF($AE260=1,VLOOKUP($F260,all!$E$14:$AD$553,25),\"\")","v":""},null,{"$f":"COUNTIF(all!$E$14:$E$553,F260)","v":0}]
[null,null,null,null,null,228,{"$f":"IF($AE261=1,VLOOKUP($F261,all!$E$14:$AD$553,3),\"\")","v":""},{"$f":"IF($AE261=1,VLOOKUP($F261,all!$E$14:$AD$553,4),\"\")","v":""},{"$f":"IF($AE261=1,VLOOKUP($F261,all!$E$14:$AD$553,5),\"\")","v":""},{"$f":"IF($AE261=1,VLOOKUP($F261,all!$E$14:$AD$553,6),\"\")","v":""},{"$f":"IF($AE261=1,VLOOKUP($F261,all!$E$14:$AD$553,7),\"\")","v":""},{"$f":"IF($AE261=1,VLOOKUP($F261,all!$E$14:$AD$553,8),\"\")","v":""},{"$f":"IF($AE261=1,VLOOKUP($F261,all!$E$14:$AD$553,9),\"\")","v":""},{"$f":"IF($AE261=1,VLOOKUP($F261,all!$E$14:$AD$553,10),\"\")","v":""},{"$f":"IF($AE261=1,VLOOKUP($F261,all!$E$14:$AD$553,11),\"\")","v":""},{"$f":"IF($AE261=1,VLOOKUP($F261,all!$E$14:$AD$553,12),\"\")","v":""},{"$f":"IF($AE261=1,VLOOKUP($F261,all!$E$14:$AD$553,13),\"\")","v":""},{"$f":"IF($AE261=1,VLOOKUP($F261,all!$E$14:$AD$553,14),\"\")","v":""},{"$f":"IF($AE261=1,VLOOKUP($F261,all!$E$14:$AD$553,15),\"\")","v":""},{"$f":"IF($AE261=1,VLOOKUP($F261,all!$E$14:$AD$553,16),\"\")","v":""},{"$f":"IF($AE261=1,VLOOKUP($F261,all!$E$14:$AD$553,17),\"\")","v":""},{"$f":"IF($AE261=1,VLOOKUP($F261,all!$E$14:$AD$553,18),\"\")","v":""},{"$f":"IF($AE261=1,VLOOKUP($F261,all!$E$14:$AD$553,19),\"\")","v":""},{"$f":"IF($AE261=1,VLOOKUP($F261,all!$E$14:$AD$553,20),\"\")","v":""},{"$f":"IF($AE261=1,VLOOKUP($F261,all!$E$14:$AD$553,21),\"\")","v":""},{"$f":"IF($AE261=1,VLOOKUP($F261,all!$E$14:$AD$553,22),\"\")","v":""},{"$f":"IF($AE261=1,VLOOKUP($F261,all!$E$14:$AD$553,23),\"\")","v":""},{"$f":"IF($AE261=1,VLOOKUP($F261,all!$E$14:$AD$553,24),\"\")","v":""},{"$f":"IF($AE261=1,VLOOKUP($F261,all!$E$14:$AD$553,25),\"\")","v":""},null,{"$f":"COUNTIF(all!$E$14:$E$553,F261)","v":0}]
[null,null,null,null,null,229,{"$f":"IF($AE262=1,VLOOKUP($F262,all!$E$14:$AD$553,3),\"\")","v":""},{"$f":"IF($AE262=1,VLOOKUP($F262,all!$E$14:$AD$553,4),\"\")","v":""},{"$f":"IF($AE262=1,VLOOKUP($F262,all!$E$14:$AD$553,5),\"\")","v":""},{"$f":"IF($AE262=1,VLOOKUP($F262,all!$E$14:$AD$553,6),\"\")","v":""},{"$f":"IF($AE262=1,VLOOKUP($F262,all!$E$14:$AD$553,7),\"\")","v":""},{"$f":"IF($AE262=1,VLOOKUP($F262,all!$E$14:$AD$553,8),\"\")","v":""},{"$f":"IF($AE262=1,VLOOKUP($F262,all!$E$14:$AD$553,9),\"\")","v":""},{"$f":"IF($AE262=1,VLOOKUP($F262,all!$E$14:$AD$553,10),\"\")","v":""},{"$f":"IF($AE262=1,VLOOKUP($F262,all!$E$14:$AD$553,11),\"\")","v":""},{"$f":"IF($AE262=1,VLOOKUP($F262,all!$E$14:$AD$553,12),\"\")","v":""},{"$f":"IF($AE262=1,VLOOKUP($F262,all!$E$14:$AD$553,13),\"\")","v":""},{"$f":"IF($AE262=1,VLOOKUP($F262,all!$E$14:$AD$553,14),\"\")","v":""},{"$f":"IF($AE262=1,VLOOKUP($F262,all!$E$14:$AD$553,15),\"\")","v":""},{"$f":"IF($AE262=1,VLOOKUP($F262,all!$E$14:$AD$553,16),\"\")","v":""},{"$f":"IF($AE262=1,VLOOKUP($F262,all!$E$14:$AD$553,17),\"\")","v":""},{"$f":"IF($AE262=1,VLOOKUP($F262,all!$E$14:$AD$553,18),\"\")","v":""},{"$f":"IF($AE262=1,VLOOKUP($F262,all!$E$14:$AD$553,19),\"\")","v":""},{"$f":"IF($AE262=1,VLOOKUP($F262,all!$E$14:$AD$553,20),\"\")","v":""},{"$f":"IF($AE262=1,VLOOKUP($F262,all!$E$14:$AD$553,21),\"\")","v":""},{"$f":"IF($AE262=1,VLOOKUP($F262,all!$E$14:$AD$553,22),\"\")","v":""},{"$f":"IF($AE262=1,VLOOKUP($F262,all!$E$14:$AD$553,23),\"\")","v":""},{"$f":"IF($AE262=1,VLOOKUP($F262,all!$E$14:$AD$553,24),\"\")","v":""},{"$f":"IF($AE262=1,VLOOKUP($F262,all!$E$14:$AD$553,25),\"\")","v":""},null,{"$f":"COUNTIF(all!$E$14:$E$553,F262)","v":0}]
[null,null,null,null,null,230,{"$f":"IF($AE263=1,VLOOKUP($F263,all!$E$14:$AD$553,3),\"\")","v":""},{"$f":"IF($AE263=1,VLOOKUP($F263,all!$E$14:$AD$553,4),\"\")","v":""},{"$f":"IF($AE263=1,VLOOKUP($F263,all!$E$14:$AD$553,5),\"\")","v":""},{"$f":"IF($AE263=1,VLOOKUP($F263,all!$E$14:$AD$553,6),\"\")","v":""},{"$f":"IF($AE263=1,VLOOKUP($F263,all!$E$14:$AD$553,7),\"\")","v":""},{"$f":"IF($AE263=1,VLOOKUP($F263,all!$E$14:$AD$553,8),\"\")","v":""},{"$f":"IF($AE263=1,VLOOKUP($F263,all!$E$14:$AD$553,9),\"\")","v":""},{"$f":"IF($AE263=1,VLOOKUP($F263,all!$E$14:$AD$553,10),\"\")","v":""},{"$f":"IF($AE263=1,VLOOKUP($F263,all!$E$14:$AD$553,11),\"\")","v":""},{"$f":"IF($AE263=1,VLOOKUP($F263,all!$E$14:$AD$553,12),\"\")","v":""},{"$f":"IF($AE263=1,VLOOKUP($F263,all!$E$14:$AD$553,13),\"\")","v":""},{"$f":"IF($AE263=1,VLOOKUP($F263,all!$E$14:$AD$553,14),\"\")","v":""},{"$f":"IF($AE263=1,VLOOKUP($F263,all!$E$14:$AD$553,15),\"\")","v":""},{"$f":"IF($AE263=1,VLOOKUP($F263,all!$E$14:$AD$553,16),\"\")","v":""},{"$f":"IF($AE263=1,VLOOKUP($F263,all!$E$14:$AD$553,17),\"\")","v":""},{"$f":"IF($AE263=1,VLOOKUP($F263,all!$E$14:$AD$553,18),\"\")","v":""},{"$f":"IF($AE263=1,VLOOKUP($F263,all!$E$14:$AD$553,19),\"\")","v":""},{"$f":"IF($AE263=1,VLOOKUP($F263,all!$E$14:$AD$553,20),\"\")","v":""},{"$f":"IF($AE263=1,VLOOKUP($F263,all!$E$14:$AD$553,21),\"\")","v":""},{"$f":"IF($AE263=1,VLOOKUP($F263,all!$E$14:$AD$553,22),\"\")","v":""},{"$f":"IF($AE263=1,VLOOKUP($F263,all!$E$14:$AD$553,23),\"\")","v":""},{"$f":"IF($AE263=1,VLOOKUP($F263,all!$E$14:$AD$553,24),\"\")","v":""},{"$f":"IF($AE263=1,VLOOKUP($F263,all!$E$14:$AD$553,25),\"\")","v":""},null,{"$f":"COUNTIF(all!$E$14:$E$553,F263)","v":0}]
[null,null,null,null,null,231,{"$f":"IF($AE264=1,VLOOKUP($F264,all!$E$14:$AD$553,3),\"\")","v":""},{"$f":"IF($AE264=1,VLOOKUP($F264,all!$E$14:$AD$553,4),\"\")","v":""},{"$f":"IF($AE264=1,VLOOKUP($F264,all!$E$14:$AD$553,5),\"\")","v":""},{"$f":"IF($AE264=1,VLOOKUP($F264,all!$E$14:$AD$553,6),\"\")","v":""},{"$f":"IF($AE264=1,VLOOKUP($F264,all!$E$14:$AD$553,7),\"\")","v":""},{"$f":"IF($AE264=1,VLOOKUP($F264,all!$E$14:$AD$553,8),\"\")","v":""},{"$f":"IF($AE264=1,VLOOKUP($F264,all!$E$14:$AD$553,9),\"\")","v":""},{"$f":"IF($AE264=1,VLOOKUP($F264,all!$E$14:$AD$553,10),\"\")","v":""},{"$f":"IF($AE264=1,VLOOKUP($F264,all!$E$14:$AD$553,11),\"\")","v":""},{"$f":"IF($AE264=1,VLOOKUP($F264,all!$E$14:$AD$553,12),\"\")","v":""},{"$f":"IF($AE264=1,VLOOKUP($F264,all!$E$14:$AD$553,13),\"\")","v":""},{"$f":"IF($AE264=1,VLOOKUP($F264,all!$E$14:$AD$553,14),\"\")","v":""},{"$f":"IF($AE264=1,VLOOKUP($F264,all!$E$14:$AD$553,15),\"\")","v":""},{"$f":"IF($AE264=1,VLOOKUP($F264,all!$E$14:$AD$553,16),\"\")","v":""},{"$f":"IF($AE264=1,VLOOKUP($F264,all!$E$14:$AD$553,17),\"\")","v":""},{"$f":"IF($AE264=1,VLOOKUP($F264,all!$E$14:$AD$553,18),\"\")","v":""},{"$f":"IF($AE264=1,VLOOKUP($F264,all!$E$14:$AD$553,19),\"\")","v":""},{"$f":"IF($AE264=1,VLOOKUP($F264,all!$E$14:$AD$553,20),\"\")","v":""},{"$f":"IF($AE264=1,VLOOKUP($F264,all!$E$14:$AD$553,21),\"\")","v":""},{"$f":"IF($AE264=1,VLOOKUP($F264,all!$E$14:$AD$553,22),\"\")","v":""},{"$f":"IF($AE264=1,VLOOKUP($F264,all!$E$14:$AD$553,23),\"\")","v":""},{"$f":"IF($AE264=1,VLOOKUP($F264,all!$E$14:$AD$553,24),\"\")","v":""},{"$f":"IF($AE264=1,VLOOKUP($F264,all!$E$14:$AD$553,25),\"\")","v":""},null,{"$f":"COUNTIF(all!$E$14:$E$553,F264)","v":0}]
[null,null,null,null,null,232,{"$f":"IF($AE265=1,VLOOKUP($F265,all!$E$14:$AD$553,3),\"\")","v":""},{"$f":"IF($AE265=1,VLOOKUP($F265,all!$E$14:$AD$553,4),\"\")","v":""},{"$f":"IF($AE265=1,VLOOKUP($F265,all!$E$14:$AD$553,5),\"\")","v":""},{"$f":"IF($AE265=1,VLOOKUP($F265,all!$E$14:$AD$553,6),\"\")","v":""},{"$f":"IF($AE265=1,VLOOKUP($F265,all!$E$14:$AD$553,7),\"\")","v":""},{"$f":"IF($AE265=1,VLOOKUP($F265,all!$E$14:$AD$553,8),\"\")","v":""},{"$f":"IF($AE265=1,VLOOKUP($F265,all!$E$14:$AD$553,9),\"\")","v":""},{"$f":"IF($AE265=1,VLOOKUP($F265,all!$E$14:$AD$553,10),\"\")","v":""},{"$f":"IF($AE265=1,VLOOKUP($F265,all!$E$14:$AD$553,11),\"\")","v":""},{"$f":"IF($AE265=1,VLOOKUP($F265,all!$E$14:$AD$553,12),\"\")","v":""},{"$f":"IF($AE265=1,VLOOKUP($F265,all!$E$14:$AD$553,13),\"\")","v":""},{"$f":"IF($AE265=1,VLOOKUP($F265,all!$E$14:$AD$553,14),\"\")","v":""},{"$f":"IF($AE265=1,VLOOKUP($F265,all!$E$14:$AD$553,15),\"\")","v":""},{"$f":"IF($AE265=1,VLOOKUP($F265,all!$E$14:$AD$553,16),\"\")","v":""},{"$f":"IF($AE265=1,VLOOKUP($F265,all!$E$14:$AD$553,17),\"\")","v":""},{"$f":"IF($AE265=1,VLOOKUP($F265,all!$E$14:$AD$553,18),\"\")","v":""},{"$f":"IF($AE265=1,VLOOKUP($F265,all!$E$14:$AD$553,19),\"\")","v":""},{"$f":"IF($AE265=1,VLOOKUP($F265,all!$E$14:$AD$553,20),\"\")","v":""},{"$f":"IF($AE265=1,VLOOKUP($F265,all!$E$14:$AD$553,21),\"\")","v":""},{"$f":"IF($AE265=1,VLOOKUP($F265,all!$E$14:$AD$553,22),\"\")","v":""},{"$f":"IF($AE265=1,VLOOKUP($F265,all!$E$14:$AD$553,23),\"\")","v":""},{"$f":"IF($AE265=1,VLOOKUP($F265,all!$E$14:$AD$553,24),\"\")","v":""},{"$f":"IF($AE265=1,VLOOKUP($F265,all!$E$14:$AD$553,25),\"\")","v":""},null,{"$f":"COUNTIF(all!$E$14:$E$553,F265)","v":0}]
[null,null,null,null,null,233,{"$f":"IF($AE266=1,VLOOKUP($F266,all!$E$14:$AD$553,3),\"\")","v":""},{"$f":"IF($AE266=1,VLOOKUP($F266,all!$E$14:$AD$553,4),\"\")","v":""},{"$f":"IF($AE266=1,VLOOKUP($F266,all!$E$14:$AD$553,5),\"\")","v":""},{"$f":"IF($AE266=1,VLOOKUP($F266,all!$E$14:$AD$553,6),\"\")","v":""},{"$f":"IF($AE266=1,VLOOKUP($F266,all!$E$14:$AD$553,7),\"\")","v":""},{"$f":"IF($AE266=1,VLOOKUP($F266,all!$E$14:$AD$553,8),\"\")","v":""},{"$f":"IF($AE266=1,VLOOKUP($F266,all!$E$14:$AD$553,9),\"\")","v":""},{"$f":"IF($AE266=1,VLOOKUP($F266,all!$E$14:$AD$553,10),\"\")","v":""},{"$f":"IF($AE266=1,VLOOKUP($F266,all!$E$14:$AD$553,11),\"\")","v":""},{"$f":"IF($AE266=1,VLOOKUP($F266,all!$E$14:$AD$553,12),\"\")","v":""},{"$f":"IF($AE266=1,VLOOKUP($F266,all!$E$14:$AD$553,13),\"\")","v":""},{"$f":"IF($AE266=1,VLOOKUP($F266,all!$E$14:$AD$553,14),\"\")","v":""},{"$f":"IF($AE266=1,VLOOKUP($F266,all!$E$14:$AD$553,15),\"\")","v":""},{"$f":"IF($AE266=1,VLOOKUP($F266,all!$E$14:$AD$553,16),\"\")","v":""},{"$f":"IF($AE266=1,VLOOKUP($F266,all!$E$14:$AD$553,17),\"\")","v":""},{"$f":"IF($AE266=1,VLOOKUP($F266,all!$E$14:$AD$553,18),\"\")","v":""},{"$f":"IF($AE266=1,VLOOKUP($F266,all!$E$14:$AD$553,19),\"\")","v":""},{"$f":"IF($AE266=1,VLOOKUP($F266,all!$E$14:$AD$553,20),\"\")","v":""},{"$f":"IF($AE266=1,VLOOKUP($F266,all!$E$14:$AD$553,21),\"\")","v":""},{"$f":"IF($AE266=1,VLOOKUP($F266,all!$E$14:$AD$553,22),\"\")","v":""},{"$f":"IF($AE266=1,VLOOKUP($F266,all!$E$14:$AD$553,23),\"\")","v":""},{"$f":"IF($AE266=1,VLOOKUP($F266,all!$E$14:$AD$553,24),\"\")","v":""},{"$f":"IF($AE266=1,VLOOKUP($F266,all!$E$14:$AD$553,25),\"\")","v":""},null,{"$f":"COUNTIF(all!$E$14:$E$553,F266)","v":0}]
[null,null,null,null,null,234,{"$f":"IF($AE267=1,VLOOKUP($F267,all!$E$14:$AD$553,3),\"\")","v":""},{"$f":"IF($AE267=1,VLOOKUP($F267,all!$E$14:$AD$553,4),\"\")","v":""},{"$f":"IF($AE267=1,VLOOKUP($F267,all!$E$14:$AD$553,5),\"\")","v":""},{"$f":"IF($AE267=1,VLOOKUP($F267,all!$E$14:$AD$553,6),\"\")","v":""},{"$f":"IF($AE267=1,VLOOKUP($F267,all!$E$14:$AD$553,7),\"\")","v":""},{"$f":"IF($AE267=1,VLOOKUP($F267,all!$E$14:$AD$553,8),\"\")","v":""},{"$f":"IF($AE267=1,VLOOKUP($F267,all!$E$14:$AD$553,9),\"\")","v":""},{"$f":"IF($AE267=1,VLOOKUP($F267,all!$E$14:$AD$553,10),\"\")","v":""},{"$f":"IF($AE267=1,VLOOKUP($F267,all!$E$14:$AD$553,11),\"\")","v":""},{"$f":"IF($AE267=1,VLOOKUP($F267,all!$E$14:$AD$553,12),\"\")","v":""},{"$f":"IF($AE267=1,VLOOKUP($F267,all!$E$14:$AD$553,13),\"\")","v":""},{"$f":"IF($AE267=1,VLOOKUP($F267,all!$E$14:$AD$553,14),\"\")","v":""},{"$f":"IF($AE267=1,VLOOKUP($F267,all!$E$14:$AD$553,15),\"\")","v":""},{"$f":"IF($AE267=1,VLOOKUP($F267,all!$E$14:$AD$553,16),\"\")","v":""},{"$f":"IF($AE267=1,VLOOKUP($F267,all!$E$14:$AD$553,17),\"\")","v":""},{"$f":"IF($AE267=1,VLOOKUP($F267,all!$E$14:$AD$553,18),\"\")","v":""},{"$f":"IF($AE267=1,VLOOKUP($F267,all!$E$14:$AD$553,19),\"\")","v":""},{"$f":"IF($AE267=1,VLOOKUP($F267,all!$E$14:$AD$553,20),\"\")","v":""},{"$f":"IF($AE267=1,VLOOKUP($F267,all!$E$14:$AD$553,21),\"\")","v":""},{"$f":"IF($AE267=1,VLOOKUP($F267,all!$E$14:$AD$553,22),\"\")","v":""},{"$f":"IF($AE267=1,VLOOKUP($F267,all!$E$14:$AD$553,23),\"\")","v":""},{"$f":"IF($AE267=1,VLOOKUP($F267,all!$E$14:$AD$553,24),\"\")","v":""},{"$f":"IF($AE267=1,VLOOKUP($F267,all!$E$14:$AD$553,25),\"\")","v":""},null,{"$f":"COUNTIF(all!$E$14:$E$553,F267)","v":0}]
[null,null,null,null,null,235,{"$f":"IF($AE268=1,VLOOKUP($F268,all!$E$14:$AD$553,3),\"\")","v":""},{"$f":"IF($AE268=1,VLOOKUP($F268,all!$E$14:$AD$553,4),\"\")","v":""},{"$f":"IF($AE268=1,VLOOKUP($F268,all!$E$14:$AD$553,5),\"\")","v":""},{"$f":"IF($AE268=1,VLOOKUP($F268,all!$E$14:$AD$553,6),\"\")","v":""},{"$f":"IF($AE268=1,VLOOKUP($F268,all!$E$14:$AD$553,7),\"\")","v":""},{"$f":"IF($AE268=1,VLOOKUP($F268,all!$E$14:$AD$553,8),\"\")","v":""},{"$f":"IF($AE268=1,VLOOKUP($F268,all!$E$14:$AD$553,9),\"\")","v":""},{"$f":"IF($AE268=1,VLOOKUP($F268,all!$E$14:$AD$553,10),\"\")","v":""},{"$f":"IF($AE268=1,VLOOKUP($F268,all!$E$14:$AD$553,11),\"\")","v":""},{"$f":"IF($AE268=1,VLOOKUP($F268,all!$E$14:$AD$553,12),\"\")","v":""},{"$f":"IF($AE268=1,VLOOKUP($F268,all!$E$14:$AD$553,13),\"\")","v":""},{"$f":"IF($AE268=1,VLOOKUP($F268,all!$E$14:$AD$553,14),\"\")","v":""},{"$f":"IF($AE268=1,VLOOKUP($F268,all!$E$14:$AD$553,15),\"\")","v":""},{"$f":"IF($AE268=1,VLOOKUP($F268,all!$E$14:$AD$553,16),\"\")","v":""},{"$f":"IF($AE268=1,VLOOKUP($F268,all!$E$14:$AD$553,17),\"\")","v":""},{"$f":"IF($AE268=1,VLOOKUP($F268,all!$E$14:$AD$553,18),\"\")","v":""},{"$f":"IF($AE268=1,VLOOKUP($F268,all!$E$14:$AD$553,19),\"\")","v":""},{"$f":"IF($AE268=1,VLOOKUP($F268,all!$E$14:$AD$553,20),\"\")","v":""},{"$f":"IF($AE268=1,VLOOKUP($F268,all!$E$14:$AD$553,21),\"\")","v":""},{"$f":"IF($AE268=1,VLOOKUP($F268,all!$E$14:$AD$553,22),\"\")","v":""},{"$f":"IF($AE268=1,VLOOKUP($F268,all!$E$14:$AD$553,23),\"\")","v":""},{"$f":"IF($AE268=1,VLOOKUP($F268,all!$E$14:$AD$553,24),\"\")","v":""},{"$f":"IF($AE268=1,VLOOKUP($F268,all!$E$14:$AD$553,25),\"\")","v":""},null,{"$f":"COUNTIF(all!$E$14:$E$553,F268)","v":0}]
[null,null,null,null,null,236,{"$f":"IF($AE269=1,VLOOKUP($F269,all!$E$14:$AD$553,3),\"\")","v":""},{"$f":"IF($AE269=1,VLOOKUP($F269,all!$E$14:$AD$553,4),\"\")","v":""},{"$f":"IF($AE269=1,VLOOKUP($F269,all!$E$14:$AD$553,5),\"\")","v":""},{"$f":"IF($AE269=1,VLOOKUP($F269,all!$E$14:$AD$553,6),\"\")","v":""},{"$f":"IF($AE269=1,VLOOKUP($F269,all!$E$14:$AD$553,7),\"\")","v":""},{"$f":"IF($AE269=1,VLOOKUP($F269,all!$E$14:$AD$553,8),\"\")","v":""},{"$f":"IF($AE269=1,VLOOKUP($F269,all!$E$14:$AD$553,9),\"\")","v":""},{"$f":"IF($AE269=1,VLOOKUP($F269,all!$E$14:$AD$553,10),\"\")","v":""},{"$f":"IF($AE269=1,VLOOKUP($F269,all!$E$14:$AD$553,11),\"\")","v":""},{"$f":"IF($AE269=1,VLOOKUP($F269,all!$E$14:$AD$553,12),\"\")","v":""},{"$f":"IF($AE269=1,VLOOKUP($F269,all!$E$14:$AD$553,13),\"\")","v":""},{"$f":"IF($AE269=1,VLOOKUP($F269,all!$E$14:$AD$553,14),\"\")","v":""},{"$f":"IF($AE269=1,VLOOKUP($F269,all!$E$14:$AD$553,15),\"\")","v":""},{"$f":"IF($AE269=1,VLOOKUP($F269,all!$E$14:$AD$553,16),\"\")","v":""},{"$f":"IF($AE269=1,VLOOKUP($F269,all!$E$14:$AD$553,17),\"\")","v":""},{"$f":"IF($AE269=1,VLOOKUP($F269,all!$E$14:$AD$553,18),\"\")","v":""},{"$f":"IF($AE269=1,VLOOKUP($F269,all!$E$14:$AD$553,19),\"\")","v":""},{"$f":"IF($AE269=1,VLOOKUP($F269,all!$E$14:$AD$553,20),\"\")","v":""},{"$f":"IF($AE269=1,VLOOKUP($F269,all!$E$14:$AD$553,21),\"\")","v":""},{"$f":"IF($AE269=1,VLOOKUP($F269,all!$E$14:$AD$553,22),\"\")","v":""},{"$f":"IF($AE269=1,VLOOKUP($F269,all!$E$14:$AD$553,23),\"\")","v":""},{"$f":"IF($AE269=1,VLOOKUP($F269,all!$E$14:$AD$553,24),\"\")","v":""},{"$f":"IF($AE269=1,VLOOKUP($F269,all!$E$14:$AD$553,25),\"\")","v":""},null,{"$f":"COUNTIF(all!$E$14:$E$553,F269)","v":0}]
[null,null,null,null,null,237,{"$f":"IF($AE270=1,VLOOKUP($F270,all!$E$14:$AD$553,3),\"\")","v":""},{"$f":"IF($AE270=1,VLOOKUP($F270,all!$E$14:$AD$553,4),\"\")","v":""},{"$f":"IF($AE270=1,VLOOKUP($F270,all!$E$14:$AD$553,5),\"\")","v":""},{"$f":"IF($AE270=1,VLOOKUP($F270,all!$E$14:$AD$553,6),\"\")","v":""},{"$f":"IF($AE270=1,VLOOKUP($F270,all!$E$14:$AD$553,7),\"\")","v":""},{"$f":"IF($AE270=1,VLOOKUP($F270,all!$E$14:$AD$553,8),\"\")","v":""},{"$f":"IF($AE270=1,VLOOKUP($F270,all!$E$14:$AD$553,9),\"\")","v":""},{"$f":"IF($AE270=1,VLOOKUP($F270,all!$E$14:$AD$553,10),\"\")","v":""},{"$f":"IF($AE270=1,VLOOKUP($F270,all!$E$14:$AD$553,11),\"\")","v":""},{"$f":"IF($AE270=1,VLOOKUP($F270,all!$E$14:$AD$553,12),\"\")","v":""},{"$f":"IF($AE270=1,VLOOKUP($F270,all!$E$14:$AD$553,13),\"\")","v":""},{"$f":"IF($AE270=1,VLOOKUP($F270,all!$E$14:$AD$553,14),\"\")","v":""},{"$f":"IF($AE270=1,VLOOKUP($F270,all!$E$14:$AD$553,15),\"\")","v":""},{"$f":"IF($AE270=1,VLOOKUP($F270,all!$E$14:$AD$553,16),\"\")","v":""},{"$f":"IF($AE270=1,VLOOKUP($F270,all!$E$14:$AD$553,17),\"\")","v":""},{"$f":"IF($AE270=1,VLOOKUP($F270,all!$E$14:$AD$553,18),\"\")","v":""},{"$f":"IF($AE270=1,VLOOKUP($F270,all!$E$14:$AD$553,19),\"\")","v":""},{"$f":"IF($AE270=1,VLOOKUP($F270,all!$E$14:$AD$553,20),\"\")","v":""},{"$f":"IF($AE270=1,VLOOKUP($F270,all!$E$14:$AD$553,21),\"\")","v":""},{"$f":"IF($AE270=1,VLOOKUP($F270,all!$E$14:$AD$553,22),\"\")","v":""},{"$f":"IF($AE270=1,VLOOKUP($F270,all!$E$14:$AD$553,23),\"\")","v":""},{"$f":"IF($AE270=1,VLOOKUP($F270,all!$E$14:$AD$553,24),\"\")","v":""},{"$f":"IF($AE270=1,VLOOKUP($F270,all!$E$14:$AD$553,25),\"\")","v":""},null,{"$f":"COUNTIF(all!$E$14:$E$553,F270)","v":0}]
[null,null,null,null,null,238,{"$f":"IF($AE271=1,VLOOKUP($F271,all!$E$14:$AD$553,3),\"\")","v":""},{"$f":"IF($AE271=1,VLOOKUP($F271,all!$E$14:$AD$553,4),\"\")","v":""},{"$f":"IF($AE271=1,VLOOKUP($F271,all!$E$14:$AD$553,5),\"\")","v":""},{"$f":"IF($AE271=1,VLOOKUP($F271,all!$E$14:$AD$553,6),\"\")","v":""},{"$f":"IF($AE271=1,VLOOKUP($F271,all!$E$14:$AD$553,7),\"\")","v":""},{"$f":"IF($AE271=1,VLOOKUP($F271,all!$E$14:$AD$553,8),\"\")","v":""},{"$f":"IF($AE271=1,VLOOKUP($F271,all!$E$14:$AD$553,9),\"\")","v":""},{"$f":"IF($AE271=1,VLOOKUP($F271,all!$E$14:$AD$553,10),\"\")","v":""},{"$f":"IF($AE271=1,VLOOKUP($F271,all!$E$14:$AD$553,11),\"\")","v":""},{"$f":"IF($AE271=1,VLOOKUP($F271,all!$E$14:$AD$553,12),\"\")","v":""},{"$f":"IF($AE271=1,VLOOKUP($F271,all!$E$14:$AD$553,13),\"\")","v":""},{"$f":"IF($AE271=1,VLOOKUP($F271,all!$E$14:$AD$553,14),\"\")","v":""},{"$f":"IF($AE271=1,VLOOKUP($F271,all!$E$14:$AD$553,15),\"\")","v":""},{"$f":"IF($AE271=1,VLOOKUP($F271,all!$E$14:$AD$553,16),\"\")","v":""},{"$f":"IF($AE271=1,VLOOKUP($F271,all!$E$14:$AD$553,17),\"\")","v":""},{"$f":"IF($AE271=1,VLOOKUP($F271,all!$E$14:$AD$553,18),\"\")","v":""},{"$f":"IF($AE271=1,VLOOKUP($F271,all!$E$14:$AD$553,19),\"\")","v":""},{"$f":"IF($AE271=1,VLOOKUP($F271,all!$E$14:$AD$553,20),\"\")","v":""},{"$f":"IF($AE271=1,VLOOKUP($F271,all!$E$14:$AD$553,21),\"\")","v":""},{"$f":"IF($AE271=1,VLOOKUP($F271,all!$E$14:$AD$553,22),\"\")","v":""},{"$f":"IF($AE271=1,VLOOKUP($F271,all!$E$14:$AD$553,23),\"\")","v":""},{"$f":"IF($AE271=1,VLOOKUP($F271,all!$E$14:$AD$553,24),\"\")","v":""},{"$f":"IF($AE271=1,VLOOKUP($F271,all!$E$14:$AD$553,25),\"\")","v":""},null,{"$f":"COUNTIF(all!$E$14:$E$553,F271)","v":0}]
[null,null,null,null,null,239,{"$f":"IF($AE272=1,VLOOKUP($F272,all!$E$14:$AD$553,3),\"\")","v":""},{"$f":"IF($AE272=1,VLOOKUP($F272,all!$E$14:$AD$553,4),\"\")","v":""},{"$f":"IF($AE272=1,VLOOKUP($F272,all!$E$14:$AD$553,5),\"\")","v":""},{"$f":"IF($AE272=1,VLOOKUP($F272,all!$E$14:$AD$553,6),\"\")","v":""},{"$f":"IF($AE272=1,VLOOKUP($F272,all!$E$14:$AD$553,7),\"\")","v":""},{"$f":"IF($AE272=1,VLOOKUP($F272,all!$E$14:$AD$553,8),\"\")","v":""},{"$f":"IF($AE272=1,VLOOKUP($F272,all!$E$14:$AD$553,9),\"\")","v":""},{"$f":"IF($AE272=1,VLOOKUP($F272,all!$E$14:$AD$553,10),\"\")","v":""},{"$f":"IF($AE272=1,VLOOKUP($F272,all!$E$14:$AD$553,11),\"\")","v":""},{"$f":"IF($AE272=1,VLOOKUP($F272,all!$E$14:$AD$553,12),\"\")","v":""},{"$f":"IF($AE272=1,VLOOKUP($F272,all!$E$14:$AD$553,13),\"\")","v":""},{"$f":"IF($AE272=1,VLOOKUP($F272,all!$E$14:$AD$553,14),\"\")","v":""},{"$f":"IF($AE272=1,VLOOKUP($F272,all!$E$14:$AD$553,15),\"\")","v":""},{"$f":"IF($AE272=1,VLOOKUP($F272,all!$E$14:$AD$553,16),\"\")","v":""},{"$f":"IF($AE272=1,VLOOKUP($F272,all!$E$14:$AD$553,17),\"\")","v":""},{"$f":"IF($AE272=1,VLOOKUP($F272,all!$E$14:$AD$553,18),\"\")","v":""},{"$f":"IF($AE272=1,VLOOKUP($F272,all!$E$14:$AD$553,19),\"\")","v":""},{"$f":"IF($AE272=1,VLOOKUP($F272,all!$E$14:$AD$553,20),\"\")","v":""},{"$f":"IF($AE272=1,VLOOKUP($F272,all!$E$14:$AD$553,21),\"\")","v":""},{"$f":"IF($AE272=1,VLOOKUP($F272,all!$E$14:$AD$553,22),\"\")","v":""},{"$f":"IF($AE272=1,VLOOKUP($F272,all!$E$14:$AD$553,23),\"\")","v":""},{"$f":"IF($AE272=1,VLOOKUP($F272,all!$E$14:$AD$553,24),\"\")","v":""},{"$f":"IF($AE272=1,VLOOKUP($F272,all!$E$14:$AD$553,25),\"\")","v":""},null,{"$f":"COUNTIF(all!$E$14:$E$553,F272)","v":0}]
[null,null,null,null,null,240,{"$f":"IF($AE273=1,VLOOKUP($F273,all!$E$14:$AD$553,3),\"\")","v":""},{"$f":"IF($AE273=1,VLOOKUP($F273,all!$E$14:$AD$553,4),\"\")","v":""},{"$f":"IF($AE273=1,VLOOKUP($F273,all!$E$14:$AD$553,5),\"\")","v":""},{"$f":"IF($AE273=1,VLOOKUP($F273,all!$E$14:$AD$553,6),\"\")","v":""},{"$f":"IF($AE273=1,VLOOKUP($F273,all!$E$14:$AD$553,7),\"\")","v":""},{"$f":"IF($AE273=1,VLOOKUP($F273,all!$E$14:$AD$553,8),\"\")","v":""},{"$f":"IF($AE273=1,VLOOKUP($F273,all!$E$14:$AD$553,9),\"\")","v":""},{"$f":"IF($AE273=1,VLOOKUP($F273,all!$E$14:$AD$553,10),\"\")","v":""},{"$f":"IF($AE273=1,VLOOKUP($F273,all!$E$14:$AD$553,11),\"\")","v":""},{"$f":"IF($AE273=1,VLOOKUP($F273,all!$E$14:$AD$553,12),\"\")","v":""},{"$f":"IF($AE273=1,VLOOKUP($F273,all!$E$14:$AD$553,13),\"\")","v":""},{"$f":"IF($AE273=1,VLOOKUP($F273,all!$E$14:$AD$553,14),\"\")","v":""},{"$f":"IF($AE273=1,VLOOKUP($F273,all!$E$14:$AD$553,15),\"\")","v":""},{"$f":"IF($AE273=1,VLOOKUP($F273,all!$E$14:$AD$553,16),\"\")","v":""},{"$f":"IF($AE273=1,VLOOKUP($F273,all!$E$14:$AD$553,17),\"\")","v":""},{"$f":"IF($AE273=1,VLOOKUP($F273,all!$E$14:$AD$553,18),\"\")","v":""},{"$f":"IF($AE273=1,VLOOKUP($F273,all!$E$14:$AD$553,19),\"\")","v":""},{"$f":"IF($AE273=1,VLOOKUP($F273,all!$E$14:$AD$553,20),\"\")","v":""},{"$f":"IF($AE273=1,VLOOKUP($F273,all!$E$14:$AD$553,21),\"\")","v":""},{"$f":"IF($AE273=1,VLOOKUP($F273,all!$E$14:$AD$553,22),\"\")","v":""},{"$f":"IF($AE273=1,VLOOKUP($F273,all!$E$14:$AD$553,23),\"\")","v":""},{"$f":"IF($AE273=1,VLOOKUP($F273,all!$E$14:$AD$553,24),\"\")","v":""},{"$f":"IF($AE273=1,VLOOKUP($F273,all!$E$14:$AD$553,25),\"\")","v":""},null,{"$f":"COUNTIF(all!$E$14:$E$553,F273)","v":0}]
[null,null,null,null,null,241,{"$f":"IF($AE274=1,VLOOKUP($F274,all!$E$14:$AD$553,3),\"\")","v":""},{"$f":"IF($AE274=1,VLOOKUP($F274,all!$E$14:$AD$553,4),\"\")","v":""},{"$f":"IF($AE274=1,VLOOKUP($F274,all!$E$14:$AD$553,5),\"\")","v":""},{"$f":"IF($AE274=1,VLOOKUP($F274,all!$E$14:$AD$553,6),\"\")","v":""},{"$f":"IF($AE274=1,VLOOKUP($F274,all!$E$14:$AD$553,7),\"\")","v":""},{"$f":"IF($AE274=1,VLOOKUP($F274,all!$E$14:$AD$553,8),\"\")","v":""},{"$f":"IF($AE274=1,VLOOKUP($F274,all!$E$14:$AD$553,9),\"\")","v":""},{"$f":"IF($AE274=1,VLOOKUP($F274,all!$E$14:$AD$553,10),\"\")","v":""},{"$f":"IF($AE274=1,VLOOKUP($F274,all!$E$14:$AD$553,11),\"\")","v":""},{"$f":"IF($AE274=1,VLOOKUP($F274,all!$E$14:$AD$553,12),\"\")","v":""},{"$f":"IF($AE274=1,VLOOKUP($F274,all!$E$14:$AD$553,13),\"\")","v":""},{"$f":"IF($AE274=1,VLOOKUP($F274,all!$E$14:$AD$553,14),\"\")","v":""},{"$f":"IF($AE274=1,VLOOKUP($F274,all!$E$14:$AD$553,15),\"\")","v":""},{"$f":"IF($AE274=1,VLOOKUP($F274,all!$E$14:$AD$553,16),\"\")","v":""},{"$f":"IF($AE274=1,VLOOKUP($F274,all!$E$14:$AD$553,17),\"\")","v":""},{"$f":"IF($AE274=1,VLOOKUP($F274,all!$E$14:$AD$553,18),\"\")","v":""},{"$f":"IF($AE274=1,VLOOKUP($F274,all!$E$14:$AD$553,19),\"\")","v":""},{"$f":"IF($AE274=1,VLOOKUP($F274,all!$E$14:$AD$553,20),\"\")","v":""},{"$f":"IF($AE274=1,VLOOKUP($F274,all!$E$14:$AD$553,21),\"\")","v":""},{"$f":"IF($AE274=1,VLOOKUP($F274,all!$E$14:$AD$553,22),\"\")","v":""},{"$f":"IF($AE274=1,VLOOKUP($F274,all!$E$14:$AD$553,23),\"\")","v":""},{"$f":"IF($AE274=1,VLOOKUP($F274,all!$E$14:$AD$553,24),\"\")","v":""},{"$f":"IF($AE274=1,VLOOKUP($F274,all!$E$14:$AD$553,25),\"\")","v":""},null,{"$f":"COUNTIF(all!$E$14:$E$553,F274)","v":0}]
[null,null,null,null,null,242,{"$f":"IF($AE275=1,VLOOKUP($F275,all!$E$14:$AD$553,3),\"\")","v":""},{"$f":"IF($AE275=1,VLOOKUP($F275,all!$E$14:$AD$553,4),\"\")","v":""},{"$f":"IF($AE275=1,VLOOKUP($F275,all!$E$14:$AD$553,5),\"\")","v":""},{"$f":"IF($AE275=1,VLOOKUP($F275,all!$E$14:$AD$553,6),\"\")","v":""},{"$f":"IF($AE275=1,VLOOKUP($F275,all!$E$14:$AD$553,7),\"\")","v":""},{"$f":"IF($AE275=1,VLOOKUP($F275,all!$E$14:$AD$553,8),\"\")","v":""},{"$f":"IF($AE275=1,VLOOKUP($F275,all!$E$14:$AD$553,9),\"\")","v":""},{"$f":"IF($AE275=1,VLOOKUP($F275,all!$E$14:$AD$553,10),\"\")","v":""},{"$f":"IF($AE275=1,VLOOKUP($F275,all!$E$14:$AD$553,11),\"\")","v":""},{"$f":"IF($AE275=1,VLOOKUP($F275,all!$E$14:$AD$553,12),\"\")","v":""},{"$f":"IF($AE275=1,VLOOKUP($F275,all!$E$14:$AD$553,13),\"\")","v":""},{"$f":"IF($AE275=1,VLOOKUP($F275,all!$E$14:$AD$553,14),\"\")","v":""},{"$f":"IF($AE275=1,VLOOKUP($F275,all!$E$14:$AD$553,15),\"\")","v":""},{"$f":"IF($AE275=1,VLOOKUP($F275,all!$E$14:$AD$553,16),\"\")","v":""},{"$f":"IF($AE275=1,VLOOKUP($F275,all!$E$14:$AD$553,17),\"\")","v":""},{"$f":"IF($AE275=1,VLOOKUP($F275,all!$E$14:$AD$553,18),\"\")","v":""},{"$f":"IF($AE275=1,VLOOKUP($F275,all!$E$14:$AD$553,19),\"\")","v":""},{"$f":"IF($AE275=1,VLOOKUP($F275,all!$E$14:$AD$553,20),\"\")","v":""},{"$f":"IF($AE275=1,VLOOKUP($F275,all!$E$14:$AD$553,21),\"\")","v":""},{"$f":"IF($AE275=1,VLOOKUP($F275,all!$E$14:$AD$553,22),\"\")","v":""},{"$f":"IF($AE275=1,VLOOKUP($F275,all!$E$14:$AD$553,23),\"\")","v":""},{"$f":"IF($AE275=1,VLOOKUP($F275,all!$E$14:$AD$553,24),\"\")","v":""},{"$f":"IF($AE275=1,VLOOKUP($F275,all!$E$14:$AD$553,25),\"\")","v":""},null,{"$f":"COUNTIF(all!$E$14:$E$553,F275)","v":0}]
[null,null,null,null,null,243,{"$f":"IF($AE276=1,VLOOKUP($F276,all!$E$14:$AD$553,3),\"\")","v":""},{"$f":"IF($AE276=1,VLOOKUP($F276,all!$E$14:$AD$553,4),\"\")","v":""},{"$f":"IF($AE276=1,VLOOKUP($F276,all!$E$14:$AD$553,5),\"\")","v":""},{"$f":"IF($AE276=1,VLOOKUP($F276,all!$E$14:$AD$553,6),\"\")","v":""},{"$f":"IF($AE276=1,VLOOKUP($F276,all!$E$14:$AD$553,7),\"\")","v":""},{"$f":"IF($AE276=1,VLOOKUP($F276,all!$E$14:$AD$553,8),\"\")","v":""},{"$f":"IF($AE276=1,VLOOKUP($F276,all!$E$14:$AD$553,9),\"\")","v":""},{"$f":"IF($AE276=1,VLOOKUP($F276,all!$E$14:$AD$553,10),\"\")","v":""},{"$f":"IF($AE276=1,VLOOKUP($F276,all!$E$14:$AD$553,11),\"\")","v":""},{"$f":"IF($AE276=1,VLOOKUP($F276,all!$E$14:$AD$553,12),\"\")","v":""},{"$f":"IF($AE276=1,VLOOKUP($F276,all!$E$14:$AD$553,13),\"\")","v":""},{"$f":"IF($AE276=1,VLOOKUP($F276,all!$E$14:$AD$553,14),\"\")","v":""},{"$f":"IF($AE276=1,VLOOKUP($F276,all!$E$14:$AD$553,15),\"\")","v":""},{"$f":"IF($AE276=1,VLOOKUP($F276,all!$E$14:$AD$553,16),\"\")","v":""},{"$f":"IF($AE276=1,VLOOKUP($F276,all!$E$14:$AD$553,17),\"\")","v":""},{"$f":"IF($AE276=1,VLOOKUP($F276,all!$E$14:$AD$553,18),\"\")","v":""},{"$f":"IF($AE276=1,VLOOKUP($F276,all!$E$14:$AD$553,19),\"\")","v":""},{"$f":"IF($AE276=1,VLOOKUP($F276,all!$E$14:$AD$553,20),\"\")","v":""},{"$f":"IF($AE276=1,VLOOKUP($F276,all!$E$14:$AD$553,21),\"\")","v":""},{"$f":"IF($AE276=1,VLOOKUP($F276,all!$E$14:$AD$553,22),\"\")","v":""},{"$f":"IF($AE276=1,VLOOKUP($F276,all!$E$14:$AD$553,23),\"\")","v":""},{"$f":"IF($AE276=1,VLOOKUP($F276,all!$E$14:$AD$553,24),\"\")","v":""},{"$f":"IF($AE276=1,VLOOKUP($F276,all!$E$14:$AD$553,25),\"\")","v":""},null,{"$f":"COUNTIF(all!$E$14:$E$553,F276)","v":0}]
[null,null,null,null,null,244,{"$f":"IF($AE277=1,VLOOKUP($F277,all!$E$14:$AD$553,3),\"\")","v":""},{"$f":"IF($AE277=1,VLOOKUP($F277,all!$E$14:$AD$553,4),\"\")","v":""},{"$f":"IF($AE277=1,VLOOKUP($F277,all!$E$14:$AD$553,5),\"\")","v":""},{"$f":"IF($AE277=1,VLOOKUP($F277,all!$E$14:$AD$553,6),\"\")","v":""},{"$f":"IF($AE277=1,VLOOKUP($F277,all!$E$14:$AD$553,7),\"\")","v":""},{"$f":"IF($AE277=1,VLOOKUP($F277,all!$E$14:$AD$553,8),\"\")","v":""},{"$f":"IF($AE277=1,VLOOKUP($F277,all!$E$14:$AD$553,9),\"\")","v":""},{"$f":"IF($AE277=1,VLOOKUP($F277,all!$E$14:$AD$553,10),\"\")","v":""},{"$f":"IF($AE277=1,VLOOKUP($F277,all!$E$14:$AD$553,11),\"\")","v":""},{"$f":"IF($AE277=1,VLOOKUP($F277,all!$E$14:$AD$553,12),\"\")","v":""},{"$f":"IF($AE277=1,VLOOKUP($F277,all!$E$14:$AD$553,13),\"\")","v":""},{"$f":"IF($AE277=1,VLOOKUP($F277,all!$E$14:$AD$553,14),\"\")","v":""},{"$f":"IF($AE277=1,VLOOKUP($F277,all!$E$14:$AD$553,15),\"\")","v":""},{"$f":"IF($AE277=1,VLOOKUP($F277,all!$E$14:$AD$553,16),\"\")","v":""},{"$f":"IF($AE277=1,VLOOKUP($F277,all!$E$14:$AD$553,17),\"\")","v":""},{"$f":"IF($AE277=1,VLOOKUP($F277,all!$E$14:$AD$553,18),\"\")","v":""},{"$f":"IF($AE277=1,VLOOKUP($F277,all!$E$14:$AD$553,19),\"\")","v":""},{"$f":"IF($AE277=1,VLOOKUP($F277,all!$E$14:$AD$553,20),\"\")","v":""},{"$f":"IF($AE277=1,VLOOKUP($F277,all!$E$14:$AD$553,21),\"\")","v":""},{"$f":"IF($AE277=1,VLOOKUP($F277,all!$E$14:$AD$553,22),\"\")","v":""},{"$f":"IF($AE277=1,VLOOKUP($F277,all!$E$14:$AD$553,23),\"\")","v":""},{"$f":"IF($AE277=1,VLOOKUP($F277,all!$E$14:$AD$553,24),\"\")","v":""},{"$f":"IF($AE277=1,VLOOKUP($F277,all!$E$14:$AD$553,25),\"\")","v":""},null,{"$f":"COUNTIF(all!$E$14:$E$553,F277)","v":0}]
[null,null,null,null,null,245,{"$f":"IF($AE278=1,VLOOKUP($F278,all!$E$14:$AD$553,3),\"\")","v":""},{"$f":"IF($AE278=1,VLOOKUP($F278,all!$E$14:$AD$553,4),\"\")","v":""},{"$f":"IF($AE278=1,VLOOKUP($F278,all!$E$14:$AD$553,5),\"\")","v":""},{"$f":"IF($AE278=1,VLOOKUP($F278,all!$E$14:$AD$553,6),\"\")","v":""},{"$f":"IF($AE278=1,VLOOKUP($F278,all!$E$14:$AD$553,7),\"\")","v":""},{"$f":"IF($AE278=1,VLOOKUP($F278,all!$E$14:$AD$553,8),\"\")","v":""},{"$f":"IF($AE278=1,VLOOKUP($F278,all!$E$14:$AD$553,9),\"\")","v":""},{"$f":"IF($AE278=1,VLOOKUP($F278,all!$E$14:$AD$553,10),\"\")","v":""},{"$f":"IF($AE278=1,VLOOKUP($F278,all!$E$14:$AD$553,11),\"\")","v":""},{"$f":"IF($AE278=1,VLOOKUP($F278,all!$E$14:$AD$553,12),\"\")","v":""},{"$f":"IF($AE278=1,VLOOKUP($F278,all!$E$14:$AD$553,13),\"\")","v":""},{"$f":"IF($AE278=1,VLOOKUP($F278,all!$E$14:$AD$553,14),\"\")","v":""},{"$f":"IF($AE278=1,VLOOKUP($F278,all!$E$14:$AD$553,15),\"\")","v":""},{"$f":"IF($AE278=1,VLOOKUP($F278,all!$E$14:$AD$553,16),\"\")","v":""},{"$f":"IF($AE278=1,VLOOKUP($F278,all!$E$14:$AD$553,17),\"\")","v":""},{"$f":"IF($AE278=1,VLOOKUP($F278,all!$E$14:$AD$553,18),\"\")","v":""},{"$f":"IF($AE278=1,VLOOKUP($F278,all!$E$14:$AD$553,19),\"\")","v":""},{"$f":"IF($AE278=1,VLOOKUP($F278,all!$E$14:$AD$553,20),\"\")","v":""},{"$f":"IF($AE278=1,VLOOKUP($F278,all!$E$14:$AD$553,21),\"\")","v":""},{"$f":"IF($AE278=1,VLOOKUP($F278,all!$E$14:$AD$553,22),\"\")","v":""},{"$f":"IF($AE278=1,VLOOKUP($F278,all!$E$14:$AD$553,23),\"\")","v":""},{"$f":"IF($AE278=1,VLOOKUP($F278,all!$E$14:$AD$553,24),\"\")","v":""},{"$f":"IF($AE278=1,VLOOKUP($F278,all!$E$14:$AD$553,25),\"\")","v":""},null,{"$f":"COUNTIF(all!$E$14:$E$553,F278)","v":0}]
[null,null,null,null,null,246,{"$f":"IF($AE279=1,VLOOKUP($F279,all!$E$14:$AD$553,3),\"\")","v":""},{"$f":"IF($AE279=1,VLOOKUP($F279,all!$E$14:$AD$553,4),\"\")","v":""},{"$f":"IF($AE279=1,VLOOKUP($F279,all!$E$14:$AD$553,5),\"\")","v":""},{"$f":"IF($AE279=1,VLOOKUP($F279,all!$E$14:$AD$553,6),\"\")","v":""},{"$f":"IF($AE279=1,VLOOKUP($F279,all!$E$14:$AD$553,7),\"\")","v":""},{"$f":"IF($AE279=1,VLOOKUP($F279,all!$E$14:$AD$553,8),\"\")","v":""},{"$f":"IF($AE279=1,VLOOKUP($F279,all!$E$14:$AD$553,9),\"\")","v":""},{"$f":"IF($AE279=1,VLOOKUP($F279,all!$E$14:$AD$553,10),\"\")","v":""},{"$f":"IF($AE279=1,VLOOKUP($F279,all!$E$14:$AD$553,11),\"\")","v":""},{"$f":"IF($AE279=1,VLOOKUP($F279,all!$E$14:$AD$553,12),\"\")","v":""},{"$f":"IF($AE279=1,VLOOKUP($F279,all!$E$14:$AD$553,13),\"\")","v":""},{"$f":"IF($AE279=1,VLOOKUP($F279,all!$E$14:$AD$553,14),\"\")","v":""},{"$f":"IF($AE279=1,VLOOKUP($F279,all!$E$14:$AD$553,15),\"\")","v":""},{"$f":"IF($AE279=1,VLOOKUP($F279,all!$E$14:$AD$553,16),\"\")","v":""},{"$f":"IF($AE279=1,VLOOKUP($F279,all!$E$14:$AD$553,17),\"\")","v":""},{"$f":"IF($AE279=1,VLOOKUP($F279,all!$E$14:$AD$553,18),\"\")","v":""},{"$f":"IF($AE279=1,VLOOKUP($F279,all!$E$14:$AD$553,19),\"\")","v":""},{"$f":"IF($AE279=1,VLOOKUP($F279,all!$E$14:$AD$553,20),\"\")","v":""},{"$f":"IF($AE279=1,VLOOKUP($F279,all!$E$14:$AD$553,21),\"\")","v":""},{"$f":"IF($AE279=1,VLOOKUP($F279,all!$E$14:$AD$553,22),\"\")","v":""},{"$f":"IF($AE279=1,VLOOKUP($F279,all!$E$14:$AD$553,23),\"\")","v":""},{"$f":"IF($AE279=1,VLOOKUP($F279,all!$E$14:$AD$553,24),\"\")","v":""},{"$f":"IF($AE279=1,VLOOKUP($F279,all!$E$14:$AD$553,25),\"\")","v":""},null,{"$f":"COUNTIF(all!$E$14:$E$553,F279)","v":0}]
[null,null,null,null,null,247,{"$f":"IF($AE280=1,VLOOKUP($F280,all!$E$14:$AD$553,3),\"\")","v":""},{"$f":"IF($AE280=1,VLOOKUP($F280,all!$E$14:$AD$553,4),\"\")","v":""},{"$f":"IF($AE280=1,VLOOKUP($F280,all!$E$14:$AD$553,5),\"\")","v":""},{"$f":"IF($AE280=1,VLOOKUP($F280,all!$E$14:$AD$553,6),\"\")","v":""},{"$f":"IF($AE280=1,VLOOKUP($F280,all!$E$14:$AD$553,7),\"\")","v":""},{"$f":"IF($AE280=1,VLOOKUP($F280,all!$E$14:$AD$553,8),\"\")","v":""},{"$f":"IF($AE280=1,VLOOKUP($F280,all!$E$14:$AD$553,9),\"\")","v":""},{"$f":"IF($AE280=1,VLOOKUP($F280,all!$E$14:$AD$553,10),\"\")","v":""},{"$f":"IF($AE280=1,VLOOKUP($F280,all!$E$14:$AD$553,11),\"\")","v":""},{"$f":"IF($AE280=1,VLOOKUP($F280,all!$E$14:$AD$553,12),\"\")","v":""},{"$f":"IF($AE280=1,VLOOKUP($F280,all!$E$14:$AD$553,13),\"\")","v":""},{"$f":"IF($AE280=1,VLOOKUP($F280,all!$E$14:$AD$553,14),\"\")","v":""},{"$f":"IF($AE280=1,VLOOKUP($F280,all!$E$14:$AD$553,15),\"\")","v":""},{"$f":"IF($AE280=1,VLOOKUP($F280,all!$E$14:$AD$553,16),\"\")","v":""},{"$f":"IF($AE280=1,VLOOKUP($F280,all!$E$14:$AD$553,17),\"\")","v":""},{"$f":"IF($AE280=1,VLOOKUP($F280,all!$E$14:$AD$553,18),\"\")","v":""},{"$f":"IF($AE280=1,VLOOKUP($F280,all!$E$14:$AD$553,19),\"\")","v":""},{"$f":"IF($AE280=1,VLOOKUP($F280,all!$E$14:$AD$553,20),\"\")","v":""},{"$f":"IF($AE280=1,VLOOKUP($F280,all!$E$14:$AD$553,21),\"\")","v":""},{"$f":"IF($AE280=1,VLOOKUP($F280,all!$E$14:$AD$553,22),\"\")","v":""},{"$f":"IF($AE280=1,VLOOKUP($F280,all!$E$14:$AD$553,23),\"\")","v":""},{"$f":"IF($AE280=1,VLOOKUP($F280,all!$E$14:$AD$553,24),\"\")","v":""},{"$f":"IF($AE280=1,VLOOKUP($F280,all!$E$14:$AD$553,25),\"\")","v":""},null,{"$f":"COUNTIF(all!$E$14:$E$553,F280)","v":0}]
[null,null,null,null,null,248,{"$f":"IF($AE281=1,VLOOKUP($F281,all!$E$14:$AD$553,3),\"\")","v":""},{"$f":"IF($AE281=1,VLOOKUP($F281,all!$E$14:$AD$553,4),\"\")","v":""},{"$f":"IF($AE281=1,VLOOKUP($F281,all!$E$14:$AD$553,5),\"\")","v":""},{"$f":"IF($AE281=1,VLOOKUP($F281,all!$E$14:$AD$553,6),\"\")","v":""},{"$f":"IF($AE281=1,VLOOKUP($F281,all!$E$14:$AD$553,7),\"\")","v":""},{"$f":"IF($AE281=1,VLOOKUP($F281,all!$E$14:$AD$553,8),\"\")","v":""},{"$f":"IF($AE281=1,VLOOKUP($F281,all!$E$14:$AD$553,9),\"\")","v":""},{"$f":"IF($AE281=1,VLOOKUP($F281,all!$E$14:$AD$553,10),\"\")","v":""},{"$f":"IF($AE281=1,VLOOKUP($F281,all!$E$14:$AD$553,11),\"\")","v":""},{"$f":"IF($AE281=1,VLOOKUP($F281,all!$E$14:$AD$553,12),\"\")","v":""},{"$f":"IF($AE281=1,VLOOKUP($F281,all!$E$14:$AD$553,13),\"\")","v":""},{"$f":"IF($AE281=1,VLOOKUP($F281,all!$E$14:$AD$553,14),\"\")","v":""},{"$f":"IF($AE281=1,VLOOKUP($F281,all!$E$14:$AD$553,15),\"\")","v":""},{"$f":"IF($AE281=1,VLOOKUP($F281,all!$E$14:$AD$553,16),\"\")","v":""},{"$f":"IF($AE281=1,VLOOKUP($F281,all!$E$14:$AD$553,17),\"\")","v":""},{"$f":"IF($AE281=1,VLOOKUP($F281,all!$E$14:$AD$553,18),\"\")","v":""},{"$f":"IF($AE281=1,VLOOKUP($F281,all!$E$14:$AD$553,19),\"\")","v":""},{"$f":"IF($AE281=1,VLOOKUP($F281,all!$E$14:$AD$553,20),\"\")","v":""},{"$f":"IF($AE281=1,VLOOKUP($F281,all!$E$14:$AD$553,21),\"\")","v":""},{"$f":"IF($AE281=1,VLOOKUP($F281,all!$E$14:$AD$553,22),\"\")","v":""},{"$f":"IF($AE281=1,VLOOKUP($F281,all!$E$14:$AD$553,23),\"\")","v":""},{"$f":"IF($AE281=1,VLOOKUP($F281,all!$E$14:$AD$553,24),\"\")","v":""},{"$f":"IF($AE281=1,VLOOKUP($F281,all!$E$14:$AD$553,25),\"\")","v":""},null,{"$f":"COUNTIF(all!$E$14:$E$553,F281)","v":0}]
[null,null,null,null,null,249,{"$f":"IF($AE282=1,VLOOKUP($F282,all!$E$14:$AD$553,3),\"\")","v":""},{"$f":"IF($AE282=1,VLOOKUP($F282,all!$E$14:$AD$553,4),\"\")","v":""},{"$f":"IF($AE282=1,VLOOKUP($F282,all!$E$14:$AD$553,5),\"\")","v":""},{"$f":"IF($AE282=1,VLOOKUP($F282,all!$E$14:$AD$553,6),\"\")","v":""},{"$f":"IF($AE282=1,VLOOKUP($F282,all!$E$14:$AD$553,7),\"\")","v":""},{"$f":"IF($AE282=1,VLOOKUP($F282,all!$E$14:$AD$553,8),\"\")","v":""},{"$f":"IF($AE282=1,VLOOKUP($F282,all!$E$14:$AD$553,9),\"\")","v":""},{"$f":"IF($AE282=1,VLOOKUP($F282,all!$E$14:$AD$553,10),\"\")","v":""},{"$f":"IF($AE282=1,VLOOKUP($F282,all!$E$14:$AD$553,11),\"\")","v":""},{"$f":"IF($AE282=1,VLOOKUP($F282,all!$E$14:$AD$553,12),\"\")","v":""},{"$f":"IF($AE282=1,VLOOKUP($F282,all!$E$14:$AD$553,13),\"\")","v":""},{"$f":"IF($AE282=1,VLOOKUP($F282,all!$E$14:$AD$553,14),\"\")","v":""},{"$f":"IF($AE282=1,VLOOKUP($F282,all!$E$14:$AD$553,15),\"\")","v":""},{"$f":"IF($AE282=1,VLOOKUP($F282,all!$E$14:$AD$553,16),\"\")","v":""},{"$f":"IF($AE282=1,VLOOKUP($F282,all!$E$14:$AD$553,17),\"\")","v":""},{"$f":"IF($AE282=1,VLOOKUP($F282,all!$E$14:$AD$553,18),\"\")","v":""},{"$f":"IF($AE282=1,VLOOKUP($F282,all!$E$14:$AD$553,19),\"\")","v":""},{"$f":"IF($AE282=1,VLOOKUP($F282,all!$E$14:$AD$553,20),\"\")","v":""},{"$f":"IF($AE282=1,VLOOKUP($F282,all!$E$14:$AD$553,21),\"\")","v":""},{"$f":"IF($AE282=1,VLOOKUP($F282,all!$E$14:$AD$553,22),\"\")","v":""},{"$f":"IF($AE282=1,VLOOKUP($F282,all!$E$14:$AD$553,23),\"\")","v":""},{"$f":"IF($AE282=1,VLOOKUP($F282,all!$E$14:$AD$553,24),\"\")","v":""},{"$f":"IF($AE282=1,VLOOKUP($F282,all!$E$14:$AD$553,25),\"\")","v":""},null,{"$f":"COUNTIF(all!$E$14:$E$553,F282)","v":0}]
[null,null,null,null,null,250,{"$f":"IF($AE283=1,VLOOKUP($F283,all!$E$14:$AD$553,3),\"\")","v":""},{"$f":"IF($AE283=1,VLOOKUP($F283,all!$E$14:$AD$553,4),\"\")","v":""},{"$f":"IF($AE283=1,VLOOKUP($F283,all!$E$14:$AD$553,5),\"\")","v":""},{"$f":"IF($AE283=1,VLOOKUP($F283,all!$E$14:$AD$553,6),\"\")","v":""},{"$f":"IF($AE283=1,VLOOKUP($F283,all!$E$14:$AD$553,7),\"\")","v":""},{"$f":"IF($AE283=1,VLOOKUP($F283,all!$E$14:$AD$553,8),\"\")","v":""},{"$f":"IF($AE283=1,VLOOKUP($F283,all!$E$14:$AD$553,9),\"\")","v":""},{"$f":"IF($AE283=1,VLOOKUP($F283,all!$E$14:$AD$553,10),\"\")","v":""},{"$f":"IF($AE283=1,VLOOKUP($F283,all!$E$14:$AD$553,11),\"\")","v":""},{"$f":"IF($AE283=1,VLOOKUP($F283,all!$E$14:$AD$553,12),\"\")","v":""},{"$f":"IF($AE283=1,VLOOKUP($F283,all!$E$14:$AD$553,13),\"\")","v":""},{"$f":"IF($AE283=1,VLOOKUP($F283,all!$E$14:$AD$553,14),\"\")","v":""},{"$f":"IF($AE283=1,VLOOKUP($F283,all!$E$14:$AD$553,15),\"\")","v":""},{"$f":"IF($AE283=1,VLOOKUP($F283,all!$E$14:$AD$553,16),\"\")","v":""},{"$f":"IF($AE283=1,VLOOKUP($F283,all!$E$14:$AD$553,17),\"\")","v":""},{"$f":"IF($AE283=1,VLOOKUP($F283,all!$E$14:$AD$553,18),\"\")","v":""},{"$f":"IF($AE283=1,VLOOKUP($F283,all!$E$14:$AD$553,19),\"\")","v":""},{"$f":"IF($AE283=1,VLOOKUP($F283,all!$E$14:$AD$553,20),\"\")","v":""},{"$f":"IF($AE283=1,VLOOKUP($F283,all!$E$14:$AD$553,21),\"\")","v":""},{"$f":"IF($AE283=1,VLOOKUP($F283,all!$E$14:$AD$553,22),\"\")","v":""},{"$f":"IF($AE283=1,VLOOKUP($F283,all!$E$14:$AD$553,23),\"\")","v":""},{"$f":"IF($AE283=1,VLOOKUP($F283,all!$E$14:$AD$553,24),\"\")","v":""},{"$f":"IF($AE283=1,VLOOKUP($F283,all!$E$14:$AD$553,25),\"\")","v":""},null,{"$f":"COUNTIF(all!$E$14:$E$553,F283)","v":0}]
[null,null,null,null,null,251,{"$f":"IF($AE284=1,VLOOKUP($F284,all!$E$14:$AD$553,3),\"\")","v":""},{"$f":"IF($AE284=1,VLOOKUP($F284,all!$E$14:$AD$553,4),\"\")","v":""},{"$f":"IF($AE284=1,VLOOKUP($F284,all!$E$14:$AD$553,5),\"\")","v":""},{"$f":"IF($AE284=1,VLOOKUP($F284,all!$E$14:$AD$553,6),\"\")","v":""},{"$f":"IF($AE284=1,VLOOKUP($F284,all!$E$14:$AD$553,7),\"\")","v":""},{"$f":"IF($AE284=1,VLOOKUP($F284,all!$E$14:$AD$553,8),\"\")","v":""},{"$f":"IF($AE284=1,VLOOKUP($F284,all!$E$14:$AD$553,9),\"\")","v":""},{"$f":"IF($AE284=1,VLOOKUP($F284,all!$E$14:$AD$553,10),\"\")","v":""},{"$f":"IF($AE284=1,VLOOKUP($F284,all!$E$14:$AD$553,11),\"\")","v":""},{"$f":"IF($AE284=1,VLOOKUP($F284,all!$E$14:$AD$553,12),\"\")","v":""},{"$f":"IF($AE284=1,VLOOKUP($F284,all!$E$14:$AD$553,13),\"\")","v":""},{"$f":"IF($AE284=1,VLOOKUP($F284,all!$E$14:$AD$553,14),\"\")","v":""},{"$f":"IF($AE284=1,VLOOKUP($F284,all!$E$14:$AD$553,15),\"\")","v":""},{"$f":"IF($AE284=1,VLOOKUP($F284,all!$E$14:$AD$553,16),\"\")","v":""},{"$f":"IF($AE284=1,VLOOKUP($F284,all!$E$14:$AD$553,17),\"\")","v":""},{"$f":"IF($AE284=1,VLOOKUP($F284,all!$E$14:$AD$553,18),\"\")","v":""},{"$f":"IF($AE284=1,VLOOKUP($F284,all!$E$14:$AD$553,19),\"\")","v":""},{"$f":"IF($AE284=1,VLOOKUP($F284,all!$E$14:$AD$553,20),\"\")","v":""},{"$f":"IF($AE284=1,VLOOKUP($F284,all!$E$14:$AD$553,21),\"\")","v":""},{"$f":"IF($AE284=1,VLOOKUP($F284,all!$E$14:$AD$553,22),\"\")","v":""},{"$f":"IF($AE284=1,VLOOKUP($F284,all!$E$14:$AD$553,23),\"\")","v":""},{"$f":"IF($AE284=1,VLOOKUP($F284,all!$E$14:$AD$553,24),\"\")","v":""},{"$f":"IF($AE284=1,VLOOKUP($F284,all!$E$14:$AD$553,25),\"\")","v":""},null,{"$f":"COUNTIF(all!$E$14:$E$553,F284)","v":0}]
[null,null,null,null,null,252,{"$f":"IF($AE285=1,VLOOKUP($F285,all!$E$14:$AD$553,3),\"\")","v":""},{"$f":"IF($AE285=1,VLOOKUP($F285,all!$E$14:$AD$553,4),\"\")","v":""},{"$f":"IF($AE285=1,VLOOKUP($F285,all!$E$14:$AD$553,5),\"\")","v":""},{"$f":"IF($AE285=1,VLOOKUP($F285,all!$E$14:$AD$553,6),\"\")","v":""},{"$f":"IF($AE285=1,VLOOKUP($F285,all!$E$14:$AD$553,7),\"\")","v":""},{"$f":"IF($AE285=1,VLOOKUP($F285,all!$E$14:$AD$553,8),\"\")","v":""},{"$f":"IF($AE285=1,VLOOKUP($F285,all!$E$14:$AD$553,9),\"\")","v":""},{"$f":"IF($AE285=1,VLOOKUP($F285,all!$E$14:$AD$553,10),\"\")","v":""},{"$f":"IF($AE285=1,VLOOKUP($F285,all!$E$14:$AD$553,11),\"\")","v":""},{"$f":"IF($AE285=1,VLOOKUP($F285,all!$E$14:$AD$553,12),\"\")","v":""},{"$f":"IF($AE285=1,VLOOKUP($F285,all!$E$14:$AD$553,13),\"\")","v":""},{"$f":"IF($AE285=1,VLOOKUP($F285,all!$E$14:$AD$553,14),\"\")","v":""},{"$f":"IF($AE285=1,VLOOKUP($F285,all!$E$14:$AD$553,15),\"\")","v":""},{"$f":"IF($AE285=1,VLOOKUP($F285,all!$E$14:$AD$553,16),\"\")","v":""},{"$f":"IF($AE285=1,VLOOKUP($F285,all!$E$14:$AD$553,17),\"\")","v":""},{"$f":"IF($AE285=1,VLOOKUP($F285,all!$E$14:$AD$553,18),\"\")","v":""},{"$f":"IF($AE285=1,VLOOKUP($F285,all!$E$14:$AD$553,19),\"\")","v":""},{"$f":"IF($AE285=1,VLOOKUP($F285,all!$E$14:$AD$553,20),\"\")","v":""},{"$f":"IF($AE285=1,VLOOKUP($F285,all!$E$14:$AD$553,21),\"\")","v":""},{"$f":"IF($AE285=1,VLOOKUP($F285,all!$E$14:$AD$553,22),\"\")","v":""},{"$f":"IF($AE285=1,VLOOKUP($F285,all!$E$14:$AD$553,23),\"\")","v":""},{"$f":"IF($AE285=1,VLOOKUP($F285,all!$E$14:$AD$553,24),\"\")","v":""},{"$f":"IF($AE285=1,VLOOKUP($F285,all!$E$14:$AD$553,25),\"\")","v":""},null,{"$f":"COUNTIF(all!$E$14:$E$553,F285)","v":0}]
[null,null,null,null,null,253,{"$f":"IF($AE286=1,VLOOKUP($F286,all!$E$14:$AD$553,3),\"\")","v":""},{"$f":"IF($AE286=1,VLOOKUP($F286,all!$E$14:$AD$553,4),\"\")","v":""},{"$f":"IF($AE286=1,VLOOKUP($F286,all!$E$14:$AD$553,5),\"\")","v":""},{"$f":"IF($AE286=1,VLOOKUP($F286,all!$E$14:$AD$553,6),\"\")","v":""},{"$f":"IF($AE286=1,VLOOKUP($F286,all!$E$14:$AD$553,7),\"\")","v":""},{"$f":"IF($AE286=1,VLOOKUP($F286,all!$E$14:$AD$553,8),\"\")","v":""},{"$f":"IF($AE286=1,VLOOKUP($F286,all!$E$14:$AD$553,9),\"\")","v":""},{"$f":"IF($AE286=1,VLOOKUP($F286,all!$E$14:$AD$553,10),\"\")","v":""},{"$f":"IF($AE286=1,VLOOKUP($F286,all!$E$14:$AD$553,11),\"\")","v":""},{"$f":"IF($AE286=1,VLOOKUP($F286,all!$E$14:$AD$553,12),\"\")","v":""},{"$f":"IF($AE286=1,VLOOKUP($F286,all!$E$14:$AD$553,13),\"\")","v":""},{"$f":"IF($AE286=1,VLOOKUP($F286,all!$E$14:$AD$553,14),\"\")","v":""},{"$f":"IF($AE286=1,VLOOKUP($F286,all!$E$14:$AD$553,15),\"\")","v":""},{"$f":"IF($AE286=1,VLOOKUP($F286,all!$E$14:$AD$553,16),\"\")","v":""},{"$f":"IF($AE286=1,VLOOKUP($F286,all!$E$14:$AD$553,17),\"\")","v":""},{"$f":"IF($AE286=1,VLOOKUP($F286,all!$E$14:$AD$553,18),\"\")","v":""},{"$f":"IF($AE286=1,VLOOKUP($F286,all!$E$14:$AD$553,19),\"\")","v":""},{"$f":"IF($AE286=1,VLOOKUP($F286,all!$E$14:$AD$553,20),\"\")","v":""},{"$f":"IF($AE286=1,VLOOKUP($F286,all!$E$14:$AD$553,21),\"\")","v":""},{"$f":"IF($AE286=1,VLOOKUP($F286,all!$E$14:$AD$553,22),\"\")","v":""},{"$f":"IF($AE286=1,VLOOKUP($F286,all!$E$14:$AD$553,23),\"\")","v":""},{"$f":"IF($AE286=1,VLOOKUP($F286,all!$E$14:$AD$553,24),\"\")","v":""},{"$f":"IF($AE286=1,VLOOKUP($F286,all!$E$14:$AD$553,25),\"\")","v":""},null,{"$f":"COUNTIF(all!$E$14:$E$553,F286)","v":0}]
[null,null,null,null,null,254,{"$f":"IF($AE287=1,VLOOKUP($F287,all!$E$14:$AD$553,3),\"\")","v":""},{"$f":"IF($AE287=1,VLOOKUP($F287,all!$E$14:$AD$553,4),\"\")","v":""},{"$f":"IF($AE287=1,VLOOKUP($F287,all!$E$14:$AD$553,5),\"\")","v":""},{"$f":"IF($AE287=1,VLOOKUP($F287,all!$E$14:$AD$553,6),\"\")","v":""},{"$f":"IF($AE287=1,VLOOKUP($F287,all!$E$14:$AD$553,7),\"\")","v":""},{"$f":"IF($AE287=1,VLOOKUP($F287,all!$E$14:$AD$553,8),\"\")","v":""},{"$f":"IF($AE287=1,VLOOKUP($F287,all!$E$14:$AD$553,9),\"\")","v":""},{"$f":"IF($AE287=1,VLOOKUP($F287,all!$E$14:$AD$553,10),\"\")","v":""},{"$f":"IF($AE287=1,VLOOKUP($F287,all!$E$14:$AD$553,11),\"\")","v":""},{"$f":"IF($AE287=1,VLOOKUP($F287,all!$E$14:$AD$553,12),\"\")","v":""},{"$f":"IF($AE287=1,VLOOKUP($F287,all!$E$14:$AD$553,13),\"\")","v":""},{"$f":"IF($AE287=1,VLOOKUP($F287,all!$E$14:$AD$553,14),\"\")","v":""},{"$f":"IF($AE287=1,VLOOKUP($F287,all!$E$14:$AD$553,15),\"\")","v":""},{"$f":"IF($AE287=1,VLOOKUP($F287,all!$E$14:$AD$553,16),\"\")","v":""},{"$f":"IF($AE287=1,VLOOKUP($F287,all!$E$14:$AD$553,17),\"\")","v":""},{"$f":"IF($AE287=1,VLOOKUP($F287,all!$E$14:$AD$553,18),\"\")","v":""},{"$f":"IF($AE287=1,VLOOKUP($F287,all!$E$14:$AD$553,19),\"\")","v":""},{"$f":"IF($AE287=1,VLOOKUP($F287,all!$E$14:$AD$553,20),\"\")","v":""},{"$f":"IF($AE287=1,VLOOKUP($F287,all!$E$14:$AD$553,21),\"\")","v":""},{"$f":"IF($AE287=1,VLOOKUP($F287,all!$E$14:$AD$553,22),\"\")","v":""},{"$f":"IF($AE287=1,VLOOKUP($F287,all!$E$14:$AD$553,23),\"\")","v":""},{"$f":"IF($AE287=1,VLOOKUP($F287,all!$E$14:$AD$553,24),\"\")","v":""},{"$f":"IF($AE287=1,VLOOKUP($F287,all!$E$14:$AD$553,25),\"\")","v":""},null,{"$f":"COUNTIF(all!$E$14:$E$553,F287)","v":0}]
[null,null,null,null,null,255,{"$f":"IF($AE288=1,VLOOKUP($F288,all!$E$14:$AD$553,3),\"\")","v":""},{"$f":"IF($AE288=1,VLOOKUP($F288,all!$E$14:$AD$553,4),\"\")","v":""},{"$f":"IF($AE288=1,VLOOKUP($F288,all!$E$14:$AD$553,5),\"\")","v":""},{"$f":"IF($AE288=1,VLOOKUP($F288,all!$E$14:$AD$553,6),\"\")","v":""},{"$f":"IF($AE288=1,VLOOKUP($F288,all!$E$14:$AD$553,7),\"\")","v":""},{"$f":"IF($AE288=1,VLOOKUP($F288,all!$E$14:$AD$553,8),\"\")","v":""},{"$f":"IF($AE288=1,VLOOKUP($F288,all!$E$14:$AD$553,9),\"\")","v":""},{"$f":"IF($AE288=1,VLOOKUP($F288,all!$E$14:$AD$553,10),\"\")","v":""},{"$f":"IF($AE288=1,VLOOKUP($F288,all!$E$14:$AD$553,11),\"\")","v":""},{"$f":"IF($AE288=1,VLOOKUP($F288,all!$E$14:$AD$553,12),\"\")","v":""},{"$f":"IF($AE288=1,VLOOKUP($F288,all!$E$14:$AD$553,13),\"\")","v":""},{"$f":"IF($AE288=1,VLOOKUP($F288,all!$E$14:$AD$553,14),\"\")","v":""},{"$f":"IF($AE288=1,VLOOKUP($F288,all!$E$14:$AD$553,15),\"\")","v":""},{"$f":"IF($AE288=1,VLOOKUP($F288,all!$E$14:$AD$553,16),\"\")","v":""},{"$f":"IF($AE288=1,VLOOKUP($F288,all!$E$14:$AD$553,17),\"\")","v":""},{"$f":"IF($AE288=1,VLOOKUP($F288,all!$E$14:$AD$553,18),\"\")","v":""},{"$f":"IF($AE288=1,VLOOKUP($F288,all!$E$14:$AD$553,19),\"\")","v":""},{"$f":"IF($AE288=1,VLOOKUP($F288,all!$E$14:$AD$553,20),\"\")","v":""},{"$f":"IF($AE288=1,VLOOKUP($F288,all!$E$14:$AD$553,21),\"\")","v":""},{"$f":"IF($AE288=1,VLOOKUP($F288,all!$E$14:$AD$553,22),\"\")","v":""},{"$f":"IF($AE288=1,VLOOKUP($F288,all!$E$14:$AD$553,23),\"\")","v":""},{"$f":"IF($AE288=1,VLOOKUP($F288,all!$E$14:$AD$553,24),\"\")","v":""},{"$f":"IF($AE288=1,VLOOKUP($F288,all!$E$14:$AD$553,25),\"\")","v":""},null,{"$f":"COUNTIF(all!$E$14:$E$553,F288)","v":0}]
[null,null,null,null,null,256,{"$f":"IF($AE289=1,VLOOKUP($F289,all!$E$14:$AD$553,3),\"\")","v":""},{"$f":"IF($AE289=1,VLOOKUP($F289,all!$E$14:$AD$553,4),\"\")","v":""},{"$f":"IF($AE289=1,VLOOKUP($F289,all!$E$14:$AD$553,5),\"\")","v":""},{"$f":"IF($AE289=1,VLOOKUP($F289,all!$E$14:$AD$553,6),\"\")","v":""},{"$f":"IF($AE289=1,VLOOKUP($F289,all!$E$14:$AD$553,7),\"\")","v":""},{"$f":"IF($AE289=1,VLOOKUP($F289,all!$E$14:$AD$553,8),\"\")","v":""},{"$f":"IF($AE289=1,VLOOKUP($F289,all!$E$14:$AD$553,9),\"\")","v":""},{"$f":"IF($AE289=1,VLOOKUP($F289,all!$E$14:$AD$553,10),\"\")","v":""},{"$f":"IF($AE289=1,VLOOKUP($F289,all!$E$14:$AD$553,11),\"\")","v":""},{"$f":"IF($AE289=1,VLOOKUP($F289,all!$E$14:$AD$553,12),\"\")","v":""},{"$f":"IF($AE289=1,VLOOKUP($F289,all!$E$14:$AD$553,13),\"\")","v":""},{"$f":"IF($AE289=1,VLOOKUP($F289,all!$E$14:$AD$553,14),\"\")","v":""},{"$f":"IF($AE289=1,VLOOKUP($F289,all!$E$14:$AD$553,15),\"\")","v":""},{"$f":"IF($AE289=1,VLOOKUP($F289,all!$E$14:$AD$553,16),\"\")","v":""},{"$f":"IF($AE289=1,VLOOKUP($F289,all!$E$14:$AD$553,17),\"\")","v":""},{"$f":"IF($AE289=1,VLOOKUP($F289,all!$E$14:$AD$553,18),\"\")","v":""},{"$f":"IF($AE289=1,VLOOKUP($F289,all!$E$14:$AD$553,19),\"\")","v":""},{"$f":"IF($AE289=1,VLOOKUP($F289,all!$E$14:$AD$553,20),\"\")","v":""},{"$f":"IF($AE289=1,VLOOKUP($F289,all!$E$14:$AD$553,21),\"\")","v":""},{"$f":"IF($AE289=1,VLOOKUP($F289,all!$E$14:$AD$553,22),\"\")","v":""},{"$f":"IF($AE289=1,VLOOKUP($F289,all!$E$14:$AD$553,23),\"\")","v":""},{"$f":"IF($AE289=1,VLOOKUP($F289,all!$E$14:$AD$553,24),\"\")","v":""},{"$f":"IF($AE289=1,VLOOKUP($F289,all!$E$14:$AD$553,25),\"\")","v":""},null,{"$f":"COUNTIF(all!$E$14:$E$553,F289)","v":0}]
[null,null,null,null,null,257,{"$f":"IF($AE290=1,VLOOKUP($F290,all!$E$14:$AD$553,3),\"\")","v":""},{"$f":"IF($AE290=1,VLOOKUP($F290,all!$E$14:$AD$553,4),\"\")","v":""},{"$f":"IF($AE290=1,VLOOKUP($F290,all!$E$14:$AD$553,5),\"\")","v":""},{"$f":"IF($AE290=1,VLOOKUP($F290,all!$E$14:$AD$553,6),\"\")","v":""},{"$f":"IF($AE290=1,VLOOKUP($F290,all!$E$14:$AD$553,7),\"\")","v":""},{"$f":"IF($AE290=1,VLOOKUP($F290,all!$E$14:$AD$553,8),\"\")","v":""},{"$f":"IF($AE290=1,VLOOKUP($F290,all!$E$14:$AD$553,9),\"\")","v":""},{"$f":"IF($AE290=1,VLOOKUP($F290,all!$E$14:$AD$553,10),\"\")","v":""},{"$f":"IF($AE290=1,VLOOKUP($F290,all!$E$14:$AD$553,11),\"\")","v":""},{"$f":"IF($AE290=1,VLOOKUP($F290,all!$E$14:$AD$553,12),\"\")","v":""},{"$f":"IF($AE290=1,VLOOKUP($F290,all!$E$14:$AD$553,13),\"\")","v":""},{"$f":"IF($AE290=1,VLOOKUP($F290,all!$E$14:$AD$553,14),\"\")","v":""},{"$f":"IF($AE290=1,VLOOKUP($F290,all!$E$14:$AD$553,15),\"\")","v":""},{"$f":"IF($AE290=1,VLOOKUP($F290,all!$E$14:$AD$553,16),\"\")","v":""},{"$f":"IF($AE290=1,VLOOKUP($F290,all!$E$14:$AD$553,17),\"\")","v":""},{"$f":"IF($AE290=1,VLOOKUP($F290,all!$E$14:$AD$553,18),\"\")","v":""},{"$f":"IF($AE290=1,VLOOKUP($F290,all!$E$14:$AD$553,19),\"\")","v":""},{"$f":"IF($AE290=1,VLOOKUP($F290,all!$E$14:$AD$553,20),\"\")","v":""},{"$f":"IF($AE290=1,VLOOKUP($F290,all!$E$14:$AD$553,21),\"\")","v":""},{"$f":"IF($AE290=1,VLOOKUP($F290,all!$E$14:$AD$553,22),\"\")","v":""},{"$f":"IF($AE290=1,VLOOKUP($F290,all!$E$14:$AD$553,23),\"\")","v":""},{"$f":"IF($AE290=1,VLOOKUP($F290,all!$E$14:$AD$553,24),\"\")","v":""},{"$f":"IF($AE290=1,VLOOKUP($F290,all!$E$14:$AD$553,25),\"\")","v":""},null,{"$f":"COUNTIF(all!$E$14:$E$553,F290)","v":0}]
[null,null,null,null,null,258,{"$f":"IF($AE291=1,VLOOKUP($F291,all!$E$14:$AD$553,3),\"\")","v":""},{"$f":"IF($AE291=1,VLOOKUP($F291,all!$E$14:$AD$553,4),\"\")","v":""},{"$f":"IF($AE291=1,VLOOKUP($F291,all!$E$14:$AD$553,5),\"\")","v":""},{"$f":"IF($AE291=1,VLOOKUP($F291,all!$E$14:$AD$553,6),\"\")","v":""},{"$f":"IF($AE291=1,VLOOKUP($F291,all!$E$14:$AD$553,7),\"\")","v":""},{"$f":"IF($AE291=1,VLOOKUP($F291,all!$E$14:$AD$553,8),\"\")","v":""},{"$f":"IF($AE291=1,VLOOKUP($F291,all!$E$14:$AD$553,9),\"\")","v":""},{"$f":"IF($AE291=1,VLOOKUP($F291,all!$E$14:$AD$553,10),\"\")","v":""},{"$f":"IF($AE291=1,VLOOKUP($F291,all!$E$14:$AD$553,11),\"\")","v":""},{"$f":"IF($AE291=1,VLOOKUP($F291,all!$E$14:$AD$553,12),\"\")","v":""},{"$f":"IF($AE291=1,VLOOKUP($F291,all!$E$14:$AD$553,13),\"\")","v":""},{"$f":"IF($AE291=1,VLOOKUP($F291,all!$E$14:$AD$553,14),\"\")","v":""},{"$f":"IF($AE291=1,VLOOKUP($F291,all!$E$14:$AD$553,15),\"\")","v":""},{"$f":"IF($AE291=1,VLOOKUP($F291,all!$E$14:$AD$553,16),\"\")","v":""},{"$f":"IF($AE291=1,VLOOKUP($F291,all!$E$14:$AD$553,17),\"\")","v":""},{"$f":"IF($AE291=1,VLOOKUP($F291,all!$E$14:$AD$553,18),\"\")","v":""},{"$f":"IF($AE291=1,VLOOKUP($F291,all!$E$14:$AD$553,19),\"\")","v":""},{"$f":"IF($AE291=1,VLOOKUP($F291,all!$E$14:$AD$553,20),\"\")","v":""},{"$f":"IF($AE291=1,VLOOKUP($F291,all!$E$14:$AD$553,21),\"\")","v":""},{"$f":"IF($AE291=1,VLOOKUP($F291,all!$E$14:$AD$553,22),\"\")","v":""},{"$f":"IF($AE291=1,VLOOKUP($F291,all!$E$14:$AD$553,23),\"\")","v":""},{"$f":"IF($AE291=1,VLOOKUP($F291,all!$E$14:$AD$553,24),\"\")","v":""},{"$f":"IF($AE291=1,VLOOKUP($F291,all!$E$14:$AD$553,25),\"\")","v":""},null,{"$f":"COUNTIF(all!$E$14:$E$553,F291)","v":0}]
[null,null,null,null,null,259,{"$f":"IF($AE292=1,VLOOKUP($F292,all!$E$14:$AD$553,3),\"\")","v":""},{"$f":"IF($AE292=1,VLOOKUP($F292,all!$E$14:$AD$553,4),\"\")","v":""},{"$f":"IF($AE292=1,VLOOKUP($F292,all!$E$14:$AD$553,5),\"\")","v":""},{"$f":"IF($AE292=1,VLOOKUP($F292,all!$E$14:$AD$553,6),\"\")","v":""},{"$f":"IF($AE292=1,VLOOKUP($F292,all!$E$14:$AD$553,7),\"\")","v":""},{"$f":"IF($AE292=1,VLOOKUP($F292,all!$E$14:$AD$553,8),\"\")","v":""},{"$f":"IF($AE292=1,VLOOKUP($F292,all!$E$14:$AD$553,9),\"\")","v":""},{"$f":"IF($AE292=1,VLOOKUP($F292,all!$E$14:$AD$553,10),\"\")","v":""},{"$f":"IF($AE292=1,VLOOKUP($F292,all!$E$14:$AD$553,11),\"\")","v":""},{"$f":"IF($AE292=1,VLOOKUP($F292,all!$E$14:$AD$553,12),\"\")","v":""},{"$f":"IF($AE292=1,VLOOKUP($F292,all!$E$14:$AD$553,13),\"\")","v":""},{"$f":"IF($AE292=1,VLOOKUP($F292,all!$E$14:$AD$553,14),\"\")","v":""},{"$f":"IF($AE292=1,VLOOKUP($F292,all!$E$14:$AD$553,15),\"\")","v":""},{"$f":"IF($AE292=1,VLOOKUP($F292,all!$E$14:$AD$553,16),\"\")","v":""},{"$f":"IF($AE292=1,VLOOKUP($F292,all!$E$14:$AD$553,17),\"\")","v":""},{"$f":"IF($AE292=1,VLOOKUP($F292,all!$E$14:$AD$553,18),\"\")","v":""},{"$f":"IF($AE292=1,VLOOKUP($F292,all!$E$14:$AD$553,19),\"\")","v":""},{"$f":"IF($AE292=1,VLOOKUP($F292,all!$E$14:$AD$553,20),\"\")","v":""},{"$f":"IF($AE292=1,VLOOKUP($F292,all!$E$14:$AD$553,21),\"\")","v":""},{"$f":"IF($AE292=1,VLOOKUP($F292,all!$E$14:$AD$553,22),\"\")","v":""},{"$f":"IF($AE292=1,VLOOKUP($F292,all!$E$14:$AD$553,23),\"\")","v":""},{"$f":"IF($AE292=1,VLOOKUP($F292,all!$E$14:$AD$553,24),\"\")","v":""},{"$f":"IF($AE292=1,VLOOKUP($F292,all!$E$14:$AD$553,25),\"\")","v":""},null,{"$f":"COUNTIF(all!$E$14:$E$553,F292)","v":0}]
[null,null,null,null,null,260,{"$f":"IF($AE293=1,VLOOKUP($F293,all!$E$14:$AD$553,3),\"\")","v":""},{"$f":"IF($AE293=1,VLOOKUP($F293,all!$E$14:$AD$553,4),\"\")","v":""},{"$f":"IF($AE293=1,VLOOKUP($F293,all!$E$14:$AD$553,5),\"\")","v":""},{"$f":"IF($AE293=1,VLOOKUP($F293,all!$E$14:$AD$553,6),\"\")","v":""},{"$f":"IF($AE293=1,VLOOKUP($F293,all!$E$14:$AD$553,7),\"\")","v":""},{"$f":"IF($AE293=1,VLOOKUP($F293,all!$E$14:$AD$553,8),\"\")","v":""},{"$f":"IF($AE293=1,VLOOKUP($F293,all!$E$14:$AD$553,9),\"\")","v":""},{"$f":"IF($AE293=1,VLOOKUP($F293,all!$E$14:$AD$553,10),\"\")","v":""},{"$f":"IF($AE293=1,VLOOKUP($F293,all!$E$14:$AD$553,11),\"\")","v":""},{"$f":"IF($AE293=1,VLOOKUP($F293,all!$E$14:$AD$553,12),\"\")","v":""},{"$f":"IF($AE293=1,VLOOKUP($F293,all!$E$14:$AD$553,13),\"\")","v":""},{"$f":"IF($AE293=1,VLOOKUP($F293,all!$E$14:$AD$553,14),\"\")","v":""},{"$f":"IF($AE293=1,VLOOKUP($F293,all!$E$14:$AD$553,15),\"\")","v":""},{"$f":"IF($AE293=1,VLOOKUP($F293,all!$E$14:$AD$553,16),\"\")","v":""},{"$f":"IF($AE293=1,VLOOKUP($F293,all!$E$14:$AD$553,17),\"\")","v":""},{"$f":"IF($AE293=1,VLOOKUP($F293,all!$E$14:$AD$553,18),\"\")","v":""},{"$f":"IF($AE293=1,VLOOKUP($F293,all!$E$14:$AD$553,19),\"\")","v":""},{"$f":"IF($AE293=1,VLOOKUP($F293,all!$E$14:$AD$553,20),\"\")","v":""},{"$f":"IF($AE293=1,VLOOKUP($F293,all!$E$14:$AD$553,21),\"\")","v":""},{"$f":"IF($AE293=1,VLOOKUP($F293,all!$E$14:$AD$553,22),\"\")","v":""},{"$f":"IF($AE293=1,VLOOKUP($F293,all!$E$14:$AD$553,23),\"\")","v":""},{"$f":"IF($AE293=1,VLOOKUP($F293,all!$E$14:$AD$553,24),\"\")","v":""},{"$f":"IF($AE293=1,VLOOKUP($F293,all!$E$14:$AD$553,25),\"\")","v":""},null,{"$f":"COUNTIF(all!$E$14:$E$553,F293)","v":0}]
[null,null,null,null,null,261,{"$f":"IF($AE294=1,VLOOKUP($F294,all!$E$14:$AD$553,3),\"\")","v":""},{"$f":"IF($AE294=1,VLOOKUP($F294,all!$E$14:$AD$553,4),\"\")","v":""},{"$f":"IF($AE294=1,VLOOKUP($F294,all!$E$14:$AD$553,5),\"\")","v":""},{"$f":"IF($AE294=1,VLOOKUP($F294,all!$E$14:$AD$553,6),\"\")","v":""},{"$f":"IF($AE294=1,VLOOKUP($F294,all!$E$14:$AD$553,7),\"\")","v":""},{"$f":"IF($AE294=1,VLOOKUP($F294,all!$E$14:$AD$553,8),\"\")","v":""},{"$f":"IF($AE294=1,VLOOKUP($F294,all!$E$14:$AD$553,9),\"\")","v":""},{"$f":"IF($AE294=1,VLOOKUP($F294,all!$E$14:$AD$553,10),\"\")","v":""},{"$f":"IF($AE294=1,VLOOKUP($F294,all!$E$14:$AD$553,11),\"\")","v":""},{"$f":"IF($AE294=1,VLOOKUP($F294,all!$E$14:$AD$553,12),\"\")","v":""},{"$f":"IF($AE294=1,VLOOKUP($F294,all!$E$14:$AD$553,13),\"\")","v":""},{"$f":"IF($AE294=1,VLOOKUP($F294,all!$E$14:$AD$553,14),\"\")","v":""},{"$f":"IF($AE294=1,VLOOKUP($F294,all!$E$14:$AD$553,15),\"\")","v":""},{"$f":"IF($AE294=1,VLOOKUP($F294,all!$E$14:$AD$553,16),\"\")","v":""},{"$f":"IF($AE294=1,VLOOKUP($F294,all!$E$14:$AD$553,17),\"\")","v":""},{"$f":"IF($AE294=1,VLOOKUP($F294,all!$E$14:$AD$553,18),\"\")","v":""},{"$f":"IF($AE294=1,VLOOKUP($F294,all!$E$14:$AD$553,19),\"\")","v":""},{"$f":"IF($AE294=1,VLOOKUP($F294,all!$E$14:$AD$553,20),\"\")","v":""},{"$f":"IF($AE294=1,VLOOKUP($F294,all!$E$14:$AD$553,21),\"\")","v":""},{"$f":"IF($AE294=1,VLOOKUP($F294,all!$E$14:$AD$553,22),\"\")","v":""},{"$f":"IF($AE294=1,VLOOKUP($F294,all!$E$14:$AD$553,23),\"\")","v":""},{"$f":"IF($AE294=1,VLOOKUP($F294,all!$E$14:$AD$553,24),\"\")","v":""},{"$f":"IF($AE294=1,VLOOKUP($F294,all!$E$14:$AD$553,25),\"\")","v":""},null,{"$f":"COUNTIF(all!$E$14:$E$553,F294)","v":0}]
[null,null,null,null,null,262,{"$f":"IF($AE295=1,VLOOKUP($F295,all!$E$14:$AD$553,3),\"\")","v":""},{"$f":"IF($AE295=1,VLOOKUP($F295,all!$E$14:$AD$553,4),\"\")","v":""},{"$f":"IF($AE295=1,VLOOKUP($F295,all!$E$14:$AD$553,5),\"\")","v":""},{"$f":"IF($AE295=1,VLOOKUP($F295,all!$E$14:$AD$553,6),\"\")","v":""},{"$f":"IF($AE295=1,VLOOKUP($F295,all!$E$14:$AD$553,7),\"\")","v":""},{"$f":"IF($AE295=1,VLOOKUP($F295,all!$E$14:$AD$553,8),\"\")","v":""},{"$f":"IF($AE295=1,VLOOKUP($F295,all!$E$14:$AD$553,9),\"\")","v":""},{"$f":"IF($AE295=1,VLOOKUP($F295,all!$E$14:$AD$553,10),\"\")","v":""},{"$f":"IF($AE295=1,VLOOKUP($F295,all!$E$14:$AD$553,11),\"\")","v":""},{"$f":"IF($AE295=1,VLOOKUP($F295,all!$E$14:$AD$553,12),\"\")","v":""},{"$f":"IF($AE295=1,VLOOKUP($F295,all!$E$14:$AD$553,13),\"\")","v":""},{"$f":"IF($AE295=1,VLOOKUP($F295,all!$E$14:$AD$553,14),\"\")","v":""},{"$f":"IF($AE295=1,VLOOKUP($F295,all!$E$14:$AD$553,15),\"\")","v":""},{"$f":"IF($AE295=1,VLOOKUP($F295,all!$E$14:$AD$553,16),\"\")","v":""},{"$f":"IF($AE295=1,VLOOKUP($F295,all!$E$14:$AD$553,17),\"\")","v":""},{"$f":"IF($AE295=1,VLOOKUP($F295,all!$E$14:$AD$553,18),\"\")","v":""},{"$f":"IF($AE295=1,VLOOKUP($F295,all!$E$14:$AD$553,19),\"\")","v":""},{"$f":"IF($AE295=1,VLOOKUP($F295,all!$E$14:$AD$553,20),\"\")","v":""},{"$f":"IF($AE295=1,VLOOKUP($F295,all!$E$14:$AD$553,21),\"\")","v":""},{"$f":"IF($AE295=1,VLOOKUP($F295,all!$E$14:$AD$553,22),\"\")","v":""},{"$f":"IF($AE295=1,VLOOKUP($F295,all!$E$14:$AD$553,23),\"\")","v":""},{"$f":"IF($AE295=1,VLOOKUP($F295,all!$E$14:$AD$553,24),\"\")","v":""},{"$f":"IF($AE295=1,VLOOKUP($F295,all!$E$14:$AD$553,25),\"\")","v":""},null,{"$f":"COUNTIF(all!$E$14:$E$553,F295)","v":0}]
[null,null,null,null,null,263,{"$f":"IF($AE296=1,VLOOKUP($F296,all!$E$14:$AD$553,3),\"\")","v":""},{"$f":"IF($AE296=1,VLOOKUP($F296,all!$E$14:$AD$553,4),\"\")","v":""},{"$f":"IF($AE296=1,VLOOKUP($F296,all!$E$14:$AD$553,5),\"\")","v":""},{"$f":"IF($AE296=1,VLOOKUP($F296,all!$E$14:$AD$553,6),\"\")","v":""},{"$f":"IF($AE296=1,VLOOKUP($F296,all!$E$14:$AD$553,7),\"\")","v":""},{"$f":"IF($AE296=1,VLOOKUP($F296,all!$E$14:$AD$553,8),\"\")","v":""},{"$f":"IF($AE296=1,VLOOKUP($F296,all!$E$14:$AD$553,9),\"\")","v":""},{"$f":"IF($AE296=1,VLOOKUP($F296,all!$E$14:$AD$553,10),\"\")","v":""},{"$f":"IF($AE296=1,VLOOKUP($F296,all!$E$14:$AD$553,11),\"\")","v":""},{"$f":"IF($AE296=1,VLOOKUP($F296,all!$E$14:$AD$553,12),\"\")","v":""},{"$f":"IF($AE296=1,VLOOKUP($F296,all!$E$14:$AD$553,13),\"\")","v":""},{"$f":"IF($AE296=1,VLOOKUP($F296,all!$E$14:$AD$553,14),\"\")","v":""},{"$f":"IF($AE296=1,VLOOKUP($F296,all!$E$14:$AD$553,15),\"\")","v":""},{"$f":"IF($AE296=1,VLOOKUP($F296,all!$E$14:$AD$553,16),\"\")","v":""},{"$f":"IF($AE296=1,VLOOKUP($F296,all!$E$14:$AD$553,17),\"\")","v":""},{"$f":"IF($AE296=1,VLOOKUP($F296,all!$E$14:$AD$553,18),\"\")","v":""},{"$f":"IF($AE296=1,VLOOKUP($F296,all!$E$14:$AD$553,19),\"\")","v":""},{"$f":"IF($AE296=1,VLOOKUP($F296,all!$E$14:$AD$553,20),\"\")","v":""},{"$f":"IF($AE296=1,VLOOKUP($F296,all!$E$14:$AD$553,21),\"\")","v":""},{"$f":"IF($AE296=1,VLOOKUP($F296,all!$E$14:$AD$553,22),\"\")","v":""},{"$f":"IF($AE296=1,VLOOKUP($F296,all!$E$14:$AD$553,23),\"\")","v":""},{"$f":"IF($AE296=1,VLOOKUP($F296,all!$E$14:$AD$553,24),\"\")","v":""},{"$f":"IF($AE296=1,VLOOKUP($F296,all!$E$14:$AD$553,25),\"\")","v":""},null,{"$f":"COUNTIF(all!$E$14:$E$553,F296)","v":0}]
[null,null,null,null,null,264,{"$f":"IF($AE297=1,VLOOKUP($F297,all!$E$14:$AD$553,3),\"\")","v":""},{"$f":"IF($AE297=1,VLOOKUP($F297,all!$E$14:$AD$553,4),\"\")","v":""},{"$f":"IF($AE297=1,VLOOKUP($F297,all!$E$14:$AD$553,5),\"\")","v":""},{"$f":"IF($AE297=1,VLOOKUP($F297,all!$E$14:$AD$553,6),\"\")","v":""},{"$f":"IF($AE297=1,VLOOKUP($F297,all!$E$14:$AD$553,7),\"\")","v":""},{"$f":"IF($AE297=1,VLOOKUP($F297,all!$E$14:$AD$553,8),\"\")","v":""},{"$f":"IF($AE297=1,VLOOKUP($F297,all!$E$14:$AD$553,9),\"\")","v":""},{"$f":"IF($AE297=1,VLOOKUP($F297,all!$E$14:$AD$553,10),\"\")","v":""},{"$f":"IF($AE297=1,VLOOKUP($F297,all!$E$14:$AD$553,11),\"\")","v":""},{"$f":"IF($AE297=1,VLOOKUP($F297,all!$E$14:$AD$553,12),\"\")","v":""},{"$f":"IF($AE297=1,VLOOKUP($F297,all!$E$14:$AD$553,13),\"\")","v":""},{"$f":"IF($AE297=1,VLOOKUP($F297,all!$E$14:$AD$553,14),\"\")","v":""},{"$f":"IF($AE297=1,VLOOKUP($F297,all!$E$14:$AD$553,15),\"\")","v":""},{"$f":"IF($AE297=1,VLOOKUP($F297,all!$E$14:$AD$553,16),\"\")","v":""},{"$f":"IF($AE297=1,VLOOKUP($F297,all!$E$14:$AD$553,17),\"\")","v":""},{"$f":"IF($AE297=1,VLOOKUP($F297,all!$E$14:$AD$553,18),\"\")","v":""},{"$f":"IF($AE297=1,VLOOKUP($F297,all!$E$14:$AD$553,19),\"\")","v":""},{"$f":"IF($AE297=1,VLOOKUP($F297,all!$E$14:$AD$553,20),\"\")","v":""},{"$f":"IF($AE297=1,VLOOKUP($F297,all!$E$14:$AD$553,21),\"\")","v":""},{"$f":"IF($AE297=1,VLOOKUP($F297,all!$E$14:$AD$553,22),\"\")","v":""},{"$f":"IF($AE297=1,VLOOKUP($F297,all!$E$14:$AD$553,23),\"\")","v":""},{"$f":"IF($AE297=1,VLOOKUP($F297,all!$E$14:$AD$553,24),\"\")","v":""},{"$f":"IF($AE297=1,VLOOKUP($F297,all!$E$14:$AD$553,25),\"\")","v":""},null,{"$f":"COUNTIF(all!$E$14:$E$553,F297)","v":0}]
[null,null,null,null,null,265,{"$f":"IF($AE298=1,VLOOKUP($F298,all!$E$14:$AD$553,3),\"\")","v":""},{"$f":"IF($AE298=1,VLOOKUP($F298,all!$E$14:$AD$553,4),\"\")","v":""},{"$f":"IF($AE298=1,VLOOKUP($F298,all!$E$14:$AD$553,5),\"\")","v":""},{"$f":"IF($AE298=1,VLOOKUP($F298,all!$E$14:$AD$553,6),\"\")","v":""},{"$f":"IF($AE298=1,VLOOKUP($F298,all!$E$14:$AD$553,7),\"\")","v":""},{"$f":"IF($AE298=1,VLOOKUP($F298,all!$E$14:$AD$553,8),\"\")","v":""},{"$f":"IF($AE298=1,VLOOKUP($F298,all!$E$14:$AD$553,9),\"\")","v":""},{"$f":"IF($AE298=1,VLOOKUP($F298,all!$E$14:$AD$553,10),\"\")","v":""},{"$f":"IF($AE298=1,VLOOKUP($F298,all!$E$14:$AD$553,11),\"\")","v":""},{"$f":"IF($AE298=1,VLOOKUP($F298,all!$E$14:$AD$553,12),\"\")","v":""},{"$f":"IF($AE298=1,VLOOKUP($F298,all!$E$14:$AD$553,13),\"\")","v":""},{"$f":"IF($AE298=1,VLOOKUP($F298,all!$E$14:$AD$553,14),\"\")","v":""},{"$f":"IF($AE298=1,VLOOKUP($F298,all!$E$14:$AD$553,15),\"\")","v":""},{"$f":"IF($AE298=1,VLOOKUP($F298,all!$E$14:$AD$553,16),\"\")","v":""},{"$f":"IF($AE298=1,VLOOKUP($F298,all!$E$14:$AD$553,17),\"\")","v":""},{"$f":"IF($AE298=1,VLOOKUP($F298,all!$E$14:$AD$553,18),\"\")","v":""},{"$f":"IF($AE298=1,VLOOKUP($F298,all!$E$14:$AD$553,19),\"\")","v":""},{"$f":"IF($AE298=1,VLOOKUP($F298,all!$E$14:$AD$553,20),\"\")","v":""},{"$f":"IF($AE298=1,VLOOKUP($F298,all!$E$14:$AD$553,21),\"\")","v":""},{"$f":"IF($AE298=1,VLOOKUP($F298,all!$E$14:$AD$553,22),\"\")","v":""},{"$f":"IF($AE298=1,VLOOKUP($F298,all!$E$14:$AD$553,23),\"\")","v":""},{"$f":"IF($AE298=1,VLOOKUP($F298,all!$E$14:$AD$553,24),\"\")","v":""},{"$f":"IF($AE298=1,VLOOKUP($F298,all!$E$14:$AD$553,25),\"\")","v":""},null,{"$f":"COUNTIF(all!$E$14:$E$553,F298)","v":0}]
[null,null,null,null,null,266,{"$f":"IF($AE299=1,VLOOKUP($F299,all!$E$14:$AD$553,3),\"\")","v":""},{"$f":"IF($AE299=1,VLOOKUP($F299,all!$E$14:$AD$553,4),\"\")","v":""},{"$f":"IF($AE299=1,VLOOKUP($F299,all!$E$14:$AD$553,5),\"\")","v":""},{"$f":"IF($AE299=1,VLOOKUP($F299,all!$E$14:$AD$553,6),\"\")","v":""},{"$f":"IF($AE299=1,VLOOKUP($F299,all!$E$14:$AD$553,7),\"\")","v":""},{"$f":"IF($AE299=1,VLOOKUP($F299,all!$E$14:$AD$553,8),\"\")","v":""},{"$f":"IF($AE299=1,VLOOKUP($F299,all!$E$14:$AD$553,9),\"\")","v":""},{"$f":"IF($AE299=1,VLOOKUP($F299,all!$E$14:$AD$553,10),\"\")","v":""},{"$f":"IF($AE299=1,VLOOKUP($F299,all!$E$14:$AD$553,11),\"\")","v":""},{"$f":"IF($AE299=1,VLOOKUP($F299,all!$E$14:$AD$553,12),\"\")","v":""},{"$f":"IF($AE299=1,VLOOKUP($F299,all!$E$14:$AD$553,13),\"\")","v":""},{"$f":"IF($AE299=1,VLOOKUP($F299,all!$E$14:$AD$553,14),\"\")","v":""},{"$f":"IF($AE299=1,VLOOKUP($F299,all!$E$14:$AD$553,15),\"\")","v":""},{"$f":"IF($AE299=1,VLOOKUP($F299,all!$E$14:$AD$553,16),\"\")","v":""},{"$f":"IF($AE299=1,VLOOKUP($F299,all!$E$14:$AD$553,17),\"\")","v":""},{"$f":"IF($AE299=1,VLOOKUP($F299,all!$E$14:$AD$553,18),\"\")","v":""},{"$f":"IF($AE299=1,VLOOKUP($F299,all!$E$14:$AD$553,19),\"\")","v":""},{"$f":"IF($AE299=1,VLOOKUP($F299,all!$E$14:$AD$553,20),\"\")","v":""},{"$f":"IF($AE299=1,VLOOKUP($F299,all!$E$14:$AD$553,21),\"\")","v":""},{"$f":"IF($AE299=1,VLOOKUP($F299,all!$E$14:$AD$553,22),\"\")","v":""},{"$f":"IF($AE299=1,VLOOKUP($F299,all!$E$14:$AD$553,23),\"\")","v":""},{"$f":"IF($AE299=1,VLOOKUP($F299,all!$E$14:$AD$553,24),\"\")","v":""},{"$f":"IF($AE299=1,VLOOKUP($F299,all!$E$14:$AD$553,25),\"\")","v":""},null,{"$f":"COUNTIF(all!$E$14:$E$553,F299)","v":0}]
[null,null,null,null,null,267,{"$f":"IF($AE300=1,VLOOKUP($F300,all!$E$14:$AD$553,3),\"\")","v":""},{"$f":"IF($AE300=1,VLOOKUP($F300,all!$E$14:$AD$553,4),\"\")","v":""},{"$f":"IF($AE300=1,VLOOKUP($F300,all!$E$14:$AD$553,5),\"\")","v":""},{"$f":"IF($AE300=1,VLOOKUP($F300,all!$E$14:$AD$553,6),\"\")","v":""},{"$f":"IF($AE300=1,VLOOKUP($F300,all!$E$14:$AD$553,7),\"\")","v":""},{"$f":"IF($AE300=1,VLOOKUP($F300,all!$E$14:$AD$553,8),\"\")","v":""},{"$f":"IF($AE300=1,VLOOKUP($F300,all!$E$14:$AD$553,9),\"\")","v":""},{"$f":"IF($AE300=1,VLOOKUP($F300,all!$E$14:$AD$553,10),\"\")","v":""},{"$f":"IF($AE300=1,VLOOKUP($F300,all!$E$14:$AD$553,11),\"\")","v":""},{"$f":"IF($AE300=1,VLOOKUP($F300,all!$E$14:$AD$553,12),\"\")","v":""},{"$f":"IF($AE300=1,VLOOKUP($F300,all!$E$14:$AD$553,13),\"\")","v":""},{"$f":"IF($AE300=1,VLOOKUP($F300,all!$E$14:$AD$553,14),\"\")","v":""},{"$f":"IF($AE300=1,VLOOKUP($F300,all!$E$14:$AD$553,15),\"\")","v":""},{"$f":"IF($AE300=1,VLOOKUP($F300,all!$E$14:$AD$553,16),\"\")","v":""},{"$f":"IF($AE300=1,VLOOKUP($F300,all!$E$14:$AD$553,17),\"\")","v":""},{"$f":"IF($AE300=1,VLOOKUP($F300,all!$E$14:$AD$553,18),\"\")","v":""},{"$f":"IF($AE300=1,VLOOKUP($F300,all!$E$14:$AD$553,19),\"\")","v":""},{"$f":"IF($AE300=1,VLOOKUP($F300,all!$E$14:$AD$553,20),\"\")","v":""},{"$f":"IF($AE300=1,VLOOKUP($F300,all!$E$14:$AD$553,21),\"\")","v":""},{"$f":"IF($AE300=1,VLOOKUP($F300,all!$E$14:$AD$553,22),\"\")","v":""},{"$f":"IF($AE300=1,VLOOKUP($F300,all!$E$14:$AD$553,23),\"\")","v":""},{"$f":"IF($AE300=1,VLOOKUP($F300,all!$E$14:$AD$553,24),\"\")","v":""},{"$f":"IF($AE300=1,VLOOKUP($F300,all!$E$14:$AD$553,25),\"\")","v":""},null,{"$f":"COUNTIF(all!$E$14:$E$553,F300)","v":0}]
[null,null,null,null,null,268,{"$f":"IF($AE301=1,VLOOKUP($F301,all!$E$14:$AD$553,3),\"\")","v":""},{"$f":"IF($AE301=1,VLOOKUP($F301,all!$E$14:$AD$553,4),\"\")","v":""},{"$f":"IF($AE301=1,VLOOKUP($F301,all!$E$14:$AD$553,5),\"\")","v":""},{"$f":"IF($AE301=1,VLOOKUP($F301,all!$E$14:$AD$553,6),\"\")","v":""},{"$f":"IF($AE301=1,VLOOKUP($F301,all!$E$14:$AD$553,7),\"\")","v":""},{"$f":"IF($AE301=1,VLOOKUP($F301,all!$E$14:$AD$553,8),\"\")","v":""},{"$f":"IF($AE301=1,VLOOKUP($F301,all!$E$14:$AD$553,9),\"\")","v":""},{"$f":"IF($AE301=1,VLOOKUP($F301,all!$E$14:$AD$553,10),\"\")","v":""},{"$f":"IF($AE301=1,VLOOKUP($F301,all!$E$14:$AD$553,11),\"\")","v":""},{"$f":"IF($AE301=1,VLOOKUP($F301,all!$E$14:$AD$553,12),\"\")","v":""},{"$f":"IF($AE301=1,VLOOKUP($F301,all!$E$14:$AD$553,13),\"\")","v":""},{"$f":"IF($AE301=1,VLOOKUP($F301,all!$E$14:$AD$553,14),\"\")","v":""},{"$f":"IF($AE301=1,VLOOKUP($F301,all!$E$14:$AD$553,15),\"\")","v":""},{"$f":"IF($AE301=1,VLOOKUP($F301,all!$E$14:$AD$553,16),\"\")","v":""},{"$f":"IF($AE301=1,VLOOKUP($F301,all!$E$14:$AD$553,17),\"\")","v":""},{"$f":"IF($AE301=1,VLOOKUP($F301,all!$E$14:$AD$553,18),\"\")","v":""},{"$f":"IF($AE301=1,VLOOKUP($F301,all!$E$14:$AD$553,19),\"\")","v":""},{"$f":"IF($AE301=1,VLOOKUP($F301,all!$E$14:$AD$553,20),\"\")","v":""},{"$f":"IF($AE301=1,VLOOKUP($F301,all!$E$14:$AD$553,21),\"\")","v":""},{"$f":"IF($AE301=1,VLOOKUP($F301,all!$E$14:$AD$553,22),\"\")","v":""},{"$f":"IF($AE301=1,VLOOKUP($F301,all!$E$14:$AD$553,23),\"\")","v":""},{"$f":"IF($AE301=1,VLOOKUP($F301,all!$E$14:$AD$553,24),\"\")","v":""},{"$f":"IF($AE301=1,VLOOKUP($F301,all!$E$14:$AD$553,25),\"\")","v":""},null,{"$f":"COUNTIF(all!$E$14:$E$553,F301)","v":0}]
[null,null,null,null,null,269,{"$f":"IF($AE302=1,VLOOKUP($F302,all!$E$14:$AD$553,3),\"\")","v":""},{"$f":"IF($AE302=1,VLOOKUP($F302,all!$E$14:$AD$553,4),\"\")","v":""},{"$f":"IF($AE302=1,VLOOKUP($F302,all!$E$14:$AD$553,5),\"\")","v":""},{"$f":"IF($AE302=1,VLOOKUP($F302,all!$E$14:$AD$553,6),\"\")","v":""},{"$f":"IF($AE302=1,VLOOKUP($F302,all!$E$14:$AD$553,7),\"\")","v":""},{"$f":"IF($AE302=1,VLOOKUP($F302,all!$E$14:$AD$553,8),\"\")","v":""},{"$f":"IF($AE302=1,VLOOKUP($F302,all!$E$14:$AD$553,9),\"\")","v":""},{"$f":"IF($AE302=1,VLOOKUP($F302,all!$E$14:$AD$553,10),\"\")","v":""},{"$f":"IF($AE302=1,VLOOKUP($F302,all!$E$14:$AD$553,11),\"\")","v":""},{"$f":"IF($AE302=1,VLOOKUP($F302,all!$E$14:$AD$553,12),\"\")","v":""},{"$f":"IF($AE302=1,VLOOKUP($F302,all!$E$14:$AD$553,13),\"\")","v":""},{"$f":"IF($AE302=1,VLOOKUP($F302,all!$E$14:$AD$553,14),\"\")","v":""},{"$f":"IF($AE302=1,VLOOKUP($F302,all!$E$14:$AD$553,15),\"\")","v":""},{"$f":"IF($AE302=1,VLOOKUP($F302,all!$E$14:$AD$553,16),\"\")","v":""},{"$f":"IF($AE302=1,VLOOKUP($F302,all!$E$14:$AD$553,17),\"\")","v":""},{"$f":"IF($AE302=1,VLOOKUP($F302,all!$E$14:$AD$553,18),\"\")","v":""},{"$f":"IF($AE302=1,VLOOKUP($F302,all!$E$14:$AD$553,19),\"\")","v":""},{"$f":"IF($AE302=1,VLOOKUP($F302,all!$E$14:$AD$553,20),\"\")","v":""},{"$f":"IF($AE302=1,VLOOKUP($F302,all!$E$14:$AD$553,21),\"\")","v":""},{"$f":"IF($AE302=1,VLOOKUP($F302,all!$E$14:$AD$553,22),\"\")","v":""},{"$f":"IF($AE302=1,VLOOKUP($F302,all!$E$14:$AD$553,23),\"\")","v":""},{"$f":"IF($AE302=1,VLOOKUP($F302,all!$E$14:$AD$553,24),\"\")","v":""},{"$f":"IF($AE302=1,VLOOKUP($F302,all!$E$14:$AD$553,25),\"\")","v":""},null,{"$f":"COUNTIF(all!$E$14:$E$553,F302)","v":0}]
[null,null,null,null,null,270,{"$f":"IF($AE303=1,VLOOKUP($F303,all!$E$14:$AD$553,3),\"\")","v":""},{"$f":"IF($AE303=1,VLOOKUP($F303,all!$E$14:$AD$553,4),\"\")","v":""},{"$f":"IF($AE303=1,VLOOKUP($F303,all!$E$14:$AD$553,5),\"\")","v":""},{"$f":"IF($AE303=1,VLOOKUP($F303,all!$E$14:$AD$553,6),\"\")","v":""},{"$f":"IF($AE303=1,VLOOKUP($F303,all!$E$14:$AD$553,7),\"\")","v":""},{"$f":"IF($AE303=1,VLOOKUP($F303,all!$E$14:$AD$553,8),\"\")","v":""},{"$f":"IF($AE303=1,VLOOKUP($F303,all!$E$14:$AD$553,9),\"\")","v":""},{"$f":"IF($AE303=1,VLOOKUP($F303,all!$E$14:$AD$553,10),\"\")","v":""},{"$f":"IF($AE303=1,VLOOKUP($F303,all!$E$14:$AD$553,11),\"\")","v":""},{"$f":"IF($AE303=1,VLOOKUP($F303,all!$E$14:$AD$553,12),\"\")","v":""},{"$f":"IF($AE303=1,VLOOKUP($F303,all!$E$14:$AD$553,13),\"\")","v":""},{"$f":"IF($AE303=1,VLOOKUP($F303,all!$E$14:$AD$553,14),\"\")","v":""},{"$f":"IF($AE303=1,VLOOKUP($F303,all!$E$14:$AD$553,15),\"\")","v":""},{"$f":"IF($AE303=1,VLOOKUP($F303,all!$E$14:$AD$553,16),\"\")","v":""},{"$f":"IF($AE303=1,VLOOKUP($F303,all!$E$14:$AD$553,17),\"\")","v":""},{"$f":"IF($AE303=1,VLOOKUP($F303,all!$E$14:$AD$553,18),\"\")","v":""},{"$f":"IF($AE303=1,VLOOKUP($F303,all!$E$14:$AD$553,19),\"\")","v":""},{"$f":"IF($AE303=1,VLOOKUP($F303,all!$E$14:$AD$553,20),\"\")","v":""},{"$f":"IF($AE303=1,VLOOKUP($F303,all!$E$14:$AD$553,21),\"\")","v":""},{"$f":"IF($AE303=1,VLOOKUP($F303,all!$E$14:$AD$553,22),\"\")","v":""},{"$f":"IF($AE303=1,VLOOKUP($F303,all!$E$14:$AD$553,23),\"\")","v":""},{"$f":"IF($AE303=1,VLOOKUP($F303,all!$E$14:$AD$553,24),\"\")","v":""},{"$f":"IF($AE303=1,VLOOKUP($F303,all!$E$14:$AD$553,25),\"\")","v":""},null,{"$f":"COUNTIF(all!$E$14:$E$553,F303)","v":0}]
[null,null,null,null,null,271,{"$f":"IF($AE304=1,VLOOKUP($F304,all!$E$14:$AD$553,3),\"\")","v":""},{"$f":"IF($AE304=1,VLOOKUP($F304,all!$E$14:$AD$553,4),\"\")","v":""},{"$f":"IF($AE304=1,VLOOKUP($F304,all!$E$14:$AD$553,5),\"\")","v":""},{"$f":"IF($AE304=1,VLOOKUP($F304,all!$E$14:$AD$553,6),\"\")","v":""},{"$f":"IF($AE304=1,VLOOKUP($F304,all!$E$14:$AD$553,7),\"\")","v":""},{"$f":"IF($AE304=1,VLOOKUP($F304,all!$E$14:$AD$553,8),\"\")","v":""},{"$f":"IF($AE304=1,VLOOKUP($F304,all!$E$14:$AD$553,9),\"\")","v":""},{"$f":"IF($AE304=1,VLOOKUP($F304,all!$E$14:$AD$553,10),\"\")","v":""},{"$f":"IF($AE304=1,VLOOKUP($F304,all!$E$14:$AD$553,11),\"\")","v":""},{"$f":"IF($AE304=1,VLOOKUP($F304,all!$E$14:$AD$553,12),\"\")","v":""},{"$f":"IF($AE304=1,VLOOKUP($F304,all!$E$14:$AD$553,13),\"\")","v":""},{"$f":"IF($AE304=1,VLOOKUP($F304,all!$E$14:$AD$553,14),\"\")","v":""},{"$f":"IF($AE304=1,VLOOKUP($F304,all!$E$14:$AD$553,15),\"\")","v":""},{"$f":"IF($AE304=1,VLOOKUP($F304,all!$E$14:$AD$553,16),\"\")","v":""},{"$f":"IF($AE304=1,VLOOKUP($F304,all!$E$14:$AD$553,17),\"\")","v":""},{"$f":"IF($AE304=1,VLOOKUP($F304,all!$E$14:$AD$553,18),\"\")","v":""},{"$f":"IF($AE304=1,VLOOKUP($F304,all!$E$14:$AD$553,19),\"\")","v":""},{"$f":"IF($AE304=1,VLOOKUP($F304,all!$E$14:$AD$553,20),\"\")","v":""},{"$f":"IF($AE304=1,VLOOKUP($F304,all!$E$14:$AD$553,21),\"\")","v":""},{"$f":"IF($AE304=1,VLOOKUP($F304,all!$E$14:$AD$553,22),\"\")","v":""},{"$f":"IF($AE304=1,VLOOKUP($F304,all!$E$14:$AD$553,23),\"\")","v":""},{"$f":"IF($AE304=1,VLOOKUP($F304,all!$E$14:$AD$553,24),\"\")","v":""},{"$f":"IF($AE304=1,VLOOKUP($F304,all!$E$14:$AD$553,25),\"\")","v":""},null,{"$f":"COUNTIF(all!$E$14:$E$553,F304)","v":0}]
[null,null,null,null,null,272,{"$f":"IF($AE305=1,VLOOKUP($F305,all!$E$14:$AD$553,3),\"\")","v":""},{"$f":"IF($AE305=1,VLOOKUP($F305,all!$E$14:$AD$553,4),\"\")","v":""},{"$f":"IF($AE305=1,VLOOKUP($F305,all!$E$14:$AD$553,5),\"\")","v":""},{"$f":"IF($AE305=1,VLOOKUP($F305,all!$E$14:$AD$553,6),\"\")","v":""},{"$f":"IF($AE305=1,VLOOKUP($F305,all!$E$14:$AD$553,7),\"\")","v":""},{"$f":"IF($AE305=1,VLOOKUP($F305,all!$E$14:$AD$553,8),\"\")","v":""},{"$f":"IF($AE305=1,VLOOKUP($F305,all!$E$14:$AD$553,9),\"\")","v":""},{"$f":"IF($AE305=1,VLOOKUP($F305,all!$E$14:$AD$553,10),\"\")","v":""},{"$f":"IF($AE305=1,VLOOKUP($F305,all!$E$14:$AD$553,11),\"\")","v":""},{"$f":"IF($AE305=1,VLOOKUP($F305,all!$E$14:$AD$553,12),\"\")","v":""},{"$f":"IF($AE305=1,VLOOKUP($F305,all!$E$14:$AD$553,13),\"\")","v":""},{"$f":"IF($AE305=1,VLOOKUP($F305,all!$E$14:$AD$553,14),\"\")","v":""},{"$f":"IF($AE305=1,VLOOKUP($F305,all!$E$14:$AD$553,15),\"\")","v":""},{"$f":"IF($AE305=1,VLOOKUP($F305,all!$E$14:$AD$553,16),\"\")","v":""},{"$f":"IF($AE305=1,VLOOKUP($F305,all!$E$14:$AD$553,17),\"\")","v":""},{"$f":"IF($AE305=1,VLOOKUP($F305,all!$E$14:$AD$553,18),\"\")","v":""},{"$f":"IF($AE305=1,VLOOKUP($F305,all!$E$14:$AD$553,19),\"\")","v":""},{"$f":"IF($AE305=1,VLOOKUP($F305,all!$E$14:$AD$553,20),\"\")","v":""},{"$f":"IF($AE305=1,VLOOKUP($F305,all!$E$14:$AD$553,21),\"\")","v":""},{"$f":"IF($AE305=1,VLOOKUP($F305,all!$E$14:$AD$553,22),\"\")","v":""},{"$f":"IF($AE305=1,VLOOKUP($F305,all!$E$14:$AD$553,23),\"\")","v":""},{"$f":"IF($AE305=1,VLOOKUP($F305,all!$E$14:$AD$553,24),\"\")","v":""},{"$f":"IF($AE305=1,VLOOKUP($F305,all!$E$14:$AD$553,25),\"\")","v":""},null,{"$f":"COUNTIF(all!$E$14:$E$553,F305)","v":0}]
[null,null,null,null,null,273,{"$f":"IF($AE306=1,VLOOKUP($F306,all!$E$14:$AD$553,3),\"\")","v":""},{"$f":"IF($AE306=1,VLOOKUP($F306,all!$E$14:$AD$553,4),\"\")","v":""},{"$f":"IF($AE306=1,VLOOKUP($F306,all!$E$14:$AD$553,5),\"\")","v":""},{"$f":"IF($AE306=1,VLOOKUP($F306,all!$E$14:$AD$553,6),\"\")","v":""},{"$f":"IF($AE306=1,VLOOKUP($F306,all!$E$14:$AD$553,7),\"\")","v":""},{"$f":"IF($AE306=1,VLOOKUP($F306,all!$E$14:$AD$553,8),\"\")","v":""},{"$f":"IF($AE306=1,VLOOKUP($F306,all!$E$14:$AD$553,9),\"\")","v":""},{"$f":"IF($AE306=1,VLOOKUP($F306,all!$E$14:$AD$553,10),\"\")","v":""},{"$f":"IF($AE306=1,VLOOKUP($F306,all!$E$14:$AD$553,11),\"\")","v":""},{"$f":"IF($AE306=1,VLOOKUP($F306,all!$E$14:$AD$553,12),\"\")","v":""},{"$f":"IF($AE306=1,VLOOKUP($F306,all!$E$14:$AD$553,13),\"\")","v":""},{"$f":"IF($AE306=1,VLOOKUP($F306,all!$E$14:$AD$553,14),\"\")","v":""},{"$f":"IF($AE306=1,VLOOKUP($F306,all!$E$14:$AD$553,15),\"\")","v":""},{"$f":"IF($AE306=1,VLOOKUP($F306,all!$E$14:$AD$553,16),\"\")","v":""},{"$f":"IF($AE306=1,VLOOKUP($F306,all!$E$14:$AD$553,17),\"\")","v":""},{"$f":"IF($AE306=1,VLOOKUP($F306,all!$E$14:$AD$553,18),\"\")","v":""},{"$f":"IF($AE306=1,VLOOKUP($F306,all!$E$14:$AD$553,19),\"\")","v":""},{"$f":"IF($AE306=1,VLOOKUP($F306,all!$E$14:$AD$553,20),\"\")","v":""},{"$f":"IF($AE306=1,VLOOKUP($F306,all!$E$14:$AD$553,21),\"\")","v":""},{"$f":"IF($AE306=1,VLOOKUP($F306,all!$E$14:$AD$553,22),\"\")","v":""},{"$f":"IF($AE306=1,VLOOKUP($F306,all!$E$14:$AD$553,23),\"\")","v":""},{"$f":"IF($AE306=1,VLOOKUP($F306,all!$E$14:$AD$553,24),\"\")","v":""},{"$f":"IF($AE306=1,VLOOKUP($F306,all!$E$14:$AD$553,25),\"\")","v":""},null,{"$f":"COUNTIF(all!$E$14:$E$553,F306)","v":0}]
[null,null,null,null,null,274,{"$f":"IF($AE307=1,VLOOKUP($F307,all!$E$14:$AD$553,3),\"\")","v":""},{"$f":"IF($AE307=1,VLOOKUP($F307,all!$E$14:$AD$553,4),\"\")","v":""},{"$f":"IF($AE307=1,VLOOKUP($F307,all!$E$14:$AD$553,5),\"\")","v":""},{"$f":"IF($AE307=1,VLOOKUP($F307,all!$E$14:$AD$553,6),\"\")","v":""},{"$f":"IF($AE307=1,VLOOKUP($F307,all!$E$14:$AD$553,7),\"\")","v":""},{"$f":"IF($AE307=1,VLOOKUP($F307,all!$E$14:$AD$553,8),\"\")","v":""},{"$f":"IF($AE307=1,VLOOKUP($F307,all!$E$14:$AD$553,9),\"\")","v":""},{"$f":"IF($AE307=1,VLOOKUP($F307,all!$E$14:$AD$553,10),\"\")","v":""},{"$f":"IF($AE307=1,VLOOKUP($F307,all!$E$14:$AD$553,11),\"\")","v":""},{"$f":"IF($AE307=1,VLOOKUP($F307,all!$E$14:$AD$553,12),\"\")","v":""},{"$f":"IF($AE307=1,VLOOKUP($F307,all!$E$14:$AD$553,13),\"\")","v":""},{"$f":"IF($AE307=1,VLOOKUP($F307,all!$E$14:$AD$553,14),\"\")","v":""},{"$f":"IF($AE307=1,VLOOKUP($F307,all!$E$14:$AD$553,15),\"\")","v":""},{"$f":"IF($AE307=1,VLOOKUP($F307,all!$E$14:$AD$553,16),\"\")","v":""},{"$f":"IF($AE307=1,VLOOKUP($F307,all!$E$14:$AD$553,17),\"\")","v":""},{"$f":"IF($AE307=1,VLOOKUP($F307,all!$E$14:$AD$553,18),\"\")","v":""},{"$f":"IF($AE307=1,VLOOKUP($F307,all!$E$14:$AD$553,19),\"\")","v":""},{"$f":"IF($AE307=1,VLOOKUP($F307,all!$E$14:$AD$553,20),\"\")","v":""},{"$f":"IF($AE307=1,VLOOKUP($F307,all!$E$14:$AD$553,21),\"\")","v":""},{"$f":"IF($AE307=1,VLOOKUP($F307,all!$E$14:$AD$553,22),\"\")","v":""},{"$f":"IF($AE307=1,VLOOKUP($F307,all!$E$14:$AD$553,23),\"\")","v":""},{"$f":"IF($AE307=1,VLOOKUP($F307,all!$E$14:$AD$553,24),\"\")","v":""},{"$f":"IF($AE307=1,VLOOKUP($F307,all!$E$14:$AD$553,25),\"\")","v":""},null,{"$f":"COUNTIF(all!$E$14:$E$553,F307)","v":0}]
[null,null,null,null,null,275,{"$f":"IF($AE308=1,VLOOKUP($F308,all!$E$14:$AD$553,3),\"\")","v":""},{"$f":"IF($AE308=1,VLOOKUP($F308,all!$E$14:$AD$553,4),\"\")","v":""},{"$f":"IF($AE308=1,VLOOKUP($F308,all!$E$14:$AD$553,5),\"\")","v":""},{"$f":"IF($AE308=1,VLOOKUP($F308,all!$E$14:$AD$553,6),\"\")","v":""},{"$f":"IF($AE308=1,VLOOKUP($F308,all!$E$14:$AD$553,7),\"\")","v":""},{"$f":"IF($AE308=1,VLOOKUP($F308,all!$E$14:$AD$553,8),\"\")","v":""},{"$f":"IF($AE308=1,VLOOKUP($F308,all!$E$14:$AD$553,9),\"\")","v":""},{"$f":"IF($AE308=1,VLOOKUP($F308,all!$E$14:$AD$553,10),\"\")","v":""},{"$f":"IF($AE308=1,VLOOKUP($F308,all!$E$14:$AD$553,11),\"\")","v":""},{"$f":"IF($AE308=1,VLOOKUP($F308,all!$E$14:$AD$553,12),\"\")","v":""},{"$f":"IF($AE308=1,VLOOKUP($F308,all!$E$14:$AD$553,13),\"\")","v":""},{"$f":"IF($AE308=1,VLOOKUP($F308,all!$E$14:$AD$553,14),\"\")","v":""},{"$f":"IF($AE308=1,VLOOKUP($F308,all!$E$14:$AD$553,15),\"\")","v":""},{"$f":"IF($AE308=1,VLOOKUP($F308,all!$E$14:$AD$553,16),\"\")","v":""},{"$f":"IF($AE308=1,VLOOKUP($F308,all!$E$14:$AD$553,17),\"\")","v":""},{"$f":"IF($AE308=1,VLOOKUP($F308,all!$E$14:$AD$553,18),\"\")","v":""},{"$f":"IF($AE308=1,VLOOKUP($F308,all!$E$14:$AD$553,19),\"\")","v":""},{"$f":"IF($AE308=1,VLOOKUP($F308,all!$E$14:$AD$553,20),\"\")","v":""},{"$f":"IF($AE308=1,VLOOKUP($F308,all!$E$14:$AD$553,21),\"\")","v":""},{"$f":"IF($AE308=1,VLOOKUP($F308,all!$E$14:$AD$553,22),\"\")","v":""},{"$f":"IF($AE308=1,VLOOKUP($F308,all!$E$14:$AD$553,23),\"\")","v":""},{"$f":"IF($AE308=1,VLOOKUP($F308,all!$E$14:$AD$553,24),\"\")","v":""},{"$f":"IF($AE308=1,VLOOKUP($F308,all!$E$14:$AD$553,25),\"\")","v":""},null,{"$f":"COUNTIF(all!$E$14:$E$553,F308)","v":0}]
[null,null,null,null,null,276,{"$f":"IF($AE309=1,VLOOKUP($F309,all!$E$14:$AD$553,3),\"\")","v":""},{"$f":"IF($AE309=1,VLOOKUP($F309,all!$E$14:$AD$553,4),\"\")","v":""},{"$f":"IF($AE309=1,VLOOKUP($F309,all!$E$14:$AD$553,5),\"\")","v":""},{"$f":"IF($AE309=1,VLOOKUP($F309,all!$E$14:$AD$553,6),\"\")","v":""},{"$f":"IF($AE309=1,VLOOKUP($F309,all!$E$14:$AD$553,7),\"\")","v":""},{"$f":"IF($AE309=1,VLOOKUP($F309,all!$E$14:$AD$553,8),\"\")","v":""},{"$f":"IF($AE309=1,VLOOKUP($F309,all!$E$14:$AD$553,9),\"\")","v":""},{"$f":"IF($AE309=1,VLOOKUP($F309,all!$E$14:$AD$553,10),\"\")","v":""},{"$f":"IF($AE309=1,VLOOKUP($F309,all!$E$14:$AD$553,11),\"\")","v":""},{"$f":"IF($AE309=1,VLOOKUP($F309,all!$E$14:$AD$553,12),\"\")","v":""},{"$f":"IF($AE309=1,VLOOKUP($F309,all!$E$14:$AD$553,13),\"\")","v":""},{"$f":"IF($AE309=1,VLOOKUP($F309,all!$E$14:$AD$553,14),\"\")","v":""},{"$f":"IF($AE309=1,VLOOKUP($F309,all!$E$14:$AD$553,15),\"\")","v":""},{"$f":"IF($AE309=1,VLOOKUP($F309,all!$E$14:$AD$553,16),\"\")","v":""},{"$f":"IF($AE309=1,VLOOKUP($F309,all!$E$14:$AD$553,17),\"\")","v":""},{"$f":"IF($AE309=1,VLOOKUP($F309,all!$E$14:$AD$553,18),\"\")","v":""},{"$f":"IF($AE309=1,VLOOKUP($F309,all!$E$14:$AD$553,19),\"\")","v":""},{"$f":"IF($AE309=1,VLOOKUP($F309,all!$E$14:$AD$553,20),\"\")","v":""},{"$f":"IF($AE309=1,VLOOKUP($F309,all!$E$14:$AD$553,21),\"\")","v":""},{"$f":"IF($AE309=1,VLOOKUP($F309,all!$E$14:$AD$553,22),\"\")","v":""},{"$f":"IF($AE309=1,VLOOKUP($F309,all!$E$14:$AD$553,23),\"\")","v":""},{"$f":"IF($AE309=1,VLOOKUP($F309,all!$E$14:$AD$553,24),\"\")","v":""},{"$f":"IF($AE309=1,VLOOKUP($F309,all!$E$14:$AD$553,25),\"\")","v":""},null,{"$f":"COUNTIF(all!$E$14:$E$553,F309)","v":0}]
[null,null,null,null,null,277,{"$f":"IF($AE310=1,VLOOKUP($F310,all!$E$14:$AD$553,3),\"\")","v":""},{"$f":"IF($AE310=1,VLOOKUP($F310,all!$E$14:$AD$553,4),\"\")","v":""},{"$f":"IF($AE310=1,VLOOKUP($F310,all!$E$14:$AD$553,5),\"\")","v":""},{"$f":"IF($AE310=1,VLOOKUP($F310,all!$E$14:$AD$553,6),\"\")","v":""},{"$f":"IF($AE310=1,VLOOKUP($F310,all!$E$14:$AD$553,7),\"\")","v":""},{"$f":"IF($AE310=1,VLOOKUP($F310,all!$E$14:$AD$553,8),\"\")","v":""},{"$f":"IF($AE310=1,VLOOKUP($F310,all!$E$14:$AD$553,9),\"\")","v":""},{"$f":"IF($AE310=1,VLOOKUP($F310,all!$E$14:$AD$553,10),\"\")","v":""},{"$f":"IF($AE310=1,VLOOKUP($F310,all!$E$14:$AD$553,11),\"\")","v":""},{"$f":"IF($AE310=1,VLOOKUP($F310,all!$E$14:$AD$553,12),\"\")","v":""},{"$f":"IF($AE310=1,VLOOKUP($F310,all!$E$14:$AD$553,13),\"\")","v":""},{"$f":"IF($AE310=1,VLOOKUP($F310,all!$E$14:$AD$553,14),\"\")","v":""},{"$f":"IF($AE310=1,VLOOKUP($F310,all!$E$14:$AD$553,15),\"\")","v":""},{"$f":"IF($AE310=1,VLOOKUP($F310,all!$E$14:$AD$553,16),\"\")","v":""},{"$f":"IF($AE310=1,VLOOKUP($F310,all!$E$14:$AD$553,17),\"\")","v":""},{"$f":"IF($AE310=1,VLOOKUP($F310,all!$E$14:$AD$553,18),\"\")","v":""},{"$f":"IF($AE310=1,VLOOKUP($F310,all!$E$14:$AD$553,19),\"\")","v":""},{"$f":"IF($AE310=1,VLOOKUP($F310,all!$E$14:$AD$553,20),\"\")","v":""},{"$f":"IF($AE310=1,VLOOKUP($F310,all!$E$14:$AD$553,21),\"\")","v":""},{"$f":"IF($AE310=1,VLOOKUP($F310,all!$E$14:$AD$553,22),\"\")","v":""},{"$f":"IF($AE310=1,VLOOKUP($F310,all!$E$14:$AD$553,23),\"\")","v":""},{"$f":"IF($AE310=1,VLOOKUP($F310,all!$E$14:$AD$553,24),\"\")","v":""},{"$f":"IF($AE310=1,VLOOKUP($F310,all!$E$14:$AD$553,25),\"\")","v":""},null,{"$f":"COUNTIF(all!$E$14:$E$553,F310)","v":0}]
[null,null,null,null,null,278,{"$f":"IF($AE311=1,VLOOKUP($F311,all!$E$14:$AD$553,3),\"\")","v":""},{"$f":"IF($AE311=1,VLOOKUP($F311,all!$E$14:$AD$553,4),\"\")","v":""},{"$f":"IF($AE311=1,VLOOKUP($F311,all!$E$14:$AD$553,5),\"\")","v":""},{"$f":"IF($AE311=1,VLOOKUP($F311,all!$E$14:$AD$553,6),\"\")","v":""},{"$f":"IF($AE311=1,VLOOKUP($F311,all!$E$14:$AD$553,7),\"\")","v":""},{"$f":"IF($AE311=1,VLOOKUP($F311,all!$E$14:$AD$553,8),\"\")","v":""},{"$f":"IF($AE311=1,VLOOKUP($F311,all!$E$14:$AD$553,9),\"\")","v":""},{"$f":"IF($AE311=1,VLOOKUP($F311,all!$E$14:$AD$553,10),\"\")","v":""},{"$f":"IF($AE311=1,VLOOKUP($F311,all!$E$14:$AD$553,11),\"\")","v":""},{"$f":"IF($AE311=1,VLOOKUP($F311,all!$E$14:$AD$553,12),\"\")","v":""},{"$f":"IF($AE311=1,VLOOKUP($F311,all!$E$14:$AD$553,13),\"\")","v":""},{"$f":"IF($AE311=1,VLOOKUP($F311,all!$E$14:$AD$553,14),\"\")","v":""},{"$f":"IF($AE311=1,VLOOKUP($F311,all!$E$14:$AD$553,15),\"\")","v":""},{"$f":"IF($AE311=1,VLOOKUP($F311,all!$E$14:$AD$553,16),\"\")","v":""},{"$f":"IF($AE311=1,VLOOKUP($F311,all!$E$14:$AD$553,17),\"\")","v":""},{"$f":"IF($AE311=1,VLOOKUP($F311,all!$E$14:$AD$553,18),\"\")","v":""},{"$f":"IF($AE311=1,VLOOKUP($F311,all!$E$14:$AD$553,19),\"\")","v":""},{"$f":"IF($AE311=1,VLOOKUP($F311,all!$E$14:$AD$553,20),\"\")","v":""},{"$f":"IF($AE311=1,VLOOKUP($F311,all!$E$14:$AD$553,21),\"\")","v":""},{"$f":"IF($AE311=1,VLOOKUP($F311,all!$E$14:$AD$553,22),\"\")","v":""},{"$f":"IF($AE311=1,VLOOKUP($F311,all!$E$14:$AD$553,23),\"\")","v":""},{"$f":"IF($AE311=1,VLOOKUP($F311,all!$E$14:$AD$553,24),\"\")","v":""},{"$f":"IF($AE311=1,VLOOKUP($F311,all!$E$14:$AD$553,25),\"\")","v":""},null,{"$f":"COUNTIF(all!$E$14:$E$553,F311)","v":0}]
[null,null,null,null,null,279,{"$f":"IF($AE312=1,VLOOKUP($F312,all!$E$14:$AD$553,3),\"\")","v":""},{"$f":"IF($AE312=1,VLOOKUP($F312,all!$E$14:$AD$553,4),\"\")","v":""},{"$f":"IF($AE312=1,VLOOKUP($F312,all!$E$14:$AD$553,5),\"\")","v":""},{"$f":"IF($AE312=1,VLOOKUP($F312,all!$E$14:$AD$553,6),\"\")","v":""},{"$f":"IF($AE312=1,VLOOKUP($F312,all!$E$14:$AD$553,7),\"\")","v":""},{"$f":"IF($AE312=1,VLOOKUP($F312,all!$E$14:$AD$553,8),\"\")","v":""},{"$f":"IF($AE312=1,VLOOKUP($F312,all!$E$14:$AD$553,9),\"\")","v":""},{"$f":"IF($AE312=1,VLOOKUP($F312,all!$E$14:$AD$553,10),\"\")","v":""},{"$f":"IF($AE312=1,VLOOKUP($F312,all!$E$14:$AD$553,11),\"\")","v":""},{"$f":"IF($AE312=1,VLOOKUP($F312,all!$E$14:$AD$553,12),\"\")","v":""},{"$f":"IF($AE312=1,VLOOKUP($F312,all!$E$14:$AD$553,13),\"\")","v":""},{"$f":"IF($AE312=1,VLOOKUP($F312,all!$E$14:$AD$553,14),\"\")","v":""},{"$f":"IF($AE312=1,VLOOKUP($F312,all!$E$14:$AD$553,15),\"\")","v":""},{"$f":"IF($AE312=1,VLOOKUP($F312,all!$E$14:$AD$553,16),\"\")","v":""},{"$f":"IF($AE312=1,VLOOKUP($F312,all!$E$14:$AD$553,17),\"\")","v":""},{"$f":"IF($AE312=1,VLOOKUP($F312,all!$E$14:$AD$553,18),\"\")","v":""},{"$f":"IF($AE312=1,VLOOKUP($F312,all!$E$14:$AD$553,19),\"\")","v":""},{"$f":"IF($AE312=1,VLOOKUP($F312,all!$E$14:$AD$553,20),\"\")","v":""},{"$f":"IF($AE312=1,VLOOKUP($F312,all!$E$14:$AD$553,21),\"\")","v":""},{"$f":"IF($AE312=1,VLOOKUP($F312,all!$E$14:$AD$553,22),\"\")","v":""},{"$f":"IF($AE312=1,VLOOKUP($F312,all!$E$14:$AD$553,23),\"\")","v":""},{"$f":"IF($AE312=1,VLOOKUP($F312,all!$E$14:$AD$553,24),\"\")","v":""},{"$f":"IF($AE312=1,VLOOKUP($F312,all!$E$14:$AD$553,25),\"\")","v":""},null,{"$f":"COUNTIF(all!$E$14:$E$553,F312)","v":0}]
[null,null,null,null,null,280,{"$f":"IF($AE313=1,VLOOKUP($F313,all!$E$14:$AD$553,3),\"\")","v":""},{"$f":"IF($AE313=1,VLOOKUP($F313,all!$E$14:$AD$553,4),\"\")","v":""},{"$f":"IF($AE313=1,VLOOKUP($F313,all!$E$14:$AD$553,5),\"\")","v":""},{"$f":"IF($AE313=1,VLOOKUP($F313,all!$E$14:$AD$553,6),\"\")","v":""},{"$f":"IF($AE313=1,VLOOKUP($F313,all!$E$14:$AD$553,7),\"\")","v":""},{"$f":"IF($AE313=1,VLOOKUP($F313,all!$E$14:$AD$553,8),\"\")","v":""},{"$f":"IF($AE313=1,VLOOKUP($F313,all!$E$14:$AD$553,9),\"\")","v":""},{"$f":"IF($AE313=1,VLOOKUP($F313,all!$E$14:$AD$553,10),\"\")","v":""},{"$f":"IF($AE313=1,VLOOKUP($F313,all!$E$14:$AD$553,11),\"\")","v":""},{"$f":"IF($AE313=1,VLOOKUP($F313,all!$E$14:$AD$553,12),\"\")","v":""},{"$f":"IF($AE313=1,VLOOKUP($F313,all!$E$14:$AD$553,13),\"\")","v":""},{"$f":"IF($AE313=1,VLOOKUP($F313,all!$E$14:$AD$553,14),\"\")","v":""},{"$f":"IF($AE313=1,VLOOKUP($F313,all!$E$14:$AD$553,15),\"\")","v":""},{"$f":"IF($AE313=1,VLOOKUP($F313,all!$E$14:$AD$553,16),\"\")","v":""},{"$f":"IF($AE313=1,VLOOKUP($F313,all!$E$14:$AD$553,17),\"\")","v":""},{"$f":"IF($AE313=1,VLOOKUP($F313,all!$E$14:$AD$553,18),\"\")","v":""},{"$f":"IF($AE313=1,VLOOKUP($F313,all!$E$14:$AD$553,19),\"\")","v":""},{"$f":"IF($AE313=1,VLOOKUP($F313,all!$E$14:$AD$553,20),\"\")","v":""},{"$f":"IF($AE313=1,VLOOKUP($F313,all!$E$14:$AD$553,21),\"\")","v":""},{"$f":"IF($AE313=1,VLOOKUP($F313,all!$E$14:$AD$553,22),\"\")","v":""},{"$f":"IF($AE313=1,VLOOKUP($F313,all!$E$14:$AD$553,23),\"\")","v":""},{"$f":"IF($AE313=1,VLOOKUP($F313,all!$E$14:$AD$553,24),\"\")","v":""},{"$f":"IF($AE313=1,VLOOKUP($F313,all!$E$14:$AD$553,25),\"\")","v":""},null,{"$f":"COUNTIF(all!$E$14:$E$553,F313)","v":0}]
[null,null,null,null,null,281,{"$f":"IF($AE314=1,VLOOKUP($F314,all!$E$14:$AD$553,3),\"\")","v":""},{"$f":"IF($AE314=1,VLOOKUP($F314,all!$E$14:$AD$553,4),\"\")","v":""},{"$f":"IF($AE314=1,VLOOKUP($F314,all!$E$14:$AD$553,5),\"\")","v":""},{"$f":"IF($AE314=1,VLOOKUP($F314,all!$E$14:$AD$553,6),\"\")","v":""},{"$f":"IF($AE314=1,VLOOKUP($F314,all!$E$14:$AD$553,7),\"\")","v":""},{"$f":"IF($AE314=1,VLOOKUP($F314,all!$E$14:$AD$553,8),\"\")","v":""},{"$f":"IF($AE314=1,VLOOKUP($F314,all!$E$14:$AD$553,9),\"\")","v":""},{"$f":"IF($AE314=1,VLOOKUP($F314,all!$E$14:$AD$553,10),\"\")","v":""},{"$f":"IF($AE314=1,VLOOKUP($F314,all!$E$14:$AD$553,11),\"\")","v":""},{"$f":"IF($AE314=1,VLOOKUP($F314,all!$E$14:$AD$553,12),\"\")","v":""},{"$f":"IF($AE314=1,VLOOKUP($F314,all!$E$14:$AD$553,13),\"\")","v":""},{"$f":"IF($AE314=1,VLOOKUP($F314,all!$E$14:$AD$553,14),\"\")","v":""},{"$f":"IF($AE314=1,VLOOKUP($F314,all!$E$14:$AD$553,15),\"\")","v":""},{"$f":"IF($AE314=1,VLOOKUP($F314,all!$E$14:$AD$553,16),\"\")","v":""},{"$f":"IF($AE314=1,VLOOKUP($F314,all!$E$14:$AD$553,17),\"\")","v":""},{"$f":"IF($AE314=1,VLOOKUP($F314,all!$E$14:$AD$553,18),\"\")","v":""},{"$f":"IF($AE314=1,VLOOKUP($F314,all!$E$14:$AD$553,19),\"\")","v":""},{"$f":"IF($AE314=1,VLOOKUP($F314,all!$E$14:$AD$553,20),\"\")","v":""},{"$f":"IF($AE314=1,VLOOKUP($F314,all!$E$14:$AD$553,21),\"\")","v":""},{"$f":"IF($AE314=1,VLOOKUP($F314,all!$E$14:$AD$553,22),\"\")","v":""},{"$f":"IF($AE314=1,VLOOKUP($F314,all!$E$14:$AD$553,23),\"\")","v":""},{"$f":"IF($AE314=1,VLOOKUP($F314,all!$E$14:$AD$553,24),\"\")","v":""},{"$f":"IF($AE314=1,VLOOKUP($F314,all!$E$14:$AD$553,25),\"\")","v":""},null,{"$f":"COUNTIF(all!$E$14:$E$553,F314)","v":0}]
[null,null,null,null,null,282,{"$f":"IF($AE315=1,VLOOKUP($F315,all!$E$14:$AD$553,3),\"\")","v":""},{"$f":"IF($AE315=1,VLOOKUP($F315,all!$E$14:$AD$553,4),\"\")","v":""},{"$f":"IF($AE315=1,VLOOKUP($F315,all!$E$14:$AD$553,5),\"\")","v":""},{"$f":"IF($AE315=1,VLOOKUP($F315,all!$E$14:$AD$553,6),\"\")","v":""},{"$f":"IF($AE315=1,VLOOKUP($F315,all!$E$14:$AD$553,7),\"\")","v":""},{"$f":"IF($AE315=1,VLOOKUP($F315,all!$E$14:$AD$553,8),\"\")","v":""},{"$f":"IF($AE315=1,VLOOKUP($F315,all!$E$14:$AD$553,9),\"\")","v":""},{"$f":"IF($AE315=1,VLOOKUP($F315,all!$E$14:$AD$553,10),\"\")","v":""},{"$f":"IF($AE315=1,VLOOKUP($F315,all!$E$14:$AD$553,11),\"\")","v":""},{"$f":"IF($AE315=1,VLOOKUP($F315,all!$E$14:$AD$553,12),\"\")","v":""},{"$f":"IF($AE315=1,VLOOKUP($F315,all!$E$14:$AD$553,13),\"\")","v":""},{"$f":"IF($AE315=1,VLOOKUP($F315,all!$E$14:$AD$553,14),\"\")","v":""},{"$f":"IF($AE315=1,VLOOKUP($F315,all!$E$14:$AD$553,15),\"\")","v":""},{"$f":"IF($AE315=1,VLOOKUP($F315,all!$E$14:$AD$553,16),\"\")","v":""},{"$f":"IF($AE315=1,VLOOKUP($F315,all!$E$14:$AD$553,17),\"\")","v":""},{"$f":"IF($AE315=1,VLOOKUP($F315,all!$E$14:$AD$553,18),\"\")","v":""},{"$f":"IF($AE315=1,VLOOKUP($F315,all!$E$14:$AD$553,19),\"\")","v":""},{"$f":"IF($AE315=1,VLOOKUP($F315,all!$E$14:$AD$553,20),\"\")","v":""},{"$f":"IF($AE315=1,VLOOKUP($F315,all!$E$14:$AD$553,21),\"\")","v":""},{"$f":"IF($AE315=1,VLOOKUP($F315,all!$E$14:$AD$553,22),\"\")","v":""},{"$f":"IF($AE315=1,VLOOKUP($F315,all!$E$14:$AD$553,23),\"\")","v":""},{"$f":"IF($AE315=1,VLOOKUP($F315,all!$E$14:$AD$553,24),\"\")","v":""},{"$f":"IF($AE315=1,VLOOKUP($F315,all!$E$14:$AD$553,25),\"\")","v":""},null,{"$f":"COUNTIF(all!$E$14:$E$553,F315)","v":0}]
[null,null,null,null,null,283,{"$f":"IF($AE316=1,VLOOKUP($F316,all!$E$14:$AD$553,3),\"\")","v":""},{"$f":"IF($AE316=1,VLOOKUP($F316,all!$E$14:$AD$553,4),\"\")","v":""},{"$f":"IF($AE316=1,VLOOKUP($F316,all!$E$14:$AD$553,5),\"\")","v":""},{"$f":"IF($AE316=1,VLOOKUP($F316,all!$E$14:$AD$553,6),\"\")","v":""},{"$f":"IF($AE316=1,VLOOKUP($F316,all!$E$14:$AD$553,7),\"\")","v":""},{"$f":"IF($AE316=1,VLOOKUP($F316,all!$E$14:$AD$553,8),\"\")","v":""},{"$f":"IF($AE316=1,VLOOKUP($F316,all!$E$14:$AD$553,9),\"\")","v":""},{"$f":"IF($AE316=1,VLOOKUP($F316,all!$E$14:$AD$553,10),\"\")","v":""},{"$f":"IF($AE316=1,VLOOKUP($F316,all!$E$14:$AD$553,11),\"\")","v":""},{"$f":"IF($AE316=1,VLOOKUP($F316,all!$E$14:$AD$553,12),\"\")","v":""},{"$f":"IF($AE316=1,VLOOKUP($F316,all!$E$14:$AD$553,13),\"\")","v":""},{"$f":"IF($AE316=1,VLOOKUP($F316,all!$E$14:$AD$553,14),\"\")","v":""},{"$f":"IF($AE316=1,VLOOKUP($F316,all!$E$14:$AD$553,15),\"\")","v":""},{"$f":"IF($AE316=1,VLOOKUP($F316,all!$E$14:$AD$553,16),\"\")","v":""},{"$f":"IF($AE316=1,VLOOKUP($F316,all!$E$14:$AD$553,17),\"\")","v":""},{"$f":"IF($AE316=1,VLOOKUP($F316,all!$E$14:$AD$553,18),\"\")","v":""},{"$f":"IF($AE316=1,VLOOKUP($F316,all!$E$14:$AD$553,19),\"\")","v":""},{"$f":"IF($AE316=1,VLOOKUP($F316,all!$E$14:$AD$553,20),\"\")","v":""},{"$f":"IF($AE316=1,VLOOKUP($F316,all!$E$14:$AD$553,21),\"\")","v":""},{"$f":"IF($AE316=1,VLOOKUP($F316,all!$E$14:$AD$553,22),\"\")","v":""},{"$f":"IF($AE316=1,VLOOKUP($F316,all!$E$14:$AD$553,23),\"\")","v":""},{"$f":"IF($AE316=1,VLOOKUP($F316,all!$E$14:$AD$553,24),\"\")","v":""},{"$f":"IF($AE316=1,VLOOKUP($F316,all!$E$14:$AD$553,25),\"\")","v":""},null,{"$f":"COUNTIF(all!$E$14:$E$553,F316)","v":0}]
[null,null,null,null,null,284,{"$f":"IF($AE317=1,VLOOKUP($F317,all!$E$14:$AD$553,3),\"\")","v":""},{"$f":"IF($AE317=1,VLOOKUP($F317,all!$E$14:$AD$553,4),\"\")","v":""},{"$f":"IF($AE317=1,VLOOKUP($F317,all!$E$14:$AD$553,5),\"\")","v":""},{"$f":"IF($AE317=1,VLOOKUP($F317,all!$E$14:$AD$553,6),\"\")","v":""},{"$f":"IF($AE317=1,VLOOKUP($F317,all!$E$14:$AD$553,7),\"\")","v":""},{"$f":"IF($AE317=1,VLOOKUP($F317,all!$E$14:$AD$553,8),\"\")","v":""},{"$f":"IF($AE317=1,VLOOKUP($F317,all!$E$14:$AD$553,9),\"\")","v":""},{"$f":"IF($AE317=1,VLOOKUP($F317,all!$E$14:$AD$553,10),\"\")","v":""},{"$f":"IF($AE317=1,VLOOKUP($F317,all!$E$14:$AD$553,11),\"\")","v":""},{"$f":"IF($AE317=1,VLOOKUP($F317,all!$E$14:$AD$553,12),\"\")","v":""},{"$f":"IF($AE317=1,VLOOKUP($F317,all!$E$14:$AD$553,13),\"\")","v":""},{"$f":"IF($AE317=1,VLOOKUP($F317,all!$E$14:$AD$553,14),\"\")","v":""},{"$f":"IF($AE317=1,VLOOKUP($F317,all!$E$14:$AD$553,15),\"\")","v":""},{"$f":"IF($AE317=1,VLOOKUP($F317,all!$E$14:$AD$553,16),\"\")","v":""},{"$f":"IF($AE317=1,VLOOKUP($F317,all!$E$14:$AD$553,17),\"\")","v":""},{"$f":"IF($AE317=1,VLOOKUP($F317,all!$E$14:$AD$553,18),\"\")","v":""},{"$f":"IF($AE317=1,VLOOKUP($F317,all!$E$14:$AD$553,19),\"\")","v":""},{"$f":"IF($AE317=1,VLOOKUP($F317,all!$E$14:$AD$553,20),\"\")","v":""},{"$f":"IF($AE317=1,VLOOKUP($F317,all!$E$14:$AD$553,21),\"\")","v":""},{"$f":"IF($AE317=1,VLOOKUP($F317,all!$E$14:$AD$553,22),\"\")","v":""},{"$f":"IF($AE317=1,VLOOKUP($F317,all!$E$14:$AD$553,23),\"\")","v":""},{"$f":"IF($AE317=1,VLOOKUP($F317,all!$E$14:$AD$553,24),\"\")","v":""},{"$f":"IF($AE317=1,VLOOKUP($F317,all!$E$14:$AD$553,25),\"\")","v":""},null,{"$f":"COUNTIF(all!$E$14:$E$553,F317)","v":0}]
[null,null,null,null,null,285,{"$f":"IF($AE318=1,VLOOKUP($F318,all!$E$14:$AD$553,3),\"\")","v":""},{"$f":"IF($AE318=1,VLOOKUP($F318,all!$E$14:$AD$553,4),\"\")","v":""},{"$f":"IF($AE318=1,VLOOKUP($F318,all!$E$14:$AD$553,5),\"\")","v":""},{"$f":"IF($AE318=1,VLOOKUP($F318,all!$E$14:$AD$553,6),\"\")","v":""},{"$f":"IF($AE318=1,VLOOKUP($F318,all!$E$14:$AD$553,7),\"\")","v":""},{"$f":"IF($AE318=1,VLOOKUP($F318,all!$E$14:$AD$553,8),\"\")","v":""},{"$f":"IF($AE318=1,VLOOKUP($F318,all!$E$14:$AD$553,9),\"\")","v":""},{"$f":"IF($AE318=1,VLOOKUP($F318,all!$E$14:$AD$553,10),\"\")","v":""},{"$f":"IF($AE318=1,VLOOKUP($F318,all!$E$14:$AD$553,11),\"\")","v":""},{"$f":"IF($AE318=1,VLOOKUP($F318,all!$E$14:$AD$553,12),\"\")","v":""},{"$f":"IF($AE318=1,VLOOKUP($F318,all!$E$14:$AD$553,13),\"\")","v":""},{"$f":"IF($AE318=1,VLOOKUP($F318,all!$E$14:$AD$553,14),\"\")","v":""},{"$f":"IF($AE318=1,VLOOKUP($F318,all!$E$14:$AD$553,15),\"\")","v":""},{"$f":"IF($AE318=1,VLOOKUP($F318,all!$E$14:$AD$553,16),\"\")","v":""},{"$f":"IF($AE318=1,VLOOKUP($F318,all!$E$14:$AD$553,17),\"\")","v":""},{"$f":"IF($AE318=1,VLOOKUP($F318,all!$E$14:$AD$553,18),\"\")","v":""},{"$f":"IF($AE318=1,VLOOKUP($F318,all!$E$14:$AD$553,19),\"\")","v":""},{"$f":"IF($AE318=1,VLOOKUP($F318,all!$E$14:$AD$553,20),\"\")","v":""},{"$f":"IF($AE318=1,VLOOKUP($F318,all!$E$14:$AD$553,21),\"\")","v":""},{"$f":"IF($AE318=1,VLOOKUP($F318,all!$E$14:$AD$553,22),\"\")","v":""},{"$f":"IF($AE318=1,VLOOKUP($F318,all!$E$14:$AD$553,23),\"\")","v":""},{"$f":"IF($AE318=1,VLOOKUP($F318,all!$E$14:$AD$553,24),\"\")","v":""},{"$f":"IF($AE318=1,VLOOKUP($F318,all!$E$14:$AD$553,25),\"\")","v":""},null,{"$f":"COUNTIF(all!$E$14:$E$553,F318)","v":0}]
[null,null,null,null,null,286,{"$f":"IF($AE319=1,VLOOKUP($F319,all!$E$14:$AD$553,3),\"\")","v":""},{"$f":"IF($AE319=1,VLOOKUP($F319,all!$E$14:$AD$553,4),\"\")","v":""},{"$f":"IF($AE319=1,VLOOKUP($F319,all!$E$14:$AD$553,5),\"\")","v":""},{"$f":"IF($AE319=1,VLOOKUP($F319,all!$E$14:$AD$553,6),\"\")","v":""},{"$f":"IF($AE319=1,VLOOKUP($F319,all!$E$14:$AD$553,7),\"\")","v":""},{"$f":"IF($AE319=1,VLOOKUP($F319,all!$E$14:$AD$553,8),\"\")","v":""},{"$f":"IF($AE319=1,VLOOKUP($F319,all!$E$14:$AD$553,9),\"\")","v":""},{"$f":"IF($AE319=1,VLOOKUP($F319,all!$E$14:$AD$553,10),\"\")","v":""},{"$f":"IF($AE319=1,VLOOKUP($F319,all!$E$14:$AD$553,11),\"\")","v":""},{"$f":"IF($AE319=1,VLOOKUP($F319,all!$E$14:$AD$553,12),\"\")","v":""},{"$f":"IF($AE319=1,VLOOKUP($F319,all!$E$14:$AD$553,13),\"\")","v":""},{"$f":"IF($AE319=1,VLOOKUP($F319,all!$E$14:$AD$553,14),\"\")","v":""},{"$f":"IF($AE319=1,VLOOKUP($F319,all!$E$14:$AD$553,15),\"\")","v":""},{"$f":"IF($AE319=1,VLOOKUP($F319,all!$E$14:$AD$553,16),\"\")","v":""},{"$f":"IF($AE319=1,VLOOKUP($F319,all!$E$14:$AD$553,17),\"\")","v":""},{"$f":"IF($AE319=1,VLOOKUP($F319,all!$E$14:$AD$553,18),\"\")","v":""},{"$f":"IF($AE319=1,VLOOKUP($F319,all!$E$14:$AD$553,19),\"\")","v":""},{"$f":"IF($AE319=1,VLOOKUP($F319,all!$E$14:$AD$553,20),\"\")","v":""},{"$f":"IF($AE319=1,VLOOKUP($F319,all!$E$14:$AD$553,21),\"\")","v":""},{"$f":"IF($AE319=1,VLOOKUP($F319,all!$E$14:$AD$553,22),\"\")","v":""},{"$f":"IF($AE319=1,VLOOKUP($F319,all!$E$14:$AD$553,23),\"\")","v":""},{"$f":"IF($AE319=1,VLOOKUP($F319,all!$E$14:$AD$553,24),\"\")","v":""},{"$f":"IF($AE319=1,VLOOKUP($F319,all!$E$14:$AD$553,25),\"\")","v":""},null,{"$f":"COUNTIF(all!$E$14:$E$553,F319)","v":0}]
[null,null,null,null,null,287,{"$f":"IF($AE320=1,VLOOKUP($F320,all!$E$14:$AD$553,3),\"\")","v":""},{"$f":"IF($AE320=1,VLOOKUP($F320,all!$E$14:$AD$553,4),\"\")","v":""},{"$f":"IF($AE320=1,VLOOKUP($F320,all!$E$14:$AD$553,5),\"\")","v":""},{"$f":"IF($AE320=1,VLOOKUP($F320,all!$E$14:$AD$553,6),\"\")","v":""},{"$f":"IF($AE320=1,VLOOKUP($F320,all!$E$14:$AD$553,7),\"\")","v":""},{"$f":"IF($AE320=1,VLOOKUP($F320,all!$E$14:$AD$553,8),\"\")","v":""},{"$f":"IF($AE320=1,VLOOKUP($F320,all!$E$14:$AD$553,9),\"\")","v":""},{"$f":"IF($AE320=1,VLOOKUP($F320,all!$E$14:$AD$553,10),\"\")","v":""},{"$f":"IF($AE320=1,VLOOKUP($F320,all!$E$14:$AD$553,11),\"\")","v":""},{"$f":"IF($AE320=1,VLOOKUP($F320,all!$E$14:$AD$553,12),\"\")","v":""},{"$f":"IF($AE320=1,VLOOKUP($F320,all!$E$14:$AD$553,13),\"\")","v":""},{"$f":"IF($AE320=1,VLOOKUP($F320,all!$E$14:$AD$553,14),\"\")","v":""},{"$f":"IF($AE320=1,VLOOKUP($F320,all!$E$14:$AD$553,15),\"\")","v":""},{"$f":"IF($AE320=1,VLOOKUP($F320,all!$E$14:$AD$553,16),\"\")","v":""},{"$f":"IF($AE320=1,VLOOKUP($F320,all!$E$14:$AD$553,17),\"\")","v":""},{"$f":"IF($AE320=1,VLOOKUP($F320,all!$E$14:$AD$553,18),\"\")","v":""},{"$f":"IF($AE320=1,VLOOKUP($F320,all!$E$14:$AD$553,19),\"\")","v":""},{"$f":"IF($AE320=1,VLOOKUP($F320,all!$E$14:$AD$553,20),\"\")","v":""},{"$f":"IF($AE320=1,VLOOKUP($F320,all!$E$14:$AD$553,21),\"\")","v":""},{"$f":"IF($AE320=1,VLOOKUP($F320,all!$E$14:$AD$553,22),\"\")","v":""},{"$f":"IF($AE320=1,VLOOKUP($F320,all!$E$14:$AD$553,23),\"\")","v":""},{"$f":"IF($AE320=1,VLOOKUP($F320,all!$E$14:$AD$553,24),\"\")","v":""},{"$f":"IF($AE320=1,VLOOKUP($F320,all!$E$14:$AD$553,25),\"\")","v":""},null,{"$f":"COUNTIF(all!$E$14:$E$553,F320)","v":0}]
[null,null,null,null,null,288,{"$f":"IF($AE321=1,VLOOKUP($F321,all!$E$14:$AD$553,3),\"\")","v":""},{"$f":"IF($AE321=1,VLOOKUP($F321,all!$E$14:$AD$553,4),\"\")","v":""},{"$f":"IF($AE321=1,VLOOKUP($F321,all!$E$14:$AD$553,5),\"\")","v":""},{"$f":"IF($AE321=1,VLOOKUP($F321,all!$E$14:$AD$553,6),\"\")","v":""},{"$f":"IF($AE321=1,VLOOKUP($F321,all!$E$14:$AD$553,7),\"\")","v":""},{"$f":"IF($AE321=1,VLOOKUP($F321,all!$E$14:$AD$553,8),\"\")","v":""},{"$f":"IF($AE321=1,VLOOKUP($F321,all!$E$14:$AD$553,9),\"\")","v":""},{"$f":"IF($AE321=1,VLOOKUP($F321,all!$E$14:$AD$553,10),\"\")","v":""},{"$f":"IF($AE321=1,VLOOKUP($F321,all!$E$14:$AD$553,11),\"\")","v":""},{"$f":"IF($AE321=1,VLOOKUP($F321,all!$E$14:$AD$553,12),\"\")","v":""},{"$f":"IF($AE321=1,VLOOKUP($F321,all!$E$14:$AD$553,13),\"\")","v":""},{"$f":"IF($AE321=1,VLOOKUP($F321,all!$E$14:$AD$553,14),\"\")","v":""},{"$f":"IF($AE321=1,VLOOKUP($F321,all!$E$14:$AD$553,15),\"\")","v":""},{"$f":"IF($AE321=1,VLOOKUP($F321,all!$E$14:$AD$553,16),\"\")","v":""},{"$f":"IF($AE321=1,VLOOKUP($F321,all!$E$14:$AD$553,17),\"\")","v":""},{"$f":"IF($AE321=1,VLOOKUP($F321,all!$E$14:$AD$553,18),\"\")","v":""},{"$f":"IF($AE321=1,VLOOKUP($F321,all!$E$14:$AD$553,19),\"\")","v":""},{"$f":"IF($AE321=1,VLOOKUP($F321,all!$E$14:$AD$553,20),\"\")","v":""},{"$f":"IF($AE321=1,VLOOKUP($F321,all!$E$14:$AD$553,21),\"\")","v":""},{"$f":"IF($AE321=1,VLOOKUP($F321,all!$E$14:$AD$553,22),\"\")","v":""},{"$f":"IF($AE321=1,VLOOKUP($F321,all!$E$14:$AD$553,23),\"\")","v":""},{"$f":"IF($AE321=1,VLOOKUP($F321,all!$E$14:$AD$553,24),\"\")","v":""},{"$f":"IF($AE321=1,VLOOKUP($F321,all!$E$14:$AD$553,25),\"\")","v":""},null,{"$f":"COUNTIF(all!$E$14:$E$553,F321)","v":0}]
[null,null,null,null,null,289,{"$f":"IF($AE322=1,VLOOKUP($F322,all!$E$14:$AD$553,3),\"\")","v":""},{"$f":"IF($AE322=1,VLOOKUP($F322,all!$E$14:$AD$553,4),\"\")","v":""},{"$f":"IF($AE322=1,VLOOKUP($F322,all!$E$14:$AD$553,5),\"\")","v":""},{"$f":"IF($AE322=1,VLOOKUP($F322,all!$E$14:$AD$553,6),\"\")","v":""},{"$f":"IF($AE322=1,VLOOKUP($F322,all!$E$14:$AD$553,7),\"\")","v":""},{"$f":"IF($AE322=1,VLOOKUP($F322,all!$E$14:$AD$553,8),\"\")","v":""},{"$f":"IF($AE322=1,VLOOKUP($F322,all!$E$14:$AD$553,9),\"\")","v":""},{"$f":"IF($AE322=1,VLOOKUP($F322,all!$E$14:$AD$553,10),\"\")","v":""},{"$f":"IF($AE322=1,VLOOKUP($F322,all!$E$14:$AD$553,11),\"\")","v":""},{"$f":"IF($AE322=1,VLOOKUP($F322,all!$E$14:$AD$553,12),\"\")","v":""},{"$f":"IF($AE322=1,VLOOKUP($F322,all!$E$14:$AD$553,13),\"\")","v":""},{"$f":"IF($AE322=1,VLOOKUP($F322,all!$E$14:$AD$553,14),\"\")","v":""},{"$f":"IF($AE322=1,VLOOKUP($F322,all!$E$14:$AD$553,15),\"\")","v":""},{"$f":"IF($AE322=1,VLOOKUP($F322,all!$E$14:$AD$553,16),\"\")","v":""},{"$f":"IF($AE322=1,VLOOKUP($F322,all!$E$14:$AD$553,17),\"\")","v":""},{"$f":"IF($AE322=1,VLOOKUP($F322,all!$E$14:$AD$553,18),\"\")","v":""},{"$f":"IF($AE322=1,VLOOKUP($F322,all!$E$14:$AD$553,19),\"\")","v":""},{"$f":"IF($AE322=1,VLOOKUP($F322,all!$E$14:$AD$553,20),\"\")","v":""},{"$f":"IF($AE322=1,VLOOKUP($F322,all!$E$14:$AD$553,21),\"\")","v":""},{"$f":"IF($AE322=1,VLOOKUP($F322,all!$E$14:$AD$553,22),\"\")","v":""},{"$f":"IF($AE322=1,VLOOKUP($F322,all!$E$14:$AD$553,23),\"\")","v":""},{"$f":"IF($AE322=1,VLOOKUP($F322,all!$E$14:$AD$553,24),\"\")","v":""},{"$f":"IF($AE322=1,VLOOKUP($F322,all!$E$14:$AD$553,25),\"\")","v":""},null,{"$f":"COUNTIF(all!$E$14:$E$553,F322)","v":0}]
[null,null,null,null,null,290,{"$f":"IF($AE323=1,VLOOKUP($F323,all!$E$14:$AD$553,3),\"\")","v":""},{"$f":"IF($AE323=1,VLOOKUP($F323,all!$E$14:$AD$553,4),\"\")","v":""},{"$f":"IF($AE323=1,VLOOKUP($F323,all!$E$14:$AD$553,5),\"\")","v":""},{"$f":"IF($AE323=1,VLOOKUP($F323,all!$E$14:$AD$553,6),\"\")","v":""},{"$f":"IF($AE323=1,VLOOKUP($F323,all!$E$14:$AD$553,7),\"\")","v":""},{"$f":"IF($AE323=1,VLOOKUP($F323,all!$E$14:$AD$553,8),\"\")","v":""},{"$f":"IF($AE323=1,VLOOKUP($F323,all!$E$14:$AD$553,9),\"\")","v":""},{"$f":"IF($AE323=1,VLOOKUP($F323,all!$E$14:$AD$553,10),\"\")","v":""},{"$f":"IF($AE323=1,VLOOKUP($F323,all!$E$14:$AD$553,11),\"\")","v":""},{"$f":"IF($AE323=1,VLOOKUP($F323,all!$E$14:$AD$553,12),\"\")","v":""},{"$f":"IF($AE323=1,VLOOKUP($F323,all!$E$14:$AD$553,13),\"\")","v":""},{"$f":"IF($AE323=1,VLOOKUP($F323,all!$E$14:$AD$553,14),\"\")","v":""},{"$f":"IF($AE323=1,VLOOKUP($F323,all!$E$14:$AD$553,15),\"\")","v":""},{"$f":"IF($AE323=1,VLOOKUP($F323,all!$E$14:$AD$553,16),\"\")","v":""},{"$f":"IF($AE323=1,VLOOKUP($F323,all!$E$14:$AD$553,17),\"\")","v":""},{"$f":"IF($AE323=1,VLOOKUP($F323,all!$E$14:$AD$553,18),\"\")","v":""},{"$f":"IF($AE323=1,VLOOKUP($F323,all!$E$14:$AD$553,19),\"\")","v":""},{"$f":"IF($AE323=1,VLOOKUP($F323,all!$E$14:$AD$553,20),\"\")","v":""},{"$f":"IF($AE323=1,VLOOKUP($F323,all!$E$14:$AD$553,21),\"\")","v":""},{"$f":"IF($AE323=1,VLOOKUP($F323,all!$E$14:$AD$553,22),\"\")","v":""},{"$f":"IF($AE323=1,VLOOKUP($F323,all!$E$14:$AD$553,23),\"\")","v":""},{"$f":"IF($AE323=1,VLOOKUP($F323,all!$E$14:$AD$553,24),\"\")","v":""},{"$f":"IF($AE323=1,VLOOKUP($F323,all!$E$14:$AD$553,25),\"\")","v":""},null,{"$f":"COUNTIF(all!$E$14:$E$553,F323)","v":0}]
[null,null,null,null,null,291,{"$f":"IF($AE324=1,VLOOKUP($F324,all!$E$14:$AD$553,3),\"\")","v":""},{"$f":"IF($AE324=1,VLOOKUP($F324,all!$E$14:$AD$553,4),\"\")","v":""},{"$f":"IF($AE324=1,VLOOKUP($F324,all!$E$14:$AD$553,5),\"\")","v":""},{"$f":"IF($AE324=1,VLOOKUP($F324,all!$E$14:$AD$553,6),\"\")","v":""},{"$f":"IF($AE324=1,VLOOKUP($F324,all!$E$14:$AD$553,7),\"\")","v":""},{"$f":"IF($AE324=1,VLOOKUP($F324,all!$E$14:$AD$553,8),\"\")","v":""},{"$f":"IF($AE324=1,VLOOKUP($F324,all!$E$14:$AD$553,9),\"\")","v":""},{"$f":"IF($AE324=1,VLOOKUP($F324,all!$E$14:$AD$553,10),\"\")","v":""},{"$f":"IF($AE324=1,VLOOKUP($F324,all!$E$14:$AD$553,11),\"\")","v":""},{"$f":"IF($AE324=1,VLOOKUP($F324,all!$E$14:$AD$553,12),\"\")","v":""},{"$f":"IF($AE324=1,VLOOKUP($F324,all!$E$14:$AD$553,13),\"\")","v":""},{"$f":"IF($AE324=1,VLOOKUP($F324,all!$E$14:$AD$553,14),\"\")","v":""},{"$f":"IF($AE324=1,VLOOKUP($F324,all!$E$14:$AD$553,15),\"\")","v":""},{"$f":"IF($AE324=1,VLOOKUP($F324,all!$E$14:$AD$553,16),\"\")","v":""},{"$f":"IF($AE324=1,VLOOKUP($F324,all!$E$14:$AD$553,17),\"\")","v":""},{"$f":"IF($AE324=1,VLOOKUP($F324,all!$E$14:$AD$553,18),\"\")","v":""},{"$f":"IF($AE324=1,VLOOKUP($F324,all!$E$14:$AD$553,19),\"\")","v":""},{"$f":"IF($AE324=1,VLOOKUP($F324,all!$E$14:$AD$553,20),\"\")","v":""},{"$f":"IF($AE324=1,VLOOKUP($F324,all!$E$14:$AD$553,21),\"\")","v":""},{"$f":"IF($AE324=1,VLOOKUP($F324,all!$E$14:$AD$553,22),\"\")","v":""},{"$f":"IF($AE324=1,VLOOKUP($F324,all!$E$14:$AD$553,23),\"\")","v":""},{"$f":"IF($AE324=1,VLOOKUP($F324,all!$E$14:$AD$553,24),\"\")","v":""},{"$f":"IF($AE324=1,VLOOKUP($F324,all!$E$14:$AD$553,25),\"\")","v":""},null,{"$f":"COUNTIF(all!$E$14:$E$553,F324)","v":0}]
[null,null,null,null,null,292,{"$f":"IF($AE325=1,VLOOKUP($F325,all!$E$14:$AD$553,3),\"\")","v":""},{"$f":"IF($AE325=1,VLOOKUP($F325,all!$E$14:$AD$553,4),\"\")","v":""},{"$f":"IF($AE325=1,VLOOKUP($F325,all!$E$14:$AD$553,5),\"\")","v":""},{"$f":"IF($AE325=1,VLOOKUP($F325,all!$E$14:$AD$553,6),\"\")","v":""},{"$f":"IF($AE325=1,VLOOKUP($F325,all!$E$14:$AD$553,7),\"\")","v":""},{"$f":"IF($AE325=1,VLOOKUP($F325,all!$E$14:$AD$553,8),\"\")","v":""},{"$f":"IF($AE325=1,VLOOKUP($F325,all!$E$14:$AD$553,9),\"\")","v":""},{"$f":"IF($AE325=1,VLOOKUP($F325,all!$E$14:$AD$553,10),\"\")","v":""},{"$f":"IF($AE325=1,VLOOKUP($F325,all!$E$14:$AD$553,11),\"\")","v":""},{"$f":"IF($AE325=1,VLOOKUP($F325,all!$E$14:$AD$553,12),\"\")","v":""},{"$f":"IF($AE325=1,VLOOKUP($F325,all!$E$14:$AD$553,13),\"\")","v":""},{"$f":"IF($AE325=1,VLOOKUP($F325,all!$E$14:$AD$553,14),\"\")","v":""},{"$f":"IF($AE325=1,VLOOKUP($F325,all!$E$14:$AD$553,15),\"\")","v":""},{"$f":"IF($AE325=1,VLOOKUP($F325,all!$E$14:$AD$553,16),\"\")","v":""},{"$f":"IF($AE325=1,VLOOKUP($F325,all!$E$14:$AD$553,17),\"\")","v":""},{"$f":"IF($AE325=1,VLOOKUP($F325,all!$E$14:$AD$553,18),\"\")","v":""},{"$f":"IF($AE325=1,VLOOKUP($F325,all!$E$14:$AD$553,19),\"\")","v":""},{"$f":"IF($AE325=1,VLOOKUP($F325,all!$E$14:$AD$553,20),\"\")","v":""},{"$f":"IF($AE325=1,VLOOKUP($F325,all!$E$14:$AD$553,21),\"\")","v":""},{"$f":"IF($AE325=1,VLOOKUP($F325,all!$E$14:$AD$553,22),\"\")","v":""},{"$f":"IF($AE325=1,VLOOKUP($F325,all!$E$14:$AD$553,23),\"\")","v":""},{"$f":"IF($AE325=1,VLOOKUP($F325,all!$E$14:$AD$553,24),\"\")","v":""},{"$f":"IF($AE325=1,VLOOKUP($F325,all!$E$14:$AD$553,25),\"\")","v":""},null,{"$f":"COUNTIF(all!$E$14:$E$553,F325)","v":0}]
[null,null,null,null,null,293,{"$f":"IF($AE326=1,VLOOKUP($F326,all!$E$14:$AD$553,3),\"\")","v":""},{"$f":"IF($AE326=1,VLOOKUP($F326,all!$E$14:$AD$553,4),\"\")","v":""},{"$f":"IF($AE326=1,VLOOKUP($F326,all!$E$14:$AD$553,5),\"\")","v":""},{"$f":"IF($AE326=1,VLOOKUP($F326,all!$E$14:$AD$553,6),\"\")","v":""},{"$f":"IF($AE326=1,VLOOKUP($F326,all!$E$14:$AD$553,7),\"\")","v":""},{"$f":"IF($AE326=1,VLOOKUP($F326,all!$E$14:$AD$553,8),\"\")","v":""},{"$f":"IF($AE326=1,VLOOKUP($F326,all!$E$14:$AD$553,9),\"\")","v":""},{"$f":"IF($AE326=1,VLOOKUP($F326,all!$E$14:$AD$553,10),\"\")","v":""},{"$f":"IF($AE326=1,VLOOKUP($F326,all!$E$14:$AD$553,11),\"\")","v":""},{"$f":"IF($AE326=1,VLOOKUP($F326,all!$E$14:$AD$553,12),\"\")","v":""},{"$f":"IF($AE326=1,VLOOKUP($F326,all!$E$14:$AD$553,13),\"\")","v":""},{"$f":"IF($AE326=1,VLOOKUP($F326,all!$E$14:$AD$553,14),\"\")","v":""},{"$f":"IF($AE326=1,VLOOKUP($F326,all!$E$14:$AD$553,15),\"\")","v":""},{"$f":"IF($AE326=1,VLOOKUP($F326,all!$E$14:$AD$553,16),\"\")","v":""},{"$f":"IF($AE326=1,VLOOKUP($F326,all!$E$14:$AD$553,17),\"\")","v":""},{"$f":"IF($AE326=1,VLOOKUP($F326,all!$E$14:$AD$553,18),\"\")","v":""},{"$f":"IF($AE326=1,VLOOKUP($F326,all!$E$14:$AD$553,19),\"\")","v":""},{"$f":"IF($AE326=1,VLOOKUP($F326,all!$E$14:$AD$553,20),\"\")","v":""},{"$f":"IF($AE326=1,VLOOKUP($F326,all!$E$14:$AD$553,21),\"\")","v":""},{"$f":"IF($AE326=1,VLOOKUP($F326,all!$E$14:$AD$553,22),\"\")","v":""},{"$f":"IF($AE326=1,VLOOKUP($F326,all!$E$14:$AD$553,23),\"\")","v":""},{"$f":"IF($AE326=1,VLOOKUP($F326,all!$E$14:$AD$553,24),\"\")","v":""},{"$f":"IF($AE326=1,VLOOKUP($F326,all!$E$14:$AD$553,25),\"\")","v":""},null,{"$f":"COUNTIF(all!$E$14:$E$553,F326)","v":0}]
[null,null,null,null,null,294,{"$f":"IF($AE327=1,VLOOKUP($F327,all!$E$14:$AD$553,3),\"\")","v":""},{"$f":"IF($AE327=1,VLOOKUP($F327,all!$E$14:$AD$553,4),\"\")","v":""},{"$f":"IF($AE327=1,VLOOKUP($F327,all!$E$14:$AD$553,5),\"\")","v":""},{"$f":"IF($AE327=1,VLOOKUP($F327,all!$E$14:$AD$553,6),\"\")","v":""},{"$f":"IF($AE327=1,VLOOKUP($F327,all!$E$14:$AD$553,7),\"\")","v":""},{"$f":"IF($AE327=1,VLOOKUP($F327,all!$E$14:$AD$553,8),\"\")","v":""},{"$f":"IF($AE327=1,VLOOKUP($F327,all!$E$14:$AD$553,9),\"\")","v":""},{"$f":"IF($AE327=1,VLOOKUP($F327,all!$E$14:$AD$553,10),\"\")","v":""},{"$f":"IF($AE327=1,VLOOKUP($F327,all!$E$14:$AD$553,11),\"\")","v":""},{"$f":"IF($AE327=1,VLOOKUP($F327,all!$E$14:$AD$553,12),\"\")","v":""},{"$f":"IF($AE327=1,VLOOKUP($F327,all!$E$14:$AD$553,13),\"\")","v":""},{"$f":"IF($AE327=1,VLOOKUP($F327,all!$E$14:$AD$553,14),\"\")","v":""},{"$f":"IF($AE327=1,VLOOKUP($F327,all!$E$14:$AD$553,15),\"\")","v":""},{"$f":"IF($AE327=1,VLOOKUP($F327,all!$E$14:$AD$553,16),\"\")","v":""},{"$f":"IF($AE327=1,VLOOKUP($F327,all!$E$14:$AD$553,17),\"\")","v":""},{"$f":"IF($AE327=1,VLOOKUP($F327,all!$E$14:$AD$553,18),\"\")","v":""},{"$f":"IF($AE327=1,VLOOKUP($F327,all!$E$14:$AD$553,19),\"\")","v":""},{"$f":"IF($AE327=1,VLOOKUP($F327,all!$E$14:$AD$553,20),\"\")","v":""},{"$f":"IF($AE327=1,VLOOKUP($F327,all!$E$14:$AD$553,21),\"\")","v":""},{"$f":"IF($AE327=1,VLOOKUP($F327,all!$E$14:$AD$553,22),\"\")","v":""},{"$f":"IF($AE327=1,VLOOKUP($F327,all!$E$14:$AD$553,23),\"\")","v":""},{"$f":"IF($AE327=1,VLOOKUP($F327,all!$E$14:$AD$553,24),\"\")","v":""},{"$f":"IF($AE327=1,VLOOKUP($F327,all!$E$14:$AD$553,25),\"\")","v":""},null,{"$f":"COUNTIF(all!$E$14:$E$553,F327)","v":0}]
[null,null,null,null,null,295,{"$f":"IF($AE328=1,VLOOKUP($F328,all!$E$14:$AD$553,3),\"\")","v":""},{"$f":"IF($AE328=1,VLOOKUP($F328,all!$E$14:$AD$553,4),\"\")","v":""},{"$f":"IF($AE328=1,VLOOKUP($F328,all!$E$14:$AD$553,5),\"\")","v":""},{"$f":"IF($AE328=1,VLOOKUP($F328,all!$E$14:$AD$553,6),\"\")","v":""},{"$f":"IF($AE328=1,VLOOKUP($F328,all!$E$14:$AD$553,7),\"\")","v":""},{"$f":"IF($AE328=1,VLOOKUP($F328,all!$E$14:$AD$553,8),\"\")","v":""},{"$f":"IF($AE328=1,VLOOKUP($F328,all!$E$14:$AD$553,9),\"\")","v":""},{"$f":"IF($AE328=1,VLOOKUP($F328,all!$E$14:$AD$553,10),\"\")","v":""},{"$f":"IF($AE328=1,VLOOKUP($F328,all!$E$14:$AD$553,11),\"\")","v":""},{"$f":"IF($AE328=1,VLOOKUP($F328,all!$E$14:$AD$553,12),\"\")","v":""},{"$f":"IF($AE328=1,VLOOKUP($F328,all!$E$14:$AD$553,13),\"\")","v":""},{"$f":"IF($AE328=1,VLOOKUP($F328,all!$E$14:$AD$553,14),\"\")","v":""},{"$f":"IF($AE328=1,VLOOKUP($F328,all!$E$14:$AD$553,15),\"\")","v":""},{"$f":"IF($AE328=1,VLOOKUP($F328,all!$E$14:$AD$553,16),\"\")","v":""},{"$f":"IF($AE328=1,VLOOKUP($F328,all!$E$14:$AD$553,17),\"\")","v":""},{"$f":"IF($AE328=1,VLOOKUP($F328,all!$E$14:$AD$553,18),\"\")","v":""},{"$f":"IF($AE328=1,VLOOKUP($F328,all!$E$14:$AD$553,19),\"\")","v":""},{"$f":"IF($AE328=1,VLOOKUP($F328,all!$E$14:$AD$553,20),\"\")","v":""},{"$f":"IF($AE328=1,VLOOKUP($F328,all!$E$14:$AD$553,21),\"\")","v":""},{"$f":"IF($AE328=1,VLOOKUP($F328,all!$E$14:$AD$553,22),\"\")","v":""},{"$f":"IF($AE328=1,VLOOKUP($F328,all!$E$14:$AD$553,23),\"\")","v":""},{"$f":"IF($AE328=1,VLOOKUP($F328,all!$E$14:$AD$553,24),\"\")","v":""},{"$f":"IF($AE328=1,VLOOKUP($F328,all!$E$14:$AD$553,25),\"\")","v":""},null,{"$f":"COUNTIF(all!$E$14:$E$553,F328)","v":0}]
[null,null,null,null,null,296,{"$f":"IF($AE329=1,VLOOKUP($F329,all!$E$14:$AD$553,3),\"\")","v":""},{"$f":"IF($AE329=1,VLOOKUP($F329,all!$E$14:$AD$553,4),\"\")","v":""},{"$f":"IF($AE329=1,VLOOKUP($F329,all!$E$14:$AD$553,5),\"\")","v":""},{"$f":"IF($AE329=1,VLOOKUP($F329,all!$E$14:$AD$553,6),\"\")","v":""},{"$f":"IF($AE329=1,VLOOKUP($F329,all!$E$14:$AD$553,7),\"\")","v":""},{"$f":"IF($AE329=1,VLOOKUP($F329,all!$E$14:$AD$553,8),\"\")","v":""},{"$f":"IF($AE329=1,VLOOKUP($F329,all!$E$14:$AD$553,9),\"\")","v":""},{"$f":"IF($AE329=1,VLOOKUP($F329,all!$E$14:$AD$553,10),\"\")","v":""},{"$f":"IF($AE329=1,VLOOKUP($F329,all!$E$14:$AD$553,11),\"\")","v":""},{"$f":"IF($AE329=1,VLOOKUP($F329,all!$E$14:$AD$553,12),\"\")","v":""},{"$f":"IF($AE329=1,VLOOKUP($F329,all!$E$14:$AD$553,13),\"\")","v":""},{"$f":"IF($AE329=1,VLOOKUP($F329,all!$E$14:$AD$553,14),\"\")","v":""},{"$f":"IF($AE329=1,VLOOKUP($F329,all!$E$14:$AD$553,15),\"\")","v":""},{"$f":"IF($AE329=1,VLOOKUP($F329,all!$E$14:$AD$553,16),\"\")","v":""},{"$f":"IF($AE329=1,VLOOKUP($F329,all!$E$14:$AD$553,17),\"\")","v":""},{"$f":"IF($AE329=1,VLOOKUP($F329,all!$E$14:$AD$553,18),\"\")","v":""},{"$f":"IF($AE329=1,VLOOKUP($F329,all!$E$14:$AD$553,19),\"\")","v":""},{"$f":"IF($AE329=1,VLOOKUP($F329,all!$E$14:$AD$553,20),\"\")","v":""},{"$f":"IF($AE329=1,VLOOKUP($F329,all!$E$14:$AD$553,21),\"\")","v":""},{"$f":"IF($AE329=1,VLOOKUP($F329,all!$E$14:$AD$553,22),\"\")","v":""},{"$f":"IF($AE329=1,VLOOKUP($F329,all!$E$14:$AD$553,23),\"\")","v":""},{"$f":"IF($AE329=1,VLOOKUP($F329,all!$E$14:$AD$553,24),\"\")","v":""},{"$f":"IF($AE329=1,VLOOKUP($F329,all!$E$14:$AD$553,25),\"\")","v":""},null,{"$f":"COUNTIF(all!$E$14:$E$553,F329)","v":0}]
[null,null,null,null,null,297,{"$f":"IF($AE330=1,VLOOKUP($F330,all!$E$14:$AD$553,3),\"\")","v":""},{"$f":"IF($AE330=1,VLOOKUP($F330,all!$E$14:$AD$553,4),\"\")","v":""},{"$f":"IF($AE330=1,VLOOKUP($F330,all!$E$14:$AD$553,5),\"\")","v":""},{"$f":"IF($AE330=1,VLOOKUP($F330,all!$E$14:$AD$553,6),\"\")","v":""},{"$f":"IF($AE330=1,VLOOKUP($F330,all!$E$14:$AD$553,7),\"\")","v":""},{"$f":"IF($AE330=1,VLOOKUP($F330,all!$E$14:$AD$553,8),\"\")","v":""},{"$f":"IF($AE330=1,VLOOKUP($F330,all!$E$14:$AD$553,9),\"\")","v":""},{"$f":"IF($AE330=1,VLOOKUP($F330,all!$E$14:$AD$553,10),\"\")","v":""},{"$f":"IF($AE330=1,VLOOKUP($F330,all!$E$14:$AD$553,11),\"\")","v":""},{"$f":"IF($AE330=1,VLOOKUP($F330,all!$E$14:$AD$553,12),\"\")","v":""},{"$f":"IF($AE330=1,VLOOKUP($F330,all!$E$14:$AD$553,13),\"\")","v":""},{"$f":"IF($AE330=1,VLOOKUP($F330,all!$E$14:$AD$553,14),\"\")","v":""},{"$f":"IF($AE330=1,VLOOKUP($F330,all!$E$14:$AD$553,15),\"\")","v":""},{"$f":"IF($AE330=1,VLOOKUP($F330,all!$E$14:$AD$553,16),\"\")","v":""},{"$f":"IF($AE330=1,VLOOKUP($F330,all!$E$14:$AD$553,17),\"\")","v":""},{"$f":"IF($AE330=1,VLOOKUP($F330,all!$E$14:$AD$553,18),\"\")","v":""},{"$f":"IF($AE330=1,VLOOKUP($F330,all!$E$14:$AD$553,19),\"\")","v":""},{"$f":"IF($AE330=1,VLOOKUP($F330,all!$E$14:$AD$553,20),\"\")","v":""},{"$f":"IF($AE330=1,VLOOKUP($F330,all!$E$14:$AD$553,21),\"\")","v":""},{"$f":"IF($AE330=1,VLOOKUP($F330,all!$E$14:$AD$553,22),\"\")","v":""},{"$f":"IF($AE330=1,VLOOKUP($F330,all!$E$14:$AD$553,23),\"\")","v":""},{"$f":"IF($AE330=1,VLOOKUP($F330,all!$E$14:$AD$553,24),\"\")","v":""},{"$f":"IF($AE330=1,VLOOKUP($F330,all!$E$14:$AD$553,25),\"\")","v":""},null,{"$f":"COUNTIF(all!$E$14:$E$553,F330)","v":0}]
[null,null,null,null,null,298,{"$f":"IF($AE331=1,VLOOKUP($F331,all!$E$14:$AD$553,3),\"\")","v":""},{"$f":"IF($AE331=1,VLOOKUP($F331,all!$E$14:$AD$553,4),\"\")","v":""},{"$f":"IF($AE331=1,VLOOKUP($F331,all!$E$14:$AD$553,5),\"\")","v":""},{"$f":"IF($AE331=1,VLOOKUP($F331,all!$E$14:$AD$553,6),\"\")","v":""},{"$f":"IF($AE331=1,VLOOKUP($F331,all!$E$14:$AD$553,7),\"\")","v":""},{"$f":"IF($AE331=1,VLOOKUP($F331,all!$E$14:$AD$553,8),\"\")","v":""},{"$f":"IF($AE331=1,VLOOKUP($F331,all!$E$14:$AD$553,9),\"\")","v":""},{"$f":"IF($AE331=1,VLOOKUP($F331,all!$E$14:$AD$553,10),\"\")","v":""},{"$f":"IF($AE331=1,VLOOKUP($F331,all!$E$14:$AD$553,11),\"\")","v":""},{"$f":"IF($AE331=1,VLOOKUP($F331,all!$E$14:$AD$553,12),\"\")","v":""},{"$f":"IF($AE331=1,VLOOKUP($F331,all!$E$14:$AD$553,13),\"\")","v":""},{"$f":"IF($AE331=1,VLOOKUP($F331,all!$E$14:$AD$553,14),\"\")","v":""},{"$f":"IF($AE331=1,VLOOKUP($F331,all!$E$14:$AD$553,15),\"\")","v":""},{"$f":"IF($AE331=1,VLOOKUP($F331,all!$E$14:$AD$553,16),\"\")","v":""},{"$f":"IF($AE331=1,VLOOKUP($F331,all!$E$14:$AD$553,17),\"\")","v":""},{"$f":"IF($AE331=1,VLOOKUP($F331,all!$E$14:$AD$553,18),\"\")","v":""},{"$f":"IF($AE331=1,VLOOKUP($F331,all!$E$14:$AD$553,19),\"\")","v":""},{"$f":"IF($AE331=1,VLOOKUP($F331,all!$E$14:$AD$553,20),\"\")","v":""},{"$f":"IF($AE331=1,VLOOKUP($F331,all!$E$14:$AD$553,21),\"\")","v":""},{"$f":"IF($AE331=1,VLOOKUP($F331,all!$E$14:$AD$553,22),\"\")","v":""},{"$f":"IF($AE331=1,VLOOKUP($F331,all!$E$14:$AD$553,23),\"\")","v":""},{"$f":"IF($AE331=1,VLOOKUP($F331,all!$E$14:$AD$553,24),\"\")","v":""},{"$f":"IF($AE331=1,VLOOKUP($F331,all!$E$14:$AD$553,25),\"\")","v":""},null,{"$f":"COUNTIF(all!$E$14:$E$553,F331)","v":0}]
[null,null,null,null,null,299,{"$f":"IF($AE332=1,VLOOKUP($F332,all!$E$14:$AD$553,3),\"\")","v":""},{"$f":"IF($AE332=1,VLOOKUP($F332,all!$E$14:$AD$553,4),\"\")","v":""},{"$f":"IF($AE332=1,VLOOKUP($F332,all!$E$14:$AD$553,5),\"\")","v":""},{"$f":"IF($AE332=1,VLOOKUP($F332,all!$E$14:$AD$553,6),\"\")","v":""},{"$f":"IF($AE332=1,VLOOKUP($F332,all!$E$14:$AD$553,7),\"\")","v":""},{"$f":"IF($AE332=1,VLOOKUP($F332,all!$E$14:$AD$553,8),\"\")","v":""},{"$f":"IF($AE332=1,VLOOKUP($F332,all!$E$14:$AD$553,9),\"\")","v":""},{"$f":"IF($AE332=1,VLOOKUP($F332,all!$E$14:$AD$553,10),\"\")","v":""},{"$f":"IF($AE332=1,VLOOKUP($F332,all!$E$14:$AD$553,11),\"\")","v":""},{"$f":"IF($AE332=1,VLOOKUP($F332,all!$E$14:$AD$553,12),\"\")","v":""},{"$f":"IF($AE332=1,VLOOKUP($F332,all!$E$14:$AD$553,13),\"\")","v":""},{"$f":"IF($AE332=1,VLOOKUP($F332,all!$E$14:$AD$553,14),\"\")","v":""},{"$f":"IF($AE332=1,VLOOKUP($F332,all!$E$14:$AD$553,15),\"\")","v":""},{"$f":"IF($AE332=1,VLOOKUP($F332,all!$E$14:$AD$553,16),\"\")","v":""},{"$f":"IF($AE332=1,VLOOKUP($F332,all!$E$14:$AD$553,17),\"\")","v":""},{"$f":"IF($AE332=1,VLOOKUP($F332,all!$E$14:$AD$553,18),\"\")","v":""},{"$f":"IF($AE332=1,VLOOKUP($F332,all!$E$14:$AD$553,19),\"\")","v":""},{"$f":"IF($AE332=1,VLOOKUP($F332,all!$E$14:$AD$553,20),\"\")","v":""},{"$f":"IF($AE332=1,VLOOKUP($F332,all!$E$14:$AD$553,21),\"\")","v":""},{"$f":"IF($AE332=1,VLOOKUP($F332,all!$E$14:$AD$553,22),\"\")","v":""},{"$f":"IF($AE332=1,VLOOKUP($F332,all!$E$14:$AD$553,23),\"\")","v":""},{"$f":"IF($AE332=1,VLOOKUP($F332,all!$E$14:$AD$553,24),\"\")","v":""},{"$f":"IF($AE332=1,VLOOKUP($F332,all!$E$14:$AD$553,25),\"\")","v":""},null,{"$f":"COUNTIF(all!$E$14:$E$553,F332)","v":0}]
[null,null,null,null,null,300,{"$f":"IF($AE333=1,VLOOKUP($F333,all!$E$14:$AD$553,3),\"\")","v":""},{"$f":"IF($AE333=1,VLOOKUP($F333,all!$E$14:$AD$553,4),\"\")","v":""},{"$f":"IF($AE333=1,VLOOKUP($F333,all!$E$14:$AD$553,5),\"\")","v":""},{"$f":"IF($AE333=1,VLOOKUP($F333,all!$E$14:$AD$553,6),\"\")","v":""},{"$f":"IF($AE333=1,VLOOKUP($F333,all!$E$14:$AD$553,7),\"\")","v":""},{"$f":"IF($AE333=1,VLOOKUP($F333,all!$E$14:$AD$553,8),\"\")","v":""},{"$f":"IF($AE333=1,VLOOKUP($F333,all!$E$14:$AD$553,9),\"\")","v":""},{"$f":"IF($AE333=1,VLOOKUP($F333,all!$E$14:$AD$553,10),\"\")","v":""},{"$f":"IF($AE333=1,VLOOKUP($F333,all!$E$14:$AD$553,11),\"\")","v":""},{"$f":"IF($AE333=1,VLOOKUP($F333,all!$E$14:$AD$553,12),\"\")","v":""},{"$f":"IF($AE333=1,VLOOKUP($F333,all!$E$14:$AD$553,13),\"\")","v":""},{"$f":"IF($AE333=1,VLOOKUP($F333,all!$E$14:$AD$553,14),\"\")","v":""},{"$f":"IF($AE333=1,VLOOKUP($F333,all!$E$14:$AD$553,15),\"\")","v":""},{"$f":"IF($AE333=1,VLOOKUP($F333,all!$E$14:$AD$553,16),\"\")","v":""},{"$f":"IF($AE333=1,VLOOKUP($F333,all!$E$14:$AD$553,17),\"\")","v":""},{"$f":"IF($AE333=1,VLOOKUP($F333,all!$E$14:$AD$553,18),\"\")","v":""},{"$f":"IF($AE333=1,VLOOKUP($F333,all!$E$14:$AD$553,19),\"\")","v":""},{"$f":"IF($AE333=1,VLOOKUP($F333,all!$E$14:$AD$553,20),\"\")","v":""},{"$f":"IF($AE333=1,VLOOKUP($F333,all!$E$14:$AD$553,21),\"\")","v":""},{"$f":"IF($AE333=1,VLOOKUP($F333,all!$E$14:$AD$553,22),\"\")","v":""},{"$f":"IF($AE333=1,VLOOKUP($F333,all!$E$14:$AD$553,23),\"\")","v":""},{"$f":"IF($AE333=1,VLOOKUP($F333,all!$E$14:$AD$553,24),\"\")","v":""},{"$f":"IF($AE333=1,VLOOKUP($F333,all!$E$14:$AD$553,25),\"\")","v":""},null,{"$f":"COUNTIF(all!$E$14:$E$553,F333)","v":0}]
[null,null,null,null,null,301,{"$f":"IF($AE334=1,VLOOKUP($F334,all!$E$14:$AD$553,3),\"\")","v":""},{"$f":"IF($AE334=1,VLOOKUP($F334,all!$E$14:$AD$553,4),\"\")","v":""},{"$f":"IF($AE334=1,VLOOKUP($F334,all!$E$14:$AD$553,5),\"\")","v":""},{"$f":"IF($AE334=1,VLOOKUP($F334,all!$E$14:$AD$553,6),\"\")","v":""},{"$f":"IF($AE334=1,VLOOKUP($F334,all!$E$14:$AD$553,7),\"\")","v":""},{"$f":"IF($AE334=1,VLOOKUP($F334,all!$E$14:$AD$553,8),\"\")","v":""},{"$f":"IF($AE334=1,VLOOKUP($F334,all!$E$14:$AD$553,9),\"\")","v":""},{"$f":"IF($AE334=1,VLOOKUP($F334,all!$E$14:$AD$553,10),\"\")","v":""},{"$f":"IF($AE334=1,VLOOKUP($F334,all!$E$14:$AD$553,11),\"\")","v":""},{"$f":"IF($AE334=1,VLOOKUP($F334,all!$E$14:$AD$553,12),\"\")","v":""},{"$f":"IF($AE334=1,VLOOKUP($F334,all!$E$14:$AD$553,13),\"\")","v":""},{"$f":"IF($AE334=1,VLOOKUP($F334,all!$E$14:$AD$553,14),\"\")","v":""},{"$f":"IF($AE334=1,VLOOKUP($F334,all!$E$14:$AD$553,15),\"\")","v":""},{"$f":"IF($AE334=1,VLOOKUP($F334,all!$E$14:$AD$553,16),\"\")","v":""},{"$f":"IF($AE334=1,VLOOKUP($F334,all!$E$14:$AD$553,17),\"\")","v":""},{"$f":"IF($AE334=1,VLOOKUP($F334,all!$E$14:$AD$553,18),\"\")","v":""},{"$f":"IF($AE334=1,VLOOKUP($F334,all!$E$14:$AD$553,19),\"\")","v":""},{"$f":"IF($AE334=1,VLOOKUP($F334,all!$E$14:$AD$553,20),\"\")","v":""},{"$f":"IF($AE334=1,VLOOKUP($F334,all!$E$14:$AD$553,21),\"\")","v":""},{"$f":"IF($AE334=1,VLOOKUP($F334,all!$E$14:$AD$553,22),\"\")","v":""},{"$f":"IF($AE334=1,VLOOKUP($F334,all!$E$14:$AD$553,23),\"\")","v":""},{"$f":"IF($AE334=1,VLOOKUP($F334,all!$E$14:$AD$553,24),\"\")","v":""},{"$f":"IF($AE334=1,VLOOKUP($F334,all!$E$14:$AD$553,25),\"\")","v":""},null,{"$f":"COUNTIF(all!$E$14:$E$553,F334)","v":0}]
[null,null,null,null,null,302,{"$f":"IF($AE335=1,VLOOKUP($F335,all!$E$14:$AD$553,3),\"\")","v":""},{"$f":"IF($AE335=1,VLOOKUP($F335,all!$E$14:$AD$553,4),\"\")","v":""},{"$f":"IF($AE335=1,VLOOKUP($F335,all!$E$14:$AD$553,5),\"\")","v":""},{"$f":"IF($AE335=1,VLOOKUP($F335,all!$E$14:$AD$553,6),\"\")","v":""},{"$f":"IF($AE335=1,VLOOKUP($F335,all!$E$14:$AD$553,7),\"\")","v":""},{"$f":"IF($AE335=1,VLOOKUP($F335,all!$E$14:$AD$553,8),\"\")","v":""},{"$f":"IF($AE335=1,VLOOKUP($F335,all!$E$14:$AD$553,9),\"\")","v":""},{"$f":"IF($AE335=1,VLOOKUP($F335,all!$E$14:$AD$553,10),\"\")","v":""},{"$f":"IF($AE335=1,VLOOKUP($F335,all!$E$14:$AD$553,11),\"\")","v":""},{"$f":"IF($AE335=1,VLOOKUP($F335,all!$E$14:$AD$553,12),\"\")","v":""},{"$f":"IF($AE335=1,VLOOKUP($F335,all!$E$14:$AD$553,13),\"\")","v":""},{"$f":"IF($AE335=1,VLOOKUP($F335,all!$E$14:$AD$553,14),\"\")","v":""},{"$f":"IF($AE335=1,VLOOKUP($F335,all!$E$14:$AD$553,15),\"\")","v":""},{"$f":"IF($AE335=1,VLOOKUP($F335,all!$E$14:$AD$553,16),\"\")","v":""},{"$f":"IF($AE335=1,VLOOKUP($F335,all!$E$14:$AD$553,17),\"\")","v":""},{"$f":"IF($AE335=1,VLOOKUP($F335,all!$E$14:$AD$553,18),\"\")","v":""},{"$f":"IF($AE335=1,VLOOKUP($F335,all!$E$14:$AD$553,19),\"\")","v":""},{"$f":"IF($AE335=1,VLOOKUP($F335,all!$E$14:$AD$553,20),\"\")","v":""},{"$f":"IF($AE335=1,VLOOKUP($F335,all!$E$14:$AD$553,21),\"\")","v":""},{"$f":"IF($AE335=1,VLOOKUP($F335,all!$E$14:$AD$553,22),\"\")","v":""},{"$f":"IF($AE335=1,VLOOKUP($F335,all!$E$14:$AD$553,23),\"\")","v":""},{"$f":"IF($AE335=1,VLOOKUP($F335,all!$E$14:$AD$553,24),\"\")","v":""},{"$f":"IF($AE335=1,VLOOKUP($F335,all!$E$14:$AD$553,25),\"\")","v":""},null,{"$f":"COUNTIF(all!$E$14:$E$553,F335)","v":0}]
[null,null,null,null,null,303,{"$f":"IF($AE336=1,VLOOKUP($F336,all!$E$14:$AD$553,3),\"\")","v":""},{"$f":"IF($AE336=1,VLOOKUP($F336,all!$E$14:$AD$553,4),\"\")","v":""},{"$f":"IF($AE336=1,VLOOKUP($F336,all!$E$14:$AD$553,5),\"\")","v":""},{"$f":"IF($AE336=1,VLOOKUP($F336,all!$E$14:$AD$553,6),\"\")","v":""},{"$f":"IF($AE336=1,VLOOKUP($F336,all!$E$14:$AD$553,7),\"\")","v":""},{"$f":"IF($AE336=1,VLOOKUP($F336,all!$E$14:$AD$553,8),\"\")","v":""},{"$f":"IF($AE336=1,VLOOKUP($F336,all!$E$14:$AD$553,9),\"\")","v":""},{"$f":"IF($AE336=1,VLOOKUP($F336,all!$E$14:$AD$553,10),\"\")","v":""},{"$f":"IF($AE336=1,VLOOKUP($F336,all!$E$14:$AD$553,11),\"\")","v":""},{"$f":"IF($AE336=1,VLOOKUP($F336,all!$E$14:$AD$553,12),\"\")","v":""},{"$f":"IF($AE336=1,VLOOKUP($F336,all!$E$14:$AD$553,13),\"\")","v":""},{"$f":"IF($AE336=1,VLOOKUP($F336,all!$E$14:$AD$553,14),\"\")","v":""},{"$f":"IF($AE336=1,VLOOKUP($F336,all!$E$14:$AD$553,15),\"\")","v":""},{"$f":"IF($AE336=1,VLOOKUP($F336,all!$E$14:$AD$553,16),\"\")","v":""},{"$f":"IF($AE336=1,VLOOKUP($F336,all!$E$14:$AD$553,17),\"\")","v":""},{"$f":"IF($AE336=1,VLOOKUP($F336,all!$E$14:$AD$553,18),\"\")","v":""},{"$f":"IF($AE336=1,VLOOKUP($F336,all!$E$14:$AD$553,19),\"\")","v":""},{"$f":"IF($AE336=1,VLOOKUP($F336,all!$E$14:$AD$553,20),\"\")","v":""},{"$f":"IF($AE336=1,VLOOKUP($F336,all!$E$14:$AD$553,21),\"\")","v":""},{"$f":"IF($AE336=1,VLOOKUP($F336,all!$E$14:$AD$553,22),\"\")","v":""},{"$f":"IF($AE336=1,VLOOKUP($F336,all!$E$14:$AD$553,23),\"\")","v":""},{"$f":"IF($AE336=1,VLOOKUP($F336,all!$E$14:$AD$553,24),\"\")","v":""},{"$f":"IF($AE336=1,VLOOKUP($F336,all!$E$14:$AD$553,25),\"\")","v":""},null,{"$f":"COUNTIF(all!$E$14:$E$553,F336)","v":0}]
[null,null,null,null,null,304,{"$f":"IF($AE337=1,VLOOKUP($F337,all!$E$14:$AD$553,3),\"\")","v":""},{"$f":"IF($AE337=1,VLOOKUP($F337,all!$E$14:$AD$553,4),\"\")","v":""},{"$f":"IF($AE337=1,VLOOKUP($F337,all!$E$14:$AD$553,5),\"\")","v":""},{"$f":"IF($AE337=1,VLOOKUP($F337,all!$E$14:$AD$553,6),\"\")","v":""},{"$f":"IF($AE337=1,VLOOKUP($F337,all!$E$14:$AD$553,7),\"\")","v":""},{"$f":"IF($AE337=1,VLOOKUP($F337,all!$E$14:$AD$553,8),\"\")","v":""},{"$f":"IF($AE337=1,VLOOKUP($F337,all!$E$14:$AD$553,9),\"\")","v":""},{"$f":"IF($AE337=1,VLOOKUP($F337,all!$E$14:$AD$553,10),\"\")","v":""},{"$f":"IF($AE337=1,VLOOKUP($F337,all!$E$14:$AD$553,11),\"\")","v":""},{"$f":"IF($AE337=1,VLOOKUP($F337,all!$E$14:$AD$553,12),\"\")","v":""},{"$f":"IF($AE337=1,VLOOKUP($F337,all!$E$14:$AD$553,13),\"\")","v":""},{"$f":"IF($AE337=1,VLOOKUP($F337,all!$E$14:$AD$553,14),\"\")","v":""},{"$f":"IF($AE337=1,VLOOKUP($F337,all!$E$14:$AD$553,15),\"\")","v":""},{"$f":"IF($AE337=1,VLOOKUP($F337,all!$E$14:$AD$553,16),\"\")","v":""},{"$f":"IF($AE337=1,VLOOKUP($F337,all!$E$14:$AD$553,17),\"\")","v":""},{"$f":"IF($AE337=1,VLOOKUP($F337,all!$E$14:$AD$553,18),\"\")","v":""},{"$f":"IF($AE337=1,VLOOKUP($F337,all!$E$14:$AD$553,19),\"\")","v":""},{"$f":"IF($AE337=1,VLOOKUP($F337,all!$E$14:$AD$553,20),\"\")","v":""},{"$f":"IF($AE337=1,VLOOKUP($F337,all!$E$14:$AD$553,21),\"\")","v":""},{"$f":"IF($AE337=1,VLOOKUP($F337,all!$E$14:$AD$553,22),\"\")","v":""},{"$f":"IF($AE337=1,VLOOKUP($F337,all!$E$14:$AD$553,23),\"\")","v":""},{"$f":"IF($AE337=1,VLOOKUP($F337,all!$E$14:$AD$553,24),\"\")","v":""},{"$f":"IF($AE337=1,VLOOKUP($F337,all!$E$14:$AD$553,25),\"\")","v":""},null,{"$f":"COUNTIF(all!$E$14:$E$553,F337)","v":0}]
[null,null,null,null,null,305,{"$f":"IF($AE338=1,VLOOKUP($F338,all!$E$14:$AD$553,3),\"\")","v":""},{"$f":"IF($AE338=1,VLOOKUP($F338,all!$E$14:$AD$553,4),\"\")","v":""},{"$f":"IF($AE338=1,VLOOKUP($F338,all!$E$14:$AD$553,5),\"\")","v":""},{"$f":"IF($AE338=1,VLOOKUP($F338,all!$E$14:$AD$553,6),\"\")","v":""},{"$f":"IF($AE338=1,VLOOKUP($F338,all!$E$14:$AD$553,7),\"\")","v":""},{"$f":"IF($AE338=1,VLOOKUP($F338,all!$E$14:$AD$553,8),\"\")","v":""},{"$f":"IF($AE338=1,VLOOKUP($F338,all!$E$14:$AD$553,9),\"\")","v":""},{"$f":"IF($AE338=1,VLOOKUP($F338,all!$E$14:$AD$553,10),\"\")","v":""},{"$f":"IF($AE338=1,VLOOKUP($F338,all!$E$14:$AD$553,11),\"\")","v":""},{"$f":"IF($AE338=1,VLOOKUP($F338,all!$E$14:$AD$553,12),\"\")","v":""},{"$f":"IF($AE338=1,VLOOKUP($F338,all!$E$14:$AD$553,13),\"\")","v":""},{"$f":"IF($AE338=1,VLOOKUP($F338,all!$E$14:$AD$553,14),\"\")","v":""},{"$f":"IF($AE338=1,VLOOKUP($F338,all!$E$14:$AD$553,15),\"\")","v":""},{"$f":"IF($AE338=1,VLOOKUP($F338,all!$E$14:$AD$553,16),\"\")","v":""},{"$f":"IF($AE338=1,VLOOKUP($F338,all!$E$14:$AD$553,17),\"\")","v":""},{"$f":"IF($AE338=1,VLOOKUP($F338,all!$E$14:$AD$553,18),\"\")","v":""},{"$f":"IF($AE338=1,VLOOKUP($F338,all!$E$14:$AD$553,19),\"\")","v":""},{"$f":"IF($AE338=1,VLOOKUP($F338,all!$E$14:$AD$553,20),\"\")","v":""},{"$f":"IF($AE338=1,VLOOKUP($F338,all!$E$14:$AD$553,21),\"\")","v":""},{"$f":"IF($AE338=1,VLOOKUP($F338,all!$E$14:$AD$553,22),\"\")","v":""},{"$f":"IF($AE338=1,VLOOKUP($F338,all!$E$14:$AD$553,23),\"\")","v":""},{"$f":"IF($AE338=1,VLOOKUP($F338,all!$E$14:$AD$553,24),\"\")","v":""},{"$f":"IF($AE338=1,VLOOKUP($F338,all!$E$14:$AD$553,25),\"\")","v":""},null,{"$f":"COUNTIF(all!$E$14:$E$553,F338)","v":0}]
[null,null,null,null,null,306,{"$f":"IF($AE339=1,VLOOKUP($F339,all!$E$14:$AD$553,3),\"\")","v":""},{"$f":"IF($AE339=1,VLOOKUP($F339,all!$E$14:$AD$553,4),\"\")","v":""},{"$f":"IF($AE339=1,VLOOKUP($F339,all!$E$14:$AD$553,5),\"\")","v":""},{"$f":"IF($AE339=1,VLOOKUP($F339,all!$E$14:$AD$553,6),\"\")","v":""},{"$f":"IF($AE339=1,VLOOKUP($F339,all!$E$14:$AD$553,7),\"\")","v":""},{"$f":"IF($AE339=1,VLOOKUP($F339,all!$E$14:$AD$553,8),\"\")","v":""},{"$f":"IF($AE339=1,VLOOKUP($F339,all!$E$14:$AD$553,9),\"\")","v":""},{"$f":"IF($AE339=1,VLOOKUP($F339,all!$E$14:$AD$553,10),\"\")","v":""},{"$f":"IF($AE339=1,VLOOKUP($F339,all!$E$14:$AD$553,11),\"\")","v":""},{"$f":"IF($AE339=1,VLOOKUP($F339,all!$E$14:$AD$553,12),\"\")","v":""},{"$f":"IF($AE339=1,VLOOKUP($F339,all!$E$14:$AD$553,13),\"\")","v":""},{"$f":"IF($AE339=1,VLOOKUP($F339,all!$E$14:$AD$553,14),\"\")","v":""},{"$f":"IF($AE339=1,VLOOKUP($F339,all!$E$14:$AD$553,15),\"\")","v":""},{"$f":"IF($AE339=1,VLOOKUP($F339,all!$E$14:$AD$553,16),\"\")","v":""},{"$f":"IF($AE339=1,VLOOKUP($F339,all!$E$14:$AD$553,17),\"\")","v":""},{"$f":"IF($AE339=1,VLOOKUP($F339,all!$E$14:$AD$553,18),\"\")","v":""},{"$f":"IF($AE339=1,VLOOKUP($F339,all!$E$14:$AD$553,19),\"\")","v":""},{"$f":"IF($AE339=1,VLOOKUP($F339,all!$E$14:$AD$553,20),\"\")","v":""},{"$f":"IF($AE339=1,VLOOKUP($F339,all!$E$14:$AD$553,21),\"\")","v":""},{"$f":"IF($AE339=1,VLOOKUP($F339,all!$E$14:$AD$553,22),\"\")","v":""},{"$f":"IF($AE339=1,VLOOKUP($F339,all!$E$14:$AD$553,23),\"\")","v":""},{"$f":"IF($AE339=1,VLOOKUP($F339,all!$E$14:$AD$553,24),\"\")","v":""},{"$f":"IF($AE339=1,VLOOKUP($F339,all!$E$14:$AD$553,25),\"\")","v":""},null,{"$f":"COUNTIF(all!$E$14:$E$553,F339)","v":0}]
[null,null,null,null,null,307,{"$f":"IF($AE340=1,VLOOKUP($F340,all!$E$14:$AD$553,3),\"\")","v":""},{"$f":"IF($AE340=1,VLOOKUP($F340,all!$E$14:$AD$553,4),\"\")","v":""},{"$f":"IF($AE340=1,VLOOKUP($F340,all!$E$14:$AD$553,5),\"\")","v":""},{"$f":"IF($AE340=1,VLOOKUP($F340,all!$E$14:$AD$553,6),\"\")","v":""},{"$f":"IF($AE340=1,VLOOKUP($F340,all!$E$14:$AD$553,7),\"\")","v":""},{"$f":"IF($AE340=1,VLOOKUP($F340,all!$E$14:$AD$553,8),\"\")","v":""},{"$f":"IF($AE340=1,VLOOKUP($F340,all!$E$14:$AD$553,9),\"\")","v":""},{"$f":"IF($AE340=1,VLOOKUP($F340,all!$E$14:$AD$553,10),\"\")","v":""},{"$f":"IF($AE340=1,VLOOKUP($F340,all!$E$14:$AD$553,11),\"\")","v":""},{"$f":"IF($AE340=1,VLOOKUP($F340,all!$E$14:$AD$553,12),\"\")","v":""},{"$f":"IF($AE340=1,VLOOKUP($F340,all!$E$14:$AD$553,13),\"\")","v":""},{"$f":"IF($AE340=1,VLOOKUP($F340,all!$E$14:$AD$553,14),\"\")","v":""},{"$f":"IF($AE340=1,VLOOKUP($F340,all!$E$14:$AD$553,15),\"\")","v":""},{"$f":"IF($AE340=1,VLOOKUP($F340,all!$E$14:$AD$553,16),\"\")","v":""},{"$f":"IF($AE340=1,VLOOKUP($F340,all!$E$14:$AD$553,17),\"\")","v":""},{"$f":"IF($AE340=1,VLOOKUP($F340,all!$E$14:$AD$553,18),\"\")","v":""},{"$f":"IF($AE340=1,VLOOKUP($F340,all!$E$14:$AD$553,19),\"\")","v":""},{"$f":"IF($AE340=1,VLOOKUP($F340,all!$E$14:$AD$553,20),\"\")","v":""},{"$f":"IF($AE340=1,VLOOKUP($F340,all!$E$14:$AD$553,21),\"\")","v":""},{"$f":"IF($AE340=1,VLOOKUP($F340,all!$E$14:$AD$553,22),\"\")","v":""},{"$f":"IF($AE340=1,VLOOKUP($F340,all!$E$14:$AD$553,23),\"\")","v":""},{"$f":"IF($AE340=1,VLOOKUP($F340,all!$E$14:$AD$553,24),\"\")","v":""},{"$f":"IF($AE340=1,VLOOKUP($F340,all!$E$14:$AD$553,25),\"\")","v":""},null,{"$f":"COUNTIF(all!$E$14:$E$553,F340)","v":0}]
[null,null,null,null,null,308,{"$f":"IF($AE341=1,VLOOKUP($F341,all!$E$14:$AD$553,3),\"\")","v":""},{"$f":"IF($AE341=1,VLOOKUP($F341,all!$E$14:$AD$553,4),\"\")","v":""},{"$f":"IF($AE341=1,VLOOKUP($F341,all!$E$14:$AD$553,5),\"\")","v":""},{"$f":"IF($AE341=1,VLOOKUP($F341,all!$E$14:$AD$553,6),\"\")","v":""},{"$f":"IF($AE341=1,VLOOKUP($F341,all!$E$14:$AD$553,7),\"\")","v":""},{"$f":"IF($AE341=1,VLOOKUP($F341,all!$E$14:$AD$553,8),\"\")","v":""},{"$f":"IF($AE341=1,VLOOKUP($F341,all!$E$14:$AD$553,9),\"\")","v":""},{"$f":"IF($AE341=1,VLOOKUP($F341,all!$E$14:$AD$553,10),\"\")","v":""},{"$f":"IF($AE341=1,VLOOKUP($F341,all!$E$14:$AD$553,11),\"\")","v":""},{"$f":"IF($AE341=1,VLOOKUP($F341,all!$E$14:$AD$553,12),\"\")","v":""},{"$f":"IF($AE341=1,VLOOKUP($F341,all!$E$14:$AD$553,13),\"\")","v":""},{"$f":"IF($AE341=1,VLOOKUP($F341,all!$E$14:$AD$553,14),\"\")","v":""},{"$f":"IF($AE341=1,VLOOKUP($F341,all!$E$14:$AD$553,15),\"\")","v":""},{"$f":"IF($AE341=1,VLOOKUP($F341,all!$E$14:$AD$553,16),\"\")","v":""},{"$f":"IF($AE341=1,VLOOKUP($F341,all!$E$14:$AD$553,17),\"\")","v":""},{"$f":"IF($AE341=1,VLOOKUP($F341,all!$E$14:$AD$553,18),\"\")","v":""},{"$f":"IF($AE341=1,VLOOKUP($F341,all!$E$14:$AD$553,19),\"\")","v":""},{"$f":"IF($AE341=1,VLOOKUP($F341,all!$E$14:$AD$553,20),\"\")","v":""},{"$f":"IF($AE341=1,VLOOKUP($F341,all!$E$14:$AD$553,21),\"\")","v":""},{"$f":"IF($AE341=1,VLOOKUP($F341,all!$E$14:$AD$553,22),\"\")","v":""},{"$f":"IF($AE341=1,VLOOKUP($F341,all!$E$14:$AD$553,23),\"\")","v":""},{"$f":"IF($AE341=1,VLOOKUP($F341,all!$E$14:$AD$553,24),\"\")","v":""},{"$f":"IF($AE341=1,VLOOKUP($F341,all!$E$14:$AD$553,25),\"\")","v":""},null,{"$f":"COUNTIF(all!$E$14:$E$553,F341)","v":0}]
[null,null,null,null,null,309,{"$f":"IF($AE342=1,VLOOKUP($F342,all!$E$14:$AD$553,3),\"\")","v":""},{"$f":"IF($AE342=1,VLOOKUP($F342,all!$E$14:$AD$553,4),\"\")","v":""},{"$f":"IF($AE342=1,VLOOKUP($F342,all!$E$14:$AD$553,5),\"\")","v":""},{"$f":"IF($AE342=1,VLOOKUP($F342,all!$E$14:$AD$553,6),\"\")","v":""},{"$f":"IF($AE342=1,VLOOKUP($F342,all!$E$14:$AD$553,7),\"\")","v":""},{"$f":"IF($AE342=1,VLOOKUP($F342,all!$E$14:$AD$553,8),\"\")","v":""},{"$f":"IF($AE342=1,VLOOKUP($F342,all!$E$14:$AD$553,9),\"\")","v":""},{"$f":"IF($AE342=1,VLOOKUP($F342,all!$E$14:$AD$553,10),\"\")","v":""},{"$f":"IF($AE342=1,VLOOKUP($F342,all!$E$14:$AD$553,11),\"\")","v":""},{"$f":"IF($AE342=1,VLOOKUP($F342,all!$E$14:$AD$553,12),\"\")","v":""},{"$f":"IF($AE342=1,VLOOKUP($F342,all!$E$14:$AD$553,13),\"\")","v":""},{"$f":"IF($AE342=1,VLOOKUP($F342,all!$E$14:$AD$553,14),\"\")","v":""},{"$f":"IF($AE342=1,VLOOKUP($F342,all!$E$14:$AD$553,15),\"\")","v":""},{"$f":"IF($AE342=1,VLOOKUP($F342,all!$E$14:$AD$553,16),\"\")","v":""},{"$f":"IF($AE342=1,VLOOKUP($F342,all!$E$14:$AD$553,17),\"\")","v":""},{"$f":"IF($AE342=1,VLOOKUP($F342,all!$E$14:$AD$553,18),\"\")","v":""},{"$f":"IF($AE342=1,VLOOKUP($F342,all!$E$14:$AD$553,19),\"\")","v":""},{"$f":"IF($AE342=1,VLOOKUP($F342,all!$E$14:$AD$553,20),\"\")","v":""},{"$f":"IF($AE342=1,VLOOKUP($F342,all!$E$14:$AD$553,21),\"\")","v":""},{"$f":"IF($AE342=1,VLOOKUP($F342,all!$E$14:$AD$553,22),\"\")","v":""},{"$f":"IF($AE342=1,VLOOKUP($F342,all!$E$14:$AD$553,23),\"\")","v":""},{"$f":"IF($AE342=1,VLOOKUP($F342,all!$E$14:$AD$553,24),\"\")","v":""},{"$f":"IF($AE342=1,VLOOKUP($F342,all!$E$14:$AD$553,25),\"\")","v":""},null,{"$f":"COUNTIF(all!$E$14:$E$553,F342)","v":0}]
[null,null,null,null,null,310,{"$f":"IF($AE343=1,VLOOKUP($F343,all!$E$14:$AD$553,3),\"\")","v":""},{"$f":"IF($AE343=1,VLOOKUP($F343,all!$E$14:$AD$553,4),\"\")","v":""},{"$f":"IF($AE343=1,VLOOKUP($F343,all!$E$14:$AD$553,5),\"\")","v":""},{"$f":"IF($AE343=1,VLOOKUP($F343,all!$E$14:$AD$553,6),\"\")","v":""},{"$f":"IF($AE343=1,VLOOKUP($F343,all!$E$14:$AD$553,7),\"\")","v":""},{"$f":"IF($AE343=1,VLOOKUP($F343,all!$E$14:$AD$553,8),\"\")","v":""},{"$f":"IF($AE343=1,VLOOKUP($F343,all!$E$14:$AD$553,9),\"\")","v":""},{"$f":"IF($AE343=1,VLOOKUP($F343,all!$E$14:$AD$553,10),\"\")","v":""},{"$f":"IF($AE343=1,VLOOKUP($F343,all!$E$14:$AD$553,11),\"\")","v":""},{"$f":"IF($AE343=1,VLOOKUP($F343,all!$E$14:$AD$553,12),\"\")","v":""},{"$f":"IF($AE343=1,VLOOKUP($F343,all!$E$14:$AD$553,13),\"\")","v":""},{"$f":"IF($AE343=1,VLOOKUP($F343,all!$E$14:$AD$553,14),\"\")","v":""},{"$f":"IF($AE343=1,VLOOKUP($F343,all!$E$14:$AD$553,15),\"\")","v":""},{"$f":"IF($AE343=1,VLOOKUP($F343,all!$E$14:$AD$553,16),\"\")","v":""},{"$f":"IF($AE343=1,VLOOKUP($F343,all!$E$14:$AD$553,17),\"\")","v":""},{"$f":"IF($AE343=1,VLOOKUP($F343,all!$E$14:$AD$553,18),\"\")","v":""},{"$f":"IF($AE343=1,VLOOKUP($F343,all!$E$14:$AD$553,19),\"\")","v":""},{"$f":"IF($AE343=1,VLOOKUP($F343,all!$E$14:$AD$553,20),\"\")","v":""},{"$f":"IF($AE343=1,VLOOKUP($F343,all!$E$14:$AD$553,21),\"\")","v":""},{"$f":"IF($AE343=1,VLOOKUP($F343,all!$E$14:$AD$553,22),\"\")","v":""},{"$f":"IF($AE343=1,VLOOKUP($F343,all!$E$14:$AD$553,23),\"\")","v":""},{"$f":"IF($AE343=1,VLOOKUP($F343,all!$E$14:$AD$553,24),\"\")","v":""},{"$f":"IF($AE343=1,VLOOKUP($F343,all!$E$14:$AD$553,25),\"\")","v":""},null,{"$f":"COUNTIF(all!$E$14:$E$553,F343)","v":0}]
[null,null,null,null,null,311,{"$f":"IF($AE344=1,VLOOKUP($F344,all!$E$14:$AD$553,3),\"\")","v":""},{"$f":"IF($AE344=1,VLOOKUP($F344,all!$E$14:$AD$553,4),\"\")","v":""},{"$f":"IF($AE344=1,VLOOKUP($F344,all!$E$14:$AD$553,5),\"\")","v":""},{"$f":"IF($AE344=1,VLOOKUP($F344,all!$E$14:$AD$553,6),\"\")","v":""},{"$f":"IF($AE344=1,VLOOKUP($F344,all!$E$14:$AD$553,7),\"\")","v":""},{"$f":"IF($AE344=1,VLOOKUP($F344,all!$E$14:$AD$553,8),\"\")","v":""},{"$f":"IF($AE344=1,VLOOKUP($F344,all!$E$14:$AD$553,9),\"\")","v":""},{"$f":"IF($AE344=1,VLOOKUP($F344,all!$E$14:$AD$553,10),\"\")","v":""},{"$f":"IF($AE344=1,VLOOKUP($F344,all!$E$14:$AD$553,11),\"\")","v":""},{"$f":"IF($AE344=1,VLOOKUP($F344,all!$E$14:$AD$553,12),\"\")","v":""},{"$f":"IF($AE344=1,VLOOKUP($F344,all!$E$14:$AD$553,13),\"\")","v":""},{"$f":"IF($AE344=1,VLOOKUP($F344,all!$E$14:$AD$553,14),\"\")","v":""},{"$f":"IF($AE344=1,VLOOKUP($F344,all!$E$14:$AD$553,15),\"\")","v":""},{"$f":"IF($AE344=1,VLOOKUP($F344,all!$E$14:$AD$553,16),\"\")","v":""},{"$f":"IF($AE344=1,VLOOKUP($F344,all!$E$14:$AD$553,17),\"\")","v":""},{"$f":"IF($AE344=1,VLOOKUP($F344,all!$E$14:$AD$553,18),\"\")","v":""},{"$f":"IF($AE344=1,VLOOKUP($F344,all!$E$14:$AD$553,19),\"\")","v":""},{"$f":"IF($AE344=1,VLOOKUP($F344,all!$E$14:$AD$553,20),\"\")","v":""},{"$f":"IF($AE344=1,VLOOKUP($F344,all!$E$14:$AD$553,21),\"\")","v":""},{"$f":"IF($AE344=1,VLOOKUP($F344,all!$E$14:$AD$553,22),\"\")","v":""},{"$f":"IF($AE344=1,VLOOKUP($F344,all!$E$14:$AD$553,23),\"\")","v":""},{"$f":"IF($AE344=1,VLOOKUP($F344,all!$E$14:$AD$553,24),\"\")","v":""},{"$f":"IF($AE344=1,VLOOKUP($F344,all!$E$14:$AD$553,25),\"\")","v":""},null,{"$f":"COUNTIF(all!$E$14:$E$553,F344)","v":0}]
[null,null,null,null,null,312,{"$f":"IF($AE345=1,VLOOKUP($F345,all!$E$14:$AD$553,3),\"\")","v":""},{"$f":"IF($AE345=1,VLOOKUP($F345,all!$E$14:$AD$553,4),\"\")","v":""},{"$f":"IF($AE345=1,VLOOKUP($F345,all!$E$14:$AD$553,5),\"\")","v":""},{"$f":"IF($AE345=1,VLOOKUP($F345,all!$E$14:$AD$553,6),\"\")","v":""},{"$f":"IF($AE345=1,VLOOKUP($F345,all!$E$14:$AD$553,7),\"\")","v":""},{"$f":"IF($AE345=1,VLOOKUP($F345,all!$E$14:$AD$553,8),\"\")","v":""},{"$f":"IF($AE345=1,VLOOKUP($F345,all!$E$14:$AD$553,9),\"\")","v":""},{"$f":"IF($AE345=1,VLOOKUP($F345,all!$E$14:$AD$553,10),\"\")","v":""},{"$f":"IF($AE345=1,VLOOKUP($F345,all!$E$14:$AD$553,11),\"\")","v":""},{"$f":"IF($AE345=1,VLOOKUP($F345,all!$E$14:$AD$553,12),\"\")","v":""},{"$f":"IF($AE345=1,VLOOKUP($F345,all!$E$14:$AD$553,13),\"\")","v":""},{"$f":"IF($AE345=1,VLOOKUP($F345,all!$E$14:$AD$553,14),\"\")","v":""},{"$f":"IF($AE345=1,VLOOKUP($F345,all!$E$14:$AD$553,15),\"\")","v":""},{"$f":"IF($AE345=1,VLOOKUP($F345,all!$E$14:$AD$553,16),\"\")","v":""},{"$f":"IF($AE345=1,VLOOKUP($F345,all!$E$14:$AD$553,17),\"\")","v":""},{"$f":"IF($AE345=1,VLOOKUP($F345,all!$E$14:$AD$553,18),\"\")","v":""},{"$f":"IF($AE345=1,VLOOKUP($F345,all!$E$14:$AD$553,19),\"\")","v":""},{"$f":"IF($AE345=1,VLOOKUP($F345,all!$E$14:$AD$553,20),\"\")","v":""},{"$f":"IF($AE345=1,VLOOKUP($F345,all!$E$14:$AD$553,21),\"\")","v":""},{"$f":"IF($AE345=1,VLOOKUP($F345,all!$E$14:$AD$553,22),\"\")","v":""},{"$f":"IF($AE345=1,VLOOKUP($F345,all!$E$14:$AD$553,23),\"\")","v":""},{"$f":"IF($AE345=1,VLOOKUP($F345,all!$E$14:$AD$553,24),\"\")","v":""},{"$f":"IF($AE345=1,VLOOKUP($F345,all!$E$14:$AD$553,25),\"\")","v":""},null,{"$f":"COUNTIF(all!$E$14:$E$553,F345)","v":0}]
[null,null,null,null,null,313,{"$f":"IF($AE346=1,VLOOKUP($F346,all!$E$14:$AD$553,3),\"\")","v":""},{"$f":"IF($AE346=1,VLOOKUP($F346,all!$E$14:$AD$553,4),\"\")","v":""},{"$f":"IF($AE346=1,VLOOKUP($F346,all!$E$14:$AD$553,5),\"\")","v":""},{"$f":"IF($AE346=1,VLOOKUP($F346,all!$E$14:$AD$553,6),\"\")","v":""},{"$f":"IF($AE346=1,VLOOKUP($F346,all!$E$14:$AD$553,7),\"\")","v":""},{"$f":"IF($AE346=1,VLOOKUP($F346,all!$E$14:$AD$553,8),\"\")","v":""},{"$f":"IF($AE346=1,VLOOKUP($F346,all!$E$14:$AD$553,9),\"\")","v":""},{"$f":"IF($AE346=1,VLOOKUP($F346,all!$E$14:$AD$553,10),\"\")","v":""},{"$f":"IF($AE346=1,VLOOKUP($F346,all!$E$14:$AD$553,11),\"\")","v":""},{"$f":"IF($AE346=1,VLOOKUP($F346,all!$E$14:$AD$553,12),\"\")","v":""},{"$f":"IF($AE346=1,VLOOKUP($F346,all!$E$14:$AD$553,13),\"\")","v":""},{"$f":"IF($AE346=1,VLOOKUP($F346,all!$E$14:$AD$553,14),\"\")","v":""},{"$f":"IF($AE346=1,VLOOKUP($F346,all!$E$14:$AD$553,15),\"\")","v":""},{"$f":"IF($AE346=1,VLOOKUP($F346,all!$E$14:$AD$553,16),\"\")","v":""},{"$f":"IF($AE346=1,VLOOKUP($F346,all!$E$14:$AD$553,17),\"\")","v":""},{"$f":"IF($AE346=1,VLOOKUP($F346,all!$E$14:$AD$553,18),\"\")","v":""},{"$f":"IF($AE346=1,VLOOKUP($F346,all!$E$14:$AD$553,19),\"\")","v":""},{"$f":"IF($AE346=1,VLOOKUP($F346,all!$E$14:$AD$553,20),\"\")","v":""},{"$f":"IF($AE346=1,VLOOKUP($F346,all!$E$14:$AD$553,21),\"\")","v":""},{"$f":"IF($AE346=1,VLOOKUP($F346,all!$E$14:$AD$553,22),\"\")","v":""},{"$f":"IF($AE346=1,VLOOKUP($F346,all!$E$14:$AD$553,23),\"\")","v":""},{"$f":"IF($AE346=1,VLOOKUP($F346,all!$E$14:$AD$553,24),\"\")","v":""},{"$f":"IF($AE346=1,VLOOKUP($F346,all!$E$14:$AD$553,25),\"\")","v":""},null,{"$f":"COUNTIF(all!$E$14:$E$553,F346)","v":0}]
[null,null,null,null,null,314,{"$f":"IF($AE347=1,VLOOKUP($F347,all!$E$14:$AD$553,3),\"\")","v":""},{"$f":"IF($AE347=1,VLOOKUP($F347,all!$E$14:$AD$553,4),\"\")","v":""},{"$f":"IF($AE347=1,VLOOKUP($F347,all!$E$14:$AD$553,5),\"\")","v":""},{"$f":"IF($AE347=1,VLOOKUP($F347,all!$E$14:$AD$553,6),\"\")","v":""},{"$f":"IF($AE347=1,VLOOKUP($F347,all!$E$14:$AD$553,7),\"\")","v":""},{"$f":"IF($AE347=1,VLOOKUP($F347,all!$E$14:$AD$553,8),\"\")","v":""},{"$f":"IF($AE347=1,VLOOKUP($F347,all!$E$14:$AD$553,9),\"\")","v":""},{"$f":"IF($AE347=1,VLOOKUP($F347,all!$E$14:$AD$553,10),\"\")","v":""},{"$f":"IF($AE347=1,VLOOKUP($F347,all!$E$14:$AD$553,11),\"\")","v":""},{"$f":"IF($AE347=1,VLOOKUP($F347,all!$E$14:$AD$553,12),\"\")","v":""},{"$f":"IF($AE347=1,VLOOKUP($F347,all!$E$14:$AD$553,13),\"\")","v":""},{"$f":"IF($AE347=1,VLOOKUP($F347,all!$E$14:$AD$553,14),\"\")","v":""},{"$f":"IF($AE347=1,VLOOKUP($F347,all!$E$14:$AD$553,15),\"\")","v":""},{"$f":"IF($AE347=1,VLOOKUP($F347,all!$E$14:$AD$553,16),\"\")","v":""},{"$f":"IF($AE347=1,VLOOKUP($F347,all!$E$14:$AD$553,17),\"\")","v":""},{"$f":"IF($AE347=1,VLOOKUP($F347,all!$E$14:$AD$553,18),\"\")","v":""},{"$f":"IF($AE347=1,VLOOKUP($F347,all!$E$14:$AD$553,19),\"\")","v":""},{"$f":"IF($AE347=1,VLOOKUP($F347,all!$E$14:$AD$553,20),\"\")","v":""},{"$f":"IF($AE347=1,VLOOKUP($F347,all!$E$14:$AD$553,21),\"\")","v":""},{"$f":"IF($AE347=1,VLOOKUP($F347,all!$E$14:$AD$553,22),\"\")","v":""},{"$f":"IF($AE347=1,VLOOKUP($F347,all!$E$14:$AD$553,23),\"\")","v":""},{"$f":"IF($AE347=1,VLOOKUP($F347,all!$E$14:$AD$553,24),\"\")","v":""},{"$f":"IF($AE347=1,VLOOKUP($F347,all!$E$14:$AD$553,25),\"\")","v":""},null,{"$f":"COUNTIF(all!$E$14:$E$553,F347)","v":0}]
[null,null,null,null,null,315,{"$f":"IF($AE348=1,VLOOKUP($F348,all!$E$14:$AD$553,3),\"\")","v":""},{"$f":"IF($AE348=1,VLOOKUP($F348,all!$E$14:$AD$553,4),\"\")","v":""},{"$f":"IF($AE348=1,VLOOKUP($F348,all!$E$14:$AD$553,5),\"\")","v":""},{"$f":"IF($AE348=1,VLOOKUP($F348,all!$E$14:$AD$553,6),\"\")","v":""},{"$f":"IF($AE348=1,VLOOKUP($F348,all!$E$14:$AD$553,7),\"\")","v":""},{"$f":"IF($AE348=1,VLOOKUP($F348,all!$E$14:$AD$553,8),\"\")","v":""},{"$f":"IF($AE348=1,VLOOKUP($F348,all!$E$14:$AD$553,9),\"\")","v":""},{"$f":"IF($AE348=1,VLOOKUP($F348,all!$E$14:$AD$553,10),\"\")","v":""},{"$f":"IF($AE348=1,VLOOKUP($F348,all!$E$14:$AD$553,11),\"\")","v":""},{"$f":"IF($AE348=1,VLOOKUP($F348,all!$E$14:$AD$553,12),\"\")","v":""},{"$f":"IF($AE348=1,VLOOKUP($F348,all!$E$14:$AD$553,13),\"\")","v":""},{"$f":"IF($AE348=1,VLOOKUP($F348,all!$E$14:$AD$553,14),\"\")","v":""},{"$f":"IF($AE348=1,VLOOKUP($F348,all!$E$14:$AD$553,15),\"\")","v":""},{"$f":"IF($AE348=1,VLOOKUP($F348,all!$E$14:$AD$553,16),\"\")","v":""},{"$f":"IF($AE348=1,VLOOKUP($F348,all!$E$14:$AD$553,17),\"\")","v":""},{"$f":"IF($AE348=1,VLOOKUP($F348,all!$E$14:$AD$553,18),\"\")","v":""},{"$f":"IF($AE348=1,VLOOKUP($F348,all!$E$14:$AD$553,19),\"\")","v":""},{"$f":"IF($AE348=1,VLOOKUP($F348,all!$E$14:$AD$553,20),\"\")","v":""},{"$f":"IF($AE348=1,VLOOKUP($F348,all!$E$14:$AD$553,21),\"\")","v":""},{"$f":"IF($AE348=1,VLOOKUP($F348,all!$E$14:$AD$553,22),\"\")","v":""},{"$f":"IF($AE348=1,VLOOKUP($F348,all!$E$14:$AD$553,23),\"\")","v":""},{"$f":"IF($AE348=1,VLOOKUP($F348,all!$E$14:$AD$553,24),\"\")","v":""},{"$f":"IF($AE348=1,VLOOKUP($F348,all!$E$14:$AD$553,25),\"\")","v":""},null,{"$f":"COUNTIF(all!$E$14:$E$553,F348)","v":0}]
[null,null,null,null,null,316,{"$f":"IF($AE349=1,VLOOKUP($F349,all!$E$14:$AD$553,3),\"\")","v":""},{"$f":"IF($AE349=1,VLOOKUP($F349,all!$E$14:$AD$553,4),\"\")","v":""},{"$f":"IF($AE349=1,VLOOKUP($F349,all!$E$14:$AD$553,5),\"\")","v":""},{"$f":"IF($AE349=1,VLOOKUP($F349,all!$E$14:$AD$553,6),\"\")","v":""},{"$f":"IF($AE349=1,VLOOKUP($F349,all!$E$14:$AD$553,7),\"\")","v":""},{"$f":"IF($AE349=1,VLOOKUP($F349,all!$E$14:$AD$553,8),\"\")","v":""},{"$f":"IF($AE349=1,VLOOKUP($F349,all!$E$14:$AD$553,9),\"\")","v":""},{"$f":"IF($AE349=1,VLOOKUP($F349,all!$E$14:$AD$553,10),\"\")","v":""},{"$f":"IF($AE349=1,VLOOKUP($F349,all!$E$14:$AD$553,11),\"\")","v":""},{"$f":"IF($AE349=1,VLOOKUP($F349,all!$E$14:$AD$553,12),\"\")","v":""},{"$f":"IF($AE349=1,VLOOKUP($F349,all!$E$14:$AD$553,13),\"\")","v":""},{"$f":"IF($AE349=1,VLOOKUP($F349,all!$E$14:$AD$553,14),\"\")","v":""},{"$f":"IF($AE349=1,VLOOKUP($F349,all!$E$14:$AD$553,15),\"\")","v":""},{"$f":"IF($AE349=1,VLOOKUP($F349,all!$E$14:$AD$553,16),\"\")","v":""},{"$f":"IF($AE349=1,VLOOKUP($F349,all!$E$14:$AD$553,17),\"\")","v":""},{"$f":"IF($AE349=1,VLOOKUP($F349,all!$E$14:$AD$553,18),\"\")","v":""},{"$f":"IF($AE349=1,VLOOKUP($F349,all!$E$14:$AD$553,19),\"\")","v":""},{"$f":"IF($AE349=1,VLOOKUP($F349,all!$E$14:$AD$553,20),\"\")","v":""},{"$f":"IF($AE349=1,VLOOKUP($F349,all!$E$14:$AD$553,21),\"\")","v":""},{"$f":"IF($AE349=1,VLOOKUP($F349,all!$E$14:$AD$553,22),\"\")","v":""},{"$f":"IF($AE349=1,VLOOKUP($F349,all!$E$14:$AD$553,23),\"\")","v":""},{"$f":"IF($AE349=1,VLOOKUP($F349,all!$E$14:$AD$553,24),\"\")","v":""},{"$f":"IF($AE349=1,VLOOKUP($F349,all!$E$14:$AD$553,25),\"\")","v":""},null,{"$f":"COUNTIF(all!$E$14:$E$553,F349)","v":0}]
[null,null,null,null,null,317,{"$f":"IF($AE350=1,VLOOKUP($F350,all!$E$14:$AD$553,3),\"\")","v":""},{"$f":"IF($AE350=1,VLOOKUP($F350,all!$E$14:$AD$553,4),\"\")","v":""},{"$f":"IF($AE350=1,VLOOKUP($F350,all!$E$14:$AD$553,5),\"\")","v":""},{"$f":"IF($AE350=1,VLOOKUP($F350,all!$E$14:$AD$553,6),\"\")","v":""},{"$f":"IF($AE350=1,VLOOKUP($F350,all!$E$14:$AD$553,7),\"\")","v":""},{"$f":"IF($AE350=1,VLOOKUP($F350,all!$E$14:$AD$553,8),\"\")","v":""},{"$f":"IF($AE350=1,VLOOKUP($F350,all!$E$14:$AD$553,9),\"\")","v":""},{"$f":"IF($AE350=1,VLOOKUP($F350,all!$E$14:$AD$553,10),\"\")","v":""},{"$f":"IF($AE350=1,VLOOKUP($F350,all!$E$14:$AD$553,11),\"\")","v":""},{"$f":"IF($AE350=1,VLOOKUP($F350,all!$E$14:$AD$553,12),\"\")","v":""},{"$f":"IF($AE350=1,VLOOKUP($F350,all!$E$14:$AD$553,13),\"\")","v":""},{"$f":"IF($AE350=1,VLOOKUP($F350,all!$E$14:$AD$553,14),\"\")","v":""},{"$f":"IF($AE350=1,VLOOKUP($F350,all!$E$14:$AD$553,15),\"\")","v":""},{"$f":"IF($AE350=1,VLOOKUP($F350,all!$E$14:$AD$553,16),\"\")","v":""},{"$f":"IF($AE350=1,VLOOKUP($F350,all!$E$14:$AD$553,17),\"\")","v":""},{"$f":"IF($AE350=1,VLOOKUP($F350,all!$E$14:$AD$553,18),\"\")","v":""},{"$f":"IF($AE350=1,VLOOKUP($F350,all!$E$14:$AD$553,19),\"\")","v":""},{"$f":"IF($AE350=1,VLOOKUP($F350,all!$E$14:$AD$553,20),\"\")","v":""},{"$f":"IF($AE350=1,VLOOKUP($F350,all!$E$14:$AD$553,21),\"\")","v":""},{"$f":"IF($AE350=1,VLOOKUP($F350,all!$E$14:$AD$553,22),\"\")","v":""},{"$f":"IF($AE350=1,VLOOKUP($F350,all!$E$14:$AD$553,23),\"\")","v":""},{"$f":"IF($AE350=1,VLOOKUP($F350,all!$E$14:$AD$553,24),\"\")","v":""},{"$f":"IF($AE350=1,VLOOKUP($F350,all!$E$14:$AD$553,25),\"\")","v":""},null,{"$f":"COUNTIF(all!$E$14:$E$553,F350)","v":0}]
[null,null,null,null,null,318,{"$f":"IF($AE351=1,VLOOKUP($F351,all!$E$14:$AD$553,3),\"\")","v":""},{"$f":"IF($AE351=1,VLOOKUP($F351,all!$E$14:$AD$553,4),\"\")","v":""},{"$f":"IF($AE351=1,VLOOKUP($F351,all!$E$14:$AD$553,5),\"\")","v":""},{"$f":"IF($AE351=1,VLOOKUP($F351,all!$E$14:$AD$553,6),\"\")","v":""},{"$f":"IF($AE351=1,VLOOKUP($F351,all!$E$14:$AD$553,7),\"\")","v":""},{"$f":"IF($AE351=1,VLOOKUP($F351,all!$E$14:$AD$553,8),\"\")","v":""},{"$f":"IF($AE351=1,VLOOKUP($F351,all!$E$14:$AD$553,9),\"\")","v":""},{"$f":"IF($AE351=1,VLOOKUP($F351,all!$E$14:$AD$553,10),\"\")","v":""},{"$f":"IF($AE351=1,VLOOKUP($F351,all!$E$14:$AD$553,11),\"\")","v":""},{"$f":"IF($AE351=1,VLOOKUP($F351,all!$E$14:$AD$553,12),\"\")","v":""},{"$f":"IF($AE351=1,VLOOKUP($F351,all!$E$14:$AD$553,13),\"\")","v":""},{"$f":"IF($AE351=1,VLOOKUP($F351,all!$E$14:$AD$553,14),\"\")","v":""},{"$f":"IF($AE351=1,VLOOKUP($F351,all!$E$14:$AD$553,15),\"\")","v":""},{"$f":"IF($AE351=1,VLOOKUP($F351,all!$E$14:$AD$553,16),\"\")","v":""},{"$f":"IF($AE351=1,VLOOKUP($F351,all!$E$14:$AD$553,17),\"\")","v":""},{"$f":"IF($AE351=1,VLOOKUP($F351,all!$E$14:$AD$553,18),\"\")","v":""},{"$f":"IF($AE351=1,VLOOKUP($F351,all!$E$14:$AD$553,19),\"\")","v":""},{"$f":"IF($AE351=1,VLOOKUP($F351,all!$E$14:$AD$553,20),\"\")","v":""},{"$f":"IF($AE351=1,VLOOKUP($F351,all!$E$14:$AD$553,21),\"\")","v":""},{"$f":"IF($AE351=1,VLOOKUP($F351,all!$E$14:$AD$553,22),\"\")","v":""},{"$f":"IF($AE351=1,VLOOKUP($F351,all!$E$14:$AD$553,23),\"\")","v":""},{"$f":"IF($AE351=1,VLOOKUP($F351,all!$E$14:$AD$553,24),\"\")","v":""},{"$f":"IF($AE351=1,VLOOKUP($F351,all!$E$14:$AD$553,25),\"\")","v":""},null,{"$f":"COUNTIF(all!$E$14:$E$553,F351)","v":0}]
[null,null,null,null,null,319,{"$f":"IF($AE352=1,VLOOKUP($F352,all!$E$14:$AD$553,3),\"\")","v":""},{"$f":"IF($AE352=1,VLOOKUP($F352,all!$E$14:$AD$553,4),\"\")","v":""},{"$f":"IF($AE352=1,VLOOKUP($F352,all!$E$14:$AD$553,5),\"\")","v":""},{"$f":"IF($AE352=1,VLOOKUP($F352,all!$E$14:$AD$553,6),\"\")","v":""},{"$f":"IF($AE352=1,VLOOKUP($F352,all!$E$14:$AD$553,7),\"\")","v":""},{"$f":"IF($AE352=1,VLOOKUP($F352,all!$E$14:$AD$553,8),\"\")","v":""},{"$f":"IF($AE352=1,VLOOKUP($F352,all!$E$14:$AD$553,9),\"\")","v":""},{"$f":"IF($AE352=1,VLOOKUP($F352,all!$E$14:$AD$553,10),\"\")","v":""},{"$f":"IF($AE352=1,VLOOKUP($F352,all!$E$14:$AD$553,11),\"\")","v":""},{"$f":"IF($AE352=1,VLOOKUP($F352,all!$E$14:$AD$553,12),\"\")","v":""},{"$f":"IF($AE352=1,VLOOKUP($F352,all!$E$14:$AD$553,13),\"\")","v":""},{"$f":"IF($AE352=1,VLOOKUP($F352,all!$E$14:$AD$553,14),\"\")","v":""},{"$f":"IF($AE352=1,VLOOKUP($F352,all!$E$14:$AD$553,15),\"\")","v":""},{"$f":"IF($AE352=1,VLOOKUP($F352,all!$E$14:$AD$553,16),\"\")","v":""},{"$f":"IF($AE352=1,VLOOKUP($F352,all!$E$14:$AD$553,17),\"\")","v":""},{"$f":"IF($AE352=1,VLOOKUP($F352,all!$E$14:$AD$553,18),\"\")","v":""},{"$f":"IF($AE352=1,VLOOKUP($F352,all!$E$14:$AD$553,19),\"\")","v":""},{"$f":"IF($AE352=1,VLOOKUP($F352,all!$E$14:$AD$553,20),\"\")","v":""},{"$f":"IF($AE352=1,VLOOKUP($F352,all!$E$14:$AD$553,21),\"\")","v":""},{"$f":"IF($AE352=1,VLOOKUP($F352,all!$E$14:$AD$553,22),\"\")","v":""},{"$f":"IF($AE352=1,VLOOKUP($F352,all!$E$14:$AD$553,23),\"\")","v":""},{"$f":"IF($AE352=1,VLOOKUP($F352,all!$E$14:$AD$553,24),\"\")","v":""},{"$f":"IF($AE352=1,VLOOKUP($F352,all!$E$14:$AD$553,25),\"\")","v":""},null,{"$f":"COUNTIF(all!$E$14:$E$553,F352)","v":0}]
[null,null,null,null,null,320,{"$f":"IF($AE353=1,VLOOKUP($F353,all!$E$14:$AD$553,3),\"\")","v":""},{"$f":"IF($AE353=1,VLOOKUP($F353,all!$E$14:$AD$553,4),\"\")","v":""},{"$f":"IF($AE353=1,VLOOKUP($F353,all!$E$14:$AD$553,5),\"\")","v":""},{"$f":"IF($AE353=1,VLOOKUP($F353,all!$E$14:$AD$553,6),\"\")","v":""},{"$f":"IF($AE353=1,VLOOKUP($F353,all!$E$14:$AD$553,7),\"\")","v":""},{"$f":"IF($AE353=1,VLOOKUP($F353,all!$E$14:$AD$553,8),\"\")","v":""},{"$f":"IF($AE353=1,VLOOKUP($F353,all!$E$14:$AD$553,9),\"\")","v":""},{"$f":"IF($AE353=1,VLOOKUP($F353,all!$E$14:$AD$553,10),\"\")","v":""},{"$f":"IF($AE353=1,VLOOKUP($F353,all!$E$14:$AD$553,11),\"\")","v":""},{"$f":"IF($AE353=1,VLOOKUP($F353,all!$E$14:$AD$553,12),\"\")","v":""},{"$f":"IF($AE353=1,VLOOKUP($F353,all!$E$14:$AD$553,13),\"\")","v":""},{"$f":"IF($AE353=1,VLOOKUP($F353,all!$E$14:$AD$553,14),\"\")","v":""},{"$f":"IF($AE353=1,VLOOKUP($F353,all!$E$14:$AD$553,15),\"\")","v":""},{"$f":"IF($AE353=1,VLOOKUP($F353,all!$E$14:$AD$553,16),\"\")","v":""},{"$f":"IF($AE353=1,VLOOKUP($F353,all!$E$14:$AD$553,17),\"\")","v":""},{"$f":"IF($AE353=1,VLOOKUP($F353,all!$E$14:$AD$553,18),\"\")","v":""},{"$f":"IF($AE353=1,VLOOKUP($F353,all!$E$14:$AD$553,19),\"\")","v":""},{"$f":"IF($AE353=1,VLOOKUP($F353,all!$E$14:$AD$553,20),\"\")","v":""},{"$f":"IF($AE353=1,VLOOKUP($F353,all!$E$14:$AD$553,21),\"\")","v":""},{"$f":"IF($AE353=1,VLOOKUP($F353,all!$E$14:$AD$553,22),\"\")","v":""},{"$f":"IF($AE353=1,VLOOKUP($F353,all!$E$14:$AD$553,23),\"\")","v":""},{"$f":"IF($AE353=1,VLOOKUP($F353,all!$E$14:$AD$553,24),\"\")","v":""},{"$f":"IF($AE353=1,VLOOKUP($F353,all!$E$14:$AD$553,25),\"\")","v":""},null,{"$f":"COUNTIF(all!$E$14:$E$553,F353)","v":0}]
[null,null,null,null,null,321,{"$f":"IF($AE354=1,VLOOKUP($F354,all!$E$14:$AD$553,3),\"\")","v":""},{"$f":"IF($AE354=1,VLOOKUP($F354,all!$E$14:$AD$553,4),\"\")","v":""},{"$f":"IF($AE354=1,VLOOKUP($F354,all!$E$14:$AD$553,5),\"\")","v":""},{"$f":"IF($AE354=1,VLOOKUP($F354,all!$E$14:$AD$553,6),\"\")","v":""},{"$f":"IF($AE354=1,VLOOKUP($F354,all!$E$14:$AD$553,7),\"\")","v":""},{"$f":"IF($AE354=1,VLOOKUP($F354,all!$E$14:$AD$553,8),\"\")","v":""},{"$f":"IF($AE354=1,VLOOKUP($F354,all!$E$14:$AD$553,9),\"\")","v":""},{"$f":"IF($AE354=1,VLOOKUP($F354,all!$E$14:$AD$553,10),\"\")","v":""},{"$f":"IF($AE354=1,VLOOKUP($F354,all!$E$14:$AD$553,11),\"\")","v":""},{"$f":"IF($AE354=1,VLOOKUP($F354,all!$E$14:$AD$553,12),\"\")","v":""},{"$f":"IF($AE354=1,VLOOKUP($F354,all!$E$14:$AD$553,13),\"\")","v":""},{"$f":"IF($AE354=1,VLOOKUP($F354,all!$E$14:$AD$553,14),\"\")","v":""},{"$f":"IF($AE354=1,VLOOKUP($F354,all!$E$14:$AD$553,15),\"\")","v":""},{"$f":"IF($AE354=1,VLOOKUP($F354,all!$E$14:$AD$553,16),\"\")","v":""},{"$f":"IF($AE354=1,VLOOKUP($F354,all!$E$14:$AD$553,17),\"\")","v":""},{"$f":"IF($AE354=1,VLOOKUP($F354,all!$E$14:$AD$553,18),\"\")","v":""},{"$f":"IF($AE354=1,VLOOKUP($F354,all!$E$14:$AD$553,19),\"\")","v":""},{"$f":"IF($AE354=1,VLOOKUP($F354,all!$E$14:$AD$553,20),\"\")","v":""},{"$f":"IF($AE354=1,VLOOKUP($F354,all!$E$14:$AD$553,21),\"\")","v":""},{"$f":"IF($AE354=1,VLOOKUP($F354,all!$E$14:$AD$553,22),\"\")","v":""},{"$f":"IF($AE354=1,VLOOKUP($F354,all!$E$14:$AD$553,23),\"\")","v":""},{"$f":"IF($AE354=1,VLOOKUP($F354,all!$E$14:$AD$553,24),\"\")","v":""},{"$f":"IF($AE354=1,VLOOKUP($F354,all!$E$14:$AD$553,25),\"\")","v":""},null,{"$f":"COUNTIF(all!$E$14:$E$553,F354)","v":0}]
[null,null,null,null,null,322,{"$f":"IF($AE355=1,VLOOKUP($F355,all!$E$14:$AD$553,3),\"\")","v":""},{"$f":"IF($AE355=1,VLOOKUP($F355,all!$E$14:$AD$553,4),\"\")","v":""},{"$f":"IF($AE355=1,VLOOKUP($F355,all!$E$14:$AD$553,5),\"\")","v":""},{"$f":"IF($AE355=1,VLOOKUP($F355,all!$E$14:$AD$553,6),\"\")","v":""},{"$f":"IF($AE355=1,VLOOKUP($F355,all!$E$14:$AD$553,7),\"\")","v":""},{"$f":"IF($AE355=1,VLOOKUP($F355,all!$E$14:$AD$553,8),\"\")","v":""},{"$f":"IF($AE355=1,VLOOKUP($F355,all!$E$14:$AD$553,9),\"\")","v":""},{"$f":"IF($AE355=1,VLOOKUP($F355,all!$E$14:$AD$553,10),\"\")","v":""},{"$f":"IF($AE355=1,VLOOKUP($F355,all!$E$14:$AD$553,11),\"\")","v":""},{"$f":"IF($AE355=1,VLOOKUP($F355,all!$E$14:$AD$553,12),\"\")","v":""},{"$f":"IF($AE355=1,VLOOKUP($F355,all!$E$14:$AD$553,13),\"\")","v":""},{"$f":"IF($AE355=1,VLOOKUP($F355,all!$E$14:$AD$553,14),\"\")","v":""},{"$f":"IF($AE355=1,VLOOKUP($F355,all!$E$14:$AD$553,15),\"\")","v":""},{"$f":"IF($AE355=1,VLOOKUP($F355,all!$E$14:$AD$553,16),\"\")","v":""},{"$f":"IF($AE355=1,VLOOKUP($F355,all!$E$14:$AD$553,17),\"\")","v":""},{"$f":"IF($AE355=1,VLOOKUP($F355,all!$E$14:$AD$553,18),\"\")","v":""},{"$f":"IF($AE355=1,VLOOKUP($F355,all!$E$14:$AD$553,19),\"\")","v":""},{"$f":"IF($AE355=1,VLOOKUP($F355,all!$E$14:$AD$553,20),\"\")","v":""},{"$f":"IF($AE355=1,VLOOKUP($F355,all!$E$14:$AD$553,21),\"\")","v":""},{"$f":"IF($AE355=1,VLOOKUP($F355,all!$E$14:$AD$553,22),\"\")","v":""},{"$f":"IF($AE355=1,VLOOKUP($F355,all!$E$14:$AD$553,23),\"\")","v":""},{"$f":"IF($AE355=1,VLOOKUP($F355,all!$E$14:$AD$553,24),\"\")","v":""},{"$f":"IF($AE355=1,VLOOKUP($F355,all!$E$14:$AD$553,25),\"\")","v":""},null,{"$f":"COUNTIF(all!$E$14:$E$553,F355)","v":0}]
[null,null,null,null,null,323,{"$f":"IF($AE356=1,VLOOKUP($F356,all!$E$14:$AD$553,3),\"\")","v":""},{"$f":"IF($AE356=1,VLOOKUP($F356,all!$E$14:$AD$553,4),\"\")","v":""},{"$f":"IF($AE356=1,VLOOKUP($F356,all!$E$14:$AD$553,5),\"\")","v":""},{"$f":"IF($AE356=1,VLOOKUP($F356,all!$E$14:$AD$553,6),\"\")","v":""},{"$f":"IF($AE356=1,VLOOKUP($F356,all!$E$14:$AD$553,7),\"\")","v":""},{"$f":"IF($AE356=1,VLOOKUP($F356,all!$E$14:$AD$553,8),\"\")","v":""},{"$f":"IF($AE356=1,VLOOKUP($F356,all!$E$14:$AD$553,9),\"\")","v":""},{"$f":"IF($AE356=1,VLOOKUP($F356,all!$E$14:$AD$553,10),\"\")","v":""},{"$f":"IF($AE356=1,VLOOKUP($F356,all!$E$14:$AD$553,11),\"\")","v":""},{"$f":"IF($AE356=1,VLOOKUP($F356,all!$E$14:$AD$553,12),\"\")","v":""},{"$f":"IF($AE356=1,VLOOKUP($F356,all!$E$14:$AD$553,13),\"\")","v":""},{"$f":"IF($AE356=1,VLOOKUP($F356,all!$E$14:$AD$553,14),\"\")","v":""},{"$f":"IF($AE356=1,VLOOKUP($F356,all!$E$14:$AD$553,15),\"\")","v":""},{"$f":"IF($AE356=1,VLOOKUP($F356,all!$E$14:$AD$553,16),\"\")","v":""},{"$f":"IF($AE356=1,VLOOKUP($F356,all!$E$14:$AD$553,17),\"\")","v":""},{"$f":"IF($AE356=1,VLOOKUP($F356,all!$E$14:$AD$553,18),\"\")","v":""},{"$f":"IF($AE356=1,VLOOKUP($F356,all!$E$14:$AD$553,19),\"\")","v":""},{"$f":"IF($AE356=1,VLOOKUP($F356,all!$E$14:$AD$553,20),\"\")","v":""},{"$f":"IF($AE356=1,VLOOKUP($F356,all!$E$14:$AD$553,21),\"\")","v":""},{"$f":"IF($AE356=1,VLOOKUP($F356,all!$E$14:$AD$553,22),\"\")","v":""},{"$f":"IF($AE356=1,VLOOKUP($F356,all!$E$14:$AD$553,23),\"\")","v":""},{"$f":"IF($AE356=1,VLOOKUP($F356,all!$E$14:$AD$553,24),\"\")","v":""},{"$f":"IF($AE356=1,VLOOKUP($F356,all!$E$14:$AD$553,25),\"\")","v":""},null,{"$f":"COUNTIF(all!$E$14:$E$553,F356)","v":0}]
[null,null,null,null,null,324,{"$f":"IF($AE357=1,VLOOKUP($F357,all!$E$14:$AD$553,3),\"\")","v":""},{"$f":"IF($AE357=1,VLOOKUP($F357,all!$E$14:$AD$553,4),\"\")","v":""},{"$f":"IF($AE357=1,VLOOKUP($F357,all!$E$14:$AD$553,5),\"\")","v":""},{"$f":"IF($AE357=1,VLOOKUP($F357,all!$E$14:$AD$553,6),\"\")","v":""},{"$f":"IF($AE357=1,VLOOKUP($F357,all!$E$14:$AD$553,7),\"\")","v":""},{"$f":"IF($AE357=1,VLOOKUP($F357,all!$E$14:$AD$553,8),\"\")","v":""},{"$f":"IF($AE357=1,VLOOKUP($F357,all!$E$14:$AD$553,9),\"\")","v":""},{"$f":"IF($AE357=1,VLOOKUP($F357,all!$E$14:$AD$553,10),\"\")","v":""},{"$f":"IF($AE357=1,VLOOKUP($F357,all!$E$14:$AD$553,11),\"\")","v":""},{"$f":"IF($AE357=1,VLOOKUP($F357,all!$E$14:$AD$553,12),\"\")","v":""},{"$f":"IF($AE357=1,VLOOKUP($F357,all!$E$14:$AD$553,13),\"\")","v":""},{"$f":"IF($AE357=1,VLOOKUP($F357,all!$E$14:$AD$553,14),\"\")","v":""},{"$f":"IF($AE357=1,VLOOKUP($F357,all!$E$14:$AD$553,15),\"\")","v":""},{"$f":"IF($AE357=1,VLOOKUP($F357,all!$E$14:$AD$553,16),\"\")","v":""},{"$f":"IF($AE357=1,VLOOKUP($F357,all!$E$14:$AD$553,17),\"\")","v":""},{"$f":"IF($AE357=1,VLOOKUP($F357,all!$E$14:$AD$553,18),\"\")","v":""},{"$f":"IF($AE357=1,VLOOKUP($F357,all!$E$14:$AD$553,19),\"\")","v":""},{"$f":"IF($AE357=1,VLOOKUP($F357,all!$E$14:$AD$553,20),\"\")","v":""},{"$f":"IF($AE357=1,VLOOKUP($F357,all!$E$14:$AD$553,21),\"\")","v":""},{"$f":"IF($AE357=1,VLOOKUP($F357,all!$E$14:$AD$553,22),\"\")","v":""},{"$f":"IF($AE357=1,VLOOKUP($F357,all!$E$14:$AD$553,23),\"\")","v":""},{"$f":"IF($AE357=1,VLOOKUP($F357,all!$E$14:$AD$553,24),\"\")","v":""},{"$f":"IF($AE357=1,VLOOKUP($F357,all!$E$14:$AD$553,25),\"\")","v":""},null,{"$f":"COUNTIF(all!$E$14:$E$553,F357)","v":0}]
[null,null,null,null,null,325,{"$f":"IF($AE358=1,VLOOKUP($F358,all!$E$14:$AD$553,3),\"\")","v":""},{"$f":"IF($AE358=1,VLOOKUP($F358,all!$E$14:$AD$553,4),\"\")","v":""},{"$f":"IF($AE358=1,VLOOKUP($F358,all!$E$14:$AD$553,5),\"\")","v":""},{"$f":"IF($AE358=1,VLOOKUP($F358,all!$E$14:$AD$553,6),\"\")","v":""},{"$f":"IF($AE358=1,VLOOKUP($F358,all!$E$14:$AD$553,7),\"\")","v":""},{"$f":"IF($AE358=1,VLOOKUP($F358,all!$E$14:$AD$553,8),\"\")","v":""},{"$f":"IF($AE358=1,VLOOKUP($F358,all!$E$14:$AD$553,9),\"\")","v":""},{"$f":"IF($AE358=1,VLOOKUP($F358,all!$E$14:$AD$553,10),\"\")","v":""},{"$f":"IF($AE358=1,VLOOKUP($F358,all!$E$14:$AD$553,11),\"\")","v":""},{"$f":"IF($AE358=1,VLOOKUP($F358,all!$E$14:$AD$553,12),\"\")","v":""},{"$f":"IF($AE358=1,VLOOKUP($F358,all!$E$14:$AD$553,13),\"\")","v":""},{"$f":"IF($AE358=1,VLOOKUP($F358,all!$E$14:$AD$553,14),\"\")","v":""},{"$f":"IF($AE358=1,VLOOKUP($F358,all!$E$14:$AD$553,15),\"\")","v":""},{"$f":"IF($AE358=1,VLOOKUP($F358,all!$E$14:$AD$553,16),\"\")","v":""},{"$f":"IF($AE358=1,VLOOKUP($F358,all!$E$14:$AD$553,17),\"\")","v":""},{"$f":"IF($AE358=1,VLOOKUP($F358,all!$E$14:$AD$553,18),\"\")","v":""},{"$f":"IF($AE358=1,VLOOKUP($F358,all!$E$14:$AD$553,19),\"\")","v":""},{"$f":"IF($AE358=1,VLOOKUP($F358,all!$E$14:$AD$553,20),\"\")","v":""},{"$f":"IF($AE358=1,VLOOKUP($F358,all!$E$14:$AD$553,21),\"\")","v":""},{"$f":"IF($AE358=1,VLOOKUP($F358,all!$E$14:$AD$553,22),\"\")","v":""},{"$f":"IF($AE358=1,VLOOKUP($F358,all!$E$14:$AD$553,23),\"\")","v":""},{"$f":"IF($AE358=1,VLOOKUP($F358,all!$E$14:$AD$553,24),\"\")","v":""},{"$f":"IF($AE358=1,VLOOKUP($F358,all!$E$14:$AD$553,25),\"\")","v":""},null,{"$f":"COUNTIF(all!$E$14:$E$553,F358)","v":0}]
[null,null,null,null,null,326,{"$f":"IF($AE359=1,VLOOKUP($F359,all!$E$14:$AD$553,3),\"\")","v":""},{"$f":"IF($AE359=1,VLOOKUP($F359,all!$E$14:$AD$553,4),\"\")","v":""},{"$f":"IF($AE359=1,VLOOKUP($F359,all!$E$14:$AD$553,5),\"\")","v":""},{"$f":"IF($AE359=1,VLOOKUP($F359,all!$E$14:$AD$553,6),\"\")","v":""},{"$f":"IF($AE359=1,VLOOKUP($F359,all!$E$14:$AD$553,7),\"\")","v":""},{"$f":"IF($AE359=1,VLOOKUP($F359,all!$E$14:$AD$553,8),\"\")","v":""},{"$f":"IF($AE359=1,VLOOKUP($F359,all!$E$14:$AD$553,9),\"\")","v":""},{"$f":"IF($AE359=1,VLOOKUP($F359,all!$E$14:$AD$553,10),\"\")","v":""},{"$f":"IF($AE359=1,VLOOKUP($F359,all!$E$14:$AD$553,11),\"\")","v":""},{"$f":"IF($AE359=1,VLOOKUP($F359,all!$E$14:$AD$553,12),\"\")","v":""},{"$f":"IF($AE359=1,VLOOKUP($F359,all!$E$14:$AD$553,13),\"\")","v":""},{"$f":"IF($AE359=1,VLOOKUP($F359,all!$E$14:$AD$553,14),\"\")","v":""},{"$f":"IF($AE359=1,VLOOKUP($F359,all!$E$14:$AD$553,15),\"\")","v":""},{"$f":"IF($AE359=1,VLOOKUP($F359,all!$E$14:$AD$553,16),\"\")","v":""},{"$f":"IF($AE359=1,VLOOKUP($F359,all!$E$14:$AD$553,17),\"\")","v":""},{"$f":"IF($AE359=1,VLOOKUP($F359,all!$E$14:$AD$553,18),\"\")","v":""},{"$f":"IF($AE359=1,VLOOKUP($F359,all!$E$14:$AD$553,19),\"\")","v":""},{"$f":"IF($AE359=1,VLOOKUP($F359,all!$E$14:$AD$553,20),\"\")","v":""},{"$f":"IF($AE359=1,VLOOKUP($F359,all!$E$14:$AD$553,21),\"\")","v":""},{"$f":"IF($AE359=1,VLOOKUP($F359,all!$E$14:$AD$553,22),\"\")","v":""},{"$f":"IF($AE359=1,VLOOKUP($F359,all!$E$14:$AD$553,23),\"\")","v":""},{"$f":"IF($AE359=1,VLOOKUP($F359,all!$E$14:$AD$553,24),\"\")","v":""},{"$f":"IF($AE359=1,VLOOKUP($F359,all!$E$14:$AD$553,25),\"\")","v":""},null,{"$f":"COUNTIF(all!$E$14:$E$553,F359)","v":0}]
[null,null,null,null,null,327,{"$f":"IF($AE360=1,VLOOKUP($F360,all!$E$14:$AD$553,3),\"\")","v":""},{"$f":"IF($AE360=1,VLOOKUP($F360,all!$E$14:$AD$553,4),\"\")","v":""},{"$f":"IF($AE360=1,VLOOKUP($F360,all!$E$14:$AD$553,5),\"\")","v":""},{"$f":"IF($AE360=1,VLOOKUP($F360,all!$E$14:$AD$553,6),\"\")","v":""},{"$f":"IF($AE360=1,VLOOKUP($F360,all!$E$14:$AD$553,7),\"\")","v":""},{"$f":"IF($AE360=1,VLOOKUP($F360,all!$E$14:$AD$553,8),\"\")","v":""},{"$f":"IF($AE360=1,VLOOKUP($F360,all!$E$14:$AD$553,9),\"\")","v":""},{"$f":"IF($AE360=1,VLOOKUP($F360,all!$E$14:$AD$553,10),\"\")","v":""},{"$f":"IF($AE360=1,VLOOKUP($F360,all!$E$14:$AD$553,11),\"\")","v":""},{"$f":"IF($AE360=1,VLOOKUP($F360,all!$E$14:$AD$553,12),\"\")","v":""},{"$f":"IF($AE360=1,VLOOKUP($F360,all!$E$14:$AD$553,13),\"\")","v":""},{"$f":"IF($AE360=1,VLOOKUP($F360,all!$E$14:$AD$553,14),\"\")","v":""},{"$f":"IF($AE360=1,VLOOKUP($F360,all!$E$14:$AD$553,15),\"\")","v":""},{"$f":"IF($AE360=1,VLOOKUP($F360,all!$E$14:$AD$553,16),\"\")","v":""},{"$f":"IF($AE360=1,VLOOKUP($F360,all!$E$14:$AD$553,17),\"\")","v":""},{"$f":"IF($AE360=1,VLOOKUP($F360,all!$E$14:$AD$553,18),\"\")","v":""},{"$f":"IF($AE360=1,VLOOKUP($F360,all!$E$14:$AD$553,19),\"\")","v":""},{"$f":"IF($AE360=1,VLOOKUP($F360,all!$E$14:$AD$553,20),\"\")","v":""},{"$f":"IF($AE360=1,VLOOKUP($F360,all!$E$14:$AD$553,21),\"\")","v":""},{"$f":"IF($AE360=1,VLOOKUP($F360,all!$E$14:$AD$553,22),\"\")","v":""},{"$f":"IF($AE360=1,VLOOKUP($F360,all!$E$14:$AD$553,23),\"\")","v":""},{"$f":"IF($AE360=1,VLOOKUP($F360,all!$E$14:$AD$553,24),\"\")","v":""},{"$f":"IF($AE360=1,VLOOKUP($F360,all!$E$14:$AD$553,25),\"\")","v":""},null,{"$f":"COUNTIF(all!$E$14:$E$553,F360)","v":0}]
[null,null,null,null,null,328,{"$f":"IF($AE361=1,VLOOKUP($F361,all!$E$14:$AD$553,3),\"\")","v":""},{"$f":"IF($AE361=1,VLOOKUP($F361,all!$E$14:$AD$553,4),\"\")","v":""},{"$f":"IF($AE361=1,VLOOKUP($F361,all!$E$14:$AD$553,5),\"\")","v":""},{"$f":"IF($AE361=1,VLOOKUP($F361,all!$E$14:$AD$553,6),\"\")","v":""},{"$f":"IF($AE361=1,VLOOKUP($F361,all!$E$14:$AD$553,7),\"\")","v":""},{"$f":"IF($AE361=1,VLOOKUP($F361,all!$E$14:$AD$553,8),\"\")","v":""},{"$f":"IF($AE361=1,VLOOKUP($F361,all!$E$14:$AD$553,9),\"\")","v":""},{"$f":"IF($AE361=1,VLOOKUP($F361,all!$E$14:$AD$553,10),\"\")","v":""},{"$f":"IF($AE361=1,VLOOKUP($F361,all!$E$14:$AD$553,11),\"\")","v":""},{"$f":"IF($AE361=1,VLOOKUP($F361,all!$E$14:$AD$553,12),\"\")","v":""},{"$f":"IF($AE361=1,VLOOKUP($F361,all!$E$14:$AD$553,13),\"\")","v":""},{"$f":"IF($AE361=1,VLOOKUP($F361,all!$E$14:$AD$553,14),\"\")","v":""},{"$f":"IF($AE361=1,VLOOKUP($F361,all!$E$14:$AD$553,15),\"\")","v":""},{"$f":"IF($AE361=1,VLOOKUP($F361,all!$E$14:$AD$553,16),\"\")","v":""},{"$f":"IF($AE361=1,VLOOKUP($F361,all!$E$14:$AD$553,17),\"\")","v":""},{"$f":"IF($AE361=1,VLOOKUP($F361,all!$E$14:$AD$553,18),\"\")","v":""},{"$f":"IF($AE361=1,VLOOKUP($F361,all!$E$14:$AD$553,19),\"\")","v":""},{"$f":"IF($AE361=1,VLOOKUP($F361,all!$E$14:$AD$553,20),\"\")","v":""},{"$f":"IF($AE361=1,VLOOKUP($F361,all!$E$14:$AD$553,21),\"\")","v":""},{"$f":"IF($AE361=1,VLOOKUP($F361,all!$E$14:$AD$553,22),\"\")","v":""},{"$f":"IF($AE361=1,VLOOKUP($F361,all!$E$14:$AD$553,23),\"\")","v":""},{"$f":"IF($AE361=1,VLOOKUP($F361,all!$E$14:$AD$553,24),\"\")","v":""},{"$f":"IF($AE361=1,VLOOKUP($F361,all!$E$14:$AD$553,25),\"\")","v":""},null,{"$f":"COUNTIF(all!$E$14:$E$553,F361)","v":0}]
[null,null,null,null,null,329,{"$f":"IF($AE362=1,VLOOKUP($F362,all!$E$14:$AD$553,3),\"\")","v":""},{"$f":"IF($AE362=1,VLOOKUP($F362,all!$E$14:$AD$553,4),\"\")","v":""},{"$f":"IF($AE362=1,VLOOKUP($F362,all!$E$14:$AD$553,5),\"\")","v":""},{"$f":"IF($AE362=1,VLOOKUP($F362,all!$E$14:$AD$553,6),\"\")","v":""},{"$f":"IF($AE362=1,VLOOKUP($F362,all!$E$14:$AD$553,7),\"\")","v":""},{"$f":"IF($AE362=1,VLOOKUP($F362,all!$E$14:$AD$553,8),\"\")","v":""},{"$f":"IF($AE362=1,VLOOKUP($F362,all!$E$14:$AD$553,9),\"\")","v":""},{"$f":"IF($AE362=1,VLOOKUP($F362,all!$E$14:$AD$553,10),\"\")","v":""},{"$f":"IF($AE362=1,VLOOKUP($F362,all!$E$14:$AD$553,11),\"\")","v":""},{"$f":"IF($AE362=1,VLOOKUP($F362,all!$E$14:$AD$553,12),\"\")","v":""},{"$f":"IF($AE362=1,VLOOKUP($F362,all!$E$14:$AD$553,13),\"\")","v":""},{"$f":"IF($AE362=1,VLOOKUP($F362,all!$E$14:$AD$553,14),\"\")","v":""},{"$f":"IF($AE362=1,VLOOKUP($F362,all!$E$14:$AD$553,15),\"\")","v":""},{"$f":"IF($AE362=1,VLOOKUP($F362,all!$E$14:$AD$553,16),\"\")","v":""},{"$f":"IF($AE362=1,VLOOKUP($F362,all!$E$14:$AD$553,17),\"\")","v":""},{"$f":"IF($AE362=1,VLOOKUP($F362,all!$E$14:$AD$553,18),\"\")","v":""},{"$f":"IF($AE362=1,VLOOKUP($F362,all!$E$14:$AD$553,19),\"\")","v":""},{"$f":"IF($AE362=1,VLOOKUP($F362,all!$E$14:$AD$553,20),\"\")","v":""},{"$f":"IF($AE362=1,VLOOKUP($F362,all!$E$14:$AD$553,21),\"\")","v":""},{"$f":"IF($AE362=1,VLOOKUP($F362,all!$E$14:$AD$553,22),\"\")","v":""},{"$f":"IF($AE362=1,VLOOKUP($F362,all!$E$14:$AD$553,23),\"\")","v":""},{"$f":"IF($AE362=1,VLOOKUP($F362,all!$E$14:$AD$553,24),\"\")","v":""},{"$f":"IF($AE362=1,VLOOKUP($F362,all!$E$14:$AD$553,25),\"\")","v":""},null,{"$f":"COUNTIF(all!$E$14:$E$553,F362)","v":0}]
[null,null,null,null,null,330,{"$f":"IF($AE363=1,VLOOKUP($F363,all!$E$14:$AD$553,3),\"\")","v":""},{"$f":"IF($AE363=1,VLOOKUP($F363,all!$E$14:$AD$553,4),\"\")","v":""},{"$f":"IF($AE363=1,VLOOKUP($F363,all!$E$14:$AD$553,5),\"\")","v":""},{"$f":"IF($AE363=1,VLOOKUP($F363,all!$E$14:$AD$553,6),\"\")","v":""},{"$f":"IF($AE363=1,VLOOKUP($F363,all!$E$14:$AD$553,7),\"\")","v":""},{"$f":"IF($AE363=1,VLOOKUP($F363,all!$E$14:$AD$553,8),\"\")","v":""},{"$f":"IF($AE363=1,VLOOKUP($F363,all!$E$14:$AD$553,9),\"\")","v":""},{"$f":"IF($AE363=1,VLOOKUP($F363,all!$E$14:$AD$553,10),\"\")","v":""},{"$f":"IF($AE363=1,VLOOKUP($F363,all!$E$14:$AD$553,11),\"\")","v":""},{"$f":"IF($AE363=1,VLOOKUP($F363,all!$E$14:$AD$553,12),\"\")","v":""},{"$f":"IF($AE363=1,VLOOKUP($F363,all!$E$14:$AD$553,13),\"\")","v":""},{"$f":"IF($AE363=1,VLOOKUP($F363,all!$E$14:$AD$553,14),\"\")","v":""},{"$f":"IF($AE363=1,VLOOKUP($F363,all!$E$14:$AD$553,15),\"\")","v":""},{"$f":"IF($AE363=1,VLOOKUP($F363,all!$E$14:$AD$553,16),\"\")","v":""},{"$f":"IF($AE363=1,VLOOKUP($F363,all!$E$14:$AD$553,17),\"\")","v":""},{"$f":"IF($AE363=1,VLOOKUP($F363,all!$E$14:$AD$553,18),\"\")","v":""},{"$f":"IF($AE363=1,VLOOKUP($F363,all!$E$14:$AD$553,19),\"\")","v":""},{"$f":"IF($AE363=1,VLOOKUP($F363,all!$E$14:$AD$553,20),\"\")","v":""},{"$f":"IF($AE363=1,VLOOKUP($F363,all!$E$14:$AD$553,21),\"\")","v":""},{"$f":"IF($AE363=1,VLOOKUP($F363,all!$E$14:$AD$553,22),\"\")","v":""},{"$f":"IF($AE363=1,VLOOKUP($F363,all!$E$14:$AD$553,23),\"\")","v":""},{"$f":"IF($AE363=1,VLOOKUP($F363,all!$E$14:$AD$553,24),\"\")","v":""},{"$f":"IF($AE363=1,VLOOKUP($F363,all!$E$14:$AD$553,25),\"\")","v":""},null,{"$f":"COUNTIF(all!$E$14:$E$553,F363)","v":0}]
[null,null,null,null,null,331,{"$f":"IF($AE364=1,VLOOKUP($F364,all!$E$14:$AD$553,3),\"\")","v":""},{"$f":"IF($AE364=1,VLOOKUP($F364,all!$E$14:$AD$553,4),\"\")","v":""},{"$f":"IF($AE364=1,VLOOKUP($F364,all!$E$14:$AD$553,5),\"\")","v":""},{"$f":"IF($AE364=1,VLOOKUP($F364,all!$E$14:$AD$553,6),\"\")","v":""},{"$f":"IF($AE364=1,VLOOKUP($F364,all!$E$14:$AD$553,7),\"\")","v":""},{"$f":"IF($AE364=1,VLOOKUP($F364,all!$E$14:$AD$553,8),\"\")","v":""},{"$f":"IF($AE364=1,VLOOKUP($F364,all!$E$14:$AD$553,9),\"\")","v":""},{"$f":"IF($AE364=1,VLOOKUP($F364,all!$E$14:$AD$553,10),\"\")","v":""},{"$f":"IF($AE364=1,VLOOKUP($F364,all!$E$14:$AD$553,11),\"\")","v":""},{"$f":"IF($AE364=1,VLOOKUP($F364,all!$E$14:$AD$553,12),\"\")","v":""},{"$f":"IF($AE364=1,VLOOKUP($F364,all!$E$14:$AD$553,13),\"\")","v":""},{"$f":"IF($AE364=1,VLOOKUP($F364,all!$E$14:$AD$553,14),\"\")","v":""},{"$f":"IF($AE364=1,VLOOKUP($F364,all!$E$14:$AD$553,15),\"\")","v":""},{"$f":"IF($AE364=1,VLOOKUP($F364,all!$E$14:$AD$553,16),\"\")","v":""},{"$f":"IF($AE364=1,VLOOKUP($F364,all!$E$14:$AD$553,17),\"\")","v":""},{"$f":"IF($AE364=1,VLOOKUP($F364,all!$E$14:$AD$553,18),\"\")","v":""},{"$f":"IF($AE364=1,VLOOKUP($F364,all!$E$14:$AD$553,19),\"\")","v":""},{"$f":"IF($AE364=1,VLOOKUP($F364,all!$E$14:$AD$553,20),\"\")","v":""},{"$f":"IF($AE364=1,VLOOKUP($F364,all!$E$14:$AD$553,21),\"\")","v":""},{"$f":"IF($AE364=1,VLOOKUP($F364,all!$E$14:$AD$553,22),\"\")","v":""},{"$f":"IF($AE364=1,VLOOKUP($F364,all!$E$14:$AD$553,23),\"\")","v":""},{"$f":"IF($AE364=1,VLOOKUP($F364,all!$E$14:$AD$553,24),\"\")","v":""},{"$f":"IF($AE364=1,VLOOKUP($F364,all!$E$14:$AD$553,25),\"\")","v":""},null,{"$f":"COUNTIF(all!$E$14:$E$553,F364)","v":0}]
[null,null,null,null,null,332,{"$f":"IF($AE365=1,VLOOKUP($F365,all!$E$14:$AD$553,3),\"\")","v":""},{"$f":"IF($AE365=1,VLOOKUP($F365,all!$E$14:$AD$553,4),\"\")","v":""},{"$f":"IF($AE365=1,VLOOKUP($F365,all!$E$14:$AD$553,5),\"\")","v":""},{"$f":"IF($AE365=1,VLOOKUP($F365,all!$E$14:$AD$553,6),\"\")","v":""},{"$f":"IF($AE365=1,VLOOKUP($F365,all!$E$14:$AD$553,7),\"\")","v":""},{"$f":"IF($AE365=1,VLOOKUP($F365,all!$E$14:$AD$553,8),\"\")","v":""},{"$f":"IF($AE365=1,VLOOKUP($F365,all!$E$14:$AD$553,9),\"\")","v":""},{"$f":"IF($AE365=1,VLOOKUP($F365,all!$E$14:$AD$553,10),\"\")","v":""},{"$f":"IF($AE365=1,VLOOKUP($F365,all!$E$14:$AD$553,11),\"\")","v":""},{"$f":"IF($AE365=1,VLOOKUP($F365,all!$E$14:$AD$553,12),\"\")","v":""},{"$f":"IF($AE365=1,VLOOKUP($F365,all!$E$14:$AD$553,13),\"\")","v":""},{"$f":"IF($AE365=1,VLOOKUP($F365,all!$E$14:$AD$553,14),\"\")","v":""},{"$f":"IF($AE365=1,VLOOKUP($F365,all!$E$14:$AD$553,15),\"\")","v":""},{"$f":"IF($AE365=1,VLOOKUP($F365,all!$E$14:$AD$553,16),\"\")","v":""},{"$f":"IF($AE365=1,VLOOKUP($F365,all!$E$14:$AD$553,17),\"\")","v":""},{"$f":"IF($AE365=1,VLOOKUP($F365,all!$E$14:$AD$553,18),\"\")","v":""},{"$f":"IF($AE365=1,VLOOKUP($F365,all!$E$14:$AD$553,19),\"\")","v":""},{"$f":"IF($AE365=1,VLOOKUP($F365,all!$E$14:$AD$553,20),\"\")","v":""},{"$f":"IF($AE365=1,VLOOKUP($F365,all!$E$14:$AD$553,21),\"\")","v":""},{"$f":"IF($AE365=1,VLOOKUP($F365,all!$E$14:$AD$553,22),\"\")","v":""},{"$f":"IF($AE365=1,VLOOKUP($F365,all!$E$14:$AD$553,23),\"\")","v":""},{"$f":"IF($AE365=1,VLOOKUP($F365,all!$E$14:$AD$553,24),\"\")","v":""},{"$f":"IF($AE365=1,VLOOKUP($F365,all!$E$14:$AD$553,25),\"\")","v":""},null,{"$f":"COUNTIF(all!$E$14:$E$553,F365)","v":0}]
[null,null,null,null,null,333,{"$f":"IF($AE366=1,VLOOKUP($F366,all!$E$14:$AD$553,3),\"\")","v":""},{"$f":"IF($AE366=1,VLOOKUP($F366,all!$E$14:$AD$553,4),\"\")","v":""},{"$f":"IF($AE366=1,VLOOKUP($F366,all!$E$14:$AD$553,5),\"\")","v":""},{"$f":"IF($AE366=1,VLOOKUP($F366,all!$E$14:$AD$553,6),\"\")","v":""},{"$f":"IF($AE366=1,VLOOKUP($F366,all!$E$14:$AD$553,7),\"\")","v":""},{"$f":"IF($AE366=1,VLOOKUP($F366,all!$E$14:$AD$553,8),\"\")","v":""},{"$f":"IF($AE366=1,VLOOKUP($F366,all!$E$14:$AD$553,9),\"\")","v":""},{"$f":"IF($AE366=1,VLOOKUP($F366,all!$E$14:$AD$553,10),\"\")","v":""},{"$f":"IF($AE366=1,VLOOKUP($F366,all!$E$14:$AD$553,11),\"\")","v":""},{"$f":"IF($AE366=1,VLOOKUP($F366,all!$E$14:$AD$553,12),\"\")","v":""},{"$f":"IF($AE366=1,VLOOKUP($F366,all!$E$14:$AD$553,13),\"\")","v":""},{"$f":"IF($AE366=1,VLOOKUP($F366,all!$E$14:$AD$553,14),\"\")","v":""},{"$f":"IF($AE366=1,VLOOKUP($F366,all!$E$14:$AD$553,15),\"\")","v":""},{"$f":"IF($AE366=1,VLOOKUP($F366,all!$E$14:$AD$553,16),\"\")","v":""},{"$f":"IF($AE366=1,VLOOKUP($F366,all!$E$14:$AD$553,17),\"\")","v":""},{"$f":"IF($AE366=1,VLOOKUP($F366,all!$E$14:$AD$553,18),\"\")","v":""},{"$f":"IF($AE366=1,VLOOKUP($F366,all!$E$14:$AD$553,19),\"\")","v":""},{"$f":"IF($AE366=1,VLOOKUP($F366,all!$E$14:$AD$553,20),\"\")","v":""},{"$f":"IF($AE366=1,VLOOKUP($F366,all!$E$14:$AD$553,21),\"\")","v":""},{"$f":"IF($AE366=1,VLOOKUP($F366,all!$E$14:$AD$553,22),\"\")","v":""},{"$f":"IF($AE366=1,VLOOKUP($F366,all!$E$14:$AD$553,23),\"\")","v":""},{"$f":"IF($AE366=1,VLOOKUP($F366,all!$E$14:$AD$553,24),\"\")","v":""},{"$f":"IF($AE366=1,VLOOKUP($F366,all!$E$14:$AD$553,25),\"\")","v":""},null,{"$f":"COUNTIF(all!$E$14:$E$553,F366)","v":0}]
[null,null,null,null,null,334,{"$f":"IF($AE367=1,VLOOKUP($F367,all!$E$14:$AD$553,3),\"\")","v":""},{"$f":"IF($AE367=1,VLOOKUP($F367,all!$E$14:$AD$553,4),\"\")","v":""},{"$f":"IF($AE367=1,VLOOKUP($F367,all!$E$14:$AD$553,5),\"\")","v":""},{"$f":"IF($AE367=1,VLOOKUP($F367,all!$E$14:$AD$553,6),\"\")","v":""},{"$f":"IF($AE367=1,VLOOKUP($F367,all!$E$14:$AD$553,7),\"\")","v":""},{"$f":"IF($AE367=1,VLOOKUP($F367,all!$E$14:$AD$553,8),\"\")","v":""},{"$f":"IF($AE367=1,VLOOKUP($F367,all!$E$14:$AD$553,9),\"\")","v":""},{"$f":"IF($AE367=1,VLOOKUP($F367,all!$E$14:$AD$553,10),\"\")","v":""},{"$f":"IF($AE367=1,VLOOKUP($F367,all!$E$14:$AD$553,11),\"\")","v":""},{"$f":"IF($AE367=1,VLOOKUP($F367,all!$E$14:$AD$553,12),\"\")","v":""},{"$f":"IF($AE367=1,VLOOKUP($F367,all!$E$14:$AD$553,13),\"\")","v":""},{"$f":"IF($AE367=1,VLOOKUP($F367,all!$E$14:$AD$553,14),\"\")","v":""},{"$f":"IF($AE367=1,VLOOKUP($F367,all!$E$14:$AD$553,15),\"\")","v":""},{"$f":"IF($AE367=1,VLOOKUP($F367,all!$E$14:$AD$553,16),\"\")","v":""},{"$f":"IF($AE367=1,VLOOKUP($F367,all!$E$14:$AD$553,17),\"\")","v":""},{"$f":"IF($AE367=1,VLOOKUP($F367,all!$E$14:$AD$553,18),\"\")","v":""},{"$f":"IF($AE367=1,VLOOKUP($F367,all!$E$14:$AD$553,19),\"\")","v":""},{"$f":"IF($AE367=1,VLOOKUP($F367,all!$E$14:$AD$553,20),\"\")","v":""},{"$f":"IF($AE367=1,VLOOKUP($F367,all!$E$14:$AD$553,21),\"\")","v":""},{"$f":"IF($AE367=1,VLOOKUP($F367,all!$E$14:$AD$553,22),\"\")","v":""},{"$f":"IF($AE367=1,VLOOKUP($F367,all!$E$14:$AD$553,23),\"\")","v":""},{"$f":"IF($AE367=1,VLOOKUP($F367,all!$E$14:$AD$553,24),\"\")","v":""},{"$f":"IF($AE367=1,VLOOKUP($F367,all!$E$14:$AD$553,25),\"\")","v":""},null,{"$f":"COUNTIF(all!$E$14:$E$553,F367)","v":0}]
[null,null,null,null,null,335,{"$f":"IF($AE368=1,VLOOKUP($F368,all!$E$14:$AD$553,3),\"\")","v":""},{"$f":"IF($AE368=1,VLOOKUP($F368,all!$E$14:$AD$553,4),\"\")","v":""},{"$f":"IF($AE368=1,VLOOKUP($F368,all!$E$14:$AD$553,5),\"\")","v":""},{"$f":"IF($AE368=1,VLOOKUP($F368,all!$E$14:$AD$553,6),\"\")","v":""},{"$f":"IF($AE368=1,VLOOKUP($F368,all!$E$14:$AD$553,7),\"\")","v":""},{"$f":"IF($AE368=1,VLOOKUP($F368,all!$E$14:$AD$553,8),\"\")","v":""},{"$f":"IF($AE368=1,VLOOKUP($F368,all!$E$14:$AD$553,9),\"\")","v":""},{"$f":"IF($AE368=1,VLOOKUP($F368,all!$E$14:$AD$553,10),\"\")","v":""},{"$f":"IF($AE368=1,VLOOKUP($F368,all!$E$14:$AD$553,11),\"\")","v":""},{"$f":"IF($AE368=1,VLOOKUP($F368,all!$E$14:$AD$553,12),\"\")","v":""},{"$f":"IF($AE368=1,VLOOKUP($F368,all!$E$14:$AD$553,13),\"\")","v":""},{"$f":"IF($AE368=1,VLOOKUP($F368,all!$E$14:$AD$553,14),\"\")","v":""},{"$f":"IF($AE368=1,VLOOKUP($F368,all!$E$14:$AD$553,15),\"\")","v":""},{"$f":"IF($AE368=1,VLOOKUP($F368,all!$E$14:$AD$553,16),\"\")","v":""},{"$f":"IF($AE368=1,VLOOKUP($F368,all!$E$14:$AD$553,17),\"\")","v":""},{"$f":"IF($AE368=1,VLOOKUP($F368,all!$E$14:$AD$553,18),\"\")","v":""},{"$f":"IF($AE368=1,VLOOKUP($F368,all!$E$14:$AD$553,19),\"\")","v":""},{"$f":"IF($AE368=1,VLOOKUP($F368,all!$E$14:$AD$553,20),\"\")","v":""},{"$f":"IF($AE368=1,VLOOKUP($F368,all!$E$14:$AD$553,21),\"\")","v":""},{"$f":"IF($AE368=1,VLOOKUP($F368,all!$E$14:$AD$553,22),\"\")","v":""},{"$f":"IF($AE368=1,VLOOKUP($F368,all!$E$14:$AD$553,23),\"\")","v":""},{"$f":"IF($AE368=1,VLOOKUP($F368,all!$E$14:$AD$553,24),\"\")","v":""},{"$f":"IF($AE368=1,VLOOKUP($F368,all!$E$14:$AD$553,25),\"\")","v":""},null,{"$f":"COUNTIF(all!$E$14:$E$553,F368)","v":0}]
[null,null,null,null,null,336,{"$f":"IF($AE369=1,VLOOKUP($F369,all!$E$14:$AD$553,3),\"\")","v":""},{"$f":"IF($AE369=1,VLOOKUP($F369,all!$E$14:$AD$553,4),\"\")","v":""},{"$f":"IF($AE369=1,VLOOKUP($F369,all!$E$14:$AD$553,5),\"\")","v":""},{"$f":"IF($AE369=1,VLOOKUP($F369,all!$E$14:$AD$553,6),\"\")","v":""},{"$f":"IF($AE369=1,VLOOKUP($F369,all!$E$14:$AD$553,7),\"\")","v":""},{"$f":"IF($AE369=1,VLOOKUP($F369,all!$E$14:$AD$553,8),\"\")","v":""},{"$f":"IF($AE369=1,VLOOKUP($F369,all!$E$14:$AD$553,9),\"\")","v":""},{"$f":"IF($AE369=1,VLOOKUP($F369,all!$E$14:$AD$553,10),\"\")","v":""},{"$f":"IF($AE369=1,VLOOKUP($F369,all!$E$14:$AD$553,11),\"\")","v":""},{"$f":"IF($AE369=1,VLOOKUP($F369,all!$E$14:$AD$553,12),\"\")","v":""},{"$f":"IF($AE369=1,VLOOKUP($F369,all!$E$14:$AD$553,13),\"\")","v":""},{"$f":"IF($AE369=1,VLOOKUP($F369,all!$E$14:$AD$553,14),\"\")","v":""},{"$f":"IF($AE369=1,VLOOKUP($F369,all!$E$14:$AD$553,15),\"\")","v":""},{"$f":"IF($AE369=1,VLOOKUP($F369,all!$E$14:$AD$553,16),\"\")","v":""},{"$f":"IF($AE369=1,VLOOKUP($F369,all!$E$14:$AD$553,17),\"\")","v":""},{"$f":"IF($AE369=1,VLOOKUP($F369,all!$E$14:$AD$553,18),\"\")","v":""},{"$f":"IF($AE369=1,VLOOKUP($F369,all!$E$14:$AD$553,19),\"\")","v":""},{"$f":"IF($AE369=1,VLOOKUP($F369,all!$E$14:$AD$553,20),\"\")","v":""},{"$f":"IF($AE369=1,VLOOKUP($F369,all!$E$14:$AD$553,21),\"\")","v":""},{"$f":"IF($AE369=1,VLOOKUP($F369,all!$E$14:$AD$553,22),\"\")","v":""},{"$f":"IF($AE369=1,VLOOKUP($F369,all!$E$14:$AD$553,23),\"\")","v":""},{"$f":"IF($AE369=1,VLOOKUP($F369,all!$E$14:$AD$553,24),\"\")","v":""},{"$f":"IF($AE369=1,VLOOKUP($F369,all!$E$14:$AD$553,25),\"\")","v":""},null,{"$f":"COUNTIF(all!$E$14:$E$553,F369)","v":0}]
[null,null,null,null,null,337,{"$f":"IF($AE370=1,VLOOKUP($F370,all!$E$14:$AD$553,3),\"\")","v":""},{"$f":"IF($AE370=1,VLOOKUP($F370,all!$E$14:$AD$553,4),\"\")","v":""},{"$f":"IF($AE370=1,VLOOKUP($F370,all!$E$14:$AD$553,5),\"\")","v":""},{"$f":"IF($AE370=1,VLOOKUP($F370,all!$E$14:$AD$553,6),\"\")","v":""},{"$f":"IF($AE370=1,VLOOKUP($F370,all!$E$14:$AD$553,7),\"\")","v":""},{"$f":"IF($AE370=1,VLOOKUP($F370,all!$E$14:$AD$553,8),\"\")","v":""},{"$f":"IF($AE370=1,VLOOKUP($F370,all!$E$14:$AD$553,9),\"\")","v":""},{"$f":"IF($AE370=1,VLOOKUP($F370,all!$E$14:$AD$553,10),\"\")","v":""},{"$f":"IF($AE370=1,VLOOKUP($F370,all!$E$14:$AD$553,11),\"\")","v":""},{"$f":"IF($AE370=1,VLOOKUP($F370,all!$E$14:$AD$553,12),\"\")","v":""},{"$f":"IF($AE370=1,VLOOKUP($F370,all!$E$14:$AD$553,13),\"\")","v":""},{"$f":"IF($AE370=1,VLOOKUP($F370,all!$E$14:$AD$553,14),\"\")","v":""},{"$f":"IF($AE370=1,VLOOKUP($F370,all!$E$14:$AD$553,15),\"\")","v":""},{"$f":"IF($AE370=1,VLOOKUP($F370,all!$E$14:$AD$553,16),\"\")","v":""},{"$f":"IF($AE370=1,VLOOKUP($F370,all!$E$14:$AD$553,17),\"\")","v":""},{"$f":"IF($AE370=1,VLOOKUP($F370,all!$E$14:$AD$553,18),\"\")","v":""},{"$f":"IF($AE370=1,VLOOKUP($F370,all!$E$14:$AD$553,19),\"\")","v":""},{"$f":"IF($AE370=1,VLOOKUP($F370,all!$E$14:$AD$553,20),\"\")","v":""},{"$f":"IF($AE370=1,VLOOKUP($F370,all!$E$14:$AD$553,21),\"\")","v":""},{"$f":"IF($AE370=1,VLOOKUP($F370,all!$E$14:$AD$553,22),\"\")","v":""},{"$f":"IF($AE370=1,VLOOKUP($F370,all!$E$14:$AD$553,23),\"\")","v":""},{"$f":"IF($AE370=1,VLOOKUP($F370,all!$E$14:$AD$553,24),\"\")","v":""},{"$f":"IF($AE370=1,VLOOKUP($F370,all!$E$14:$AD$553,25),\"\")","v":""},null,{"$f":"COUNTIF(all!$E$14:$E$553,F370)","v":0}]
[null,null,null,null,null,338,{"$f":"IF($AE371=1,VLOOKUP($F371,all!$E$14:$AD$553,3),\"\")","v":""},{"$f":"IF($AE371=1,VLOOKUP($F371,all!$E$14:$AD$553,4),\"\")","v":""},{"$f":"IF($AE371=1,VLOOKUP($F371,all!$E$14:$AD$553,5),\"\")","v":""},{"$f":"IF($AE371=1,VLOOKUP($F371,all!$E$14:$AD$553,6),\"\")","v":""},{"$f":"IF($AE371=1,VLOOKUP($F371,all!$E$14:$AD$553,7),\"\")","v":""},{"$f":"IF($AE371=1,VLOOKUP($F371,all!$E$14:$AD$553,8),\"\")","v":""},{"$f":"IF($AE371=1,VLOOKUP($F371,all!$E$14:$AD$553,9),\"\")","v":""},{"$f":"IF($AE371=1,VLOOKUP($F371,all!$E$14:$AD$553,10),\"\")","v":""},{"$f":"IF($AE371=1,VLOOKUP($F371,all!$E$14:$AD$553,11),\"\")","v":""},{"$f":"IF($AE371=1,VLOOKUP($F371,all!$E$14:$AD$553,12),\"\")","v":""},{"$f":"IF($AE371=1,VLOOKUP($F371,all!$E$14:$AD$553,13),\"\")","v":""},{"$f":"IF($AE371=1,VLOOKUP($F371,all!$E$14:$AD$553,14),\"\")","v":""},{"$f":"IF($AE371=1,VLOOKUP($F371,all!$E$14:$AD$553,15),\"\")","v":""},{"$f":"IF($AE371=1,VLOOKUP($F371,all!$E$14:$AD$553,16),\"\")","v":""},{"$f":"IF($AE371=1,VLOOKUP($F371,all!$E$14:$AD$553,17),\"\")","v":""},{"$f":"IF($AE371=1,VLOOKUP($F371,all!$E$14:$AD$553,18),\"\")","v":""},{"$f":"IF($AE371=1,VLOOKUP($F371,all!$E$14:$AD$553,19),\"\")","v":""},{"$f":"IF($AE371=1,VLOOKUP($F371,all!$E$14:$AD$553,20),\"\")","v":""},{"$f":"IF($AE371=1,VLOOKUP($F371,all!$E$14:$AD$553,21),\"\")","v":""},{"$f":"IF($AE371=1,VLOOKUP($F371,all!$E$14:$AD$553,22),\"\")","v":""},{"$f":"IF($AE371=1,VLOOKUP($F371,all!$E$14:$AD$553,23),\"\")","v":""},{"$f":"IF($AE371=1,VLOOKUP($F371,all!$E$14:$AD$553,24),\"\")","v":""},{"$f":"IF($AE371=1,VLOOKUP($F371,all!$E$14:$AD$553,25),\"\")","v":""},null,{"$f":"COUNTIF(all!$E$14:$E$553,F371)","v":0}]
[null,null,null,null,null,339,{"$f":"IF($AE372=1,VLOOKUP($F372,all!$E$14:$AD$553,3),\"\")","v":""},{"$f":"IF($AE372=1,VLOOKUP($F372,all!$E$14:$AD$553,4),\"\")","v":""},{"$f":"IF($AE372=1,VLOOKUP($F372,all!$E$14:$AD$553,5),\"\")","v":""},{"$f":"IF($AE372=1,VLOOKUP($F372,all!$E$14:$AD$553,6),\"\")","v":""},{"$f":"IF($AE372=1,VLOOKUP($F372,all!$E$14:$AD$553,7),\"\")","v":""},{"$f":"IF($AE372=1,VLOOKUP($F372,all!$E$14:$AD$553,8),\"\")","v":""},{"$f":"IF($AE372=1,VLOOKUP($F372,all!$E$14:$AD$553,9),\"\")","v":""},{"$f":"IF($AE372=1,VLOOKUP($F372,all!$E$14:$AD$553,10),\"\")","v":""},{"$f":"IF($AE372=1,VLOOKUP($F372,all!$E$14:$AD$553,11),\"\")","v":""},{"$f":"IF($AE372=1,VLOOKUP($F372,all!$E$14:$AD$553,12),\"\")","v":""},{"$f":"IF($AE372=1,VLOOKUP($F372,all!$E$14:$AD$553,13),\"\")","v":""},{"$f":"IF($AE372=1,VLOOKUP($F372,all!$E$14:$AD$553,14),\"\")","v":""},{"$f":"IF($AE372=1,VLOOKUP($F372,all!$E$14:$AD$553,15),\"\")","v":""},{"$f":"IF($AE372=1,VLOOKUP($F372,all!$E$14:$AD$553,16),\"\")","v":""},{"$f":"IF($AE372=1,VLOOKUP($F372,all!$E$14:$AD$553,17),\"\")","v":""},{"$f":"IF($AE372=1,VLOOKUP($F372,all!$E$14:$AD$553,18),\"\")","v":""},{"$f":"IF($AE372=1,VLOOKUP($F372,all!$E$14:$AD$553,19),\"\")","v":""},{"$f":"IF($AE372=1,VLOOKUP($F372,all!$E$14:$AD$553,20),\"\")","v":""},{"$f":"IF($AE372=1,VLOOKUP($F372,all!$E$14:$AD$553,21),\"\")","v":""},{"$f":"IF($AE372=1,VLOOKUP($F372,all!$E$14:$AD$553,22),\"\")","v":""},{"$f":"IF($AE372=1,VLOOKUP($F372,all!$E$14:$AD$553,23),\"\")","v":""},{"$f":"IF($AE372=1,VLOOKUP($F372,all!$E$14:$AD$553,24),\"\")","v":""},{"$f":"IF($AE372=1,VLOOKUP($F372,all!$E$14:$AD$553,25),\"\")","v":""},null,{"$f":"COUNTIF(all!$E$14:$E$553,F372)","v":0}]
[null,null,null,null,null,340,{"$f":"IF($AE373=1,VLOOKUP($F373,all!$E$14:$AD$553,3),\"\")","v":""},{"$f":"IF($AE373=1,VLOOKUP($F373,all!$E$14:$AD$553,4),\"\")","v":""},{"$f":"IF($AE373=1,VLOOKUP($F373,all!$E$14:$AD$553,5),\"\")","v":""},{"$f":"IF($AE373=1,VLOOKUP($F373,all!$E$14:$AD$553,6),\"\")","v":""},{"$f":"IF($AE373=1,VLOOKUP($F373,all!$E$14:$AD$553,7),\"\")","v":""},{"$f":"IF($AE373=1,VLOOKUP($F373,all!$E$14:$AD$553,8),\"\")","v":""},{"$f":"IF($AE373=1,VLOOKUP($F373,all!$E$14:$AD$553,9),\"\")","v":""},{"$f":"IF($AE373=1,VLOOKUP($F373,all!$E$14:$AD$553,10),\"\")","v":""},{"$f":"IF($AE373=1,VLOOKUP($F373,all!$E$14:$AD$553,11),\"\")","v":""},{"$f":"IF($AE373=1,VLOOKUP($F373,all!$E$14:$AD$553,12),\"\")","v":""},{"$f":"IF($AE373=1,VLOOKUP($F373,all!$E$14:$AD$553,13),\"\")","v":""},{"$f":"IF($AE373=1,VLOOKUP($F373,all!$E$14:$AD$553,14),\"\")","v":""},{"$f":"IF($AE373=1,VLOOKUP($F373,all!$E$14:$AD$553,15),\"\")","v":""},{"$f":"IF($AE373=1,VLOOKUP($F373,all!$E$14:$AD$553,16),\"\")","v":""},{"$f":"IF($AE373=1,VLOOKUP($F373,all!$E$14:$AD$553,17),\"\")","v":""},{"$f":"IF($AE373=1,VLOOKUP($F373,all!$E$14:$AD$553,18),\"\")","v":""},{"$f":"IF($AE373=1,VLOOKUP($F373,all!$E$14:$AD$553,19),\"\")","v":""},{"$f":"IF($AE373=1,VLOOKUP($F373,all!$E$14:$AD$553,20),\"\")","v":""},{"$f":"IF($AE373=1,VLOOKUP($F373,all!$E$14:$AD$553,21),\"\")","v":""},{"$f":"IF($AE373=1,VLOOKUP($F373,all!$E$14:$AD$553,22),\"\")","v":""},{"$f":"IF($AE373=1,VLOOKUP($F373,all!$E$14:$AD$553,23),\"\")","v":""},{"$f":"IF($AE373=1,VLOOKUP($F373,all!$E$14:$AD$553,24),\"\")","v":""},{"$f":"IF($AE373=1,VLOOKUP($F373,all!$E$14:$AD$553,25),\"\")","v":""},null,{"$f":"COUNTIF(all!$E$14:$E$553,F373)","v":0}]
[null,null,null,null,null,341,{"$f":"IF($AE374=1,VLOOKUP($F374,all!$E$14:$AD$553,3),\"\")","v":""},{"$f":"IF($AE374=1,VLOOKUP($F374,all!$E$14:$AD$553,4),\"\")","v":""},{"$f":"IF($AE374=1,VLOOKUP($F374,all!$E$14:$AD$553,5),\"\")","v":""},{"$f":"IF($AE374=1,VLOOKUP($F374,all!$E$14:$AD$553,6),\"\")","v":""},{"$f":"IF($AE374=1,VLOOKUP($F374,all!$E$14:$AD$553,7),\"\")","v":""},{"$f":"IF($AE374=1,VLOOKUP($F374,all!$E$14:$AD$553,8),\"\")","v":""},{"$f":"IF($AE374=1,VLOOKUP($F374,all!$E$14:$AD$553,9),\"\")","v":""},{"$f":"IF($AE374=1,VLOOKUP($F374,all!$E$14:$AD$553,10),\"\")","v":""},{"$f":"IF($AE374=1,VLOOKUP($F374,all!$E$14:$AD$553,11),\"\")","v":""},{"$f":"IF($AE374=1,VLOOKUP($F374,all!$E$14:$AD$553,12),\"\")","v":""},{"$f":"IF($AE374=1,VLOOKUP($F374,all!$E$14:$AD$553,13),\"\")","v":""},{"$f":"IF($AE374=1,VLOOKUP($F374,all!$E$14:$AD$553,14),\"\")","v":""},{"$f":"IF($AE374=1,VLOOKUP($F374,all!$E$14:$AD$553,15),\"\")","v":""},{"$f":"IF($AE374=1,VLOOKUP($F374,all!$E$14:$AD$553,16),\"\")","v":""},{"$f":"IF($AE374=1,VLOOKUP($F374,all!$E$14:$AD$553,17),\"\")","v":""},{"$f":"IF($AE374=1,VLOOKUP($F374,all!$E$14:$AD$553,18),\"\")","v":""},{"$f":"IF($AE374=1,VLOOKUP($F374,all!$E$14:$AD$553,19),\"\")","v":""},{"$f":"IF($AE374=1,VLOOKUP($F374,all!$E$14:$AD$553,20),\"\")","v":""},{"$f":"IF($AE374=1,VLOOKUP($F374,all!$E$14:$AD$553,21),\"\")","v":""},{"$f":"IF($AE374=1,VLOOKUP($F374,all!$E$14:$AD$553,22),\"\")","v":""},{"$f":"IF($AE374=1,VLOOKUP($F374,all!$E$14:$AD$553,23),\"\")","v":""},{"$f":"IF($AE374=1,VLOOKUP($F374,all!$E$14:$AD$553,24),\"\")","v":""},{"$f":"IF($AE374=1,VLOOKUP($F374,all!$E$14:$AD$553,25),\"\")","v":""},null,{"$f":"COUNTIF(all!$E$14:$E$553,F374)","v":0}]
[null,null,null,null,null,342,{"$f":"IF($AE375=1,VLOOKUP($F375,all!$E$14:$AD$553,3),\"\")","v":""},{"$f":"IF($AE375=1,VLOOKUP($F375,all!$E$14:$AD$553,4),\"\")","v":""},{"$f":"IF($AE375=1,VLOOKUP($F375,all!$E$14:$AD$553,5),\"\")","v":""},{"$f":"IF($AE375=1,VLOOKUP($F375,all!$E$14:$AD$553,6),\"\")","v":""},{"$f":"IF($AE375=1,VLOOKUP($F375,all!$E$14:$AD$553,7),\"\")","v":""},{"$f":"IF($AE375=1,VLOOKUP($F375,all!$E$14:$AD$553,8),\"\")","v":""},{"$f":"IF($AE375=1,VLOOKUP($F375,all!$E$14:$AD$553,9),\"\")","v":""},{"$f":"IF($AE375=1,VLOOKUP($F375,all!$E$14:$AD$553,10),\"\")","v":""},{"$f":"IF($AE375=1,VLOOKUP($F375,all!$E$14:$AD$553,11),\"\")","v":""},{"$f":"IF($AE375=1,VLOOKUP($F375,all!$E$14:$AD$553,12),\"\")","v":""},{"$f":"IF($AE375=1,VLOOKUP($F375,all!$E$14:$AD$553,13),\"\")","v":""},{"$f":"IF($AE375=1,VLOOKUP($F375,all!$E$14:$AD$553,14),\"\")","v":""},{"$f":"IF($AE375=1,VLOOKUP($F375,all!$E$14:$AD$553,15),\"\")","v":""},{"$f":"IF($AE375=1,VLOOKUP($F375,all!$E$14:$AD$553,16),\"\")","v":""},{"$f":"IF($AE375=1,VLOOKUP($F375,all!$E$14:$AD$553,17),\"\")","v":""},{"$f":"IF($AE375=1,VLOOKUP($F375,all!$E$14:$AD$553,18),\"\")","v":""},{"$f":"IF($AE375=1,VLOOKUP($F375,all!$E$14:$AD$553,19),\"\")","v":""},{"$f":"IF($AE375=1,VLOOKUP($F375,all!$E$14:$AD$553,20),\"\")","v":""},{"$f":"IF($AE375=1,VLOOKUP($F375,all!$E$14:$AD$553,21),\"\")","v":""},{"$f":"IF($AE375=1,VLOOKUP($F375,all!$E$14:$AD$553,22),\"\")","v":""},{"$f":"IF($AE375=1,VLOOKUP($F375,all!$E$14:$AD$553,23),\"\")","v":""},{"$f":"IF($AE375=1,VLOOKUP($F375,all!$E$14:$AD$553,24),\"\")","v":""},{"$f":"IF($AE375=1,VLOOKUP($F375,all!$E$14:$AD$553,25),\"\")","v":""},null,{"$f":"COUNTIF(all!$E$14:$E$553,F375)","v":0}]
[null,null,null,null,null,343,{"$f":"IF($AE376=1,VLOOKUP($F376,all!$E$14:$AD$553,3),\"\")","v":""},{"$f":"IF($AE376=1,VLOOKUP($F376,all!$E$14:$AD$553,4),\"\")","v":""},{"$f":"IF($AE376=1,VLOOKUP($F376,all!$E$14:$AD$553,5),\"\")","v":""},{"$f":"IF($AE376=1,VLOOKUP($F376,all!$E$14:$AD$553,6),\"\")","v":""},{"$f":"IF($AE376=1,VLOOKUP($F376,all!$E$14:$AD$553,7),\"\")","v":""},{"$f":"IF($AE376=1,VLOOKUP($F376,all!$E$14:$AD$553,8),\"\")","v":""},{"$f":"IF($AE376=1,VLOOKUP($F376,all!$E$14:$AD$553,9),\"\")","v":""},{"$f":"IF($AE376=1,VLOOKUP($F376,all!$E$14:$AD$553,10),\"\")","v":""},{"$f":"IF($AE376=1,VLOOKUP($F376,all!$E$14:$AD$553,11),\"\")","v":""},{"$f":"IF($AE376=1,VLOOKUP($F376,all!$E$14:$AD$553,12),\"\")","v":""},{"$f":"IF($AE376=1,VLOOKUP($F376,all!$E$14:$AD$553,13),\"\")","v":""},{"$f":"IF($AE376=1,VLOOKUP($F376,all!$E$14:$AD$553,14),\"\")","v":""},{"$f":"IF($AE376=1,VLOOKUP($F376,all!$E$14:$AD$553,15),\"\")","v":""},{"$f":"IF($AE376=1,VLOOKUP($F376,all!$E$14:$AD$553,16),\"\")","v":""},{"$f":"IF($AE376=1,VLOOKUP($F376,all!$E$14:$AD$553,17),\"\")","v":""},{"$f":"IF($AE376=1,VLOOKUP($F376,all!$E$14:$AD$553,18),\"\")","v":""},{"$f":"IF($AE376=1,VLOOKUP($F376,all!$E$14:$AD$553,19),\"\")","v":""},{"$f":"IF($AE376=1,VLOOKUP($F376,all!$E$14:$AD$553,20),\"\")","v":""},{"$f":"IF($AE376=1,VLOOKUP($F376,all!$E$14:$AD$553,21),\"\")","v":""},{"$f":"IF($AE376=1,VLOOKUP($F376,all!$E$14:$AD$553,22),\"\")","v":""},{"$f":"IF($AE376=1,VLOOKUP($F376,all!$E$14:$AD$553,23),\"\")","v":""},{"$f":"IF($AE376=1,VLOOKUP($F376,all!$E$14:$AD$553,24),\"\")","v":""},{"$f":"IF($AE376=1,VLOOKUP($F376,all!$E$14:$AD$553,25),\"\")","v":""},null,{"$f":"COUNTIF(all!$E$14:$E$553,F376)","v":0}]
[null,null,null,null,null,344,{"$f":"IF($AE377=1,VLOOKUP($F377,all!$E$14:$AD$553,3),\"\")","v":""},{"$f":"IF($AE377=1,VLOOKUP($F377,all!$E$14:$AD$553,4),\"\")","v":""},{"$f":"IF($AE377=1,VLOOKUP($F377,all!$E$14:$AD$553,5),\"\")","v":""},{"$f":"IF($AE377=1,VLOOKUP($F377,all!$E$14:$AD$553,6),\"\")","v":""},{"$f":"IF($AE377=1,VLOOKUP($F377,all!$E$14:$AD$553,7),\"\")","v":""},{"$f":"IF($AE377=1,VLOOKUP($F377,all!$E$14:$AD$553,8),\"\")","v":""},{"$f":"IF($AE377=1,VLOOKUP($F377,all!$E$14:$AD$553,9),\"\")","v":""},{"$f":"IF($AE377=1,VLOOKUP($F377,all!$E$14:$AD$553,10),\"\")","v":""},{"$f":"IF($AE377=1,VLOOKUP($F377,all!$E$14:$AD$553,11),\"\")","v":""},{"$f":"IF($AE377=1,VLOOKUP($F377,all!$E$14:$AD$553,12),\"\")","v":""},{"$f":"IF($AE377=1,VLOOKUP($F377,all!$E$14:$AD$553,13),\"\")","v":""},{"$f":"IF($AE377=1,VLOOKUP($F377,all!$E$14:$AD$553,14),\"\")","v":""},{"$f":"IF($AE377=1,VLOOKUP($F377,all!$E$14:$AD$553,15),\"\")","v":""},{"$f":"IF($AE377=1,VLOOKUP($F377,all!$E$14:$AD$553,16),\"\")","v":""},{"$f":"IF($AE377=1,VLOOKUP($F377,all!$E$14:$AD$553,17),\"\")","v":""},{"$f":"IF($AE377=1,VLOOKUP($F377,all!$E$14:$AD$553,18),\"\")","v":""},{"$f":"IF($AE377=1,VLOOKUP($F377,all!$E$14:$AD$553,19),\"\")","v":""},{"$f":"IF($AE377=1,VLOOKUP($F377,all!$E$14:$AD$553,20),\"\")","v":""},{"$f":"IF($AE377=1,VLOOKUP($F377,all!$E$14:$AD$553,21),\"\")","v":""},{"$f":"IF($AE377=1,VLOOKUP($F377,all!$E$14:$AD$553,22),\"\")","v":""},{"$f":"IF($AE377=1,VLOOKUP($F377,all!$E$14:$AD$553,23),\"\")","v":""},{"$f":"IF($AE377=1,VLOOKUP($F377,all!$E$14:$AD$553,24),\"\")","v":""},{"$f":"IF($AE377=1,VLOOKUP($F377,all!$E$14:$AD$553,25),\"\")","v":""},null,{"$f":"COUNTIF(all!$E$14:$E$553,F377)","v":0}]
[null,null,null,null,null,345,{"$f":"IF($AE378=1,VLOOKUP($F378,all!$E$14:$AD$553,3),\"\")","v":""},{"$f":"IF($AE378=1,VLOOKUP($F378,all!$E$14:$AD$553,4),\"\")","v":""},{"$f":"IF($AE378=1,VLOOKUP($F378,all!$E$14:$AD$553,5),\"\")","v":""},{"$f":"IF($AE378=1,VLOOKUP($F378,all!$E$14:$AD$553,6),\"\")","v":""},{"$f":"IF($AE378=1,VLOOKUP($F378,all!$E$14:$AD$553,7),\"\")","v":""},{"$f":"IF($AE378=1,VLOOKUP($F378,all!$E$14:$AD$553,8),\"\")","v":""},{"$f":"IF($AE378=1,VLOOKUP($F378,all!$E$14:$AD$553,9),\"\")","v":""},{"$f":"IF($AE378=1,VLOOKUP($F378,all!$E$14:$AD$553,10),\"\")","v":""},{"$f":"IF($AE378=1,VLOOKUP($F378,all!$E$14:$AD$553,11),\"\")","v":""},{"$f":"IF($AE378=1,VLOOKUP($F378,all!$E$14:$AD$553,12),\"\")","v":""},{"$f":"IF($AE378=1,VLOOKUP($F378,all!$E$14:$AD$553,13),\"\")","v":""},{"$f":"IF($AE378=1,VLOOKUP($F378,all!$E$14:$AD$553,14),\"\")","v":""},{"$f":"IF($AE378=1,VLOOKUP($F378,all!$E$14:$AD$553,15),\"\")","v":""},{"$f":"IF($AE378=1,VLOOKUP($F378,all!$E$14:$AD$553,16),\"\")","v":""},{"$f":"IF($AE378=1,VLOOKUP($F378,all!$E$14:$AD$553,17),\"\")","v":""},{"$f":"IF($AE378=1,VLOOKUP($F378,all!$E$14:$AD$553,18),\"\")","v":""},{"$f":"IF($AE378=1,VLOOKUP($F378,all!$E$14:$AD$553,19),\"\")","v":""},{"$f":"IF($AE378=1,VLOOKUP($F378,all!$E$14:$AD$553,20),\"\")","v":""},{"$f":"IF($AE378=1,VLOOKUP($F378,all!$E$14:$AD$553,21),\"\")","v":""},{"$f":"IF($AE378=1,VLOOKUP($F378,all!$E$14:$AD$553,22),\"\")","v":""},{"$f":"IF($AE378=1,VLOOKUP($F378,all!$E$14:$AD$553,23),\"\")","v":""},{"$f":"IF($AE378=1,VLOOKUP($F378,all!$E$14:$AD$553,24),\"\")","v":""},{"$f":"IF($AE378=1,VLOOKUP($F378,all!$E$14:$AD$553,25),\"\")","v":""},null,{"$f":"COUNTIF(all!$E$14:$E$553,F378)","v":0}]
[null,null,null,null,null,346,{"$f":"IF($AE379=1,VLOOKUP($F379,all!$E$14:$AD$553,3),\"\")","v":""},{"$f":"IF($AE379=1,VLOOKUP($F379,all!$E$14:$AD$553,4),\"\")","v":""},{"$f":"IF($AE379=1,VLOOKUP($F379,all!$E$14:$AD$553,5),\"\")","v":""},{"$f":"IF($AE379=1,VLOOKUP($F379,all!$E$14:$AD$553,6),\"\")","v":""},{"$f":"IF($AE379=1,VLOOKUP($F379,all!$E$14:$AD$553,7),\"\")","v":""},{"$f":"IF($AE379=1,VLOOKUP($F379,all!$E$14:$AD$553,8),\"\")","v":""},{"$f":"IF($AE379=1,VLOOKUP($F379,all!$E$14:$AD$553,9),\"\")","v":""},{"$f":"IF($AE379=1,VLOOKUP($F379,all!$E$14:$AD$553,10),\"\")","v":""},{"$f":"IF($AE379=1,VLOOKUP($F379,all!$E$14:$AD$553,11),\"\")","v":""},{"$f":"IF($AE379=1,VLOOKUP($F379,all!$E$14:$AD$553,12),\"\")","v":""},{"$f":"IF($AE379=1,VLOOKUP($F379,all!$E$14:$AD$553,13),\"\")","v":""},{"$f":"IF($AE379=1,VLOOKUP($F379,all!$E$14:$AD$553,14),\"\")","v":""},{"$f":"IF($AE379=1,VLOOKUP($F379,all!$E$14:$AD$553,15),\"\")","v":""},{"$f":"IF($AE379=1,VLOOKUP($F379,all!$E$14:$AD$553,16),\"\")","v":""},{"$f":"IF($AE379=1,VLOOKUP($F379,all!$E$14:$AD$553,17),\"\")","v":""},{"$f":"IF($AE379=1,VLOOKUP($F379,all!$E$14:$AD$553,18),\"\")","v":""},{"$f":"IF($AE379=1,VLOOKUP($F379,all!$E$14:$AD$553,19),\"\")","v":""},{"$f":"IF($AE379=1,VLOOKUP($F379,all!$E$14:$AD$553,20),\"\")","v":""},{"$f":"IF($AE379=1,VLOOKUP($F379,all!$E$14:$AD$553,21),\"\")","v":""},{"$f":"IF($AE379=1,VLOOKUP($F379,all!$E$14:$AD$553,22),\"\")","v":""},{"$f":"IF($AE379=1,VLOOKUP($F379,all!$E$14:$AD$553,23),\"\")","v":""},{"$f":"IF($AE379=1,VLOOKUP($F379,all!$E$14:$AD$553,24),\"\")","v":""},{"$f":"IF($AE379=1,VLOOKUP($F379,all!$E$14:$AD$553,25),\"\")","v":""},null,{"$f":"COUNTIF(all!$E$14:$E$553,F379)","v":0}]
[null,null,null,null,null,347,{"$f":"IF($AE380=1,VLOOKUP($F380,all!$E$14:$AD$553,3),\"\")","v":""},{"$f":"IF($AE380=1,VLOOKUP($F380,all!$E$14:$AD$553,4),\"\")","v":""},{"$f":"IF($AE380=1,VLOOKUP($F380,all!$E$14:$AD$553,5),\"\")","v":""},{"$f":"IF($AE380=1,VLOOKUP($F380,all!$E$14:$AD$553,6),\"\")","v":""},{"$f":"IF($AE380=1,VLOOKUP($F380,all!$E$14:$AD$553,7),\"\")","v":""},{"$f":"IF($AE380=1,VLOOKUP($F380,all!$E$14:$AD$553,8),\"\")","v":""},{"$f":"IF($AE380=1,VLOOKUP($F380,all!$E$14:$AD$553,9),\"\")","v":""},{"$f":"IF($AE380=1,VLOOKUP($F380,all!$E$14:$AD$553,10),\"\")","v":""},{"$f":"IF($AE380=1,VLOOKUP($F380,all!$E$14:$AD$553,11),\"\")","v":""},{"$f":"IF($AE380=1,VLOOKUP($F380,all!$E$14:$AD$553,12),\"\")","v":""},{"$f":"IF($AE380=1,VLOOKUP($F380,all!$E$14:$AD$553,13),\"\")","v":""},{"$f":"IF($AE380=1,VLOOKUP($F380,all!$E$14:$AD$553,14),\"\")","v":""},{"$f":"IF($AE380=1,VLOOKUP($F380,all!$E$14:$AD$553,15),\"\")","v":""},{"$f":"IF($AE380=1,VLOOKUP($F380,all!$E$14:$AD$553,16),\"\")","v":""},{"$f":"IF($AE380=1,VLOOKUP($F380,all!$E$14:$AD$553,17),\"\")","v":""},{"$f":"IF($AE380=1,VLOOKUP($F380,all!$E$14:$AD$553,18),\"\")","v":""},{"$f":"IF($AE380=1,VLOOKUP($F380,all!$E$14:$AD$553,19),\"\")","v":""},{"$f":"IF($AE380=1,VLOOKUP($F380,all!$E$14:$AD$553,20),\"\")","v":""},{"$f":"IF($AE380=1,VLOOKUP($F380,all!$E$14:$AD$553,21),\"\")","v":""},{"$f":"IF($AE380=1,VLOOKUP($F380,all!$E$14:$AD$553,22),\"\")","v":""},{"$f":"IF($AE380=1,VLOOKUP($F380,all!$E$14:$AD$553,23),\"\")","v":""},{"$f":"IF($AE380=1,VLOOKUP($F380,all!$E$14:$AD$553,24),\"\")","v":""},{"$f":"IF($AE380=1,VLOOKUP($F380,all!$E$14:$AD$553,25),\"\")","v":""},null,{"$f":"COUNTIF(all!$E$14:$E$553,F380)","v":0}]
[null,null,null,null,null,348,{"$f":"IF($AE381=1,VLOOKUP($F381,all!$E$14:$AD$553,3),\"\")","v":""},{"$f":"IF($AE381=1,VLOOKUP($F381,all!$E$14:$AD$553,4),\"\")","v":""},{"$f":"IF($AE381=1,VLOOKUP($F381,all!$E$14:$AD$553,5),\"\")","v":""},{"$f":"IF($AE381=1,VLOOKUP($F381,all!$E$14:$AD$553,6),\"\")","v":""},{"$f":"IF($AE381=1,VLOOKUP($F381,all!$E$14:$AD$553,7),\"\")","v":""},{"$f":"IF($AE381=1,VLOOKUP($F381,all!$E$14:$AD$553,8),\"\")","v":""},{"$f":"IF($AE381=1,VLOOKUP($F381,all!$E$14:$AD$553,9),\"\")","v":""},{"$f":"IF($AE381=1,VLOOKUP($F381,all!$E$14:$AD$553,10),\"\")","v":""},{"$f":"IF($AE381=1,VLOOKUP($F381,all!$E$14:$AD$553,11),\"\")","v":""},{"$f":"IF($AE381=1,VLOOKUP($F381,all!$E$14:$AD$553,12),\"\")","v":""},{"$f":"IF($AE381=1,VLOOKUP($F381,all!$E$14:$AD$553,13),\"\")","v":""},{"$f":"IF($AE381=1,VLOOKUP($F381,all!$E$14:$AD$553,14),\"\")","v":""},{"$f":"IF($AE381=1,VLOOKUP($F381,all!$E$14:$AD$553,15),\"\")","v":""},{"$f":"IF($AE381=1,VLOOKUP($F381,all!$E$14:$AD$553,16),\"\")","v":""},{"$f":"IF($AE381=1,VLOOKUP($F381,all!$E$14:$AD$553,17),\"\")","v":""},{"$f":"IF($AE381=1,VLOOKUP($F381,all!$E$14:$AD$553,18),\"\")","v":""},{"$f":"IF($AE381=1,VLOOKUP($F381,all!$E$14:$AD$553,19),\"\")","v":""},{"$f":"IF($AE381=1,VLOOKUP($F381,all!$E$14:$AD$553,20),\"\")","v":""},{"$f":"IF($AE381=1,VLOOKUP($F381,all!$E$14:$AD$553,21),\"\")","v":""},{"$f":"IF($AE381=1,VLOOKUP($F381,all!$E$14:$AD$553,22),\"\")","v":""},{"$f":"IF($AE381=1,VLOOKUP($F381,all!$E$14:$AD$553,23),\"\")","v":""},{"$f":"IF($AE381=1,VLOOKUP($F381,all!$E$14:$AD$553,24),\"\")","v":""},{"$f":"IF($AE381=1,VLOOKUP($F381,all!$E$14:$AD$553,25),\"\")","v":""},null,{"$f":"COUNTIF(all!$E$14:$E$553,F381)","v":0}]
[null,null,null,null,null,349,{"$f":"IF($AE382=1,VLOOKUP($F382,all!$E$14:$AD$553,3),\"\")","v":""},{"$f":"IF($AE382=1,VLOOKUP($F382,all!$E$14:$AD$553,4),\"\")","v":""},{"$f":"IF($AE382=1,VLOOKUP($F382,all!$E$14:$AD$553,5),\"\")","v":""},{"$f":"IF($AE382=1,VLOOKUP($F382,all!$E$14:$AD$553,6),\"\")","v":""},{"$f":"IF($AE382=1,VLOOKUP($F382,all!$E$14:$AD$553,7),\"\")","v":""},{"$f":"IF($AE382=1,VLOOKUP($F382,all!$E$14:$AD$553,8),\"\")","v":""},{"$f":"IF($AE382=1,VLOOKUP($F382,all!$E$14:$AD$553,9),\"\")","v":""},{"$f":"IF($AE382=1,VLOOKUP($F382,all!$E$14:$AD$553,10),\"\")","v":""},{"$f":"IF($AE382=1,VLOOKUP($F382,all!$E$14:$AD$553,11),\"\")","v":""},{"$f":"IF($AE382=1,VLOOKUP($F382,all!$E$14:$AD$553,12),\"\")","v":""},{"$f":"IF($AE382=1,VLOOKUP($F382,all!$E$14:$AD$553,13),\"\")","v":""},{"$f":"IF($AE382=1,VLOOKUP($F382,all!$E$14:$AD$553,14),\"\")","v":""},{"$f":"IF($AE382=1,VLOOKUP($F382,all!$E$14:$AD$553,15),\"\")","v":""},{"$f":"IF($AE382=1,VLOOKUP($F382,all!$E$14:$AD$553,16),\"\")","v":""},{"$f":"IF($AE382=1,VLOOKUP($F382,all!$E$14:$AD$553,17),\"\")","v":""},{"$f":"IF($AE382=1,VLOOKUP($F382,all!$E$14:$AD$553,18),\"\")","v":""},{"$f":"IF($AE382=1,VLOOKUP($F382,all!$E$14:$AD$553,19),\"\")","v":""},{"$f":"IF($AE382=1,VLOOKUP($F382,all!$E$14:$AD$553,20),\"\")","v":""},{"$f":"IF($AE382=1,VLOOKUP($F382,all!$E$14:$AD$553,21),\"\")","v":""},{"$f":"IF($AE382=1,VLOOKUP($F382,all!$E$14:$AD$553,22),\"\")","v":""},{"$f":"IF($AE382=1,VLOOKUP($F382,all!$E$14:$AD$553,23),\"\")","v":""},{"$f":"IF($AE382=1,VLOOKUP($F382,all!$E$14:$AD$553,24),\"\")","v":""},{"$f":"IF($AE382=1,VLOOKUP($F382,all!$E$14:$AD$553,25),\"\")","v":""},null,{"$f":"COUNTIF(all!$E$14:$E$553,F382)","v":0}]
[null,null,null,null,null,350,{"$f":"IF($AE383=1,VLOOKUP($F383,all!$E$14:$AD$553,3),\"\")","v":""},{"$f":"IF($AE383=1,VLOOKUP($F383,all!$E$14:$AD$553,4),\"\")","v":""},{"$f":"IF($AE383=1,VLOOKUP($F383,all!$E$14:$AD$553,5),\"\")","v":""},{"$f":"IF($AE383=1,VLOOKUP($F383,all!$E$14:$AD$553,6),\"\")","v":""},{"$f":"IF($AE383=1,VLOOKUP($F383,all!$E$14:$AD$553,7),\"\")","v":""},{"$f":"IF($AE383=1,VLOOKUP($F383,all!$E$14:$AD$553,8),\"\")","v":""},{"$f":"IF($AE383=1,VLOOKUP($F383,all!$E$14:$AD$553,9),\"\")","v":""},{"$f":"IF($AE383=1,VLOOKUP($F383,all!$E$14:$AD$553,10),\"\")","v":""},{"$f":"IF($AE383=1,VLOOKUP($F383,all!$E$14:$AD$553,11),\"\")","v":""},{"$f":"IF($AE383=1,VLOOKUP($F383,all!$E$14:$AD$553,12),\"\")","v":""},{"$f":"IF($AE383=1,VLOOKUP($F383,all!$E$14:$AD$553,13),\"\")","v":""},{"$f":"IF($AE383=1,VLOOKUP($F383,all!$E$14:$AD$553,14),\"\")","v":""},{"$f":"IF($AE383=1,VLOOKUP($F383,all!$E$14:$AD$553,15),\"\")","v":""},{"$f":"IF($AE383=1,VLOOKUP($F383,all!$E$14:$AD$553,16),\"\")","v":""},{"$f":"IF($AE383=1,VLOOKUP($F383,all!$E$14:$AD$553,17),\"\")","v":""},{"$f":"IF($AE383=1,VLOOKUP($F383,all!$E$14:$AD$553,18),\"\")","v":""},{"$f":"IF($AE383=1,VLOOKUP($F383,all!$E$14:$AD$553,19),\"\")","v":""},{"$f":"IF($AE383=1,VLOOKUP($F383,all!$E$14:$AD$553,20),\"\")","v":""},{"$f":"IF($AE383=1,VLOOKUP($F383,all!$E$14:$AD$553,21),\"\")","v":""},{"$f":"IF($AE383=1,VLOOKUP($F383,all!$E$14:$AD$553,22),\"\")","v":""},{"$f":"IF($AE383=1,VLOOKUP($F383,all!$E$14:$AD$553,23),\"\")","v":""},{"$f":"IF($AE383=1,VLOOKUP($F383,all!$E$14:$AD$553,24),\"\")","v":""},{"$f":"IF($AE383=1,VLOOKUP($F383,all!$E$14:$AD$553,25),\"\")","v":""},null,{"$f":"COUNTIF(all!$E$14:$E$553,F383)","v":0}]
[null,null,null,null,null,351,{"$f":"IF($AE384=1,VLOOKUP($F384,all!$E$14:$AD$553,3),\"\")","v":""},{"$f":"IF($AE384=1,VLOOKUP($F384,all!$E$14:$AD$553,4),\"\")","v":""},{"$f":"IF($AE384=1,VLOOKUP($F384,all!$E$14:$AD$553,5),\"\")","v":""},{"$f":"IF($AE384=1,VLOOKUP($F384,all!$E$14:$AD$553,6),\"\")","v":""},{"$f":"IF($AE384=1,VLOOKUP($F384,all!$E$14:$AD$553,7),\"\")","v":""},{"$f":"IF($AE384=1,VLOOKUP($F384,all!$E$14:$AD$553,8),\"\")","v":""},{"$f":"IF($AE384=1,VLOOKUP($F384,all!$E$14:$AD$553,9),\"\")","v":""},{"$f":"IF($AE384=1,VLOOKUP($F384,all!$E$14:$AD$553,10),\"\")","v":""},{"$f":"IF($AE384=1,VLOOKUP($F384,all!$E$14:$AD$553,11),\"\")","v":""},{"$f":"IF($AE384=1,VLOOKUP($F384,all!$E$14:$AD$553,12),\"\")","v":""},{"$f":"IF($AE384=1,VLOOKUP($F384,all!$E$14:$AD$553,13),\"\")","v":""},{"$f":"IF($AE384=1,VLOOKUP($F384,all!$E$14:$AD$553,14),\"\")","v":""},{"$f":"IF($AE384=1,VLOOKUP($F384,all!$E$14:$AD$553,15),\"\")","v":""},{"$f":"IF($AE384=1,VLOOKUP($F384,all!$E$14:$AD$553,16),\"\")","v":""},{"$f":"IF($AE384=1,VLOOKUP($F384,all!$E$14:$AD$553,17),\"\")","v":""},{"$f":"IF($AE384=1,VLOOKUP($F384,all!$E$14:$AD$553,18),\"\")","v":""},{"$f":"IF($AE384=1,VLOOKUP($F384,all!$E$14:$AD$553,19),\"\")","v":""},{"$f":"IF($AE384=1,VLOOKUP($F384,all!$E$14:$AD$553,20),\"\")","v":""},{"$f":"IF($AE384=1,VLOOKUP($F384,all!$E$14:$AD$553,21),\"\")","v":""},{"$f":"IF($AE384=1,VLOOKUP($F384,all!$E$14:$AD$553,22),\"\")","v":""},{"$f":"IF($AE384=1,VLOOKUP($F384,all!$E$14:$AD$553,23),\"\")","v":""},{"$f":"IF($AE384=1,VLOOKUP($F384,all!$E$14:$AD$553,24),\"\")","v":""},{"$f":"IF($AE384=1,VLOOKUP($F384,all!$E$14:$AD$553,25),\"\")","v":""},null,{"$f":"COUNTIF(all!$E$14:$E$553,F384)","v":0}]
[null,null,null,null,null,352,{"$f":"IF($AE385=1,VLOOKUP($F385,all!$E$14:$AD$553,3),\"\")","v":""},{"$f":"IF($AE385=1,VLOOKUP($F385,all!$E$14:$AD$553,4),\"\")","v":""},{"$f":"IF($AE385=1,VLOOKUP($F385,all!$E$14:$AD$553,5),\"\")","v":""},{"$f":"IF($AE385=1,VLOOKUP($F385,all!$E$14:$AD$553,6),\"\")","v":""},{"$f":"IF($AE385=1,VLOOKUP($F385,all!$E$14:$AD$553,7),\"\")","v":""},{"$f":"IF($AE385=1,VLOOKUP($F385,all!$E$14:$AD$553,8),\"\")","v":""},{"$f":"IF($AE385=1,VLOOKUP($F385,all!$E$14:$AD$553,9),\"\")","v":""},{"$f":"IF($AE385=1,VLOOKUP($F385,all!$E$14:$AD$553,10),\"\")","v":""},{"$f":"IF($AE385=1,VLOOKUP($F385,all!$E$14:$AD$553,11),\"\")","v":""},{"$f":"IF($AE385=1,VLOOKUP($F385,all!$E$14:$AD$553,12),\"\")","v":""},{"$f":"IF($AE385=1,VLOOKUP($F385,all!$E$14:$AD$553,13),\"\")","v":""},{"$f":"IF($AE385=1,VLOOKUP($F385,all!$E$14:$AD$553,14),\"\")","v":""},{"$f":"IF($AE385=1,VLOOKUP($F385,all!$E$14:$AD$553,15),\"\")","v":""},{"$f":"IF($AE385=1,VLOOKUP($F385,all!$E$14:$AD$553,16),\"\")","v":""},{"$f":"IF($AE385=1,VLOOKUP($F385,all!$E$14:$AD$553,17),\"\")","v":""},{"$f":"IF($AE385=1,VLOOKUP($F385,all!$E$14:$AD$553,18),\"\")","v":""},{"$f":"IF($AE385=1,VLOOKUP($F385,all!$E$14:$AD$553,19),\"\")","v":""},{"$f":"IF($AE385=1,VLOOKUP($F385,all!$E$14:$AD$553,20),\"\")","v":""},{"$f":"IF($AE385=1,VLOOKUP($F385,all!$E$14:$AD$553,21),\"\")","v":""},{"$f":"IF($AE385=1,VLOOKUP($F385,all!$E$14:$AD$553,22),\"\")","v":""},{"$f":"IF($AE385=1,VLOOKUP($F385,all!$E$14:$AD$553,23),\"\")","v":""},{"$f":"IF($AE385=1,VLOOKUP($F385,all!$E$14:$AD$553,24),\"\")","v":""},{"$f":"IF($AE385=1,VLOOKUP($F385,all!$E$14:$AD$553,25),\"\")","v":""},null,{"$f":"COUNTIF(all!$E$14:$E$553,F385)","v":0}]
[null,null,null,null,null,353,{"$f":"IF($AE386=1,VLOOKUP($F386,all!$E$14:$AD$553,3),\"\")","v":""},{"$f":"IF($AE386=1,VLOOKUP($F386,all!$E$14:$AD$553,4),\"\")","v":""},{"$f":"IF($AE386=1,VLOOKUP($F386,all!$E$14:$AD$553,5),\"\")","v":""},{"$f":"IF($AE386=1,VLOOKUP($F386,all!$E$14:$AD$553,6),\"\")","v":""},{"$f":"IF($AE386=1,VLOOKUP($F386,all!$E$14:$AD$553,7),\"\")","v":""},{"$f":"IF($AE386=1,VLOOKUP($F386,all!$E$14:$AD$553,8),\"\")","v":""},{"$f":"IF($AE386=1,VLOOKUP($F386,all!$E$14:$AD$553,9),\"\")","v":""},{"$f":"IF($AE386=1,VLOOKUP($F386,all!$E$14:$AD$553,10),\"\")","v":""},{"$f":"IF($AE386=1,VLOOKUP($F386,all!$E$14:$AD$553,11),\"\")","v":""},{"$f":"IF($AE386=1,VLOOKUP($F386,all!$E$14:$AD$553,12),\"\")","v":""},{"$f":"IF($AE386=1,VLOOKUP($F386,all!$E$14:$AD$553,13),\"\")","v":""},{"$f":"IF($AE386=1,VLOOKUP($F386,all!$E$14:$AD$553,14),\"\")","v":""},{"$f":"IF($AE386=1,VLOOKUP($F386,all!$E$14:$AD$553,15),\"\")","v":""},{"$f":"IF($AE386=1,VLOOKUP($F386,all!$E$14:$AD$553,16),\"\")","v":""},{"$f":"IF($AE386=1,VLOOKUP($F386,all!$E$14:$AD$553,17),\"\")","v":""},{"$f":"IF($AE386=1,VLOOKUP($F386,all!$E$14:$AD$553,18),\"\")","v":""},{"$f":"IF($AE386=1,VLOOKUP($F386,all!$E$14:$AD$553,19),\"\")","v":""},{"$f":"IF($AE386=1,VLOOKUP($F386,all!$E$14:$AD$553,20),\"\")","v":""},{"$f":"IF($AE386=1,VLOOKUP($F386,all!$E$14:$AD$553,21),\"\")","v":""},{"$f":"IF($AE386=1,VLOOKUP($F386,all!$E$14:$AD$553,22),\"\")","v":""},{"$f":"IF($AE386=1,VLOOKUP($F386,all!$E$14:$AD$553,23),\"\")","v":""},{"$f":"IF($AE386=1,VLOOKUP($F386,all!$E$14:$AD$553,24),\"\")","v":""},{"$f":"IF($AE386=1,VLOOKUP($F386,all!$E$14:$AD$553,25),\"\")","v":""},null,{"$f":"COUNTIF(all!$E$14:$E$553,F386)","v":0}]
[null,null,null,null,null,354,{"$f":"IF($AE387=1,VLOOKUP($F387,all!$E$14:$AD$553,3),\"\")","v":""},{"$f":"IF($AE387=1,VLOOKUP($F387,all!$E$14:$AD$553,4),\"\")","v":""},{"$f":"IF($AE387=1,VLOOKUP($F387,all!$E$14:$AD$553,5),\"\")","v":""},{"$f":"IF($AE387=1,VLOOKUP($F387,all!$E$14:$AD$553,6),\"\")","v":""},{"$f":"IF($AE387=1,VLOOKUP($F387,all!$E$14:$AD$553,7),\"\")","v":""},{"$f":"IF($AE387=1,VLOOKUP($F387,all!$E$14:$AD$553,8),\"\")","v":""},{"$f":"IF($AE387=1,VLOOKUP($F387,all!$E$14:$AD$553,9),\"\")","v":""},{"$f":"IF($AE387=1,VLOOKUP($F387,all!$E$14:$AD$553,10),\"\")","v":""},{"$f":"IF($AE387=1,VLOOKUP($F387,all!$E$14:$AD$553,11),\"\")","v":""},{"$f":"IF($AE387=1,VLOOKUP($F387,all!$E$14:$AD$553,12),\"\")","v":""},{"$f":"IF($AE387=1,VLOOKUP($F387,all!$E$14:$AD$553,13),\"\")","v":""},{"$f":"IF($AE387=1,VLOOKUP($F387,all!$E$14:$AD$553,14),\"\")","v":""},{"$f":"IF($AE387=1,VLOOKUP($F387,all!$E$14:$AD$553,15),\"\")","v":""},{"$f":"IF($AE387=1,VLOOKUP($F387,all!$E$14:$AD$553,16),\"\")","v":""},{"$f":"IF($AE387=1,VLOOKUP($F387,all!$E$14:$AD$553,17),\"\")","v":""},{"$f":"IF($AE387=1,VLOOKUP($F387,all!$E$14:$AD$553,18),\"\")","v":""},{"$f":"IF($AE387=1,VLOOKUP($F387,all!$E$14:$AD$553,19),\"\")","v":""},{"$f":"IF($AE387=1,VLOOKUP($F387,all!$E$14:$AD$553,20),\"\")","v":""},{"$f":"IF($AE387=1,VLOOKUP($F387,all!$E$14:$AD$553,21),\"\")","v":""},{"$f":"IF($AE387=1,VLOOKUP($F387,all!$E$14:$AD$553,22),\"\")","v":""},{"$f":"IF($AE387=1,VLOOKUP($F387,all!$E$14:$AD$553,23),\"\")","v":""},{"$f":"IF($AE387=1,VLOOKUP($F387,all!$E$14:$AD$553,24),\"\")","v":""},{"$f":"IF($AE387=1,VLOOKUP($F387,all!$E$14:$AD$553,25),\"\")","v":""},null,{"$f":"COUNTIF(all!$E$14:$E$553,F387)","v":0}]
[null,null,null,null,null,355,{"$f":"IF($AE388=1,VLOOKUP($F388,all!$E$14:$AD$553,3),\"\")","v":""},{"$f":"IF($AE388=1,VLOOKUP($F388,all!$E$14:$AD$553,4),\"\")","v":""},{"$f":"IF($AE388=1,VLOOKUP($F388,all!$E$14:$AD$553,5),\"\")","v":""},{"$f":"IF($AE388=1,VLOOKUP($F388,all!$E$14:$AD$553,6),\"\")","v":""},{"$f":"IF($AE388=1,VLOOKUP($F388,all!$E$14:$AD$553,7),\"\")","v":""},{"$f":"IF($AE388=1,VLOOKUP($F388,all!$E$14:$AD$553,8),\"\")","v":""},{"$f":"IF($AE388=1,VLOOKUP($F388,all!$E$14:$AD$553,9),\"\")","v":""},{"$f":"IF($AE388=1,VLOOKUP($F388,all!$E$14:$AD$553,10),\"\")","v":""},{"$f":"IF($AE388=1,VLOOKUP($F388,all!$E$14:$AD$553,11),\"\")","v":""},{"$f":"IF($AE388=1,VLOOKUP($F388,all!$E$14:$AD$553,12),\"\")","v":""},{"$f":"IF($AE388=1,VLOOKUP($F388,all!$E$14:$AD$553,13),\"\")","v":""},{"$f":"IF($AE388=1,VLOOKUP($F388,all!$E$14:$AD$553,14),\"\")","v":""},{"$f":"IF($AE388=1,VLOOKUP($F388,all!$E$14:$AD$553,15),\"\")","v":""},{"$f":"IF($AE388=1,VLOOKUP($F388,all!$E$14:$AD$553,16),\"\")","v":""},{"$f":"IF($AE388=1,VLOOKUP($F388,all!$E$14:$AD$553,17),\"\")","v":""},{"$f":"IF($AE388=1,VLOOKUP($F388,all!$E$14:$AD$553,18),\"\")","v":""},{"$f":"IF($AE388=1,VLOOKUP($F388,all!$E$14:$AD$553,19),\"\")","v":""},{"$f":"IF($AE388=1,VLOOKUP($F388,all!$E$14:$AD$553,20),\"\")","v":""},{"$f":"IF($AE388=1,VLOOKUP($F388,all!$E$14:$AD$553,21),\"\")","v":""},{"$f":"IF($AE388=1,VLOOKUP($F388,all!$E$14:$AD$553,22),\"\")","v":""},{"$f":"IF($AE388=1,VLOOKUP($F388,all!$E$14:$AD$553,23),\"\")","v":""},{"$f":"IF($AE388=1,VLOOKUP($F388,all!$E$14:$AD$553,24),\"\")","v":""},{"$f":"IF($AE388=1,VLOOKUP($F388,all!$E$14:$AD$553,25),\"\")","v":""},null,{"$f":"COUNTIF(all!$E$14:$E$553,F388)","v":0}]
[null,null,null,null,null,356,{"$f":"IF($AE389=1,VLOOKUP($F389,all!$E$14:$AD$553,3),\"\")","v":""},{"$f":"IF($AE389=1,VLOOKUP($F389,all!$E$14:$AD$553,4),\"\")","v":""},{"$f":"IF($AE389=1,VLOOKUP($F389,all!$E$14:$AD$553,5),\"\")","v":""},{"$f":"IF($AE389=1,VLOOKUP($F389,all!$E$14:$AD$553,6),\"\")","v":""},{"$f":"IF($AE389=1,VLOOKUP($F389,all!$E$14:$AD$553,7),\"\")","v":""},{"$f":"IF($AE389=1,VLOOKUP($F389,all!$E$14:$AD$553,8),\"\")","v":""},{"$f":"IF($AE389=1,VLOOKUP($F389,all!$E$14:$AD$553,9),\"\")","v":""},{"$f":"IF($AE389=1,VLOOKUP($F389,all!$E$14:$AD$553,10),\"\")","v":""},{"$f":"IF($AE389=1,VLOOKUP($F389,all!$E$14:$AD$553,11),\"\")","v":""},{"$f":"IF($AE389=1,VLOOKUP($F389,all!$E$14:$AD$553,12),\"\")","v":""},{"$f":"IF($AE389=1,VLOOKUP($F389,all!$E$14:$AD$553,13),\"\")","v":""},{"$f":"IF($AE389=1,VLOOKUP($F389,all!$E$14:$AD$553,14),\"\")","v":""},{"$f":"IF($AE389=1,VLOOKUP($F389,all!$E$14:$AD$553,15),\"\")","v":""},{"$f":"IF($AE389=1,VLOOKUP($F389,all!$E$14:$AD$553,16),\"\")","v":""},{"$f":"IF($AE389=1,VLOOKUP($F389,all!$E$14:$AD$553,17),\"\")","v":""},{"$f":"IF($AE389=1,VLOOKUP($F389,all!$E$14:$AD$553,18),\"\")","v":""},{"$f":"IF($AE389=1,VLOOKUP($F389,all!$E$14:$AD$553,19),\"\")","v":""},{"$f":"IF($AE389=1,VLOOKUP($F389,all!$E$14:$AD$553,20),\"\")","v":""},{"$f":"IF($AE389=1,VLOOKUP($F389,all!$E$14:$AD$553,21),\"\")","v":""},{"$f":"IF($AE389=1,VLOOKUP($F389,all!$E$14:$AD$553,22),\"\")","v":""},{"$f":"IF($AE389=1,VLOOKUP($F389,all!$E$14:$AD$553,23),\"\")","v":""},{"$f":"IF($AE389=1,VLOOKUP($F389,all!$E$14:$AD$553,24),\"\")","v":""},{"$f":"IF($AE389=1,VLOOKUP($F389,all!$E$14:$AD$553,25),\"\")","v":""},null,{"$f":"COUNTIF(all!$E$14:$E$553,F389)","v":0}]
[null,null,null,null,null,357,{"$f":"IF($AE390=1,VLOOKUP($F390,all!$E$14:$AD$553,3),\"\")","v":""},{"$f":"IF($AE390=1,VLOOKUP($F390,all!$E$14:$AD$553,4),\"\")","v":""},{"$f":"IF($AE390=1,VLOOKUP($F390,all!$E$14:$AD$553,5),\"\")","v":""},{"$f":"IF($AE390=1,VLOOKUP($F390,all!$E$14:$AD$553,6),\"\")","v":""},{"$f":"IF($AE390=1,VLOOKUP($F390,all!$E$14:$AD$553,7),\"\")","v":""},{"$f":"IF($AE390=1,VLOOKUP($F390,all!$E$14:$AD$553,8),\"\")","v":""},{"$f":"IF($AE390=1,VLOOKUP($F390,all!$E$14:$AD$553,9),\"\")","v":""},{"$f":"IF($AE390=1,VLOOKUP($F390,all!$E$14:$AD$553,10),\"\")","v":""},{"$f":"IF($AE390=1,VLOOKUP($F390,all!$E$14:$AD$553,11),\"\")","v":""},{"$f":"IF($AE390=1,VLOOKUP($F390,all!$E$14:$AD$553,12),\"\")","v":""},{"$f":"IF($AE390=1,VLOOKUP($F390,all!$E$14:$AD$553,13),\"\")","v":""},{"$f":"IF($AE390=1,VLOOKUP($F390,all!$E$14:$AD$553,14),\"\")","v":""},{"$f":"IF($AE390=1,VLOOKUP($F390,all!$E$14:$AD$553,15),\"\")","v":""},{"$f":"IF($AE390=1,VLOOKUP($F390,all!$E$14:$AD$553,16),\"\")","v":""},{"$f":"IF($AE390=1,VLOOKUP($F390,all!$E$14:$AD$553,17),\"\")","v":""},{"$f":"IF($AE390=1,VLOOKUP($F390,all!$E$14:$AD$553,18),\"\")","v":""},{"$f":"IF($AE390=1,VLOOKUP($F390,all!$E$14:$AD$553,19),\"\")","v":""},{"$f":"IF($AE390=1,VLOOKUP($F390,all!$E$14:$AD$553,20),\"\")","v":""},{"$f":"IF($AE390=1,VLOOKUP($F390,all!$E$14:$AD$553,21),\"\")","v":""},{"$f":"IF($AE390=1,VLOOKUP($F390,all!$E$14:$AD$553,22),\"\")","v":""},{"$f":"IF($AE390=1,VLOOKUP($F390,all!$E$14:$AD$553,23),\"\")","v":""},{"$f":"IF($AE390=1,VLOOKUP($F390,all!$E$14:$AD$553,24),\"\")","v":""},{"$f":"IF($AE390=1,VLOOKUP($F390,all!$E$14:$AD$553,25),\"\")","v":""},null,{"$f":"COUNTIF(all!$E$14:$E$553,F390)","v":0}]
[null,null,null,null,null,358,{"$f":"IF($AE391=1,VLOOKUP($F391,all!$E$14:$AD$553,3),\"\")","v":""},{"$f":"IF($AE391=1,VLOOKUP($F391,all!$E$14:$AD$553,4),\"\")","v":""},{"$f":"IF($AE391=1,VLOOKUP($F391,all!$E$14:$AD$553,5),\"\")","v":""},{"$f":"IF($AE391=1,VLOOKUP($F391,all!$E$14:$AD$553,6),\"\")","v":""},{"$f":"IF($AE391=1,VLOOKUP($F391,all!$E$14:$AD$553,7),\"\")","v":""},{"$f":"IF($AE391=1,VLOOKUP($F391,all!$E$14:$AD$553,8),\"\")","v":""},{"$f":"IF($AE391=1,VLOOKUP($F391,all!$E$14:$AD$553,9),\"\")","v":""},{"$f":"IF($AE391=1,VLOOKUP($F391,all!$E$14:$AD$553,10),\"\")","v":""},{"$f":"IF($AE391=1,VLOOKUP($F391,all!$E$14:$AD$553,11),\"\")","v":""},{"$f":"IF($AE391=1,VLOOKUP($F391,all!$E$14:$AD$553,12),\"\")","v":""},{"$f":"IF($AE391=1,VLOOKUP($F391,all!$E$14:$AD$553,13),\"\")","v":""},{"$f":"IF($AE391=1,VLOOKUP($F391,all!$E$14:$AD$553,14),\"\")","v":""},{"$f":"IF($AE391=1,VLOOKUP($F391,all!$E$14:$AD$553,15),\"\")","v":""},{"$f":"IF($AE391=1,VLOOKUP($F391,all!$E$14:$AD$553,16),\"\")","v":""},{"$f":"IF($AE391=1,VLOOKUP($F391,all!$E$14:$AD$553,17),\"\")","v":""},{"$f":"IF($AE391=1,VLOOKUP($F391,all!$E$14:$AD$553,18),\"\")","v":""},{"$f":"IF($AE391=1,VLOOKUP($F391,all!$E$14:$AD$553,19),\"\")","v":""},{"$f":"IF($AE391=1,VLOOKUP($F391,all!$E$14:$AD$553,20),\"\")","v":""},{"$f":"IF($AE391=1,VLOOKUP($F391,all!$E$14:$AD$553,21),\"\")","v":""},{"$f":"IF($AE391=1,VLOOKUP($F391,all!$E$14:$AD$553,22),\"\")","v":""},{"$f":"IF($AE391=1,VLOOKUP($F391,all!$E$14:$AD$553,23),\"\")","v":""},{"$f":"IF($AE391=1,VLOOKUP($F391,all!$E$14:$AD$553,24),\"\")","v":""},{"$f":"IF($AE391=1,VLOOKUP($F391,all!$E$14:$AD$553,25),\"\")","v":""},null,{"$f":"COUNTIF(all!$E$14:$E$553,F391)","v":0}]
[null,null,null,null,null,359,{"$f":"IF($AE392=1,VLOOKUP($F392,all!$E$14:$AD$553,3),\"\")","v":""},{"$f":"IF($AE392=1,VLOOKUP($F392,all!$E$14:$AD$553,4),\"\")","v":""},{"$f":"IF($AE392=1,VLOOKUP($F392,all!$E$14:$AD$553,5),\"\")","v":""},{"$f":"IF($AE392=1,VLOOKUP($F392,all!$E$14:$AD$553,6),\"\")","v":""},{"$f":"IF($AE392=1,VLOOKUP($F392,all!$E$14:$AD$553,7),\"\")","v":""},{"$f":"IF($AE392=1,VLOOKUP($F392,all!$E$14:$AD$553,8),\"\")","v":""},{"$f":"IF($AE392=1,VLOOKUP($F392,all!$E$14:$AD$553,9),\"\")","v":""},{"$f":"IF($AE392=1,VLOOKUP($F392,all!$E$14:$AD$553,10),\"\")","v":""},{"$f":"IF($AE392=1,VLOOKUP($F392,all!$E$14:$AD$553,11),\"\")","v":""},{"$f":"IF($AE392=1,VLOOKUP($F392,all!$E$14:$AD$553,12),\"\")","v":""},{"$f":"IF($AE392=1,VLOOKUP($F392,all!$E$14:$AD$553,13),\"\")","v":""},{"$f":"IF($AE392=1,VLOOKUP($F392,all!$E$14:$AD$553,14),\"\")","v":""},{"$f":"IF($AE392=1,VLOOKUP($F392,all!$E$14:$AD$553,15),\"\")","v":""},{"$f":"IF($AE392=1,VLOOKUP($F392,all!$E$14:$AD$553,16),\"\")","v":""},{"$f":"IF($AE392=1,VLOOKUP($F392,all!$E$14:$AD$553,17),\"\")","v":""},{"$f":"IF($AE392=1,VLOOKUP($F392,all!$E$14:$AD$553,18),\"\")","v":""},{"$f":"IF($AE392=1,VLOOKUP($F392,all!$E$14:$AD$553,19),\"\")","v":""},{"$f":"IF($AE392=1,VLOOKUP($F392,all!$E$14:$AD$553,20),\"\")","v":""},{"$f":"IF($AE392=1,VLOOKUP($F392,all!$E$14:$AD$553,21),\"\")","v":""},{"$f":"IF($AE392=1,VLOOKUP($F392,all!$E$14:$AD$553,22),\"\")","v":""},{"$f":"IF($AE392=1,VLOOKUP($F392,all!$E$14:$AD$553,23),\"\")","v":""},{"$f":"IF($AE392=1,VLOOKUP($F392,all!$E$14:$AD$553,24),\"\")","v":""},{"$f":"IF($AE392=1,VLOOKUP($F392,all!$E$14:$AD$553,25),\"\")","v":""},null,{"$f":"COUNTIF(all!$E$14:$E$553,F392)","v":0}]
[null,null,null,null,null,360,{"$f":"IF($AE393=1,VLOOKUP($F393,all!$E$14:$AD$553,3),\"\")","v":""},{"$f":"IF($AE393=1,VLOOKUP($F393,all!$E$14:$AD$553,4),\"\")","v":""},{"$f":"IF($AE393=1,VLOOKUP($F393,all!$E$14:$AD$553,5),\"\")","v":""},{"$f":"IF($AE393=1,VLOOKUP($F393,all!$E$14:$AD$553,6),\"\")","v":""},{"$f":"IF($AE393=1,VLOOKUP($F393,all!$E$14:$AD$553,7),\"\")","v":""},{"$f":"IF($AE393=1,VLOOKUP($F393,all!$E$14:$AD$553,8),\"\")","v":""},{"$f":"IF($AE393=1,VLOOKUP($F393,all!$E$14:$AD$553,9),\"\")","v":""},{"$f":"IF($AE393=1,VLOOKUP($F393,all!$E$14:$AD$553,10),\"\")","v":""},{"$f":"IF($AE393=1,VLOOKUP($F393,all!$E$14:$AD$553,11),\"\")","v":""},{"$f":"IF($AE393=1,VLOOKUP($F393,all!$E$14:$AD$553,12),\"\")","v":""},{"$f":"IF($AE393=1,VLOOKUP($F393,all!$E$14:$AD$553,13),\"\")","v":""},{"$f":"IF($AE393=1,VLOOKUP($F393,all!$E$14:$AD$553,14),\"\")","v":""},{"$f":"IF($AE393=1,VLOOKUP($F393,all!$E$14:$AD$553,15),\"\")","v":""},{"$f":"IF($AE393=1,VLOOKUP($F393,all!$E$14:$AD$553,16),\"\")","v":""},{"$f":"IF($AE393=1,VLOOKUP($F393,all!$E$14:$AD$553,17),\"\")","v":""},{"$f":"IF($AE393=1,VLOOKUP($F393,all!$E$14:$AD$553,18),\"\")","v":""},{"$f":"IF($AE393=1,VLOOKUP($F393,all!$E$14:$AD$553,19),\"\")","v":""},{"$f":"IF($AE393=1,VLOOKUP($F393,all!$E$14:$AD$553,20),\"\")","v":""},{"$f":"IF($AE393=1,VLOOKUP($F393,all!$E$14:$AD$553,21),\"\")","v":""},{"$f":"IF($AE393=1,VLOOKUP($F393,all!$E$14:$AD$553,22),\"\")","v":""},{"$f":"IF($AE393=1,VLOOKUP($F393,all!$E$14:$AD$553,23),\"\")","v":""},{"$f":"IF($AE393=1,VLOOKUP($F393,all!$E$14:$AD$553,24),\"\")","v":""},{"$f":"IF($AE393=1,VLOOKUP($F393,all!$E$14:$AD$553,25),\"\")","v":""},null,{"$f":"COUNTIF(all!$E$14:$E$553,F393)","v":0}]
[null,null,null,null,null,361,{"$f":"IF($AE394=1,VLOOKUP($F394,all!$E$14:$AD$553,3),\"\")","v":""},{"$f":"IF($AE394=1,VLOOKUP($F394,all!$E$14:$AD$553,4),\"\")","v":""},{"$f":"IF($AE394=1,VLOOKUP($F394,all!$E$14:$AD$553,5),\"\")","v":""},{"$f":"IF($AE394=1,VLOOKUP($F394,all!$E$14:$AD$553,6),\"\")","v":""},{"$f":"IF($AE394=1,VLOOKUP($F394,all!$E$14:$AD$553,7),\"\")","v":""},{"$f":"IF($AE394=1,VLOOKUP($F394,all!$E$14:$AD$553,8),\"\")","v":""},{"$f":"IF($AE394=1,VLOOKUP($F394,all!$E$14:$AD$553,9),\"\")","v":""},{"$f":"IF($AE394=1,VLOOKUP($F394,all!$E$14:$AD$553,10),\"\")","v":""},{"$f":"IF($AE394=1,VLOOKUP($F394,all!$E$14:$AD$553,11),\"\")","v":""},{"$f":"IF($AE394=1,VLOOKUP($F394,all!$E$14:$AD$553,12),\"\")","v":""},{"$f":"IF($AE394=1,VLOOKUP($F394,all!$E$14:$AD$553,13),\"\")","v":""},{"$f":"IF($AE394=1,VLOOKUP($F394,all!$E$14:$AD$553,14),\"\")","v":""},{"$f":"IF($AE394=1,VLOOKUP($F394,all!$E$14:$AD$553,15),\"\")","v":""},{"$f":"IF($AE394=1,VLOOKUP($F394,all!$E$14:$AD$553,16),\"\")","v":""},{"$f":"IF($AE394=1,VLOOKUP($F394,all!$E$14:$AD$553,17),\"\")","v":""},{"$f":"IF($AE394=1,VLOOKUP($F394,all!$E$14:$AD$553,18),\"\")","v":""},{"$f":"IF($AE394=1,VLOOKUP($F394,all!$E$14:$AD$553,19),\"\")","v":""},{"$f":"IF($AE394=1,VLOOKUP($F394,all!$E$14:$AD$553,20),\"\")","v":""},{"$f":"IF($AE394=1,VLOOKUP($F394,all!$E$14:$AD$553,21),\"\")","v":""},{"$f":"IF($AE394=1,VLOOKUP($F394,all!$E$14:$AD$553,22),\"\")","v":""},{"$f":"IF($AE394=1,VLOOKUP($F394,all!$E$14:$AD$553,23),\"\")","v":""},{"$f":"IF($AE394=1,VLOOKUP($F394,all!$E$14:$AD$553,24),\"\")","v":""},{"$f":"IF($AE394=1,VLOOKUP($F394,all!$E$14:$AD$553,25),\"\")","v":""},null,{"$f":"COUNTIF(all!$E$14:$E$553,F394)","v":0}]
[null,null,null,null,null,362,{"$f":"IF($AE395=1,VLOOKUP($F395,all!$E$14:$AD$553,3),\"\")","v":""},{"$f":"IF($AE395=1,VLOOKUP($F395,all!$E$14:$AD$553,4),\"\")","v":""},{"$f":"IF($AE395=1,VLOOKUP($F395,all!$E$14:$AD$553,5),\"\")","v":""},{"$f":"IF($AE395=1,VLOOKUP($F395,all!$E$14:$AD$553,6),\"\")","v":""},{"$f":"IF($AE395=1,VLOOKUP($F395,all!$E$14:$AD$553,7),\"\")","v":""},{"$f":"IF($AE395=1,VLOOKUP($F395,all!$E$14:$AD$553,8),\"\")","v":""},{"$f":"IF($AE395=1,VLOOKUP($F395,all!$E$14:$AD$553,9),\"\")","v":""},{"$f":"IF($AE395=1,VLOOKUP($F395,all!$E$14:$AD$553,10),\"\")","v":""},{"$f":"IF($AE395=1,VLOOKUP($F395,all!$E$14:$AD$553,11),\"\")","v":""},{"$f":"IF($AE395=1,VLOOKUP($F395,all!$E$14:$AD$553,12),\"\")","v":""},{"$f":"IF($AE395=1,VLOOKUP($F395,all!$E$14:$AD$553,13),\"\")","v":""},{"$f":"IF($AE395=1,VLOOKUP($F395,all!$E$14:$AD$553,14),\"\")","v":""},{"$f":"IF($AE395=1,VLOOKUP($F395,all!$E$14:$AD$553,15),\"\")","v":""},{"$f":"IF($AE395=1,VLOOKUP($F395,all!$E$14:$AD$553,16),\"\")","v":""},{"$f":"IF($AE395=1,VLOOKUP($F395,all!$E$14:$AD$553,17),\"\")","v":""},{"$f":"IF($AE395=1,VLOOKUP($F395,all!$E$14:$AD$553,18),\"\")","v":""},{"$f":"IF($AE395=1,VLOOKUP($F395,all!$E$14:$AD$553,19),\"\")","v":""},{"$f":"IF($AE395=1,VLOOKUP($F395,all!$E$14:$AD$553,20),\"\")","v":""},{"$f":"IF($AE395=1,VLOOKUP($F395,all!$E$14:$AD$553,21),\"\")","v":""},{"$f":"IF($AE395=1,VLOOKUP($F395,all!$E$14:$AD$553,22),\"\")","v":""},{"$f":"IF($AE395=1,VLOOKUP($F395,all!$E$14:$AD$553,23),\"\")","v":""},{"$f":"IF($AE395=1,VLOOKUP($F395,all!$E$14:$AD$553,24),\"\")","v":""},{"$f":"IF($AE395=1,VLOOKUP($F395,all!$E$14:$AD$553,25),\"\")","v":""},null,{"$f":"COUNTIF(all!$E$14:$E$553,F395)","v":0}]
[null,null,null,null,null,363,{"$f":"IF($AE396=1,VLOOKUP($F396,all!$E$14:$AD$553,3),\"\")","v":""},{"$f":"IF($AE396=1,VLOOKUP($F396,all!$E$14:$AD$553,4),\"\")","v":""},{"$f":"IF($AE396=1,VLOOKUP($F396,all!$E$14:$AD$553,5),\"\")","v":""},{"$f":"IF($AE396=1,VLOOKUP($F396,all!$E$14:$AD$553,6),\"\")","v":""},{"$f":"IF($AE396=1,VLOOKUP($F396,all!$E$14:$AD$553,7),\"\")","v":""},{"$f":"IF($AE396=1,VLOOKUP($F396,all!$E$14:$AD$553,8),\"\")","v":""},{"$f":"IF($AE396=1,VLOOKUP($F396,all!$E$14:$AD$553,9),\"\")","v":""},{"$f":"IF($AE396=1,VLOOKUP($F396,all!$E$14:$AD$553,10),\"\")","v":""},{"$f":"IF($AE396=1,VLOOKUP($F396,all!$E$14:$AD$553,11),\"\")","v":""},{"$f":"IF($AE396=1,VLOOKUP($F396,all!$E$14:$AD$553,12),\"\")","v":""},{"$f":"IF($AE396=1,VLOOKUP($F396,all!$E$14:$AD$553,13),\"\")","v":""},{"$f":"IF($AE396=1,VLOOKUP($F396,all!$E$14:$AD$553,14),\"\")","v":""},{"$f":"IF($AE396=1,VLOOKUP($F396,all!$E$14:$AD$553,15),\"\")","v":""},{"$f":"IF($AE396=1,VLOOKUP($F396,all!$E$14:$AD$553,16),\"\")","v":""},{"$f":"IF($AE396=1,VLOOKUP($F396,all!$E$14:$AD$553,17),\"\")","v":""},{"$f":"IF($AE396=1,VLOOKUP($F396,all!$E$14:$AD$553,18),\"\")","v":""},{"$f":"IF($AE396=1,VLOOKUP($F396,all!$E$14:$AD$553,19),\"\")","v":""},{"$f":"IF($AE396=1,VLOOKUP($F396,all!$E$14:$AD$553,20),\"\")","v":""},{"$f":"IF($AE396=1,VLOOKUP($F396,all!$E$14:$AD$553,21),\"\")","v":""},{"$f":"IF($AE396=1,VLOOKUP($F396,all!$E$14:$AD$553,22),\"\")","v":""},{"$f":"IF($AE396=1,VLOOKUP($F396,all!$E$14:$AD$553,23),\"\")","v":""},{"$f":"IF($AE396=1,VLOOKUP($F396,all!$E$14:$AD$553,24),\"\")","v":""},{"$f":"IF($AE396=1,VLOOKUP($F396,all!$E$14:$AD$553,25),\"\")","v":""},null,{"$f":"COUNTIF(all!$E$14:$E$553,F396)","v":0}]
[null,null,null,null,null,364,{"$f":"IF($AE397=1,VLOOKUP($F397,all!$E$14:$AD$553,3),\"\")","v":""},{"$f":"IF($AE397=1,VLOOKUP($F397,all!$E$14:$AD$553,4),\"\")","v":""},{"$f":"IF($AE397=1,VLOOKUP($F397,all!$E$14:$AD$553,5),\"\")","v":""},{"$f":"IF($AE397=1,VLOOKUP($F397,all!$E$14:$AD$553,6),\"\")","v":""},{"$f":"IF($AE397=1,VLOOKUP($F397,all!$E$14:$AD$553,7),\"\")","v":""},{"$f":"IF($AE397=1,VLOOKUP($F397,all!$E$14:$AD$553,8),\"\")","v":""},{"$f":"IF($AE397=1,VLOOKUP($F397,all!$E$14:$AD$553,9),\"\")","v":""},{"$f":"IF($AE397=1,VLOOKUP($F397,all!$E$14:$AD$553,10),\"\")","v":""},{"$f":"IF($AE397=1,VLOOKUP($F397,all!$E$14:$AD$553,11),\"\")","v":""},{"$f":"IF($AE397=1,VLOOKUP($F397,all!$E$14:$AD$553,12),\"\")","v":""},{"$f":"IF($AE397=1,VLOOKUP($F397,all!$E$14:$AD$553,13),\"\")","v":""},{"$f":"IF($AE397=1,VLOOKUP($F397,all!$E$14:$AD$553,14),\"\")","v":""},{"$f":"IF($AE397=1,VLOOKUP($F397,all!$E$14:$AD$553,15),\"\")","v":""},{"$f":"IF($AE397=1,VLOOKUP($F397,all!$E$14:$AD$553,16),\"\")","v":""},{"$f":"IF($AE397=1,VLOOKUP($F397,all!$E$14:$AD$553,17),\"\")","v":""},{"$f":"IF($AE397=1,VLOOKUP($F397,all!$E$14:$AD$553,18),\"\")","v":""},{"$f":"IF($AE397=1,VLOOKUP($F397,all!$E$14:$AD$553,19),\"\")","v":""},{"$f":"IF($AE397=1,VLOOKUP($F397,all!$E$14:$AD$553,20),\"\")","v":""},{"$f":"IF($AE397=1,VLOOKUP($F397,all!$E$14:$AD$553,21),\"\")","v":""},{"$f":"IF($AE397=1,VLOOKUP($F397,all!$E$14:$AD$553,22),\"\")","v":""},{"$f":"IF($AE397=1,VLOOKUP($F397,all!$E$14:$AD$553,23),\"\")","v":""},{"$f":"IF($AE397=1,VLOOKUP($F397,all!$E$14:$AD$553,24),\"\")","v":""},{"$f":"IF($AE397=1,VLOOKUP($F397,all!$E$14:$AD$553,25),\"\")","v":""},null,{"$f":"COUNTIF(all!$E$14:$E$553,F397)","v":0}]
[null,null,null,null,null,365,{"$f":"IF($AE398=1,VLOOKUP($F398,all!$E$14:$AD$553,3),\"\")","v":""},{"$f":"IF($AE398=1,VLOOKUP($F398,all!$E$14:$AD$553,4),\"\")","v":""},{"$f":"IF($AE398=1,VLOOKUP($F398,all!$E$14:$AD$553,5),\"\")","v":""},{"$f":"IF($AE398=1,VLOOKUP($F398,all!$E$14:$AD$553,6),\"\")","v":""},{"$f":"IF($AE398=1,VLOOKUP($F398,all!$E$14:$AD$553,7),\"\")","v":""},{"$f":"IF($AE398=1,VLOOKUP($F398,all!$E$14:$AD$553,8),\"\")","v":""},{"$f":"IF($AE398=1,VLOOKUP($F398,all!$E$14:$AD$553,9),\"\")","v":""},{"$f":"IF($AE398=1,VLOOKUP($F398,all!$E$14:$AD$553,10),\"\")","v":""},{"$f":"IF($AE398=1,VLOOKUP($F398,all!$E$14:$AD$553,11),\"\")","v":""},{"$f":"IF($AE398=1,VLOOKUP($F398,all!$E$14:$AD$553,12),\"\")","v":""},{"$f":"IF($AE398=1,VLOOKUP($F398,all!$E$14:$AD$553,13),\"\")","v":""},{"$f":"IF($AE398=1,VLOOKUP($F398,all!$E$14:$AD$553,14),\"\")","v":""},{"$f":"IF($AE398=1,VLOOKUP($F398,all!$E$14:$AD$553,15),\"\")","v":""},{"$f":"IF($AE398=1,VLOOKUP($F398,all!$E$14:$AD$553,16),\"\")","v":""},{"$f":"IF($AE398=1,VLOOKUP($F398,all!$E$14:$AD$553,17),\"\")","v":""},{"$f":"IF($AE398=1,VLOOKUP($F398,all!$E$14:$AD$553,18),\"\")","v":""},{"$f":"IF($AE398=1,VLOOKUP($F398,all!$E$14:$AD$553,19),\"\")","v":""},{"$f":"IF($AE398=1,VLOOKUP($F398,all!$E$14:$AD$553,20),\"\")","v":""},{"$f":"IF($AE398=1,VLOOKUP($F398,all!$E$14:$AD$553,21),\"\")","v":""},{"$f":"IF($AE398=1,VLOOKUP($F398,all!$E$14:$AD$553,22),\"\")","v":""},{"$f":"IF($AE398=1,VLOOKUP($F398,all!$E$14:$AD$553,23),\"\")","v":""},{"$f":"IF($AE398=1,VLOOKUP($F398,all!$E$14:$AD$553,24),\"\")","v":""},{"$f":"IF($AE398=1,VLOOKUP($F398,all!$E$14:$AD$553,25),\"\")","v":""},null,{"$f":"COUNTIF(all!$E$14:$E$553,F398)","v":0}]
[null,null,null,null,null,366,{"$f":"IF($AE399=1,VLOOKUP($F399,all!$E$14:$AD$553,3),\"\")","v":""},{"$f":"IF($AE399=1,VLOOKUP($F399,all!$E$14:$AD$553,4),\"\")","v":""},{"$f":"IF($AE399=1,VLOOKUP($F399,all!$E$14:$AD$553,5),\"\")","v":""},{"$f":"IF($AE399=1,VLOOKUP($F399,all!$E$14:$AD$553,6),\"\")","v":""},{"$f":"IF($AE399=1,VLOOKUP($F399,all!$E$14:$AD$553,7),\"\")","v":""},{"$f":"IF($AE399=1,VLOOKUP($F399,all!$E$14:$AD$553,8),\"\")","v":""},{"$f":"IF($AE399=1,VLOOKUP($F399,all!$E$14:$AD$553,9),\"\")","v":""},{"$f":"IF($AE399=1,VLOOKUP($F399,all!$E$14:$AD$553,10),\"\")","v":""},{"$f":"IF($AE399=1,VLOOKUP($F399,all!$E$14:$AD$553,11),\"\")","v":""},{"$f":"IF($AE399=1,VLOOKUP($F399,all!$E$14:$AD$553,12),\"\")","v":""},{"$f":"IF($AE399=1,VLOOKUP($F399,all!$E$14:$AD$553,13),\"\")","v":""},{"$f":"IF($AE399=1,VLOOKUP($F399,all!$E$14:$AD$553,14),\"\")","v":""},{"$f":"IF($AE399=1,VLOOKUP($F399,all!$E$14:$AD$553,15),\"\")","v":""},{"$f":"IF($AE399=1,VLOOKUP($F399,all!$E$14:$AD$553,16),\"\")","v":""},{"$f":"IF($AE399=1,VLOOKUP($F399,all!$E$14:$AD$553,17),\"\")","v":""},{"$f":"IF($AE399=1,VLOOKUP($F399,all!$E$14:$AD$553,18),\"\")","v":""},{"$f":"IF($AE399=1,VLOOKUP($F399,all!$E$14:$AD$553,19),\"\")","v":""},{"$f":"IF($AE399=1,VLOOKUP($F399,all!$E$14:$AD$553,20),\"\")","v":""},{"$f":"IF($AE399=1,VLOOKUP($F399,all!$E$14:$AD$553,21),\"\")","v":""},{"$f":"IF($AE399=1,VLOOKUP($F399,all!$E$14:$AD$553,22),\"\")","v":""},{"$f":"IF($AE399=1,VLOOKUP($F399,all!$E$14:$AD$553,23),\"\")","v":""},{"$f":"IF($AE399=1,VLOOKUP($F399,all!$E$14:$AD$553,24),\"\")","v":""},{"$f":"IF($AE399=1,VLOOKUP($F399,all!$E$14:$AD$553,25),\"\")","v":""},null,{"$f":"COUNTIF(all!$E$14:$E$553,F399)","v":0}]
[null,null,null,null,null,367,{"$f":"IF($AE400=1,VLOOKUP($F400,all!$E$14:$AD$553,3),\"\")","v":""},{"$f":"IF($AE400=1,VLOOKUP($F400,all!$E$14:$AD$553,4),\"\")","v":""},{"$f":"IF($AE400=1,VLOOKUP($F400,all!$E$14:$AD$553,5),\"\")","v":""},{"$f":"IF($AE400=1,VLOOKUP($F400,all!$E$14:$AD$553,6),\"\")","v":""},{"$f":"IF($AE400=1,VLOOKUP($F400,all!$E$14:$AD$553,7),\"\")","v":""},{"$f":"IF($AE400=1,VLOOKUP($F400,all!$E$14:$AD$553,8),\"\")","v":""},{"$f":"IF($AE400=1,VLOOKUP($F400,all!$E$14:$AD$553,9),\"\")","v":""},{"$f":"IF($AE400=1,VLOOKUP($F400,all!$E$14:$AD$553,10),\"\")","v":""},{"$f":"IF($AE400=1,VLOOKUP($F400,all!$E$14:$AD$553,11),\"\")","v":""},{"$f":"IF($AE400=1,VLOOKUP($F400,all!$E$14:$AD$553,12),\"\")","v":""},{"$f":"IF($AE400=1,VLOOKUP($F400,all!$E$14:$AD$553,13),\"\")","v":""},{"$f":"IF($AE400=1,VLOOKUP($F400,all!$E$14:$AD$553,14),\"\")","v":""},{"$f":"IF($AE400=1,VLOOKUP($F400,all!$E$14:$AD$553,15),\"\")","v":""},{"$f":"IF($AE400=1,VLOOKUP($F400,all!$E$14:$AD$553,16),\"\")","v":""},{"$f":"IF($AE400=1,VLOOKUP($F400,all!$E$14:$AD$553,17),\"\")","v":""},{"$f":"IF($AE400=1,VLOOKUP($F400,all!$E$14:$AD$553,18),\"\")","v":""},{"$f":"IF($AE400=1,VLOOKUP($F400,all!$E$14:$AD$553,19),\"\")","v":""},{"$f":"IF($AE400=1,VLOOKUP($F400,all!$E$14:$AD$553,20),\"\")","v":""},{"$f":"IF($AE400=1,VLOOKUP($F400,all!$E$14:$AD$553,21),\"\")","v":""},{"$f":"IF($AE400=1,VLOOKUP($F400,all!$E$14:$AD$553,22),\"\")","v":""},{"$f":"IF($AE400=1,VLOOKUP($F400,all!$E$14:$AD$553,23),\"\")","v":""},{"$f":"IF($AE400=1,VLOOKUP($F400,all!$E$14:$AD$553,24),\"\")","v":""},{"$f":"IF($AE400=1,VLOOKUP($F400,all!$E$14:$AD$553,25),\"\")","v":""},null,{"$f":"COUNTIF(all!$E$14:$E$553,F400)","v":0}]
[null,null,null,null,null,368,{"$f":"IF($AE401=1,VLOOKUP($F401,all!$E$14:$AD$553,3),\"\")","v":""},{"$f":"IF($AE401=1,VLOOKUP($F401,all!$E$14:$AD$553,4),\"\")","v":""},{"$f":"IF($AE401=1,VLOOKUP($F401,all!$E$14:$AD$553,5),\"\")","v":""},{"$f":"IF($AE401=1,VLOOKUP($F401,all!$E$14:$AD$553,6),\"\")","v":""},{"$f":"IF($AE401=1,VLOOKUP($F401,all!$E$14:$AD$553,7),\"\")","v":""},{"$f":"IF($AE401=1,VLOOKUP($F401,all!$E$14:$AD$553,8),\"\")","v":""},{"$f":"IF($AE401=1,VLOOKUP($F401,all!$E$14:$AD$553,9),\"\")","v":""},{"$f":"IF($AE401=1,VLOOKUP($F401,all!$E$14:$AD$553,10),\"\")","v":""},{"$f":"IF($AE401=1,VLOOKUP($F401,all!$E$14:$AD$553,11),\"\")","v":""},{"$f":"IF($AE401=1,VLOOKUP($F401,all!$E$14:$AD$553,12),\"\")","v":""},{"$f":"IF($AE401=1,VLOOKUP($F401,all!$E$14:$AD$553,13),\"\")","v":""},{"$f":"IF($AE401=1,VLOOKUP($F401,all!$E$14:$AD$553,14),\"\")","v":""},{"$f":"IF($AE401=1,VLOOKUP($F401,all!$E$14:$AD$553,15),\"\")","v":""},{"$f":"IF($AE401=1,VLOOKUP($F401,all!$E$14:$AD$553,16),\"\")","v":""},{"$f":"IF($AE401=1,VLOOKUP($F401,all!$E$14:$AD$553,17),\"\")","v":""},{"$f":"IF($AE401=1,VLOOKUP($F401,all!$E$14:$AD$553,18),\"\")","v":""},{"$f":"IF($AE401=1,VLOOKUP($F401,all!$E$14:$AD$553,19),\"\")","v":""},{"$f":"IF($AE401=1,VLOOKUP($F401,all!$E$14:$AD$553,20),\"\")","v":""},{"$f":"IF($AE401=1,VLOOKUP($F401,all!$E$14:$AD$553,21),\"\")","v":""},{"$f":"IF($AE401=1,VLOOKUP($F401,all!$E$14:$AD$553,22),\"\")","v":""},{"$f":"IF($AE401=1,VLOOKUP($F401,all!$E$14:$AD$553,23),\"\")","v":""},{"$f":"IF($AE401=1,VLOOKUP($F401,all!$E$14:$AD$553,24),\"\")","v":""},{"$f":"IF($AE401=1,VLOOKUP($F401,all!$E$14:$AD$553,25),\"\")","v":""},null,{"$f":"COUNTIF(all!$E$14:$E$553,F401)","v":0}]
[null,null,null,null,null,369,{"$f":"IF($AE402=1,VLOOKUP($F402,all!$E$14:$AD$553,3),\"\")","v":""},{"$f":"IF($AE402=1,VLOOKUP($F402,all!$E$14:$AD$553,4),\"\")","v":""},{"$f":"IF($AE402=1,VLOOKUP($F402,all!$E$14:$AD$553,5),\"\")","v":""},{"$f":"IF($AE402=1,VLOOKUP($F402,all!$E$14:$AD$553,6),\"\")","v":""},{"$f":"IF($AE402=1,VLOOKUP($F402,all!$E$14:$AD$553,7),\"\")","v":""},{"$f":"IF($AE402=1,VLOOKUP($F402,all!$E$14:$AD$553,8),\"\")","v":""},{"$f":"IF($AE402=1,VLOOKUP($F402,all!$E$14:$AD$553,9),\"\")","v":""},{"$f":"IF($AE402=1,VLOOKUP($F402,all!$E$14:$AD$553,10),\"\")","v":""},{"$f":"IF($AE402=1,VLOOKUP($F402,all!$E$14:$AD$553,11),\"\")","v":""},{"$f":"IF($AE402=1,VLOOKUP($F402,all!$E$14:$AD$553,12),\"\")","v":""},{"$f":"IF($AE402=1,VLOOKUP($F402,all!$E$14:$AD$553,13),\"\")","v":""},{"$f":"IF($AE402=1,VLOOKUP($F402,all!$E$14:$AD$553,14),\"\")","v":""},{"$f":"IF($AE402=1,VLOOKUP($F402,all!$E$14:$AD$553,15),\"\")","v":""},{"$f":"IF($AE402=1,VLOOKUP($F402,all!$E$14:$AD$553,16),\"\")","v":""},{"$f":"IF($AE402=1,VLOOKUP($F402,all!$E$14:$AD$553,17),\"\")","v":""},{"$f":"IF($AE402=1,VLOOKUP($F402,all!$E$14:$AD$553,18),\"\")","v":""},{"$f":"IF($AE402=1,VLOOKUP($F402,all!$E$14:$AD$553,19),\"\")","v":""},{"$f":"IF($AE402=1,VLOOKUP($F402,all!$E$14:$AD$553,20),\"\")","v":""},{"$f":"IF($AE402=1,VLOOKUP($F402,all!$E$14:$AD$553,21),\"\")","v":""},{"$f":"IF($AE402=1,VLOOKUP($F402,all!$E$14:$AD$553,22),\"\")","v":""},{"$f":"IF($AE402=1,VLOOKUP($F402,all!$E$14:$AD$553,23),\"\")","v":""},{"$f":"IF($AE402=1,VLOOKUP($F402,all!$E$14:$AD$553,24),\"\")","v":""},{"$f":"IF($AE402=1,VLOOKUP($F402,all!$E$14:$AD$553,25),\"\")","v":""},null,{"$f":"COUNTIF(all!$E$14:$E$553,F402)","v":0}]
[null,null,null,null,null,370,{"$f":"IF($AE403=1,VLOOKUP($F403,all!$E$14:$AD$553,3),\"\")","v":""},{"$f":"IF($AE403=1,VLOOKUP($F403,all!$E$14:$AD$553,4),\"\")","v":""},{"$f":"IF($AE403=1,VLOOKUP($F403,all!$E$14:$AD$553,5),\"\")","v":""},{"$f":"IF($AE403=1,VLOOKUP($F403,all!$E$14:$AD$553,6),\"\")","v":""},{"$f":"IF($AE403=1,VLOOKUP($F403,all!$E$14:$AD$553,7),\"\")","v":""},{"$f":"IF($AE403=1,VLOOKUP($F403,all!$E$14:$AD$553,8),\"\")","v":""},{"$f":"IF($AE403=1,VLOOKUP($F403,all!$E$14:$AD$553,9),\"\")","v":""},{"$f":"IF($AE403=1,VLOOKUP($F403,all!$E$14:$AD$553,10),\"\")","v":""},{"$f":"IF($AE403=1,VLOOKUP($F403,all!$E$14:$AD$553,11),\"\")","v":""},{"$f":"IF($AE403=1,VLOOKUP($F403,all!$E$14:$AD$553,12),\"\")","v":""},{"$f":"IF($AE403=1,VLOOKUP($F403,all!$E$14:$AD$553,13),\"\")","v":""},{"$f":"IF($AE403=1,VLOOKUP($F403,all!$E$14:$AD$553,14),\"\")","v":""},{"$f":"IF($AE403=1,VLOOKUP($F403,all!$E$14:$AD$553,15),\"\")","v":""},{"$f":"IF($AE403=1,VLOOKUP($F403,all!$E$14:$AD$553,16),\"\")","v":""},{"$f":"IF($AE403=1,VLOOKUP($F403,all!$E$14:$AD$553,17),\"\")","v":""},{"$f":"IF($AE403=1,VLOOKUP($F403,all!$E$14:$AD$553,18),\"\")","v":""},{"$f":"IF($AE403=1,VLOOKUP($F403,all!$E$14:$AD$553,19),\"\")","v":""},{"$f":"IF($AE403=1,VLOOKUP($F403,all!$E$14:$AD$553,20),\"\")","v":""},{"$f":"IF($AE403=1,VLOOKUP($F403,all!$E$14:$AD$553,21),\"\")","v":""},{"$f":"IF($AE403=1,VLOOKUP($F403,all!$E$14:$AD$553,22),\"\")","v":""},{"$f":"IF($AE403=1,VLOOKUP($F403,all!$E$14:$AD$553,23),\"\")","v":""},{"$f":"IF($AE403=1,VLOOKUP($F403,all!$E$14:$AD$553,24),\"\")","v":""},{"$f":"IF($AE403=1,VLOOKUP($F403,all!$E$14:$AD$553,25),\"\")","v":""},null,{"$f":"COUNTIF(all!$E$14:$E$553,F403)","v":0}]
[null,null,null,null,null,371,{"$f":"IF($AE404=1,VLOOKUP($F404,all!$E$14:$AD$553,3),\"\")","v":""},{"$f":"IF($AE404=1,VLOOKUP($F404,all!$E$14:$AD$553,4),\"\")","v":""},{"$f":"IF($AE404=1,VLOOKUP($F404,all!$E$14:$AD$553,5),\"\")","v":""},{"$f":"IF($AE404=1,VLOOKUP($F404,all!$E$14:$AD$553,6),\"\")","v":""},{"$f":"IF($AE404=1,VLOOKUP($F404,all!$E$14:$AD$553,7),\"\")","v":""},{"$f":"IF($AE404=1,VLOOKUP($F404,all!$E$14:$AD$553,8),\"\")","v":""},{"$f":"IF($AE404=1,VLOOKUP($F404,all!$E$14:$AD$553,9),\"\")","v":""},{"$f":"IF($AE404=1,VLOOKUP($F404,all!$E$14:$AD$553,10),\"\")","v":""},{"$f":"IF($AE404=1,VLOOKUP($F404,all!$E$14:$AD$553,11),\"\")","v":""},{"$f":"IF($AE404=1,VLOOKUP($F404,all!$E$14:$AD$553,12),\"\")","v":""},{"$f":"IF($AE404=1,VLOOKUP($F404,all!$E$14:$AD$553,13),\"\")","v":""},{"$f":"IF($AE404=1,VLOOKUP($F404,all!$E$14:$AD$553,14),\"\")","v":""},{"$f":"IF($AE404=1,VLOOKUP($F404,all!$E$14:$AD$553,15),\"\")","v":""},{"$f":"IF($AE404=1,VLOOKUP($F404,all!$E$14:$AD$553,16),\"\")","v":""},{"$f":"IF($AE404=1,VLOOKUP($F404,all!$E$14:$AD$553,17),\"\")","v":""},{"$f":"IF($AE404=1,VLOOKUP($F404,all!$E$14:$AD$553,18),\"\")","v":""},{"$f":"IF($AE404=1,VLOOKUP($F404,all!$E$14:$AD$553,19),\"\")","v":""},{"$f":"IF($AE404=1,VLOOKUP($F404,all!$E$14:$AD$553,20),\"\")","v":""},{"$f":"IF($AE404=1,VLOOKUP($F404,all!$E$14:$AD$553,21),\"\")","v":""},{"$f":"IF($AE404=1,VLOOKUP($F404,all!$E$14:$AD$553,22),\"\")","v":""},{"$f":"IF($AE404=1,VLOOKUP($F404,all!$E$14:$AD$553,23),\"\")","v":""},{"$f":"IF($AE404=1,VLOOKUP($F404,all!$E$14:$AD$553,24),\"\")","v":""},{"$f":"IF($AE404=1,VLOOKUP($F404,all!$E$14:$AD$553,25),\"\")","v":""},null,{"$f":"COUNTIF(all!$E$14:$E$553,F404)","v":0}]
[null,null,null,null,null,372,{"$f":"IF($AE405=1,VLOOKUP($F405,all!$E$14:$AD$553,3),\"\")","v":""},{"$f":"IF($AE405=1,VLOOKUP($F405,all!$E$14:$AD$553,4),\"\")","v":""},{"$f":"IF($AE405=1,VLOOKUP($F405,all!$E$14:$AD$553,5),\"\")","v":""},{"$f":"IF($AE405=1,VLOOKUP($F405,all!$E$14:$AD$553,6),\"\")","v":""},{"$f":"IF($AE405=1,VLOOKUP($F405,all!$E$14:$AD$553,7),\"\")","v":""},{"$f":"IF($AE405=1,VLOOKUP($F405,all!$E$14:$AD$553,8),\"\")","v":""},{"$f":"IF($AE405=1,VLOOKUP($F405,all!$E$14:$AD$553,9),\"\")","v":""},{"$f":"IF($AE405=1,VLOOKUP($F405,all!$E$14:$AD$553,10),\"\")","v":""},{"$f":"IF($AE405=1,VLOOKUP($F405,all!$E$14:$AD$553,11),\"\")","v":""},{"$f":"IF($AE405=1,VLOOKUP($F405,all!$E$14:$AD$553,12),\"\")","v":""},{"$f":"IF($AE405=1,VLOOKUP($F405,all!$E$14:$AD$553,13),\"\")","v":""},{"$f":"IF($AE405=1,VLOOKUP($F405,all!$E$14:$AD$553,14),\"\")","v":""},{"$f":"IF($AE405=1,VLOOKUP($F405,all!$E$14:$AD$553,15),\"\")","v":""},{"$f":"IF($AE405=1,VLOOKUP($F405,all!$E$14:$AD$553,16),\"\")","v":""},{"$f":"IF($AE405=1,VLOOKUP($F405,all!$E$14:$AD$553,17),\"\")","v":""},{"$f":"IF($AE405=1,VLOOKUP($F405,all!$E$14:$AD$553,18),\"\")","v":""},{"$f":"IF($AE405=1,VLOOKUP($F405,all!$E$14:$AD$553,19),\"\")","v":""},{"$f":"IF($AE405=1,VLOOKUP($F405,all!$E$14:$AD$553,20),\"\")","v":""},{"$f":"IF($AE405=1,VLOOKUP($F405,all!$E$14:$AD$553,21),\"\")","v":""},{"$f":"IF($AE405=1,VLOOKUP($F405,all!$E$14:$AD$553,22),\"\")","v":""},{"$f":"IF($AE405=1,VLOOKUP($F405,all!$E$14:$AD$553,23),\"\")","v":""},{"$f":"IF($AE405=1,VLOOKUP($F405,all!$E$14:$AD$553,24),\"\")","v":""},{"$f":"IF($AE405=1,VLOOKUP($F405,all!$E$14:$AD$553,25),\"\")","v":""},null,{"$f":"COUNTIF(all!$E$14:$E$553,F405)","v":0}]
[null,null,null,null,null,373,{"$f":"IF($AE406=1,VLOOKUP($F406,all!$E$14:$AD$553,3),\"\")","v":""},{"$f":"IF($AE406=1,VLOOKUP($F406,all!$E$14:$AD$553,4),\"\")","v":""},{"$f":"IF($AE406=1,VLOOKUP($F406,all!$E$14:$AD$553,5),\"\")","v":""},{"$f":"IF($AE406=1,VLOOKUP($F406,all!$E$14:$AD$553,6),\"\")","v":""},{"$f":"IF($AE406=1,VLOOKUP($F406,all!$E$14:$AD$553,7),\"\")","v":""},{"$f":"IF($AE406=1,VLOOKUP($F406,all!$E$14:$AD$553,8),\"\")","v":""},{"$f":"IF($AE406=1,VLOOKUP($F406,all!$E$14:$AD$553,9),\"\")","v":""},{"$f":"IF($AE406=1,VLOOKUP($F406,all!$E$14:$AD$553,10),\"\")","v":""},{"$f":"IF($AE406=1,VLOOKUP($F406,all!$E$14:$AD$553,11),\"\")","v":""},{"$f":"IF($AE406=1,VLOOKUP($F406,all!$E$14:$AD$553,12),\"\")","v":""},{"$f":"IF($AE406=1,VLOOKUP($F406,all!$E$14:$AD$553,13),\"\")","v":""},{"$f":"IF($AE406=1,VLOOKUP($F406,all!$E$14:$AD$553,14),\"\")","v":""},{"$f":"IF($AE406=1,VLOOKUP($F406,all!$E$14:$AD$553,15),\"\")","v":""},{"$f":"IF($AE406=1,VLOOKUP($F406,all!$E$14:$AD$553,16),\"\")","v":""},{"$f":"IF($AE406=1,VLOOKUP($F406,all!$E$14:$AD$553,17),\"\")","v":""},{"$f":"IF($AE406=1,VLOOKUP($F406,all!$E$14:$AD$553,18),\"\")","v":""},{"$f":"IF($AE406=1,VLOOKUP($F406,all!$E$14:$AD$553,19),\"\")","v":""},{"$f":"IF($AE406=1,VLOOKUP($F406,all!$E$14:$AD$553,20),\"\")","v":""},{"$f":"IF($AE406=1,VLOOKUP($F406,all!$E$14:$AD$553,21),\"\")","v":""},{"$f":"IF($AE406=1,VLOOKUP($F406,all!$E$14:$AD$553,22),\"\")","v":""},{"$f":"IF($AE406=1,VLOOKUP($F406,all!$E$14:$AD$553,23),\"\")","v":""},{"$f":"IF($AE406=1,VLOOKUP($F406,all!$E$14:$AD$553,24),\"\")","v":""},{"$f":"IF($AE406=1,VLOOKUP($F406,all!$E$14:$AD$553,25),\"\")","v":""},null,{"$f":"COUNTIF(all!$E$14:$E$553,F406)","v":0}]
[null,null,null,null,null,374,{"$f":"IF($AE407=1,VLOOKUP($F407,all!$E$14:$AD$553,3),\"\")","v":""},{"$f":"IF($AE407=1,VLOOKUP($F407,all!$E$14:$AD$553,4),\"\")","v":""},{"$f":"IF($AE407=1,VLOOKUP($F407,all!$E$14:$AD$553,5),\"\")","v":""},{"$f":"IF($AE407=1,VLOOKUP($F407,all!$E$14:$AD$553,6),\"\")","v":""},{"$f":"IF($AE407=1,VLOOKUP($F407,all!$E$14:$AD$553,7),\"\")","v":""},{"$f":"IF($AE407=1,VLOOKUP($F407,all!$E$14:$AD$553,8),\"\")","v":""},{"$f":"IF($AE407=1,VLOOKUP($F407,all!$E$14:$AD$553,9),\"\")","v":""},{"$f":"IF($AE407=1,VLOOKUP($F407,all!$E$14:$AD$553,10),\"\")","v":""},{"$f":"IF($AE407=1,VLOOKUP($F407,all!$E$14:$AD$553,11),\"\")","v":""},{"$f":"IF($AE407=1,VLOOKUP($F407,all!$E$14:$AD$553,12),\"\")","v":""},{"$f":"IF($AE407=1,VLOOKUP($F407,all!$E$14:$AD$553,13),\"\")","v":""},{"$f":"IF($AE407=1,VLOOKUP($F407,all!$E$14:$AD$553,14),\"\")","v":""},{"$f":"IF($AE407=1,VLOOKUP($F407,all!$E$14:$AD$553,15),\"\")","v":""},{"$f":"IF($AE407=1,VLOOKUP($F407,all!$E$14:$AD$553,16),\"\")","v":""},{"$f":"IF($AE407=1,VLOOKUP($F407,all!$E$14:$AD$553,17),\"\")","v":""},{"$f":"IF($AE407=1,VLOOKUP($F407,all!$E$14:$AD$553,18),\"\")","v":""},{"$f":"IF($AE407=1,VLOOKUP($F407,all!$E$14:$AD$553,19),\"\")","v":""},{"$f":"IF($AE407=1,VLOOKUP($F407,all!$E$14:$AD$553,20),\"\")","v":""},{"$f":"IF($AE407=1,VLOOKUP($F407,all!$E$14:$AD$553,21),\"\")","v":""},{"$f":"IF($AE407=1,VLOOKUP($F407,all!$E$14:$AD$553,22),\"\")","v":""},{"$f":"IF($AE407=1,VLOOKUP($F407,all!$E$14:$AD$553,23),\"\")","v":""},{"$f":"IF($AE407=1,VLOOKUP($F407,all!$E$14:$AD$553,24),\"\")","v":""},{"$f":"IF($AE407=1,VLOOKUP($F407,all!$E$14:$AD$553,25),\"\")","v":""},null,{"$f":"COUNTIF(all!$E$14:$E$553,F407)","v":0}]
[null,null,null,null,null,375,{"$f":"IF($AE408=1,VLOOKUP($F408,all!$E$14:$AD$553,3),\"\")","v":""},{"$f":"IF($AE408=1,VLOOKUP($F408,all!$E$14:$AD$553,4),\"\")","v":""},{"$f":"IF($AE408=1,VLOOKUP($F408,all!$E$14:$AD$553,5),\"\")","v":""},{"$f":"IF($AE408=1,VLOOKUP($F408,all!$E$14:$AD$553,6),\"\")","v":""},{"$f":"IF($AE408=1,VLOOKUP($F408,all!$E$14:$AD$553,7),\"\")","v":""},{"$f":"IF($AE408=1,VLOOKUP($F408,all!$E$14:$AD$553,8),\"\")","v":""},{"$f":"IF($AE408=1,VLOOKUP($F408,all!$E$14:$AD$553,9),\"\")","v":""},{"$f":"IF($AE408=1,VLOOKUP($F408,all!$E$14:$AD$553,10),\"\")","v":""},{"$f":"IF($AE408=1,VLOOKUP($F408,all!$E$14:$AD$553,11),\"\")","v":""},{"$f":"IF($AE408=1,VLOOKUP($F408,all!$E$14:$AD$553,12),\"\")","v":""},{"$f":"IF($AE408=1,VLOOKUP($F408,all!$E$14:$AD$553,13),\"\")","v":""},{"$f":"IF($AE408=1,VLOOKUP($F408,all!$E$14:$AD$553,14),\"\")","v":""},{"$f":"IF($AE408=1,VLOOKUP($F408,all!$E$14:$AD$553,15),\"\")","v":""},{"$f":"IF($AE408=1,VLOOKUP($F408,all!$E$14:$AD$553,16),\"\")","v":""},{"$f":"IF($AE408=1,VLOOKUP($F408,all!$E$14:$AD$553,17),\"\")","v":""},{"$f":"IF($AE408=1,VLOOKUP($F408,all!$E$14:$AD$553,18),\"\")","v":""},{"$f":"IF($AE408=1,VLOOKUP($F408,all!$E$14:$AD$553,19),\"\")","v":""},{"$f":"IF($AE408=1,VLOOKUP($F408,all!$E$14:$AD$553,20),\"\")","v":""},{"$f":"IF($AE408=1,VLOOKUP($F408,all!$E$14:$AD$553,21),\"\")","v":""},{"$f":"IF($AE408=1,VLOOKUP($F408,all!$E$14:$AD$553,22),\"\")","v":""},{"$f":"IF($AE408=1,VLOOKUP($F408,all!$E$14:$AD$553,23),\"\")","v":""},{"$f":"IF($AE408=1,VLOOKUP($F408,all!$E$14:$AD$553,24),\"\")","v":""},{"$f":"IF($AE408=1,VLOOKUP($F408,all!$E$14:$AD$553,25),\"\")","v":""},null,{"$f":"COUNTIF(all!$E$14:$E$553,F408)","v":0}]
[null,null,null,null,null,376,{"$f":"IF($AE409=1,VLOOKUP($F409,all!$E$14:$AD$553,3),\"\")","v":""},{"$f":"IF($AE409=1,VLOOKUP($F409,all!$E$14:$AD$553,4),\"\")","v":""},{"$f":"IF($AE409=1,VLOOKUP($F409,all!$E$14:$AD$553,5),\"\")","v":""},{"$f":"IF($AE409=1,VLOOKUP($F409,all!$E$14:$AD$553,6),\"\")","v":""},{"$f":"IF($AE409=1,VLOOKUP($F409,all!$E$14:$AD$553,7),\"\")","v":""},{"$f":"IF($AE409=1,VLOOKUP($F409,all!$E$14:$AD$553,8),\"\")","v":""},{"$f":"IF($AE409=1,VLOOKUP($F409,all!$E$14:$AD$553,9),\"\")","v":""},{"$f":"IF($AE409=1,VLOOKUP($F409,all!$E$14:$AD$553,10),\"\")","v":""},{"$f":"IF($AE409=1,VLOOKUP($F409,all!$E$14:$AD$553,11),\"\")","v":""},{"$f":"IF($AE409=1,VLOOKUP($F409,all!$E$14:$AD$553,12),\"\")","v":""},{"$f":"IF($AE409=1,VLOOKUP($F409,all!$E$14:$AD$553,13),\"\")","v":""},{"$f":"IF($AE409=1,VLOOKUP($F409,all!$E$14:$AD$553,14),\"\")","v":""},{"$f":"IF($AE409=1,VLOOKUP($F409,all!$E$14:$AD$553,15),\"\")","v":""},{"$f":"IF($AE409=1,VLOOKUP($F409,all!$E$14:$AD$553,16),\"\")","v":""},{"$f":"IF($AE409=1,VLOOKUP($F409,all!$E$14:$AD$553,17),\"\")","v":""},{"$f":"IF($AE409=1,VLOOKUP($F409,all!$E$14:$AD$553,18),\"\")","v":""},{"$f":"IF($AE409=1,VLOOKUP($F409,all!$E$14:$AD$553,19),\"\")","v":""},{"$f":"IF($AE409=1,VLOOKUP($F409,all!$E$14:$AD$553,20),\"\")","v":""},{"$f":"IF($AE409=1,VLOOKUP($F409,all!$E$14:$AD$553,21),\"\")","v":""},{"$f":"IF($AE409=1,VLOOKUP($F409,all!$E$14:$AD$553,22),\"\")","v":""},{"$f":"IF($AE409=1,VLOOKUP($F409,all!$E$14:$AD$553,23),\"\")","v":""},{"$f":"IF($AE409=1,VLOOKUP($F409,all!$E$14:$AD$553,24),\"\")","v":""},{"$f":"IF($AE409=1,VLOOKUP($F409,all!$E$14:$AD$553,25),\"\")","v":""},null,{"$f":"COUNTIF(all!$E$14:$E$553,F409)","v":0}]
[null,null,null,null,null,377,{"$f":"IF($AE410=1,VLOOKUP($F410,all!$E$14:$AD$553,3),\"\")","v":""},{"$f":"IF($AE410=1,VLOOKUP($F410,all!$E$14:$AD$553,4),\"\")","v":""},{"$f":"IF($AE410=1,VLOOKUP($F410,all!$E$14:$AD$553,5),\"\")","v":""},{"$f":"IF($AE410=1,VLOOKUP($F410,all!$E$14:$AD$553,6),\"\")","v":""},{"$f":"IF($AE410=1,VLOOKUP($F410,all!$E$14:$AD$553,7),\"\")","v":""},{"$f":"IF($AE410=1,VLOOKUP($F410,all!$E$14:$AD$553,8),\"\")","v":""},{"$f":"IF($AE410=1,VLOOKUP($F410,all!$E$14:$AD$553,9),\"\")","v":""},{"$f":"IF($AE410=1,VLOOKUP($F410,all!$E$14:$AD$553,10),\"\")","v":""},{"$f":"IF($AE410=1,VLOOKUP($F410,all!$E$14:$AD$553,11),\"\")","v":""},{"$f":"IF($AE410=1,VLOOKUP($F410,all!$E$14:$AD$553,12),\"\")","v":""},{"$f":"IF($AE410=1,VLOOKUP($F410,all!$E$14:$AD$553,13),\"\")","v":""},{"$f":"IF($AE410=1,VLOOKUP($F410,all!$E$14:$AD$553,14),\"\")","v":""},{"$f":"IF($AE410=1,VLOOKUP($F410,all!$E$14:$AD$553,15),\"\")","v":""},{"$f":"IF($AE410=1,VLOOKUP($F410,all!$E$14:$AD$553,16),\"\")","v":""},{"$f":"IF($AE410=1,VLOOKUP($F410,all!$E$14:$AD$553,17),\"\")","v":""},{"$f":"IF($AE410=1,VLOOKUP($F410,all!$E$14:$AD$553,18),\"\")","v":""},{"$f":"IF($AE410=1,VLOOKUP($F410,all!$E$14:$AD$553,19),\"\")","v":""},{"$f":"IF($AE410=1,VLOOKUP($F410,all!$E$14:$AD$553,20),\"\")","v":""},{"$f":"IF($AE410=1,VLOOKUP($F410,all!$E$14:$AD$553,21),\"\")","v":""},{"$f":"IF($AE410=1,VLOOKUP($F410,all!$E$14:$AD$553,22),\"\")","v":""},{"$f":"IF($AE410=1,VLOOKUP($F410,all!$E$14:$AD$553,23),\"\")","v":""},{"$f":"IF($AE410=1,VLOOKUP($F410,all!$E$14:$AD$553,24),\"\")","v":""},{"$f":"IF($AE410=1,VLOOKUP($F410,all!$E$14:$AD$553,25),\"\")","v":""},null,{"$f":"COUNTIF(all!$E$14:$E$553,F410)","v":0}]
[null,null,null,null,null,378,{"$f":"IF($AE411=1,VLOOKUP($F411,all!$E$14:$AD$553,3),\"\")","v":""},{"$f":"IF($AE411=1,VLOOKUP($F411,all!$E$14:$AD$553,4),\"\")","v":""},{"$f":"IF($AE411=1,VLOOKUP($F411,all!$E$14:$AD$553,5),\"\")","v":""},{"$f":"IF($AE411=1,VLOOKUP($F411,all!$E$14:$AD$553,6),\"\")","v":""},{"$f":"IF($AE411=1,VLOOKUP($F411,all!$E$14:$AD$553,7),\"\")","v":""},{"$f":"IF($AE411=1,VLOOKUP($F411,all!$E$14:$AD$553,8),\"\")","v":""},{"$f":"IF($AE411=1,VLOOKUP($F411,all!$E$14:$AD$553,9),\"\")","v":""},{"$f":"IF($AE411=1,VLOOKUP($F411,all!$E$14:$AD$553,10),\"\")","v":""},{"$f":"IF($AE411=1,VLOOKUP($F411,all!$E$14:$AD$553,11),\"\")","v":""},{"$f":"IF($AE411=1,VLOOKUP($F411,all!$E$14:$AD$553,12),\"\")","v":""},{"$f":"IF($AE411=1,VLOOKUP($F411,all!$E$14:$AD$553,13),\"\")","v":""},{"$f":"IF($AE411=1,VLOOKUP($F411,all!$E$14:$AD$553,14),\"\")","v":""},{"$f":"IF($AE411=1,VLOOKUP($F411,all!$E$14:$AD$553,15),\"\")","v":""},{"$f":"IF($AE411=1,VLOOKUP($F411,all!$E$14:$AD$553,16),\"\")","v":""},{"$f":"IF($AE411=1,VLOOKUP($F411,all!$E$14:$AD$553,17),\"\")","v":""},{"$f":"IF($AE411=1,VLOOKUP($F411,all!$E$14:$AD$553,18),\"\")","v":""},{"$f":"IF($AE411=1,VLOOKUP($F411,all!$E$14:$AD$553,19),\"\")","v":""},{"$f":"IF($AE411=1,VLOOKUP($F411,all!$E$14:$AD$553,20),\"\")","v":""},{"$f":"IF($AE411=1,VLOOKUP($F411,all!$E$14:$AD$553,21),\"\")","v":""},{"$f":"IF($AE411=1,VLOOKUP($F411,all!$E$14:$AD$553,22),\"\")","v":""},{"$f":"IF($AE411=1,VLOOKUP($F411,all!$E$14:$AD$553,23),\"\")","v":""},{"$f":"IF($AE411=1,VLOOKUP($F411,all!$E$14:$AD$553,24),\"\")","v":""},{"$f":"IF($AE411=1,VLOOKUP($F411,all!$E$14:$AD$553,25),\"\")","v":""},null,{"$f":"COUNTIF(all!$E$14:$E$553,F411)","v":0}]
[null,null,null,null,null,379,{"$f":"IF($AE412=1,VLOOKUP($F412,all!$E$14:$AD$553,3),\"\")","v":""},{"$f":"IF($AE412=1,VLOOKUP($F412,all!$E$14:$AD$553,4),\"\")","v":""},{"$f":"IF($AE412=1,VLOOKUP($F412,all!$E$14:$AD$553,5),\"\")","v":""},{"$f":"IF($AE412=1,VLOOKUP($F412,all!$E$14:$AD$553,6),\"\")","v":""},{"$f":"IF($AE412=1,VLOOKUP($F412,all!$E$14:$AD$553,7),\"\")","v":""},{"$f":"IF($AE412=1,VLOOKUP($F412,all!$E$14:$AD$553,8),\"\")","v":""},{"$f":"IF($AE412=1,VLOOKUP($F412,all!$E$14:$AD$553,9),\"\")","v":""},{"$f":"IF($AE412=1,VLOOKUP($F412,all!$E$14:$AD$553,10),\"\")","v":""},{"$f":"IF($AE412=1,VLOOKUP($F412,all!$E$14:$AD$553,11),\"\")","v":""},{"$f":"IF($AE412=1,VLOOKUP($F412,all!$E$14:$AD$553,12),\"\")","v":""},{"$f":"IF($AE412=1,VLOOKUP($F412,all!$E$14:$AD$553,13),\"\")","v":""},{"$f":"IF($AE412=1,VLOOKUP($F412,all!$E$14:$AD$553,14),\"\")","v":""},{"$f":"IF($AE412=1,VLOOKUP($F412,all!$E$14:$AD$553,15),\"\")","v":""},{"$f":"IF($AE412=1,VLOOKUP($F412,all!$E$14:$AD$553,16),\"\")","v":""},{"$f":"IF($AE412=1,VLOOKUP($F412,all!$E$14:$AD$553,17),\"\")","v":""},{"$f":"IF($AE412=1,VLOOKUP($F412,all!$E$14:$AD$553,18),\"\")","v":""},{"$f":"IF($AE412=1,VLOOKUP($F412,all!$E$14:$AD$553,19),\"\")","v":""},{"$f":"IF($AE412=1,VLOOKUP($F412,all!$E$14:$AD$553,20),\"\")","v":""},{"$f":"IF($AE412=1,VLOOKUP($F412,all!$E$14:$AD$553,21),\"\")","v":""},{"$f":"IF($AE412=1,VLOOKUP($F412,all!$E$14:$AD$553,22),\"\")","v":""},{"$f":"IF($AE412=1,VLOOKUP($F412,all!$E$14:$AD$553,23),\"\")","v":""},{"$f":"IF($AE412=1,VLOOKUP($F412,all!$E$14:$AD$553,24),\"\")","v":""},{"$f":"IF($AE412=1,VLOOKUP($F412,all!$E$14:$AD$553,25),\"\")","v":""},null,{"$f":"COUNTIF(all!$E$14:$E$553,F412)","v":0}]
[null,null,null,null,null,380,{"$f":"IF($AE413=1,VLOOKUP($F413,all!$E$14:$AD$553,3),\"\")","v":""},{"$f":"IF($AE413=1,VLOOKUP($F413,all!$E$14:$AD$553,4),\"\")","v":""},{"$f":"IF($AE413=1,VLOOKUP($F413,all!$E$14:$AD$553,5),\"\")","v":""},{"$f":"IF($AE413=1,VLOOKUP($F413,all!$E$14:$AD$553,6),\"\")","v":""},{"$f":"IF($AE413=1,VLOOKUP($F413,all!$E$14:$AD$553,7),\"\")","v":""},{"$f":"IF($AE413=1,VLOOKUP($F413,all!$E$14:$AD$553,8),\"\")","v":""},{"$f":"IF($AE413=1,VLOOKUP($F413,all!$E$14:$AD$553,9),\"\")","v":""},{"$f":"IF($AE413=1,VLOOKUP($F413,all!$E$14:$AD$553,10),\"\")","v":""},{"$f":"IF($AE413=1,VLOOKUP($F413,all!$E$14:$AD$553,11),\"\")","v":""},{"$f":"IF($AE413=1,VLOOKUP($F413,all!$E$14:$AD$553,12),\"\")","v":""},{"$f":"IF($AE413=1,VLOOKUP($F413,all!$E$14:$AD$553,13),\"\")","v":""},{"$f":"IF($AE413=1,VLOOKUP($F413,all!$E$14:$AD$553,14),\"\")","v":""},{"$f":"IF($AE413=1,VLOOKUP($F413,all!$E$14:$AD$553,15),\"\")","v":""},{"$f":"IF($AE413=1,VLOOKUP($F413,all!$E$14:$AD$553,16),\"\")","v":""},{"$f":"IF($AE413=1,VLOOKUP($F413,all!$E$14:$AD$553,17),\"\")","v":""},{"$f":"IF($AE413=1,VLOOKUP($F413,all!$E$14:$AD$553,18),\"\")","v":""},{"$f":"IF($AE413=1,VLOOKUP($F413,all!$E$14:$AD$553,19),\"\")","v":""},{"$f":"IF($AE413=1,VLOOKUP($F413,all!$E$14:$AD$553,20),\"\")","v":""},{"$f":"IF($AE413=1,VLOOKUP($F413,all!$E$14:$AD$553,21),\"\")","v":""},{"$f":"IF($AE413=1,VLOOKUP($F413,all!$E$14:$AD$553,22),\"\")","v":""},{"$f":"IF($AE413=1,VLOOKUP($F413,all!$E$14:$AD$553,23),\"\")","v":""},{"$f":"IF($AE413=1,VLOOKUP($F413,all!$E$14:$AD$553,24),\"\")","v":""},{"$f":"IF($AE413=1,VLOOKUP($F413,all!$E$14:$AD$553,25),\"\")","v":""},null,{"$f":"COUNTIF(all!$E$14:$E$553,F413)","v":0}]
[null,null,null,null,null,381,{"$f":"IF($AE414=1,VLOOKUP($F414,all!$E$14:$AD$553,3),\"\")","v":""},{"$f":"IF($AE414=1,VLOOKUP($F414,all!$E$14:$AD$553,4),\"\")","v":""},{"$f":"IF($AE414=1,VLOOKUP($F414,all!$E$14:$AD$553,5),\"\")","v":""},{"$f":"IF($AE414=1,VLOOKUP($F414,all!$E$14:$AD$553,6),\"\")","v":""},{"$f":"IF($AE414=1,VLOOKUP($F414,all!$E$14:$AD$553,7),\"\")","v":""},{"$f":"IF($AE414=1,VLOOKUP($F414,all!$E$14:$AD$553,8),\"\")","v":""},{"$f":"IF($AE414=1,VLOOKUP($F414,all!$E$14:$AD$553,9),\"\")","v":""},{"$f":"IF($AE414=1,VLOOKUP($F414,all!$E$14:$AD$553,10),\"\")","v":""},{"$f":"IF($AE414=1,VLOOKUP($F414,all!$E$14:$AD$553,11),\"\")","v":""},{"$f":"IF($AE414=1,VLOOKUP($F414,all!$E$14:$AD$553,12),\"\")","v":""},{"$f":"IF($AE414=1,VLOOKUP($F414,all!$E$14:$AD$553,13),\"\")","v":""},{"$f":"IF($AE414=1,VLOOKUP($F414,all!$E$14:$AD$553,14),\"\")","v":""},{"$f":"IF($AE414=1,VLOOKUP($F414,all!$E$14:$AD$553,15),\"\")","v":""},{"$f":"IF($AE414=1,VLOOKUP($F414,all!$E$14:$AD$553,16),\"\")","v":""},{"$f":"IF($AE414=1,VLOOKUP($F414,all!$E$14:$AD$553,17),\"\")","v":""},{"$f":"IF($AE414=1,VLOOKUP($F414,all!$E$14:$AD$553,18),\"\")","v":""},{"$f":"IF($AE414=1,VLOOKUP($F414,all!$E$14:$AD$553,19),\"\")","v":""},{"$f":"IF($AE414=1,VLOOKUP($F414,all!$E$14:$AD$553,20),\"\")","v":""},{"$f":"IF($AE414=1,VLOOKUP($F414,all!$E$14:$AD$553,21),\"\")","v":""},{"$f":"IF($AE414=1,VLOOKUP($F414,all!$E$14:$AD$553,22),\"\")","v":""},{"$f":"IF($AE414=1,VLOOKUP($F414,all!$E$14:$AD$553,23),\"\")","v":""},{"$f":"IF($AE414=1,VLOOKUP($F414,all!$E$14:$AD$553,24),\"\")","v":""},{"$f":"IF($AE414=1,VLOOKUP($F414,all!$E$14:$AD$553,25),\"\")","v":""},null,{"$f":"COUNTIF(all!$E$14:$E$553,F414)","v":0}]
[null,null,null,null,null,382,{"$f":"IF($AE415=1,VLOOKUP($F415,all!$E$14:$AD$553,3),\"\")","v":""},{"$f":"IF($AE415=1,VLOOKUP($F415,all!$E$14:$AD$553,4),\"\")","v":""},{"$f":"IF($AE415=1,VLOOKUP($F415,all!$E$14:$AD$553,5),\"\")","v":""},{"$f":"IF($AE415=1,VLOOKUP($F415,all!$E$14:$AD$553,6),\"\")","v":""},{"$f":"IF($AE415=1,VLOOKUP($F415,all!$E$14:$AD$553,7),\"\")","v":""},{"$f":"IF($AE415=1,VLOOKUP($F415,all!$E$14:$AD$553,8),\"\")","v":""},{"$f":"IF($AE415=1,VLOOKUP($F415,all!$E$14:$AD$553,9),\"\")","v":""},{"$f":"IF($AE415=1,VLOOKUP($F415,all!$E$14:$AD$553,10),\"\")","v":""},{"$f":"IF($AE415=1,VLOOKUP($F415,all!$E$14:$AD$553,11),\"\")","v":""},{"$f":"IF($AE415=1,VLOOKUP($F415,all!$E$14:$AD$553,12),\"\")","v":""},{"$f":"IF($AE415=1,VLOOKUP($F415,all!$E$14:$AD$553,13),\"\")","v":""},{"$f":"IF($AE415=1,VLOOKUP($F415,all!$E$14:$AD$553,14),\"\")","v":""},{"$f":"IF($AE415=1,VLOOKUP($F415,all!$E$14:$AD$553,15),\"\")","v":""},{"$f":"IF($AE415=1,VLOOKUP($F415,all!$E$14:$AD$553,16),\"\")","v":""},{"$f":"IF($AE415=1,VLOOKUP($F415,all!$E$14:$AD$553,17),\"\")","v":""},{"$f":"IF($AE415=1,VLOOKUP($F415,all!$E$14:$AD$553,18),\"\")","v":""},{"$f":"IF($AE415=1,VLOOKUP($F415,all!$E$14:$AD$553,19),\"\")","v":""},{"$f":"IF($AE415=1,VLOOKUP($F415,all!$E$14:$AD$553,20),\"\")","v":""},{"$f":"IF($AE415=1,VLOOKUP($F415,all!$E$14:$AD$553,21),\"\")","v":""},{"$f":"IF($AE415=1,VLOOKUP($F415,all!$E$14:$AD$553,22),\"\")","v":""},{"$f":"IF($AE415=1,VLOOKUP($F415,all!$E$14:$AD$553,23),\"\")","v":""},{"$f":"IF($AE415=1,VLOOKUP($F415,all!$E$14:$AD$553,24),\"\")","v":""},{"$f":"IF($AE415=1,VLOOKUP($F415,all!$E$14:$AD$553,25),\"\")","v":""},null,{"$f":"COUNTIF(all!$E$14:$E$553,F415)","v":0}]
[null,null,null,null,null,383,{"$f":"IF($AE416=1,VLOOKUP($F416,all!$E$14:$AD$553,3),\"\")","v":""},{"$f":"IF($AE416=1,VLOOKUP($F416,all!$E$14:$AD$553,4),\"\")","v":""},{"$f":"IF($AE416=1,VLOOKUP($F416,all!$E$14:$AD$553,5),\"\")","v":""},{"$f":"IF($AE416=1,VLOOKUP($F416,all!$E$14:$AD$553,6),\"\")","v":""},{"$f":"IF($AE416=1,VLOOKUP($F416,all!$E$14:$AD$553,7),\"\")","v":""},{"$f":"IF($AE416=1,VLOOKUP($F416,all!$E$14:$AD$553,8),\"\")","v":""},{"$f":"IF($AE416=1,VLOOKUP($F416,all!$E$14:$AD$553,9),\"\")","v":""},{"$f":"IF($AE416=1,VLOOKUP($F416,all!$E$14:$AD$553,10),\"\")","v":""},{"$f":"IF($AE416=1,VLOOKUP($F416,all!$E$14:$AD$553,11),\"\")","v":""},{"$f":"IF($AE416=1,VLOOKUP($F416,all!$E$14:$AD$553,12),\"\")","v":""},{"$f":"IF($AE416=1,VLOOKUP($F416,all!$E$14:$AD$553,13),\"\")","v":""},{"$f":"IF($AE416=1,VLOOKUP($F416,all!$E$14:$AD$553,14),\"\")","v":""},{"$f":"IF($AE416=1,VLOOKUP($F416,all!$E$14:$AD$553,15),\"\")","v":""},{"$f":"IF($AE416=1,VLOOKUP($F416,all!$E$14:$AD$553,16),\"\")","v":""},{"$f":"IF($AE416=1,VLOOKUP($F416,all!$E$14:$AD$553,17),\"\")","v":""},{"$f":"IF($AE416=1,VLOOKUP($F416,all!$E$14:$AD$553,18),\"\")","v":""},{"$f":"IF($AE416=1,VLOOKUP($F416,all!$E$14:$AD$553,19),\"\")","v":""},{"$f":"IF($AE416=1,VLOOKUP($F416,all!$E$14:$AD$553,20),\"\")","v":""},{"$f":"IF($AE416=1,VLOOKUP($F416,all!$E$14:$AD$553,21),\"\")","v":""},{"$f":"IF($AE416=1,VLOOKUP($F416,all!$E$14:$AD$553,22),\"\")","v":""},{"$f":"IF($AE416=1,VLOOKUP($F416,all!$E$14:$AD$553,23),\"\")","v":""},{"$f":"IF($AE416=1,VLOOKUP($F416,all!$E$14:$AD$553,24),\"\")","v":""},{"$f":"IF($AE416=1,VLOOKUP($F416,all!$E$14:$AD$553,25),\"\")","v":""},null,{"$f":"COUNTIF(all!$E$14:$E$553,F416)","v":0}]
[null,null,null,null,null,384,{"$f":"IF($AE417=1,VLOOKUP($F417,all!$E$14:$AD$553,3),\"\")","v":""},{"$f":"IF($AE417=1,VLOOKUP($F417,all!$E$14:$AD$553,4),\"\")","v":""},{"$f":"IF($AE417=1,VLOOKUP($F417,all!$E$14:$AD$553,5),\"\")","v":""},{"$f":"IF($AE417=1,VLOOKUP($F417,all!$E$14:$AD$553,6),\"\")","v":""},{"$f":"IF($AE417=1,VLOOKUP($F417,all!$E$14:$AD$553,7),\"\")","v":""},{"$f":"IF($AE417=1,VLOOKUP($F417,all!$E$14:$AD$553,8),\"\")","v":""},{"$f":"IF($AE417=1,VLOOKUP($F417,all!$E$14:$AD$553,9),\"\")","v":""},{"$f":"IF($AE417=1,VLOOKUP($F417,all!$E$14:$AD$553,10),\"\")","v":""},{"$f":"IF($AE417=1,VLOOKUP($F417,all!$E$14:$AD$553,11),\"\")","v":""},{"$f":"IF($AE417=1,VLOOKUP($F417,all!$E$14:$AD$553,12),\"\")","v":""},{"$f":"IF($AE417=1,VLOOKUP($F417,all!$E$14:$AD$553,13),\"\")","v":""},{"$f":"IF($AE417=1,VLOOKUP($F417,all!$E$14:$AD$553,14),\"\")","v":""},{"$f":"IF($AE417=1,VLOOKUP($F417,all!$E$14:$AD$553,15),\"\")","v":""},{"$f":"IF($AE417=1,VLOOKUP($F417,all!$E$14:$AD$553,16),\"\")","v":""},{"$f":"IF($AE417=1,VLOOKUP($F417,all!$E$14:$AD$553,17),\"\")","v":""},{"$f":"IF($AE417=1,VLOOKUP($F417,all!$E$14:$AD$553,18),\"\")","v":""},{"$f":"IF($AE417=1,VLOOKUP($F417,all!$E$14:$AD$553,19),\"\")","v":""},{"$f":"IF($AE417=1,VLOOKUP($F417,all!$E$14:$AD$553,20),\"\")","v":""},{"$f":"IF($AE417=1,VLOOKUP($F417,all!$E$14:$AD$553,21),\"\")","v":""},{"$f":"IF($AE417=1,VLOOKUP($F417,all!$E$14:$AD$553,22),\"\")","v":""},{"$f":"IF($AE417=1,VLOOKUP($F417,all!$E$14:$AD$553,23),\"\")","v":""},{"$f":"IF($AE417=1,VLOOKUP($F417,all!$E$14:$AD$553,24),\"\")","v":""},{"$f":"IF($AE417=1,VLOOKUP($F417,all!$E$14:$AD$553,25),\"\")","v":""},null,{"$f":"COUNTIF(all!$E$14:$E$553,F417)","v":0}]
[null,null,null,null,null,385,{"$f":"IF($AE418=1,VLOOKUP($F418,all!$E$14:$AD$553,3),\"\")","v":""},{"$f":"IF($AE418=1,VLOOKUP($F418,all!$E$14:$AD$553,4),\"\")","v":""},{"$f":"IF($AE418=1,VLOOKUP($F418,all!$E$14:$AD$553,5),\"\")","v":""},{"$f":"IF($AE418=1,VLOOKUP($F418,all!$E$14:$AD$553,6),\"\")","v":""},{"$f":"IF($AE418=1,VLOOKUP($F418,all!$E$14:$AD$553,7),\"\")","v":""},{"$f":"IF($AE418=1,VLOOKUP($F418,all!$E$14:$AD$553,8),\"\")","v":""},{"$f":"IF($AE418=1,VLOOKUP($F418,all!$E$14:$AD$553,9),\"\")","v":""},{"$f":"IF($AE418=1,VLOOKUP($F418,all!$E$14:$AD$553,10),\"\")","v":""},{"$f":"IF($AE418=1,VLOOKUP($F418,all!$E$14:$AD$553,11),\"\")","v":""},{"$f":"IF($AE418=1,VLOOKUP($F418,all!$E$14:$AD$553,12),\"\")","v":""},{"$f":"IF($AE418=1,VLOOKUP($F418,all!$E$14:$AD$553,13),\"\")","v":""},{"$f":"IF($AE418=1,VLOOKUP($F418,all!$E$14:$AD$553,14),\"\")","v":""},{"$f":"IF($AE418=1,VLOOKUP($F418,all!$E$14:$AD$553,15),\"\")","v":""},{"$f":"IF($AE418=1,VLOOKUP($F418,all!$E$14:$AD$553,16),\"\")","v":""},{"$f":"IF($AE418=1,VLOOKUP($F418,all!$E$14:$AD$553,17),\"\")","v":""},{"$f":"IF($AE418=1,VLOOKUP($F418,all!$E$14:$AD$553,18),\"\")","v":""},{"$f":"IF($AE418=1,VLOOKUP($F418,all!$E$14:$AD$553,19),\"\")","v":""},{"$f":"IF($AE418=1,VLOOKUP($F418,all!$E$14:$AD$553,20),\"\")","v":""},{"$f":"IF($AE418=1,VLOOKUP($F418,all!$E$14:$AD$553,21),\"\")","v":""},{"$f":"IF($AE418=1,VLOOKUP($F418,all!$E$14:$AD$553,22),\"\")","v":""},{"$f":"IF($AE418=1,VLOOKUP($F418,all!$E$14:$AD$553,23),\"\")","v":""},{"$f":"IF($AE418=1,VLOOKUP($F418,all!$E$14:$AD$553,24),\"\")","v":""},{"$f":"IF($AE418=1,VLOOKUP($F418,all!$E$14:$AD$553,25),\"\")","v":""},null,{"$f":"COUNTIF(all!$E$14:$E$553,F418)","v":0}]
[null,null,null,null,null,386,{"$f":"IF($AE419=1,VLOOKUP($F419,all!$E$14:$AD$553,3),\"\")","v":""},{"$f":"IF($AE419=1,VLOOKUP($F419,all!$E$14:$AD$553,4),\"\")","v":""},{"$f":"IF($AE419=1,VLOOKUP($F419,all!$E$14:$AD$553,5),\"\")","v":""},{"$f":"IF($AE419=1,VLOOKUP($F419,all!$E$14:$AD$553,6),\"\")","v":""},{"$f":"IF($AE419=1,VLOOKUP($F419,all!$E$14:$AD$553,7),\"\")","v":""},{"$f":"IF($AE419=1,VLOOKUP($F419,all!$E$14:$AD$553,8),\"\")","v":""},{"$f":"IF($AE419=1,VLOOKUP($F419,all!$E$14:$AD$553,9),\"\")","v":""},{"$f":"IF($AE419=1,VLOOKUP($F419,all!$E$14:$AD$553,10),\"\")","v":""},{"$f":"IF($AE419=1,VLOOKUP($F419,all!$E$14:$AD$553,11),\"\")","v":""},{"$f":"IF($AE419=1,VLOOKUP($F419,all!$E$14:$AD$553,12),\"\")","v":""},{"$f":"IF($AE419=1,VLOOKUP($F419,all!$E$14:$AD$553,13),\"\")","v":""},{"$f":"IF($AE419=1,VLOOKUP($F419,all!$E$14:$AD$553,14),\"\")","v":""},{"$f":"IF($AE419=1,VLOOKUP($F419,all!$E$14:$AD$553,15),\"\")","v":""},{"$f":"IF($AE419=1,VLOOKUP($F419,all!$E$14:$AD$553,16),\"\")","v":""},{"$f":"IF($AE419=1,VLOOKUP($F419,all!$E$14:$AD$553,17),\"\")","v":""},{"$f":"IF($AE419=1,VLOOKUP($F419,all!$E$14:$AD$553,18),\"\")","v":""},{"$f":"IF($AE419=1,VLOOKUP($F419,all!$E$14:$AD$553,19),\"\")","v":""},{"$f":"IF($AE419=1,VLOOKUP($F419,all!$E$14:$AD$553,20),\"\")","v":""},{"$f":"IF($AE419=1,VLOOKUP($F419,all!$E$14:$AD$553,21),\"\")","v":""},{"$f":"IF($AE419=1,VLOOKUP($F419,all!$E$14:$AD$553,22),\"\")","v":""},{"$f":"IF($AE419=1,VLOOKUP($F419,all!$E$14:$AD$553,23),\"\")","v":""},{"$f":"IF($AE419=1,VLOOKUP($F419,all!$E$14:$AD$553,24),\"\")","v":""},{"$f":"IF($AE419=1,VLOOKUP($F419,all!$E$14:$AD$553,25),\"\")","v":""},null,{"$f":"COUNTIF(all!$E$14:$E$553,F419)","v":0}]
[null,null,null,null,null,387,{"$f":"IF($AE420=1,VLOOKUP($F420,all!$E$14:$AD$553,3),\"\")","v":""},{"$f":"IF($AE420=1,VLOOKUP($F420,all!$E$14:$AD$553,4),\"\")","v":""},{"$f":"IF($AE420=1,VLOOKUP($F420,all!$E$14:$AD$553,5),\"\")","v":""},{"$f":"IF($AE420=1,VLOOKUP($F420,all!$E$14:$AD$553,6),\"\")","v":""},{"$f":"IF($AE420=1,VLOOKUP($F420,all!$E$14:$AD$553,7),\"\")","v":""},{"$f":"IF($AE420=1,VLOOKUP($F420,all!$E$14:$AD$553,8),\"\")","v":""},{"$f":"IF($AE420=1,VLOOKUP($F420,all!$E$14:$AD$553,9),\"\")","v":""},{"$f":"IF($AE420=1,VLOOKUP($F420,all!$E$14:$AD$553,10),\"\")","v":""},{"$f":"IF($AE420=1,VLOOKUP($F420,all!$E$14:$AD$553,11),\"\")","v":""},{"$f":"IF($AE420=1,VLOOKUP($F420,all!$E$14:$AD$553,12),\"\")","v":""},{"$f":"IF($AE420=1,VLOOKUP($F420,all!$E$14:$AD$553,13),\"\")","v":""},{"$f":"IF($AE420=1,VLOOKUP($F420,all!$E$14:$AD$553,14),\"\")","v":""},{"$f":"IF($AE420=1,VLOOKUP($F420,all!$E$14:$AD$553,15),\"\")","v":""},{"$f":"IF($AE420=1,VLOOKUP($F420,all!$E$14:$AD$553,16),\"\")","v":""},{"$f":"IF($AE420=1,VLOOKUP($F420,all!$E$14:$AD$553,17),\"\")","v":""},{"$f":"IF($AE420=1,VLOOKUP($F420,all!$E$14:$AD$553,18),\"\")","v":""},{"$f":"IF($AE420=1,VLOOKUP($F420,all!$E$14:$AD$553,19),\"\")","v":""},{"$f":"IF($AE420=1,VLOOKUP($F420,all!$E$14:$AD$553,20),\"\")","v":""},{"$f":"IF($AE420=1,VLOOKUP($F420,all!$E$14:$AD$553,21),\"\")","v":""},{"$f":"IF($AE420=1,VLOOKUP($F420,all!$E$14:$AD$553,22),\"\")","v":""},{"$f":"IF($AE420=1,VLOOKUP($F420,all!$E$14:$AD$553,23),\"\")","v":""},{"$f":"IF($AE420=1,VLOOKUP($F420,all!$E$14:$AD$553,24),\"\")","v":""},{"$f":"IF($AE420=1,VLOOKUP($F420,all!$E$14:$AD$553,25),\"\")","v":""},null,{"$f":"COUNTIF(all!$E$14:$E$553,F420)","v":0}]
[null,null,null,null,null,388,{"$f":"IF($AE421=1,VLOOKUP($F421,all!$E$14:$AD$553,3),\"\")","v":""},{"$f":"IF($AE421=1,VLOOKUP($F421,all!$E$14:$AD$553,4),\"\")","v":""},{"$f":"IF($AE421=1,VLOOKUP($F421,all!$E$14:$AD$553,5),\"\")","v":""},{"$f":"IF($AE421=1,VLOOKUP($F421,all!$E$14:$AD$553,6),\"\")","v":""},{"$f":"IF($AE421=1,VLOOKUP($F421,all!$E$14:$AD$553,7),\"\")","v":""},{"$f":"IF($AE421=1,VLOOKUP($F421,all!$E$14:$AD$553,8),\"\")","v":""},{"$f":"IF($AE421=1,VLOOKUP($F421,all!$E$14:$AD$553,9),\"\")","v":""},{"$f":"IF($AE421=1,VLOOKUP($F421,all!$E$14:$AD$553,10),\"\")","v":""},{"$f":"IF($AE421=1,VLOOKUP($F421,all!$E$14:$AD$553,11),\"\")","v":""},{"$f":"IF($AE421=1,VLOOKUP($F421,all!$E$14:$AD$553,12),\"\")","v":""},{"$f":"IF($AE421=1,VLOOKUP($F421,all!$E$14:$AD$553,13),\"\")","v":""},{"$f":"IF($AE421=1,VLOOKUP($F421,all!$E$14:$AD$553,14),\"\")","v":""},{"$f":"IF($AE421=1,VLOOKUP($F421,all!$E$14:$AD$553,15),\"\")","v":""},{"$f":"IF($AE421=1,VLOOKUP($F421,all!$E$14:$AD$553,16),\"\")","v":""},{"$f":"IF($AE421=1,VLOOKUP($F421,all!$E$14:$AD$553,17),\"\")","v":""},{"$f":"IF($AE421=1,VLOOKUP($F421,all!$E$14:$AD$553,18),\"\")","v":""},{"$f":"IF($AE421=1,VLOOKUP($F421,all!$E$14:$AD$553,19),\"\")","v":""},{"$f":"IF($AE421=1,VLOOKUP($F421,all!$E$14:$AD$553,20),\"\")","v":""},{"$f":"IF($AE421=1,VLOOKUP($F421,all!$E$14:$AD$553,21),\"\")","v":""},{"$f":"IF($AE421=1,VLOOKUP($F421,all!$E$14:$AD$553,22),\"\")","v":""},{"$f":"IF($AE421=1,VLOOKUP($F421,all!$E$14:$AD$553,23),\"\")","v":""},{"$f":"IF($AE421=1,VLOOKUP($F421,all!$E$14:$AD$553,24),\"\")","v":""},{"$f":"IF($AE421=1,VLOOKUP($F421,all!$E$14:$AD$553,25),\"\")","v":""},null,{"$f":"COUNTIF(all!$E$14:$E$553,F421)","v":0}]
[null,null,null,null,null,389,{"$f":"IF($AE422=1,VLOOKUP($F422,all!$E$14:$AD$553,3),\"\")","v":""},{"$f":"IF($AE422=1,VLOOKUP($F422,all!$E$14:$AD$553,4),\"\")","v":""},{"$f":"IF($AE422=1,VLOOKUP($F422,all!$E$14:$AD$553,5),\"\")","v":""},{"$f":"IF($AE422=1,VLOOKUP($F422,all!$E$14:$AD$553,6),\"\")","v":""},{"$f":"IF($AE422=1,VLOOKUP($F422,all!$E$14:$AD$553,7),\"\")","v":""},{"$f":"IF($AE422=1,VLOOKUP($F422,all!$E$14:$AD$553,8),\"\")","v":""},{"$f":"IF($AE422=1,VLOOKUP($F422,all!$E$14:$AD$553,9),\"\")","v":""},{"$f":"IF($AE422=1,VLOOKUP($F422,all!$E$14:$AD$553,10),\"\")","v":""},{"$f":"IF($AE422=1,VLOOKUP($F422,all!$E$14:$AD$553,11),\"\")","v":""},{"$f":"IF($AE422=1,VLOOKUP($F422,all!$E$14:$AD$553,12),\"\")","v":""},{"$f":"IF($AE422=1,VLOOKUP($F422,all!$E$14:$AD$553,13),\"\")","v":""},{"$f":"IF($AE422=1,VLOOKUP($F422,all!$E$14:$AD$553,14),\"\")","v":""},{"$f":"IF($AE422=1,VLOOKUP($F422,all!$E$14:$AD$553,15),\"\")","v":""},{"$f":"IF($AE422=1,VLOOKUP($F422,all!$E$14:$AD$553,16),\"\")","v":""},{"$f":"IF($AE422=1,VLOOKUP($F422,all!$E$14:$AD$553,17),\"\")","v":""},{"$f":"IF($AE422=1,VLOOKUP($F422,all!$E$14:$AD$553,18),\"\")","v":""},{"$f":"IF($AE422=1,VLOOKUP($F422,all!$E$14:$AD$553,19),\"\")","v":""},{"$f":"IF($AE422=1,VLOOKUP($F422,all!$E$14:$AD$553,20),\"\")","v":""},{"$f":"IF($AE422=1,VLOOKUP($F422,all!$E$14:$AD$553,21),\"\")","v":""},{"$f":"IF($AE422=1,VLOOKUP($F422,all!$E$14:$AD$553,22),\"\")","v":""},{"$f":"IF($AE422=1,VLOOKUP($F422,all!$E$14:$AD$553,23),\"\")","v":""},{"$f":"IF($AE422=1,VLOOKUP($F422,all!$E$14:$AD$553,24),\"\")","v":""},{"$f":"IF($AE422=1,VLOOKUP($F422,all!$E$14:$AD$553,25),\"\")","v":""},null,{"$f":"COUNTIF(all!$E$14:$E$553,F422)","v":0}]
[null,null,null,null,null,390,{"$f":"IF($AE423=1,VLOOKUP($F423,all!$E$14:$AD$553,3),\"\")","v":""},{"$f":"IF($AE423=1,VLOOKUP($F423,all!$E$14:$AD$553,4),\"\")","v":""},{"$f":"IF($AE423=1,VLOOKUP($F423,all!$E$14:$AD$553,5),\"\")","v":""},{"$f":"IF($AE423=1,VLOOKUP($F423,all!$E$14:$AD$553,6),\"\")","v":""},{"$f":"IF($AE423=1,VLOOKUP($F423,all!$E$14:$AD$553,7),\"\")","v":""},{"$f":"IF($AE423=1,VLOOKUP($F423,all!$E$14:$AD$553,8),\"\")","v":""},{"$f":"IF($AE423=1,VLOOKUP($F423,all!$E$14:$AD$553,9),\"\")","v":""},{"$f":"IF($AE423=1,VLOOKUP($F423,all!$E$14:$AD$553,10),\"\")","v":""},{"$f":"IF($AE423=1,VLOOKUP($F423,all!$E$14:$AD$553,11),\"\")","v":""},{"$f":"IF($AE423=1,VLOOKUP($F423,all!$E$14:$AD$553,12),\"\")","v":""},{"$f":"IF($AE423=1,VLOOKUP($F423,all!$E$14:$AD$553,13),\"\")","v":""},{"$f":"IF($AE423=1,VLOOKUP($F423,all!$E$14:$AD$553,14),\"\")","v":""},{"$f":"IF($AE423=1,VLOOKUP($F423,all!$E$14:$AD$553,15),\"\")","v":""},{"$f":"IF($AE423=1,VLOOKUP($F423,all!$E$14:$AD$553,16),\"\")","v":""},{"$f":"IF($AE423=1,VLOOKUP($F423,all!$E$14:$AD$553,17),\"\")","v":""},{"$f":"IF($AE423=1,VLOOKUP($F423,all!$E$14:$AD$553,18),\"\")","v":""},{"$f":"IF($AE423=1,VLOOKUP($F423,all!$E$14:$AD$553,19),\"\")","v":""},{"$f":"IF($AE423=1,VLOOKUP($F423,all!$E$14:$AD$553,20),\"\")","v":""},{"$f":"IF($AE423=1,VLOOKUP($F423,all!$E$14:$AD$553,21),\"\")","v":""},{"$f":"IF($AE423=1,VLOOKUP($F423,all!$E$14:$AD$553,22),\"\")","v":""},{"$f":"IF($AE423=1,VLOOKUP($F423,all!$E$14:$AD$553,23),\"\")","v":""},{"$f":"IF($AE423=1,VLOOKUP($F423,all!$E$14:$AD$553,24),\"\")","v":""},{"$f":"IF($AE423=1,VLOOKUP($F423,all!$E$14:$AD$553,25),\"\")","v":""},null,{"$f":"COUNTIF(all!$E$14:$E$553,F423)","v":0}]
[null,null,null,null,null,391,{"$f":"IF($AE424=1,VLOOKUP($F424,all!$E$14:$AD$553,3),\"\")","v":""},{"$f":"IF($AE424=1,VLOOKUP($F424,all!$E$14:$AD$553,4),\"\")","v":""},{"$f":"IF($AE424=1,VLOOKUP($F424,all!$E$14:$AD$553,5),\"\")","v":""},{"$f":"IF($AE424=1,VLOOKUP($F424,all!$E$14:$AD$553,6),\"\")","v":""},{"$f":"IF($AE424=1,VLOOKUP($F424,all!$E$14:$AD$553,7),\"\")","v":""},{"$f":"IF($AE424=1,VLOOKUP($F424,all!$E$14:$AD$553,8),\"\")","v":""},{"$f":"IF($AE424=1,VLOOKUP($F424,all!$E$14:$AD$553,9),\"\")","v":""},{"$f":"IF($AE424=1,VLOOKUP($F424,all!$E$14:$AD$553,10),\"\")","v":""},{"$f":"IF($AE424=1,VLOOKUP($F424,all!$E$14:$AD$553,11),\"\")","v":""},{"$f":"IF($AE424=1,VLOOKUP($F424,all!$E$14:$AD$553,12),\"\")","v":""},{"$f":"IF($AE424=1,VLOOKUP($F424,all!$E$14:$AD$553,13),\"\")","v":""},{"$f":"IF($AE424=1,VLOOKUP($F424,all!$E$14:$AD$553,14),\"\")","v":""},{"$f":"IF($AE424=1,VLOOKUP($F424,all!$E$14:$AD$553,15),\"\")","v":""},{"$f":"IF($AE424=1,VLOOKUP($F424,all!$E$14:$AD$553,16),\"\")","v":""},{"$f":"IF($AE424=1,VLOOKUP($F424,all!$E$14:$AD$553,17),\"\")","v":""},{"$f":"IF($AE424=1,VLOOKUP($F424,all!$E$14:$AD$553,18),\"\")","v":""},{"$f":"IF($AE424=1,VLOOKUP($F424,all!$E$14:$AD$553,19),\"\")","v":""},{"$f":"IF($AE424=1,VLOOKUP($F424,all!$E$14:$AD$553,20),\"\")","v":""},{"$f":"IF($AE424=1,VLOOKUP($F424,all!$E$14:$AD$553,21),\"\")","v":""},{"$f":"IF($AE424=1,VLOOKUP($F424,all!$E$14:$AD$553,22),\"\")","v":""},{"$f":"IF($AE424=1,VLOOKUP($F424,all!$E$14:$AD$553,23),\"\")","v":""},{"$f":"IF($AE424=1,VLOOKUP($F424,all!$E$14:$AD$553,24),\"\")","v":""},{"$f":"IF($AE424=1,VLOOKUP($F424,all!$E$14:$AD$553,25),\"\")","v":""},null,{"$f":"COUNTIF(all!$E$14:$E$553,F424)","v":0}]
[null,null,null,null,null,392,{"$f":"IF($AE425=1,VLOOKUP($F425,all!$E$14:$AD$553,3),\"\")","v":""},{"$f":"IF($AE425=1,VLOOKUP($F425,all!$E$14:$AD$553,4),\"\")","v":""},{"$f":"IF($AE425=1,VLOOKUP($F425,all!$E$14:$AD$553,5),\"\")","v":""},{"$f":"IF($AE425=1,VLOOKUP($F425,all!$E$14:$AD$553,6),\"\")","v":""},{"$f":"IF($AE425=1,VLOOKUP($F425,all!$E$14:$AD$553,7),\"\")","v":""},{"$f":"IF($AE425=1,VLOOKUP($F425,all!$E$14:$AD$553,8),\"\")","v":""},{"$f":"IF($AE425=1,VLOOKUP($F425,all!$E$14:$AD$553,9),\"\")","v":""},{"$f":"IF($AE425=1,VLOOKUP($F425,all!$E$14:$AD$553,10),\"\")","v":""},{"$f":"IF($AE425=1,VLOOKUP($F425,all!$E$14:$AD$553,11),\"\")","v":""},{"$f":"IF($AE425=1,VLOOKUP($F425,all!$E$14:$AD$553,12),\"\")","v":""},{"$f":"IF($AE425=1,VLOOKUP($F425,all!$E$14:$AD$553,13),\"\")","v":""},{"$f":"IF($AE425=1,VLOOKUP($F425,all!$E$14:$AD$553,14),\"\")","v":""},{"$f":"IF($AE425=1,VLOOKUP($F425,all!$E$14:$AD$553,15),\"\")","v":""},{"$f":"IF($AE425=1,VLOOKUP($F425,all!$E$14:$AD$553,16),\"\")","v":""},{"$f":"IF($AE425=1,VLOOKUP($F425,all!$E$14:$AD$553,17),\"\")","v":""},{"$f":"IF($AE425=1,VLOOKUP($F425,all!$E$14:$AD$553,18),\"\")","v":""},{"$f":"IF($AE425=1,VLOOKUP($F425,all!$E$14:$AD$553,19),\"\")","v":""},{"$f":"IF($AE425=1,VLOOKUP($F425,all!$E$14:$AD$553,20),\"\")","v":""},{"$f":"IF($AE425=1,VLOOKUP($F425,all!$E$14:$AD$553,21),\"\")","v":""},{"$f":"IF($AE425=1,VLOOKUP($F425,all!$E$14:$AD$553,22),\"\")","v":""},{"$f":"IF($AE425=1,VLOOKUP($F425,all!$E$14:$AD$553,23),\"\")","v":""},{"$f":"IF($AE425=1,VLOOKUP($F425,all!$E$14:$AD$553,24),\"\")","v":""},{"$f":"IF($AE425=1,VLOOKUP($F425,all!$E$14:$AD$553,25),\"\")","v":""},null,{"$f":"COUNTIF(all!$E$14:$E$553,F425)","v":0}]
[null,null,null,null,null,393,{"$f":"IF($AE426=1,VLOOKUP($F426,all!$E$14:$AD$553,3),\"\")","v":""},{"$f":"IF($AE426=1,VLOOKUP($F426,all!$E$14:$AD$553,4),\"\")","v":""},{"$f":"IF($AE426=1,VLOOKUP($F426,all!$E$14:$AD$553,5),\"\")","v":""},{"$f":"IF($AE426=1,VLOOKUP($F426,all!$E$14:$AD$553,6),\"\")","v":""},{"$f":"IF($AE426=1,VLOOKUP($F426,all!$E$14:$AD$553,7),\"\")","v":""},{"$f":"IF($AE426=1,VLOOKUP($F426,all!$E$14:$AD$553,8),\"\")","v":""},{"$f":"IF($AE426=1,VLOOKUP($F426,all!$E$14:$AD$553,9),\"\")","v":""},{"$f":"IF($AE426=1,VLOOKUP($F426,all!$E$14:$AD$553,10),\"\")","v":""},{"$f":"IF($AE426=1,VLOOKUP($F426,all!$E$14:$AD$553,11),\"\")","v":""},{"$f":"IF($AE426=1,VLOOKUP($F426,all!$E$14:$AD$553,12),\"\")","v":""},{"$f":"IF($AE426=1,VLOOKUP($F426,all!$E$14:$AD$553,13),\"\")","v":""},{"$f":"IF($AE426=1,VLOOKUP($F426,all!$E$14:$AD$553,14),\"\")","v":""},{"$f":"IF($AE426=1,VLOOKUP($F426,all!$E$14:$AD$553,15),\"\")","v":""},{"$f":"IF($AE426=1,VLOOKUP($F426,all!$E$14:$AD$553,16),\"\")","v":""},{"$f":"IF($AE426=1,VLOOKUP($F426,all!$E$14:$AD$553,17),\"\")","v":""},{"$f":"IF($AE426=1,VLOOKUP($F426,all!$E$14:$AD$553,18),\"\")","v":""},{"$f":"IF($AE426=1,VLOOKUP($F426,all!$E$14:$AD$553,19),\"\")","v":""},{"$f":"IF($AE426=1,VLOOKUP($F426,all!$E$14:$AD$553,20),\"\")","v":""},{"$f":"IF($AE426=1,VLOOKUP($F426,all!$E$14:$AD$553,21),\"\")","v":""},{"$f":"IF($AE426=1,VLOOKUP($F426,all!$E$14:$AD$553,22),\"\")","v":""},{"$f":"IF($AE426=1,VLOOKUP($F426,all!$E$14:$AD$553,23),\"\")","v":""},{"$f":"IF($AE426=1,VLOOKUP($F426,all!$E$14:$AD$553,24),\"\")","v":""},{"$f":"IF($AE426=1,VLOOKUP($F426,all!$E$14:$AD$553,25),\"\")","v":""},null,{"$f":"COUNTIF(all!$E$14:$E$553,F426)","v":0}]
[null,null,null,null,null,394,{"$f":"IF($AE427=1,VLOOKUP($F427,all!$E$14:$AD$553,3),\"\")","v":""},{"$f":"IF($AE427=1,VLOOKUP($F427,all!$E$14:$AD$553,4),\"\")","v":""},{"$f":"IF($AE427=1,VLOOKUP($F427,all!$E$14:$AD$553,5),\"\")","v":""},{"$f":"IF($AE427=1,VLOOKUP($F427,all!$E$14:$AD$553,6),\"\")","v":""},{"$f":"IF($AE427=1,VLOOKUP($F427,all!$E$14:$AD$553,7),\"\")","v":""},{"$f":"IF($AE427=1,VLOOKUP($F427,all!$E$14:$AD$553,8),\"\")","v":""},{"$f":"IF($AE427=1,VLOOKUP($F427,all!$E$14:$AD$553,9),\"\")","v":""},{"$f":"IF($AE427=1,VLOOKUP($F427,all!$E$14:$AD$553,10),\"\")","v":""},{"$f":"IF($AE427=1,VLOOKUP($F427,all!$E$14:$AD$553,11),\"\")","v":""},{"$f":"IF($AE427=1,VLOOKUP($F427,all!$E$14:$AD$553,12),\"\")","v":""},{"$f":"IF($AE427=1,VLOOKUP($F427,all!$E$14:$AD$553,13),\"\")","v":""},{"$f":"IF($AE427=1,VLOOKUP($F427,all!$E$14:$AD$553,14),\"\")","v":""},{"$f":"IF($AE427=1,VLOOKUP($F427,all!$E$14:$AD$553,15),\"\")","v":""},{"$f":"IF($AE427=1,VLOOKUP($F427,all!$E$14:$AD$553,16),\"\")","v":""},{"$f":"IF($AE427=1,VLOOKUP($F427,all!$E$14:$AD$553,17),\"\")","v":""},{"$f":"IF($AE427=1,VLOOKUP($F427,all!$E$14:$AD$553,18),\"\")","v":""},{"$f":"IF($AE427=1,VLOOKUP($F427,all!$E$14:$AD$553,19),\"\")","v":""},{"$f":"IF($AE427=1,VLOOKUP($F427,all!$E$14:$AD$553,20),\"\")","v":""},{"$f":"IF($AE427=1,VLOOKUP($F427,all!$E$14:$AD$553,21),\"\")","v":""},{"$f":"IF($AE427=1,VLOOKUP($F427,all!$E$14:$AD$553,22),\"\")","v":""},{"$f":"IF($AE427=1,VLOOKUP($F427,all!$E$14:$AD$553,23),\"\")","v":""},{"$f":"IF($AE427=1,VLOOKUP($F427,all!$E$14:$AD$553,24),\"\")","v":""},{"$f":"IF($AE427=1,VLOOKUP($F427,all!$E$14:$AD$553,25),\"\")","v":""},null,{"$f":"COUNTIF(all!$E$14:$E$553,F427)","v":0}]
[null,null,null,null,null,395,{"$f":"IF($AE428=1,VLOOKUP($F428,all!$E$14:$AD$553,3),\"\")","v":""},{"$f":"IF($AE428=1,VLOOKUP($F428,all!$E$14:$AD$553,4),\"\")","v":""},{"$f":"IF($AE428=1,VLOOKUP($F428,all!$E$14:$AD$553,5),\"\")","v":""},{"$f":"IF($AE428=1,VLOOKUP($F428,all!$E$14:$AD$553,6),\"\")","v":""},{"$f":"IF($AE428=1,VLOOKUP($F428,all!$E$14:$AD$553,7),\"\")","v":""},{"$f":"IF($AE428=1,VLOOKUP($F428,all!$E$14:$AD$553,8),\"\")","v":""},{"$f":"IF($AE428=1,VLOOKUP($F428,all!$E$14:$AD$553,9),\"\")","v":""},{"$f":"IF($AE428=1,VLOOKUP($F428,all!$E$14:$AD$553,10),\"\")","v":""},{"$f":"IF($AE428=1,VLOOKUP($F428,all!$E$14:$AD$553,11),\"\")","v":""},{"$f":"IF($AE428=1,VLOOKUP($F428,all!$E$14:$AD$553,12),\"\")","v":""},{"$f":"IF($AE428=1,VLOOKUP($F428,all!$E$14:$AD$553,13),\"\")","v":""},{"$f":"IF($AE428=1,VLOOKUP($F428,all!$E$14:$AD$553,14),\"\")","v":""},{"$f":"IF($AE428=1,VLOOKUP($F428,all!$E$14:$AD$553,15),\"\")","v":""},{"$f":"IF($AE428=1,VLOOKUP($F428,all!$E$14:$AD$553,16),\"\")","v":""},{"$f":"IF($AE428=1,VLOOKUP($F428,all!$E$14:$AD$553,17),\"\")","v":""},{"$f":"IF($AE428=1,VLOOKUP($F428,all!$E$14:$AD$553,18),\"\")","v":""},{"$f":"IF($AE428=1,VLOOKUP($F428,all!$E$14:$AD$553,19),\"\")","v":""},{"$f":"IF($AE428=1,VLOOKUP($F428,all!$E$14:$AD$553,20),\"\")","v":""},{"$f":"IF($AE428=1,VLOOKUP($F428,all!$E$14:$AD$553,21),\"\")","v":""},{"$f":"IF($AE428=1,VLOOKUP($F428,all!$E$14:$AD$553,22),\"\")","v":""},{"$f":"IF($AE428=1,VLOOKUP($F428,all!$E$14:$AD$553,23),\"\")","v":""},{"$f":"IF($AE428=1,VLOOKUP($F428,all!$E$14:$AD$553,24),\"\")","v":""},{"$f":"IF($AE428=1,VLOOKUP($F428,all!$E$14:$AD$553,25),\"\")","v":""},null,{"$f":"COUNTIF(all!$E$14:$E$553,F428)","v":0}]
[null,null,null,null,null,396,{"$f":"IF($AE429=1,VLOOKUP($F429,all!$E$14:$AD$553,3),\"\")","v":""},{"$f":"IF($AE429=1,VLOOKUP($F429,all!$E$14:$AD$553,4),\"\")","v":""},{"$f":"IF($AE429=1,VLOOKUP($F429,all!$E$14:$AD$553,5),\"\")","v":""},{"$f":"IF($AE429=1,VLOOKUP($F429,all!$E$14:$AD$553,6),\"\")","v":""},{"$f":"IF($AE429=1,VLOOKUP($F429,all!$E$14:$AD$553,7),\"\")","v":""},{"$f":"IF($AE429=1,VLOOKUP($F429,all!$E$14:$AD$553,8),\"\")","v":""},{"$f":"IF($AE429=1,VLOOKUP($F429,all!$E$14:$AD$553,9),\"\")","v":""},{"$f":"IF($AE429=1,VLOOKUP($F429,all!$E$14:$AD$553,10),\"\")","v":""},{"$f":"IF($AE429=1,VLOOKUP($F429,all!$E$14:$AD$553,11),\"\")","v":""},{"$f":"IF($AE429=1,VLOOKUP($F429,all!$E$14:$AD$553,12),\"\")","v":""},{"$f":"IF($AE429=1,VLOOKUP($F429,all!$E$14:$AD$553,13),\"\")","v":""},{"$f":"IF($AE429=1,VLOOKUP($F429,all!$E$14:$AD$553,14),\"\")","v":""},{"$f":"IF($AE429=1,VLOOKUP($F429,all!$E$14:$AD$553,15),\"\")","v":""},{"$f":"IF($AE429=1,VLOOKUP($F429,all!$E$14:$AD$553,16),\"\")","v":""},{"$f":"IF($AE429=1,VLOOKUP($F429,all!$E$14:$AD$553,17),\"\")","v":""},{"$f":"IF($AE429=1,VLOOKUP($F429,all!$E$14:$AD$553,18),\"\")","v":""},{"$f":"IF($AE429=1,VLOOKUP($F429,all!$E$14:$AD$553,19),\"\")","v":""},{"$f":"IF($AE429=1,VLOOKUP($F429,all!$E$14:$AD$553,20),\"\")","v":""},{"$f":"IF($AE429=1,VLOOKUP($F429,all!$E$14:$AD$553,21),\"\")","v":""},{"$f":"IF($AE429=1,VLOOKUP($F429,all!$E$14:$AD$553,22),\"\")","v":""},{"$f":"IF($AE429=1,VLOOKUP($F429,all!$E$14:$AD$553,23),\"\")","v":""},{"$f":"IF($AE429=1,VLOOKUP($F429,all!$E$14:$AD$553,24),\"\")","v":""},{"$f":"IF($AE429=1,VLOOKUP($F429,all!$E$14:$AD$553,25),\"\")","v":""},null,{"$f":"COUNTIF(all!$E$14:$E$553,F429)","v":0}]
[null,null,null,null,null,397,{"$f":"IF($AE430=1,VLOOKUP($F430,all!$E$14:$AD$553,3),\"\")","v":""},{"$f":"IF($AE430=1,VLOOKUP($F430,all!$E$14:$AD$553,4),\"\")","v":""},{"$f":"IF($AE430=1,VLOOKUP($F430,all!$E$14:$AD$553,5),\"\")","v":""},{"$f":"IF($AE430=1,VLOOKUP($F430,all!$E$14:$AD$553,6),\"\")","v":""},{"$f":"IF($AE430=1,VLOOKUP($F430,all!$E$14:$AD$553,7),\"\")","v":""},{"$f":"IF($AE430=1,VLOOKUP($F430,all!$E$14:$AD$553,8),\"\")","v":""},{"$f":"IF($AE430=1,VLOOKUP($F430,all!$E$14:$AD$553,9),\"\")","v":""},{"$f":"IF($AE430=1,VLOOKUP($F430,all!$E$14:$AD$553,10),\"\")","v":""},{"$f":"IF($AE430=1,VLOOKUP($F430,all!$E$14:$AD$553,11),\"\")","v":""},{"$f":"IF($AE430=1,VLOOKUP($F430,all!$E$14:$AD$553,12),\"\")","v":""},{"$f":"IF($AE430=1,VLOOKUP($F430,all!$E$14:$AD$553,13),\"\")","v":""},{"$f":"IF($AE430=1,VLOOKUP($F430,all!$E$14:$AD$553,14),\"\")","v":""},{"$f":"IF($AE430=1,VLOOKUP($F430,all!$E$14:$AD$553,15),\"\")","v":""},{"$f":"IF($AE430=1,VLOOKUP($F430,all!$E$14:$AD$553,16),\"\")","v":""},{"$f":"IF($AE430=1,VLOOKUP($F430,all!$E$14:$AD$553,17),\"\")","v":""},{"$f":"IF($AE430=1,VLOOKUP($F430,all!$E$14:$AD$553,18),\"\")","v":""},{"$f":"IF($AE430=1,VLOOKUP($F430,all!$E$14:$AD$553,19),\"\")","v":""},{"$f":"IF($AE430=1,VLOOKUP($F430,all!$E$14:$AD$553,20),\"\")","v":""},{"$f":"IF($AE430=1,VLOOKUP($F430,all!$E$14:$AD$553,21),\"\")","v":""},{"$f":"IF($AE430=1,VLOOKUP($F430,all!$E$14:$AD$553,22),\"\")","v":""},{"$f":"IF($AE430=1,VLOOKUP($F430,all!$E$14:$AD$553,23),\"\")","v":""},{"$f":"IF($AE430=1,VLOOKUP($F430,all!$E$14:$AD$553,24),\"\")","v":""},{"$f":"IF($AE430=1,VLOOKUP($F430,all!$E$14:$AD$553,25),\"\")","v":""},null,{"$f":"COUNTIF(all!$E$14:$E$553,F430)","v":0}]
[null,null,null,null,null,398,{"$f":"IF($AE431=1,VLOOKUP($F431,all!$E$14:$AD$553,3),\"\")","v":""},{"$f":"IF($AE431=1,VLOOKUP($F431,all!$E$14:$AD$553,4),\"\")","v":""},{"$f":"IF($AE431=1,VLOOKUP($F431,all!$E$14:$AD$553,5),\"\")","v":""},{"$f":"IF($AE431=1,VLOOKUP($F431,all!$E$14:$AD$553,6),\"\")","v":""},{"$f":"IF($AE431=1,VLOOKUP($F431,all!$E$14:$AD$553,7),\"\")","v":""},{"$f":"IF($AE431=1,VLOOKUP($F431,all!$E$14:$AD$553,8),\"\")","v":""},{"$f":"IF($AE431=1,VLOOKUP($F431,all!$E$14:$AD$553,9),\"\")","v":""},{"$f":"IF($AE431=1,VLOOKUP($F431,all!$E$14:$AD$553,10),\"\")","v":""},{"$f":"IF($AE431=1,VLOOKUP($F431,all!$E$14:$AD$553,11),\"\")","v":""},{"$f":"IF($AE431=1,VLOOKUP($F431,all!$E$14:$AD$553,12),\"\")","v":""},{"$f":"IF($AE431=1,VLOOKUP($F431,all!$E$14:$AD$553,13),\"\")","v":""},{"$f":"IF($AE431=1,VLOOKUP($F431,all!$E$14:$AD$553,14),\"\")","v":""},{"$f":"IF($AE431=1,VLOOKUP($F431,all!$E$14:$AD$553,15),\"\")","v":""},{"$f":"IF($AE431=1,VLOOKUP($F431,all!$E$14:$AD$553,16),\"\")","v":""},{"$f":"IF($AE431=1,VLOOKUP($F431,all!$E$14:$AD$553,17),\"\")","v":""},{"$f":"IF($AE431=1,VLOOKUP($F431,all!$E$14:$AD$553,18),\"\")","v":""},{"$f":"IF($AE431=1,VLOOKUP($F431,all!$E$14:$AD$553,19),\"\")","v":""},{"$f":"IF($AE431=1,VLOOKUP($F431,all!$E$14:$AD$553,20),\"\")","v":""},{"$f":"IF($AE431=1,VLOOKUP($F431,all!$E$14:$AD$553,21),\"\")","v":""},{"$f":"IF($AE431=1,VLOOKUP($F431,all!$E$14:$AD$553,22),\"\")","v":""},{"$f":"IF($AE431=1,VLOOKUP($F431,all!$E$14:$AD$553,23),\"\")","v":""},{"$f":"IF($AE431=1,VLOOKUP($F431,all!$E$14:$AD$553,24),\"\")","v":""},{"$f":"IF($AE431=1,VLOOKUP($F431,all!$E$14:$AD$553,25),\"\")","v":""},null,{"$f":"COUNTIF(all!$E$14:$E$553,F431)","v":0}]
[null,null,null,null,null,399,{"$f":"IF($AE432=1,VLOOKUP($F432,all!$E$14:$AD$553,3),\"\")","v":""},{"$f":"IF($AE432=1,VLOOKUP($F432,all!$E$14:$AD$553,4),\"\")","v":""},{"$f":"IF($AE432=1,VLOOKUP($F432,all!$E$14:$AD$553,5),\"\")","v":""},{"$f":"IF($AE432=1,VLOOKUP($F432,all!$E$14:$AD$553,6),\"\")","v":""},{"$f":"IF($AE432=1,VLOOKUP($F432,all!$E$14:$AD$553,7),\"\")","v":""},{"$f":"IF($AE432=1,VLOOKUP($F432,all!$E$14:$AD$553,8),\"\")","v":""},{"$f":"IF($AE432=1,VLOOKUP($F432,all!$E$14:$AD$553,9),\"\")","v":""},{"$f":"IF($AE432=1,VLOOKUP($F432,all!$E$14:$AD$553,10),\"\")","v":""},{"$f":"IF($AE432=1,VLOOKUP($F432,all!$E$14:$AD$553,11),\"\")","v":""},{"$f":"IF($AE432=1,VLOOKUP($F432,all!$E$14:$AD$553,12),\"\")","v":""},{"$f":"IF($AE432=1,VLOOKUP($F432,all!$E$14:$AD$553,13),\"\")","v":""},{"$f":"IF($AE432=1,VLOOKUP($F432,all!$E$14:$AD$553,14),\"\")","v":""},{"$f":"IF($AE432=1,VLOOKUP($F432,all!$E$14:$AD$553,15),\"\")","v":""},{"$f":"IF($AE432=1,VLOOKUP($F432,all!$E$14:$AD$553,16),\"\")","v":""},{"$f":"IF($AE432=1,VLOOKUP($F432,all!$E$14:$AD$553,17),\"\")","v":""},{"$f":"IF($AE432=1,VLOOKUP($F432,all!$E$14:$AD$553,18),\"\")","v":""},{"$f":"IF($AE432=1,VLOOKUP($F432,all!$E$14:$AD$553,19),\"\")","v":""},{"$f":"IF($AE432=1,VLOOKUP($F432,all!$E$14:$AD$553,20),\"\")","v":""},{"$f":"IF($AE432=1,VLOOKUP($F432,all!$E$14:$AD$553,21),\"\")","v":""},{"$f":"IF($AE432=1,VLOOKUP($F432,all!$E$14:$AD$553,22),\"\")","v":""},{"$f":"IF($AE432=1,VLOOKUP($F432,all!$E$14:$AD$553,23),\"\")","v":""},{"$f":"IF($AE432=1,VLOOKUP($F432,all!$E$14:$AD$553,24),\"\")","v":""},{"$f":"IF($AE432=1,VLOOKUP($F432,all!$E$14:$AD$553,25),\"\")","v":""},null,{"$f":"COUNTIF(all!$E$14:$E$553,F432)","v":0}]
[null,null,null,null,null,400,{"$f":"IF($AE433=1,VLOOKUP($F433,all!$E$14:$AD$553,3),\"\")","v":""},{"$f":"IF($AE433=1,VLOOKUP($F433,all!$E$14:$AD$553,4),\"\")","v":""},{"$f":"IF($AE433=1,VLOOKUP($F433,all!$E$14:$AD$553,5),\"\")","v":""},{"$f":"IF($AE433=1,VLOOKUP($F433,all!$E$14:$AD$553,6),\"\")","v":""},{"$f":"IF($AE433=1,VLOOKUP($F433,all!$E$14:$AD$553,7),\"\")","v":""},{"$f":"IF($AE433=1,VLOOKUP($F433,all!$E$14:$AD$553,8),\"\")","v":""},{"$f":"IF($AE433=1,VLOOKUP($F433,all!$E$14:$AD$553,9),\"\")","v":""},{"$f":"IF($AE433=1,VLOOKUP($F433,all!$E$14:$AD$553,10),\"\")","v":""},{"$f":"IF($AE433=1,VLOOKUP($F433,all!$E$14:$AD$553,11),\"\")","v":""},{"$f":"IF($AE433=1,VLOOKUP($F433,all!$E$14:$AD$553,12),\"\")","v":""},{"$f":"IF($AE433=1,VLOOKUP($F433,all!$E$14:$AD$553,13),\"\")","v":""},{"$f":"IF($AE433=1,VLOOKUP($F433,all!$E$14:$AD$553,14),\"\")","v":""},{"$f":"IF($AE433=1,VLOOKUP($F433,all!$E$14:$AD$553,15),\"\")","v":""},{"$f":"IF($AE433=1,VLOOKUP($F433,all!$E$14:$AD$553,16),\"\")","v":""},{"$f":"IF($AE433=1,VLOOKUP($F433,all!$E$14:$AD$553,17),\"\")","v":""},{"$f":"IF($AE433=1,VLOOKUP($F433,all!$E$14:$AD$553,18),\"\")","v":""},{"$f":"IF($AE433=1,VLOOKUP($F433,all!$E$14:$AD$553,19),\"\")","v":""},{"$f":"IF($AE433=1,VLOOKUP($F433,all!$E$14:$AD$553,20),\"\")","v":""},{"$f":"IF($AE433=1,VLOOKUP($F433,all!$E$14:$AD$553,21),\"\")","v":""},{"$f":"IF($AE433=1,VLOOKUP($F433,all!$E$14:$AD$553,22),\"\")","v":""},{"$f":"IF($AE433=1,VLOOKUP($F433,all!$E$14:$AD$553,23),\"\")","v":""},{"$f":"IF($AE433=1,VLOOKUP($F433,all!$E$14:$AD$553,24),\"\")","v":""},{"$f":"IF($AE433=1,VLOOKUP($F433,all!$E$14:$AD$553,25),\"\")","v":""},null,{"$f":"COUNTIF(all!$E$14:$E$553,F433)","v":0}]
[null,null,null,null,null,401,{"$f":"IF($AE434=1,VLOOKUP($F434,all!$E$14:$AD$553,3),\"\")","v":""},{"$f":"IF($AE434=1,VLOOKUP($F434,all!$E$14:$AD$553,4),\"\")","v":""},{"$f":"IF($AE434=1,VLOOKUP($F434,all!$E$14:$AD$553,5),\"\")","v":""},{"$f":"IF($AE434=1,VLOOKUP($F434,all!$E$14:$AD$553,6),\"\")","v":""},{"$f":"IF($AE434=1,VLOOKUP($F434,all!$E$14:$AD$553,7),\"\")","v":""},{"$f":"IF($AE434=1,VLOOKUP($F434,all!$E$14:$AD$553,8),\"\")","v":""},{"$f":"IF($AE434=1,VLOOKUP($F434,all!$E$14:$AD$553,9),\"\")","v":""},{"$f":"IF($AE434=1,VLOOKUP($F434,all!$E$14:$AD$553,10),\"\")","v":""},{"$f":"IF($AE434=1,VLOOKUP($F434,all!$E$14:$AD$553,11),\"\")","v":""},{"$f":"IF($AE434=1,VLOOKUP($F434,all!$E$14:$AD$553,12),\"\")","v":""},{"$f":"IF($AE434=1,VLOOKUP($F434,all!$E$14:$AD$553,13),\"\")","v":""},{"$f":"IF($AE434=1,VLOOKUP($F434,all!$E$14:$AD$553,14),\"\")","v":""},{"$f":"IF($AE434=1,VLOOKUP($F434,all!$E$14:$AD$553,15),\"\")","v":""},{"$f":"IF($AE434=1,VLOOKUP($F434,all!$E$14:$AD$553,16),\"\")","v":""},{"$f":"IF($AE434=1,VLOOKUP($F434,all!$E$14:$AD$553,17),\"\")","v":""},{"$f":"IF($AE434=1,VLOOKUP($F434,all!$E$14:$AD$553,18),\"\")","v":""},{"$f":"IF($AE434=1,VLOOKUP($F434,all!$E$14:$AD$553,19),\"\")","v":""},{"$f":"IF($AE434=1,VLOOKUP($F434,all!$E$14:$AD$553,20),\"\")","v":""},{"$f":"IF($AE434=1,VLOOKUP($F434,all!$E$14:$AD$553,21),\"\")","v":""},{"$f":"IF($AE434=1,VLOOKUP($F434,all!$E$14:$AD$553,22),\"\")","v":""},{"$f":"IF($AE434=1,VLOOKUP($F434,all!$E$14:$AD$553,23),\"\")","v":""},{"$f":"IF($AE434=1,VLOOKUP($F434,all!$E$14:$AD$553,24),\"\")","v":""},{"$f":"IF($AE434=1,VLOOKUP($F434,all!$E$14:$AD$553,25),\"\")","v":""},null,{"$f":"COUNTIF(all!$E$14:$E$553,F434)","v":0}]
[null,null,null,null,null,402,{"$f":"IF($AE435=1,VLOOKUP($F435,all!$E$14:$AD$553,3),\"\")","v":""},{"$f":"IF($AE435=1,VLOOKUP($F435,all!$E$14:$AD$553,4),\"\")","v":""},{"$f":"IF($AE435=1,VLOOKUP($F435,all!$E$14:$AD$553,5),\"\")","v":""},{"$f":"IF($AE435=1,VLOOKUP($F435,all!$E$14:$AD$553,6),\"\")","v":""},{"$f":"IF($AE435=1,VLOOKUP($F435,all!$E$14:$AD$553,7),\"\")","v":""},{"$f":"IF($AE435=1,VLOOKUP($F435,all!$E$14:$AD$553,8),\"\")","v":""},{"$f":"IF($AE435=1,VLOOKUP($F435,all!$E$14:$AD$553,9),\"\")","v":""},{"$f":"IF($AE435=1,VLOOKUP($F435,all!$E$14:$AD$553,10),\"\")","v":""},{"$f":"IF($AE435=1,VLOOKUP($F435,all!$E$14:$AD$553,11),\"\")","v":""},{"$f":"IF($AE435=1,VLOOKUP($F435,all!$E$14:$AD$553,12),\"\")","v":""},{"$f":"IF($AE435=1,VLOOKUP($F435,all!$E$14:$AD$553,13),\"\")","v":""},{"$f":"IF($AE435=1,VLOOKUP($F435,all!$E$14:$AD$553,14),\"\")","v":""},{"$f":"IF($AE435=1,VLOOKUP($F435,all!$E$14:$AD$553,15),\"\")","v":""},{"$f":"IF($AE435=1,VLOOKUP($F435,all!$E$14:$AD$553,16),\"\")","v":""},{"$f":"IF($AE435=1,VLOOKUP($F435,all!$E$14:$AD$553,17),\"\")","v":""},{"$f":"IF($AE435=1,VLOOKUP($F435,all!$E$14:$AD$553,18),\"\")","v":""},{"$f":"IF($AE435=1,VLOOKUP($F435,all!$E$14:$AD$553,19),\"\")","v":""},{"$f":"IF($AE435=1,VLOOKUP($F435,all!$E$14:$AD$553,20),\"\")","v":""},{"$f":"IF($AE435=1,VLOOKUP($F435,all!$E$14:$AD$553,21),\"\")","v":""},{"$f":"IF($AE435=1,VLOOKUP($F435,all!$E$14:$AD$553,22),\"\")","v":""},{"$f":"IF($AE435=1,VLOOKUP($F435,all!$E$14:$AD$553,23),\"\")","v":""},{"$f":"IF($AE435=1,VLOOKUP($F435,all!$E$14:$AD$553,24),\"\")","v":""},{"$f":"IF($AE435=1,VLOOKUP($F435,all!$E$14:$AD$553,25),\"\")","v":""},null,{"$f":"COUNTIF(all!$E$14:$E$553,F435)","v":0}]
[null,null,null,null,null,403,{"$f":"IF($AE436=1,VLOOKUP($F436,all!$E$14:$AD$553,3),\"\")","v":""},{"$f":"IF($AE436=1,VLOOKUP($F436,all!$E$14:$AD$553,4),\"\")","v":""},{"$f":"IF($AE436=1,VLOOKUP($F436,all!$E$14:$AD$553,5),\"\")","v":""},{"$f":"IF($AE436=1,VLOOKUP($F436,all!$E$14:$AD$553,6),\"\")","v":""},{"$f":"IF($AE436=1,VLOOKUP($F436,all!$E$14:$AD$553,7),\"\")","v":""},{"$f":"IF($AE436=1,VLOOKUP($F436,all!$E$14:$AD$553,8),\"\")","v":""},{"$f":"IF($AE436=1,VLOOKUP($F436,all!$E$14:$AD$553,9),\"\")","v":""},{"$f":"IF($AE436=1,VLOOKUP($F436,all!$E$14:$AD$553,10),\"\")","v":""},{"$f":"IF($AE436=1,VLOOKUP($F436,all!$E$14:$AD$553,11),\"\")","v":""},{"$f":"IF($AE436=1,VLOOKUP($F436,all!$E$14:$AD$553,12),\"\")","v":""},{"$f":"IF($AE436=1,VLOOKUP($F436,all!$E$14:$AD$553,13),\"\")","v":""},{"$f":"IF($AE436=1,VLOOKUP($F436,all!$E$14:$AD$553,14),\"\")","v":""},{"$f":"IF($AE436=1,VLOOKUP($F436,all!$E$14:$AD$553,15),\"\")","v":""},{"$f":"IF($AE436=1,VLOOKUP($F436,all!$E$14:$AD$553,16),\"\")","v":""},{"$f":"IF($AE436=1,VLOOKUP($F436,all!$E$14:$AD$553,17),\"\")","v":""},{"$f":"IF($AE436=1,VLOOKUP($F436,all!$E$14:$AD$553,18),\"\")","v":""},{"$f":"IF($AE436=1,VLOOKUP($F436,all!$E$14:$AD$553,19),\"\")","v":""},{"$f":"IF($AE436=1,VLOOKUP($F436,all!$E$14:$AD$553,20),\"\")","v":""},{"$f":"IF($AE436=1,VLOOKUP($F436,all!$E$14:$AD$553,21),\"\")","v":""},{"$f":"IF($AE436=1,VLOOKUP($F436,all!$E$14:$AD$553,22),\"\")","v":""},{"$f":"IF($AE436=1,VLOOKUP($F436,all!$E$14:$AD$553,23),\"\")","v":""},{"$f":"IF($AE436=1,VLOOKUP($F436,all!$E$14:$AD$553,24),\"\")","v":""},{"$f":"IF($AE436=1,VLOOKUP($F436,all!$E$14:$AD$553,25),\"\")","v":""},null,{"$f":"COUNTIF(all!$E$14:$E$553,F436)","v":0}]
[null,null,null,null,null,404,{"$f":"IF($AE437=1,VLOOKUP($F437,all!$E$14:$AD$553,3),\"\")","v":""},{"$f":"IF($AE437=1,VLOOKUP($F437,all!$E$14:$AD$553,4),\"\")","v":""},{"$f":"IF($AE437=1,VLOOKUP($F437,all!$E$14:$AD$553,5),\"\")","v":""},{"$f":"IF($AE437=1,VLOOKUP($F437,all!$E$14:$AD$553,6),\"\")","v":""},{"$f":"IF($AE437=1,VLOOKUP($F437,all!$E$14:$AD$553,7),\"\")","v":""},{"$f":"IF($AE437=1,VLOOKUP($F437,all!$E$14:$AD$553,8),\"\")","v":""},{"$f":"IF($AE437=1,VLOOKUP($F437,all!$E$14:$AD$553,9),\"\")","v":""},{"$f":"IF($AE437=1,VLOOKUP($F437,all!$E$14:$AD$553,10),\"\")","v":""},{"$f":"IF($AE437=1,VLOOKUP($F437,all!$E$14:$AD$553,11),\"\")","v":""},{"$f":"IF($AE437=1,VLOOKUP($F437,all!$E$14:$AD$553,12),\"\")","v":""},{"$f":"IF($AE437=1,VLOOKUP($F437,all!$E$14:$AD$553,13),\"\")","v":""},{"$f":"IF($AE437=1,VLOOKUP($F437,all!$E$14:$AD$553,14),\"\")","v":""},{"$f":"IF($AE437=1,VLOOKUP($F437,all!$E$14:$AD$553,15),\"\")","v":""},{"$f":"IF($AE437=1,VLOOKUP($F437,all!$E$14:$AD$553,16),\"\")","v":""},{"$f":"IF($AE437=1,VLOOKUP($F437,all!$E$14:$AD$553,17),\"\")","v":""},{"$f":"IF($AE437=1,VLOOKUP($F437,all!$E$14:$AD$553,18),\"\")","v":""},{"$f":"IF($AE437=1,VLOOKUP($F437,all!$E$14:$AD$553,19),\"\")","v":""},{"$f":"IF($AE437=1,VLOOKUP($F437,all!$E$14:$AD$553,20),\"\")","v":""},{"$f":"IF($AE437=1,VLOOKUP($F437,all!$E$14:$AD$553,21),\"\")","v":""},{"$f":"IF($AE437=1,VLOOKUP($F437,all!$E$14:$AD$553,22),\"\")","v":""},{"$f":"IF($AE437=1,VLOOKUP($F437,all!$E$14:$AD$553,23),\"\")","v":""},{"$f":"IF($AE437=1,VLOOKUP($F437,all!$E$14:$AD$553,24),\"\")","v":""},{"$f":"IF($AE437=1,VLOOKUP($F437,all!$E$14:$AD$553,25),\"\")","v":""},null,{"$f":"COUNTIF(all!$E$14:$E$553,F437)","v":0}]
[null,null,null,null,null,405,{"$f":"IF($AE438=1,VLOOKUP($F438,all!$E$14:$AD$553,3),\"\")","v":""},{"$f":"IF($AE438=1,VLOOKUP($F438,all!$E$14:$AD$553,4),\"\")","v":""},{"$f":"IF($AE438=1,VLOOKUP($F438,all!$E$14:$AD$553,5),\"\")","v":""},{"$f":"IF($AE438=1,VLOOKUP($F438,all!$E$14:$AD$553,6),\"\")","v":""},{"$f":"IF($AE438=1,VLOOKUP($F438,all!$E$14:$AD$553,7),\"\")","v":""},{"$f":"IF($AE438=1,VLOOKUP($F438,all!$E$14:$AD$553,8),\"\")","v":""},{"$f":"IF($AE438=1,VLOOKUP($F438,all!$E$14:$AD$553,9),\"\")","v":""},{"$f":"IF($AE438=1,VLOOKUP($F438,all!$E$14:$AD$553,10),\"\")","v":""},{"$f":"IF($AE438=1,VLOOKUP($F438,all!$E$14:$AD$553,11),\"\")","v":""},{"$f":"IF($AE438=1,VLOOKUP($F438,all!$E$14:$AD$553,12),\"\")","v":""},{"$f":"IF($AE438=1,VLOOKUP($F438,all!$E$14:$AD$553,13),\"\")","v":""},{"$f":"IF($AE438=1,VLOOKUP($F438,all!$E$14:$AD$553,14),\"\")","v":""},{"$f":"IF($AE438=1,VLOOKUP($F438,all!$E$14:$AD$553,15),\"\")","v":""},{"$f":"IF($AE438=1,VLOOKUP($F438,all!$E$14:$AD$553,16),\"\")","v":""},{"$f":"IF($AE438=1,VLOOKUP($F438,all!$E$14:$AD$553,17),\"\")","v":""},{"$f":"IF($AE438=1,VLOOKUP($F438,all!$E$14:$AD$553,18),\"\")","v":""},{"$f":"IF($AE438=1,VLOOKUP($F438,all!$E$14:$AD$553,19),\"\")","v":""},{"$f":"IF($AE438=1,VLOOKUP($F438,all!$E$14:$AD$553,20),\"\")","v":""},{"$f":"IF($AE438=1,VLOOKUP($F438,all!$E$14:$AD$553,21),\"\")","v":""},{"$f":"IF($AE438=1,VLOOKUP($F438,all!$E$14:$AD$553,22),\"\")","v":""},{"$f":"IF($AE438=1,VLOOKUP($F438,all!$E$14:$AD$553,23),\"\")","v":""},{"$f":"IF($AE438=1,VLOOKUP($F438,all!$E$14:$AD$553,24),\"\")","v":""},{"$f":"IF($AE438=1,VLOOKUP($F438,all!$E$14:$AD$553,25),\"\")","v":""},null,{"$f":"COUNTIF(all!$E$14:$E$553,F438)","v":0}]
[null,null,null,null,null,406,{"$f":"IF($AE439=1,VLOOKUP($F439,all!$E$14:$AD$553,3),\"\")","v":""},{"$f":"IF($AE439=1,VLOOKUP($F439,all!$E$14:$AD$553,4),\"\")","v":""},{"$f":"IF($AE439=1,VLOOKUP($F439,all!$E$14:$AD$553,5),\"\")","v":""},{"$f":"IF($AE439=1,VLOOKUP($F439,all!$E$14:$AD$553,6),\"\")","v":""},{"$f":"IF($AE439=1,VLOOKUP($F439,all!$E$14:$AD$553,7),\"\")","v":""},{"$f":"IF($AE439=1,VLOOKUP($F439,all!$E$14:$AD$553,8),\"\")","v":""},{"$f":"IF($AE439=1,VLOOKUP($F439,all!$E$14:$AD$553,9),\"\")","v":""},{"$f":"IF($AE439=1,VLOOKUP($F439,all!$E$14:$AD$553,10),\"\")","v":""},{"$f":"IF($AE439=1,VLOOKUP($F439,all!$E$14:$AD$553,11),\"\")","v":""},{"$f":"IF($AE439=1,VLOOKUP($F439,all!$E$14:$AD$553,12),\"\")","v":""},{"$f":"IF($AE439=1,VLOOKUP($F439,all!$E$14:$AD$553,13),\"\")","v":""},{"$f":"IF($AE439=1,VLOOKUP($F439,all!$E$14:$AD$553,14),\"\")","v":""},{"$f":"IF($AE439=1,VLOOKUP($F439,all!$E$14:$AD$553,15),\"\")","v":""},{"$f":"IF($AE439=1,VLOOKUP($F439,all!$E$14:$AD$553,16),\"\")","v":""},{"$f":"IF($AE439=1,VLOOKUP($F439,all!$E$14:$AD$553,17),\"\")","v":""},{"$f":"IF($AE439=1,VLOOKUP($F439,all!$E$14:$AD$553,18),\"\")","v":""},{"$f":"IF($AE439=1,VLOOKUP($F439,all!$E$14:$AD$553,19),\"\")","v":""},{"$f":"IF($AE439=1,VLOOKUP($F439,all!$E$14:$AD$553,20),\"\")","v":""},{"$f":"IF($AE439=1,VLOOKUP($F439,all!$E$14:$AD$553,21),\"\")","v":""},{"$f":"IF($AE439=1,VLOOKUP($F439,all!$E$14:$AD$553,22),\"\")","v":""},{"$f":"IF($AE439=1,VLOOKUP($F439,all!$E$14:$AD$553,23),\"\")","v":""},{"$f":"IF($AE439=1,VLOOKUP($F439,all!$E$14:$AD$553,24),\"\")","v":""},{"$f":"IF($AE439=1,VLOOKUP($F439,all!$E$14:$AD$553,25),\"\")","v":""},null,{"$f":"COUNTIF(all!$E$14:$E$553,F439)","v":0}]
[null,null,null,null,null,407,{"$f":"IF($AE440=1,VLOOKUP($F440,all!$E$14:$AD$553,3),\"\")","v":""},{"$f":"IF($AE440=1,VLOOKUP($F440,all!$E$14:$AD$553,4),\"\")","v":""},{"$f":"IF($AE440=1,VLOOKUP($F440,all!$E$14:$AD$553,5),\"\")","v":""},{"$f":"IF($AE440=1,VLOOKUP($F440,all!$E$14:$AD$553,6),\"\")","v":""},{"$f":"IF($AE440=1,VLOOKUP($F440,all!$E$14:$AD$553,7),\"\")","v":""},{"$f":"IF($AE440=1,VLOOKUP($F440,all!$E$14:$AD$553,8),\"\")","v":""},{"$f":"IF($AE440=1,VLOOKUP($F440,all!$E$14:$AD$553,9),\"\")","v":""},{"$f":"IF($AE440=1,VLOOKUP($F440,all!$E$14:$AD$553,10),\"\")","v":""},{"$f":"IF($AE440=1,VLOOKUP($F440,all!$E$14:$AD$553,11),\"\")","v":""},{"$f":"IF($AE440=1,VLOOKUP($F440,all!$E$14:$AD$553,12),\"\")","v":""},{"$f":"IF($AE440=1,VLOOKUP($F440,all!$E$14:$AD$553,13),\"\")","v":""},{"$f":"IF($AE440=1,VLOOKUP($F440,all!$E$14:$AD$553,14),\"\")","v":""},{"$f":"IF($AE440=1,VLOOKUP($F440,all!$E$14:$AD$553,15),\"\")","v":""},{"$f":"IF($AE440=1,VLOOKUP($F440,all!$E$14:$AD$553,16),\"\")","v":""},{"$f":"IF($AE440=1,VLOOKUP($F440,all!$E$14:$AD$553,17),\"\")","v":""},{"$f":"IF($AE440=1,VLOOKUP($F440,all!$E$14:$AD$553,18),\"\")","v":""},{"$f":"IF($AE440=1,VLOOKUP($F440,all!$E$14:$AD$553,19),\"\")","v":""},{"$f":"IF($AE440=1,VLOOKUP($F440,all!$E$14:$AD$553,20),\"\")","v":""},{"$f":"IF($AE440=1,VLOOKUP($F440,all!$E$14:$AD$553,21),\"\")","v":""},{"$f":"IF($AE440=1,VLOOKUP($F440,all!$E$14:$AD$553,22),\"\")","v":""},{"$f":"IF($AE440=1,VLOOKUP($F440,all!$E$14:$AD$553,23),\"\")","v":""},{"$f":"IF($AE440=1,VLOOKUP($F440,all!$E$14:$AD$553,24),\"\")","v":""},{"$f":"IF($AE440=1,VLOOKUP($F440,all!$E$14:$AD$553,25),\"\")","v":""},null,{"$f":"COUNTIF(all!$E$14:$E$553,F440)","v":0}]
[null,null,null,null,null,408,{"$f":"IF($AE441=1,VLOOKUP($F441,all!$E$14:$AD$553,3),\"\")","v":""},{"$f":"IF($AE441=1,VLOOKUP($F441,all!$E$14:$AD$553,4),\"\")","v":""},{"$f":"IF($AE441=1,VLOOKUP($F441,all!$E$14:$AD$553,5),\"\")","v":""},{"$f":"IF($AE441=1,VLOOKUP($F441,all!$E$14:$AD$553,6),\"\")","v":""},{"$f":"IF($AE441=1,VLOOKUP($F441,all!$E$14:$AD$553,7),\"\")","v":""},{"$f":"IF($AE441=1,VLOOKUP($F441,all!$E$14:$AD$553,8),\"\")","v":""},{"$f":"IF($AE441=1,VLOOKUP($F441,all!$E$14:$AD$553,9),\"\")","v":""},{"$f":"IF($AE441=1,VLOOKUP($F441,all!$E$14:$AD$553,10),\"\")","v":""},{"$f":"IF($AE441=1,VLOOKUP($F441,all!$E$14:$AD$553,11),\"\")","v":""},{"$f":"IF($AE441=1,VLOOKUP($F441,all!$E$14:$AD$553,12),\"\")","v":""},{"$f":"IF($AE441=1,VLOOKUP($F441,all!$E$14:$AD$553,13),\"\")","v":""},{"$f":"IF($AE441=1,VLOOKUP($F441,all!$E$14:$AD$553,14),\"\")","v":""},{"$f":"IF($AE441=1,VLOOKUP($F441,all!$E$14:$AD$553,15),\"\")","v":""},{"$f":"IF($AE441=1,VLOOKUP($F441,all!$E$14:$AD$553,16),\"\")","v":""},{"$f":"IF($AE441=1,VLOOKUP($F441,all!$E$14:$AD$553,17),\"\")","v":""},{"$f":"IF($AE441=1,VLOOKUP($F441,all!$E$14:$AD$553,18),\"\")","v":""},{"$f":"IF($AE441=1,VLOOKUP($F441,all!$E$14:$AD$553,19),\"\")","v":""},{"$f":"IF($AE441=1,VLOOKUP($F441,all!$E$14:$AD$553,20),\"\")","v":""},{"$f":"IF($AE441=1,VLOOKUP($F441,all!$E$14:$AD$553,21),\"\")","v":""},{"$f":"IF($AE441=1,VLOOKUP($F441,all!$E$14:$AD$553,22),\"\")","v":""},{"$f":"IF($AE441=1,VLOOKUP($F441,all!$E$14:$AD$553,23),\"\")","v":""},{"$f":"IF($AE441=1,VLOOKUP($F441,all!$E$14:$AD$553,24),\"\")","v":""},{"$f":"IF($AE441=1,VLOOKUP($F441,all!$E$14:$AD$553,25),\"\")","v":""},null,{"$f":"COUNTIF(all!$E$14:$E$553,F441)","v":0}]
[null,null,null,null,null,409,{"$f":"IF($AE442=1,VLOOKUP($F442,all!$E$14:$AD$553,3),\"\")","v":""},{"$f":"IF($AE442=1,VLOOKUP($F442,all!$E$14:$AD$553,4),\"\")","v":""},{"$f":"IF($AE442=1,VLOOKUP($F442,all!$E$14:$AD$553,5),\"\")","v":""},{"$f":"IF($AE442=1,VLOOKUP($F442,all!$E$14:$AD$553,6),\"\")","v":""},{"$f":"IF($AE442=1,VLOOKUP($F442,all!$E$14:$AD$553,7),\"\")","v":""},{"$f":"IF($AE442=1,VLOOKUP($F442,all!$E$14:$AD$553,8),\"\")","v":""},{"$f":"IF($AE442=1,VLOOKUP($F442,all!$E$14:$AD$553,9),\"\")","v":""},{"$f":"IF($AE442=1,VLOOKUP($F442,all!$E$14:$AD$553,10),\"\")","v":""},{"$f":"IF($AE442=1,VLOOKUP($F442,all!$E$14:$AD$553,11),\"\")","v":""},{"$f":"IF($AE442=1,VLOOKUP($F442,all!$E$14:$AD$553,12),\"\")","v":""},{"$f":"IF($AE442=1,VLOOKUP($F442,all!$E$14:$AD$553,13),\"\")","v":""},{"$f":"IF($AE442=1,VLOOKUP($F442,all!$E$14:$AD$553,14),\"\")","v":""},{"$f":"IF($AE442=1,VLOOKUP($F442,all!$E$14:$AD$553,15),\"\")","v":""},{"$f":"IF($AE442=1,VLOOKUP($F442,all!$E$14:$AD$553,16),\"\")","v":""},{"$f":"IF($AE442=1,VLOOKUP($F442,all!$E$14:$AD$553,17),\"\")","v":""},{"$f":"IF($AE442=1,VLOOKUP($F442,all!$E$14:$AD$553,18),\"\")","v":""},{"$f":"IF($AE442=1,VLOOKUP($F442,all!$E$14:$AD$553,19),\"\")","v":""},{"$f":"IF($AE442=1,VLOOKUP($F442,all!$E$14:$AD$553,20),\"\")","v":""},{"$f":"IF($AE442=1,VLOOKUP($F442,all!$E$14:$AD$553,21),\"\")","v":""},{"$f":"IF($AE442=1,VLOOKUP($F442,all!$E$14:$AD$553,22),\"\")","v":""},{"$f":"IF($AE442=1,VLOOKUP($F442,all!$E$14:$AD$553,23),\"\")","v":""},{"$f":"IF($AE442=1,VLOOKUP($F442,all!$E$14:$AD$553,24),\"\")","v":""},{"$f":"IF($AE442=1,VLOOKUP($F442,all!$E$14:$AD$553,25),\"\")","v":""},null,{"$f":"COUNTIF(all!$E$14:$E$553,F442)","v":0}]
[null,null,null,null,null,410,{"$f":"IF($AE443=1,VLOOKUP($F443,all!$E$14:$AD$553,3),\"\")","v":""},{"$f":"IF($AE443=1,VLOOKUP($F443,all!$E$14:$AD$553,4),\"\")","v":""},{"$f":"IF($AE443=1,VLOOKUP($F443,all!$E$14:$AD$553,5),\"\")","v":""},{"$f":"IF($AE443=1,VLOOKUP($F443,all!$E$14:$AD$553,6),\"\")","v":""},{"$f":"IF($AE443=1,VLOOKUP($F443,all!$E$14:$AD$553,7),\"\")","v":""},{"$f":"IF($AE443=1,VLOOKUP($F443,all!$E$14:$AD$553,8),\"\")","v":""},{"$f":"IF($AE443=1,VLOOKUP($F443,all!$E$14:$AD$553,9),\"\")","v":""},{"$f":"IF($AE443=1,VLOOKUP($F443,all!$E$14:$AD$553,10),\"\")","v":""},{"$f":"IF($AE443=1,VLOOKUP($F443,all!$E$14:$AD$553,11),\"\")","v":""},{"$f":"IF($AE443=1,VLOOKUP($F443,all!$E$14:$AD$553,12),\"\")","v":""},{"$f":"IF($AE443=1,VLOOKUP($F443,all!$E$14:$AD$553,13),\"\")","v":""},{"$f":"IF($AE443=1,VLOOKUP($F443,all!$E$14:$AD$553,14),\"\")","v":""},{"$f":"IF($AE443=1,VLOOKUP($F443,all!$E$14:$AD$553,15),\"\")","v":""},{"$f":"IF($AE443=1,VLOOKUP($F443,all!$E$14:$AD$553,16),\"\")","v":""},{"$f":"IF($AE443=1,VLOOKUP($F443,all!$E$14:$AD$553,17),\"\")","v":""},{"$f":"IF($AE443=1,VLOOKUP($F443,all!$E$14:$AD$553,18),\"\")","v":""},{"$f":"IF($AE443=1,VLOOKUP($F443,all!$E$14:$AD$553,19),\"\")","v":""},{"$f":"IF($AE443=1,VLOOKUP($F443,all!$E$14:$AD$553,20),\"\")","v":""},{"$f":"IF($AE443=1,VLOOKUP($F443,all!$E$14:$AD$553,21),\"\")","v":""},{"$f":"IF($AE443=1,VLOOKUP($F443,all!$E$14:$AD$553,22),\"\")","v":""},{"$f":"IF($AE443=1,VLOOKUP($F443,all!$E$14:$AD$553,23),\"\")","v":""},{"$f":"IF($AE443=1,VLOOKUP($F443,all!$E$14:$AD$553,24),\"\")","v":""},{"$f":"IF($AE443=1,VLOOKUP($F443,all!$E$14:$AD$553,25),\"\")","v":""},null,{"$f":"COUNTIF(all!$E$14:$E$553,F443)","v":0}]
[null,null,null,null,null,411,{"$f":"IF($AE444=1,VLOOKUP($F444,all!$E$14:$AD$553,3),\"\")","v":""},{"$f":"IF($AE444=1,VLOOKUP($F444,all!$E$14:$AD$553,4),\"\")","v":""},{"$f":"IF($AE444=1,VLOOKUP($F444,all!$E$14:$AD$553,5),\"\")","v":""},{"$f":"IF($AE444=1,VLOOKUP($F444,all!$E$14:$AD$553,6),\"\")","v":""},{"$f":"IF($AE444=1,VLOOKUP($F444,all!$E$14:$AD$553,7),\"\")","v":""},{"$f":"IF($AE444=1,VLOOKUP($F444,all!$E$14:$AD$553,8),\"\")","v":""},{"$f":"IF($AE444=1,VLOOKUP($F444,all!$E$14:$AD$553,9),\"\")","v":""},{"$f":"IF($AE444=1,VLOOKUP($F444,all!$E$14:$AD$553,10),\"\")","v":""},{"$f":"IF($AE444=1,VLOOKUP($F444,all!$E$14:$AD$553,11),\"\")","v":""},{"$f":"IF($AE444=1,VLOOKUP($F444,all!$E$14:$AD$553,12),\"\")","v":""},{"$f":"IF($AE444=1,VLOOKUP($F444,all!$E$14:$AD$553,13),\"\")","v":""},{"$f":"IF($AE444=1,VLOOKUP($F444,all!$E$14:$AD$553,14),\"\")","v":""},{"$f":"IF($AE444=1,VLOOKUP($F444,all!$E$14:$AD$553,15),\"\")","v":""},{"$f":"IF($AE444=1,VLOOKUP($F444,all!$E$14:$AD$553,16),\"\")","v":""},{"$f":"IF($AE444=1,VLOOKUP($F444,all!$E$14:$AD$553,17),\"\")","v":""},{"$f":"IF($AE444=1,VLOOKUP($F444,all!$E$14:$AD$553,18),\"\")","v":""},{"$f":"IF($AE444=1,VLOOKUP($F444,all!$E$14:$AD$553,19),\"\")","v":""},{"$f":"IF($AE444=1,VLOOKUP($F444,all!$E$14:$AD$553,20),\"\")","v":""},{"$f":"IF($AE444=1,VLOOKUP($F444,all!$E$14:$AD$553,21),\"\")","v":""},{"$f":"IF($AE444=1,VLOOKUP($F444,all!$E$14:$AD$553,22),\"\")","v":""},{"$f":"IF($AE444=1,VLOOKUP($F444,all!$E$14:$AD$553,23),\"\")","v":""},{"$f":"IF($AE444=1,VLOOKUP($F444,all!$E$14:$AD$553,24),\"\")","v":""},{"$f":"IF($AE444=1,VLOOKUP($F444,all!$E$14:$AD$553,25),\"\")","v":""},null,{"$f":"COUNTIF(all!$E$14:$E$553,F444)","v":0}]
[null,null,null,null,null,412,{"$f":"IF($AE445=1,VLOOKUP($F445,all!$E$14:$AD$553,3),\"\")","v":""},{"$f":"IF($AE445=1,VLOOKUP($F445,all!$E$14:$AD$553,4),\"\")","v":""},{"$f":"IF($AE445=1,VLOOKUP($F445,all!$E$14:$AD$553,5),\"\")","v":""},{"$f":"IF($AE445=1,VLOOKUP($F445,all!$E$14:$AD$553,6),\"\")","v":""},{"$f":"IF($AE445=1,VLOOKUP($F445,all!$E$14:$AD$553,7),\"\")","v":""},{"$f":"IF($AE445=1,VLOOKUP($F445,all!$E$14:$AD$553,8),\"\")","v":""},{"$f":"IF($AE445=1,VLOOKUP($F445,all!$E$14:$AD$553,9),\"\")","v":""},{"$f":"IF($AE445=1,VLOOKUP($F445,all!$E$14:$AD$553,10),\"\")","v":""},{"$f":"IF($AE445=1,VLOOKUP($F445,all!$E$14:$AD$553,11),\"\")","v":""},{"$f":"IF($AE445=1,VLOOKUP($F445,all!$E$14:$AD$553,12),\"\")","v":""},{"$f":"IF($AE445=1,VLOOKUP($F445,all!$E$14:$AD$553,13),\"\")","v":""},{"$f":"IF($AE445=1,VLOOKUP($F445,all!$E$14:$AD$553,14),\"\")","v":""},{"$f":"IF($AE445=1,VLOOKUP($F445,all!$E$14:$AD$553,15),\"\")","v":""},{"$f":"IF($AE445=1,VLOOKUP($F445,all!$E$14:$AD$553,16),\"\")","v":""},{"$f":"IF($AE445=1,VLOOKUP($F445,all!$E$14:$AD$553,17),\"\")","v":""},{"$f":"IF($AE445=1,VLOOKUP($F445,all!$E$14:$AD$553,18),\"\")","v":""},{"$f":"IF($AE445=1,VLOOKUP($F445,all!$E$14:$AD$553,19),\"\")","v":""},{"$f":"IF($AE445=1,VLOOKUP($F445,all!$E$14:$AD$553,20),\"\")","v":""},{"$f":"IF($AE445=1,VLOOKUP($F445,all!$E$14:$AD$553,21),\"\")","v":""},{"$f":"IF($AE445=1,VLOOKUP($F445,all!$E$14:$AD$553,22),\"\")","v":""},{"$f":"IF($AE445=1,VLOOKUP($F445,all!$E$14:$AD$553,23),\"\")","v":""},{"$f":"IF($AE445=1,VLOOKUP($F445,all!$E$14:$AD$553,24),\"\")","v":""},{"$f":"IF($AE445=1,VLOOKUP($F445,all!$E$14:$AD$553,25),\"\")","v":""},null,{"$f":"COUNTIF(all!$E$14:$E$553,F445)","v":0}]
[null,null,null,null,null,413,{"$f":"IF($AE446=1,VLOOKUP($F446,all!$E$14:$AD$553,3),\"\")","v":""},{"$f":"IF($AE446=1,VLOOKUP($F446,all!$E$14:$AD$553,4),\"\")","v":""},{"$f":"IF($AE446=1,VLOOKUP($F446,all!$E$14:$AD$553,5),\"\")","v":""},{"$f":"IF($AE446=1,VLOOKUP($F446,all!$E$14:$AD$553,6),\"\")","v":""},{"$f":"IF($AE446=1,VLOOKUP($F446,all!$E$14:$AD$553,7),\"\")","v":""},{"$f":"IF($AE446=1,VLOOKUP($F446,all!$E$14:$AD$553,8),\"\")","v":""},{"$f":"IF($AE446=1,VLOOKUP($F446,all!$E$14:$AD$553,9),\"\")","v":""},{"$f":"IF($AE446=1,VLOOKUP($F446,all!$E$14:$AD$553,10),\"\")","v":""},{"$f":"IF($AE446=1,VLOOKUP($F446,all!$E$14:$AD$553,11),\"\")","v":""},{"$f":"IF($AE446=1,VLOOKUP($F446,all!$E$14:$AD$553,12),\"\")","v":""},{"$f":"IF($AE446=1,VLOOKUP($F446,all!$E$14:$AD$553,13),\"\")","v":""},{"$f":"IF($AE446=1,VLOOKUP($F446,all!$E$14:$AD$553,14),\"\")","v":""},{"$f":"IF($AE446=1,VLOOKUP($F446,all!$E$14:$AD$553,15),\"\")","v":""},{"$f":"IF($AE446=1,VLOOKUP($F446,all!$E$14:$AD$553,16),\"\")","v":""},{"$f":"IF($AE446=1,VLOOKUP($F446,all!$E$14:$AD$553,17),\"\")","v":""},{"$f":"IF($AE446=1,VLOOKUP($F446,all!$E$14:$AD$553,18),\"\")","v":""},{"$f":"IF($AE446=1,VLOOKUP($F446,all!$E$14:$AD$553,19),\"\")","v":""},{"$f":"IF($AE446=1,VLOOKUP($F446,all!$E$14:$AD$553,20),\"\")","v":""},{"$f":"IF($AE446=1,VLOOKUP($F446,all!$E$14:$AD$553,21),\"\")","v":""},{"$f":"IF($AE446=1,VLOOKUP($F446,all!$E$14:$AD$553,22),\"\")","v":""},{"$f":"IF($AE446=1,VLOOKUP($F446,all!$E$14:$AD$553,23),\"\")","v":""},{"$f":"IF($AE446=1,VLOOKUP($F446,all!$E$14:$AD$553,24),\"\")","v":""},{"$f":"IF($AE446=1,VLOOKUP($F446,all!$E$14:$AD$553,25),\"\")","v":""},null,{"$f":"COUNTIF(all!$E$14:$E$553,F446)","v":0}]
[null,null,null,null,null,414,{"$f":"IF($AE447=1,VLOOKUP($F447,all!$E$14:$AD$553,3),\"\")","v":""},{"$f":"IF($AE447=1,VLOOKUP($F447,all!$E$14:$AD$553,4),\"\")","v":""},{"$f":"IF($AE447=1,VLOOKUP($F447,all!$E$14:$AD$553,5),\"\")","v":""},{"$f":"IF($AE447=1,VLOOKUP($F447,all!$E$14:$AD$553,6),\"\")","v":""},{"$f":"IF($AE447=1,VLOOKUP($F447,all!$E$14:$AD$553,7),\"\")","v":""},{"$f":"IF($AE447=1,VLOOKUP($F447,all!$E$14:$AD$553,8),\"\")","v":""},{"$f":"IF($AE447=1,VLOOKUP($F447,all!$E$14:$AD$553,9),\"\")","v":""},{"$f":"IF($AE447=1,VLOOKUP($F447,all!$E$14:$AD$553,10),\"\")","v":""},{"$f":"IF($AE447=1,VLOOKUP($F447,all!$E$14:$AD$553,11),\"\")","v":""},{"$f":"IF($AE447=1,VLOOKUP($F447,all!$E$14:$AD$553,12),\"\")","v":""},{"$f":"IF($AE447=1,VLOOKUP($F447,all!$E$14:$AD$553,13),\"\")","v":""},{"$f":"IF($AE447=1,VLOOKUP($F447,all!$E$14:$AD$553,14),\"\")","v":""},{"$f":"IF($AE447=1,VLOOKUP($F447,all!$E$14:$AD$553,15),\"\")","v":""},{"$f":"IF($AE447=1,VLOOKUP($F447,all!$E$14:$AD$553,16),\"\")","v":""},{"$f":"IF($AE447=1,VLOOKUP($F447,all!$E$14:$AD$553,17),\"\")","v":""},{"$f":"IF($AE447=1,VLOOKUP($F447,all!$E$14:$AD$553,18),\"\")","v":""},{"$f":"IF($AE447=1,VLOOKUP($F447,all!$E$14:$AD$553,19),\"\")","v":""},{"$f":"IF($AE447=1,VLOOKUP($F447,all!$E$14:$AD$553,20),\"\")","v":""},{"$f":"IF($AE447=1,VLOOKUP($F447,all!$E$14:$AD$553,21),\"\")","v":""},{"$f":"IF($AE447=1,VLOOKUP($F447,all!$E$14:$AD$553,22),\"\")","v":""},{"$f":"IF($AE447=1,VLOOKUP($F447,all!$E$14:$AD$553,23),\"\")","v":""},{"$f":"IF($AE447=1,VLOOKUP($F447,all!$E$14:$AD$553,24),\"\")","v":""},{"$f":"IF($AE447=1,VLOOKUP($F447,all!$E$14:$AD$553,25),\"\")","v":""},null,{"$f":"COUNTIF(all!$E$14:$E$553,F447)","v":0}]
[null,null,null,null,null,415,{"$f":"IF($AE448=1,VLOOKUP($F448,all!$E$14:$AD$553,3),\"\")","v":""},{"$f":"IF($AE448=1,VLOOKUP($F448,all!$E$14:$AD$553,4),\"\")","v":""},{"$f":"IF($AE448=1,VLOOKUP($F448,all!$E$14:$AD$553,5),\"\")","v":""},{"$f":"IF($AE448=1,VLOOKUP($F448,all!$E$14:$AD$553,6),\"\")","v":""},{"$f":"IF($AE448=1,VLOOKUP($F448,all!$E$14:$AD$553,7),\"\")","v":""},{"$f":"IF($AE448=1,VLOOKUP($F448,all!$E$14:$AD$553,8),\"\")","v":""},{"$f":"IF($AE448=1,VLOOKUP($F448,all!$E$14:$AD$553,9),\"\")","v":""},{"$f":"IF($AE448=1,VLOOKUP($F448,all!$E$14:$AD$553,10),\"\")","v":""},{"$f":"IF($AE448=1,VLOOKUP($F448,all!$E$14:$AD$553,11),\"\")","v":""},{"$f":"IF($AE448=1,VLOOKUP($F448,all!$E$14:$AD$553,12),\"\")","v":""},{"$f":"IF($AE448=1,VLOOKUP($F448,all!$E$14:$AD$553,13),\"\")","v":""},{"$f":"IF($AE448=1,VLOOKUP($F448,all!$E$14:$AD$553,14),\"\")","v":""},{"$f":"IF($AE448=1,VLOOKUP($F448,all!$E$14:$AD$553,15),\"\")","v":""},{"$f":"IF($AE448=1,VLOOKUP($F448,all!$E$14:$AD$553,16),\"\")","v":""},{"$f":"IF($AE448=1,VLOOKUP($F448,all!$E$14:$AD$553,17),\"\")","v":""},{"$f":"IF($AE448=1,VLOOKUP($F448,all!$E$14:$AD$553,18),\"\")","v":""},{"$f":"IF($AE448=1,VLOOKUP($F448,all!$E$14:$AD$553,19),\"\")","v":""},{"$f":"IF($AE448=1,VLOOKUP($F448,all!$E$14:$AD$553,20),\"\")","v":""},{"$f":"IF($AE448=1,VLOOKUP($F448,all!$E$14:$AD$553,21),\"\")","v":""},{"$f":"IF($AE448=1,VLOOKUP($F448,all!$E$14:$AD$553,22),\"\")","v":""},{"$f":"IF($AE448=1,VLOOKUP($F448,all!$E$14:$AD$553,23),\"\")","v":""},{"$f":"IF($AE448=1,VLOOKUP($F448,all!$E$14:$AD$553,24),\"\")","v":""},{"$f":"IF($AE448=1,VLOOKUP($F448,all!$E$14:$AD$553,25),\"\")","v":""},null,{"$f":"COUNTIF(all!$E$14:$E$553,F448)","v":0}]
[null,null,null,null,null,416,{"$f":"IF($AE449=1,VLOOKUP($F449,all!$E$14:$AD$553,3),\"\")","v":""},{"$f":"IF($AE449=1,VLOOKUP($F449,all!$E$14:$AD$553,4),\"\")","v":""},{"$f":"IF($AE449=1,VLOOKUP($F449,all!$E$14:$AD$553,5),\"\")","v":""},{"$f":"IF($AE449=1,VLOOKUP($F449,all!$E$14:$AD$553,6),\"\")","v":""},{"$f":"IF($AE449=1,VLOOKUP($F449,all!$E$14:$AD$553,7),\"\")","v":""},{"$f":"IF($AE449=1,VLOOKUP($F449,all!$E$14:$AD$553,8),\"\")","v":""},{"$f":"IF($AE449=1,VLOOKUP($F449,all!$E$14:$AD$553,9),\"\")","v":""},{"$f":"IF($AE449=1,VLOOKUP($F449,all!$E$14:$AD$553,10),\"\")","v":""},{"$f":"IF($AE449=1,VLOOKUP($F449,all!$E$14:$AD$553,11),\"\")","v":""},{"$f":"IF($AE449=1,VLOOKUP($F449,all!$E$14:$AD$553,12),\"\")","v":""},{"$f":"IF($AE449=1,VLOOKUP($F449,all!$E$14:$AD$553,13),\"\")","v":""},{"$f":"IF($AE449=1,VLOOKUP($F449,all!$E$14:$AD$553,14),\"\")","v":""},{"$f":"IF($AE449=1,VLOOKUP($F449,all!$E$14:$AD$553,15),\"\")","v":""},{"$f":"IF($AE449=1,VLOOKUP($F449,all!$E$14:$AD$553,16),\"\")","v":""},{"$f":"IF($AE449=1,VLOOKUP($F449,all!$E$14:$AD$553,17),\"\")","v":""},{"$f":"IF($AE449=1,VLOOKUP($F449,all!$E$14:$AD$553,18),\"\")","v":""},{"$f":"IF($AE449=1,VLOOKUP($F449,all!$E$14:$AD$553,19),\"\")","v":""},{"$f":"IF($AE449=1,VLOOKUP($F449,all!$E$14:$AD$553,20),\"\")","v":""},{"$f":"IF($AE449=1,VLOOKUP($F449,all!$E$14:$AD$553,21),\"\")","v":""},{"$f":"IF($AE449=1,VLOOKUP($F449,all!$E$14:$AD$553,22),\"\")","v":""},{"$f":"IF($AE449=1,VLOOKUP($F449,all!$E$14:$AD$553,23),\"\")","v":""},{"$f":"IF($AE449=1,VLOOKUP($F449,all!$E$14:$AD$553,24),\"\")","v":""},{"$f":"IF($AE449=1,VLOOKUP($F449,all!$E$14:$AD$553,25),\"\")","v":""},null,{"$f":"COUNTIF(all!$E$14:$E$553,F449)","v":0}]
[null,null,null,null,null,417,{"$f":"IF($AE450=1,VLOOKUP($F450,all!$E$14:$AD$553,3),\"\")","v":""},{"$f":"IF($AE450=1,VLOOKUP($F450,all!$E$14:$AD$553,4),\"\")","v":""},{"$f":"IF($AE450=1,VLOOKUP($F450,all!$E$14:$AD$553,5),\"\")","v":""},{"$f":"IF($AE450=1,VLOOKUP($F450,all!$E$14:$AD$553,6),\"\")","v":""},{"$f":"IF($AE450=1,VLOOKUP($F450,all!$E$14:$AD$553,7),\"\")","v":""},{"$f":"IF($AE450=1,VLOOKUP($F450,all!$E$14:$AD$553,8),\"\")","v":""},{"$f":"IF($AE450=1,VLOOKUP($F450,all!$E$14:$AD$553,9),\"\")","v":""},{"$f":"IF($AE450=1,VLOOKUP($F450,all!$E$14:$AD$553,10),\"\")","v":""},{"$f":"IF($AE450=1,VLOOKUP($F450,all!$E$14:$AD$553,11),\"\")","v":""},{"$f":"IF($AE450=1,VLOOKUP($F450,all!$E$14:$AD$553,12),\"\")","v":""},{"$f":"IF($AE450=1,VLOOKUP($F450,all!$E$14:$AD$553,13),\"\")","v":""},{"$f":"IF($AE450=1,VLOOKUP($F450,all!$E$14:$AD$553,14),\"\")","v":""},{"$f":"IF($AE450=1,VLOOKUP($F450,all!$E$14:$AD$553,15),\"\")","v":""},{"$f":"IF($AE450=1,VLOOKUP($F450,all!$E$14:$AD$553,16),\"\")","v":""},{"$f":"IF($AE450=1,VLOOKUP($F450,all!$E$14:$AD$553,17),\"\")","v":""},{"$f":"IF($AE450=1,VLOOKUP($F450,all!$E$14:$AD$553,18),\"\")","v":""},{"$f":"IF($AE450=1,VLOOKUP($F450,all!$E$14:$AD$553,19),\"\")","v":""},{"$f":"IF($AE450=1,VLOOKUP($F450,all!$E$14:$AD$553,20),\"\")","v":""},{"$f":"IF($AE450=1,VLOOKUP($F450,all!$E$14:$AD$553,21),\"\")","v":""},{"$f":"IF($AE450=1,VLOOKUP($F450,all!$E$14:$AD$553,22),\"\")","v":""},{"$f":"IF($AE450=1,VLOOKUP($F450,all!$E$14:$AD$553,23),\"\")","v":""},{"$f":"IF($AE450=1,VLOOKUP($F450,all!$E$14:$AD$553,24),\"\")","v":""},{"$f":"IF($AE450=1,VLOOKUP($F450,all!$E$14:$AD$553,25),\"\")","v":""},null,{"$f":"COUNTIF(all!$E$14:$E$553,F450)","v":0}]
[null,null,null,null,null,418,{"$f":"IF($AE451=1,VLOOKUP($F451,all!$E$14:$AD$553,3),\"\")","v":""},{"$f":"IF($AE451=1,VLOOKUP($F451,all!$E$14:$AD$553,4),\"\")","v":""},{"$f":"IF($AE451=1,VLOOKUP($F451,all!$E$14:$AD$553,5),\"\")","v":""},{"$f":"IF($AE451=1,VLOOKUP($F451,all!$E$14:$AD$553,6),\"\")","v":""},{"$f":"IF($AE451=1,VLOOKUP($F451,all!$E$14:$AD$553,7),\"\")","v":""},{"$f":"IF($AE451=1,VLOOKUP($F451,all!$E$14:$AD$553,8),\"\")","v":""},{"$f":"IF($AE451=1,VLOOKUP($F451,all!$E$14:$AD$553,9),\"\")","v":""},{"$f":"IF($AE451=1,VLOOKUP($F451,all!$E$14:$AD$553,10),\"\")","v":""},{"$f":"IF($AE451=1,VLOOKUP($F451,all!$E$14:$AD$553,11),\"\")","v":""},{"$f":"IF($AE451=1,VLOOKUP($F451,all!$E$14:$AD$553,12),\"\")","v":""},{"$f":"IF($AE451=1,VLOOKUP($F451,all!$E$14:$AD$553,13),\"\")","v":""},{"$f":"IF($AE451=1,VLOOKUP($F451,all!$E$14:$AD$553,14),\"\")","v":""},{"$f":"IF($AE451=1,VLOOKUP($F451,all!$E$14:$AD$553,15),\"\")","v":""},{"$f":"IF($AE451=1,VLOOKUP($F451,all!$E$14:$AD$553,16),\"\")","v":""},{"$f":"IF($AE451=1,VLOOKUP($F451,all!$E$14:$AD$553,17),\"\")","v":""},{"$f":"IF($AE451=1,VLOOKUP($F451,all!$E$14:$AD$553,18),\"\")","v":""},{"$f":"IF($AE451=1,VLOOKUP($F451,all!$E$14:$AD$553,19),\"\")","v":""},{"$f":"IF($AE451=1,VLOOKUP($F451,all!$E$14:$AD$553,20),\"\")","v":""},{"$f":"IF($AE451=1,VLOOKUP($F451,all!$E$14:$AD$553,21),\"\")","v":""},{"$f":"IF($AE451=1,VLOOKUP($F451,all!$E$14:$AD$553,22),\"\")","v":""},{"$f":"IF($AE451=1,VLOOKUP($F451,all!$E$14:$AD$553,23),\"\")","v":""},{"$f":"IF($AE451=1,VLOOKUP($F451,all!$E$14:$AD$553,24),\"\")","v":""},{"$f":"IF($AE451=1,VLOOKUP($F451,all!$E$14:$AD$553,25),\"\")","v":""},null,{"$f":"COUNTIF(all!$E$14:$E$553,F451)","v":0}]
[null,null,null,null,null,419,{"$f":"IF($AE452=1,VLOOKUP($F452,all!$E$14:$AD$553,3),\"\")","v":""},{"$f":"IF($AE452=1,VLOOKUP($F452,all!$E$14:$AD$553,4),\"\")","v":""},{"$f":"IF($AE452=1,VLOOKUP($F452,all!$E$14:$AD$553,5),\"\")","v":""},{"$f":"IF($AE452=1,VLOOKUP($F452,all!$E$14:$AD$553,6),\"\")","v":""},{"$f":"IF($AE452=1,VLOOKUP($F452,all!$E$14:$AD$553,7),\"\")","v":""},{"$f":"IF($AE452=1,VLOOKUP($F452,all!$E$14:$AD$553,8),\"\")","v":""},{"$f":"IF($AE452=1,VLOOKUP($F452,all!$E$14:$AD$553,9),\"\")","v":""},{"$f":"IF($AE452=1,VLOOKUP($F452,all!$E$14:$AD$553,10),\"\")","v":""},{"$f":"IF($AE452=1,VLOOKUP($F452,all!$E$14:$AD$553,11),\"\")","v":""},{"$f":"IF($AE452=1,VLOOKUP($F452,all!$E$14:$AD$553,12),\"\")","v":""},{"$f":"IF($AE452=1,VLOOKUP($F452,all!$E$14:$AD$553,13),\"\")","v":""},{"$f":"IF($AE452=1,VLOOKUP($F452,all!$E$14:$AD$553,14),\"\")","v":""},{"$f":"IF($AE452=1,VLOOKUP($F452,all!$E$14:$AD$553,15),\"\")","v":""},{"$f":"IF($AE452=1,VLOOKUP($F452,all!$E$14:$AD$553,16),\"\")","v":""},{"$f":"IF($AE452=1,VLOOKUP($F452,all!$E$14:$AD$553,17),\"\")","v":""},{"$f":"IF($AE452=1,VLOOKUP($F452,all!$E$14:$AD$553,18),\"\")","v":""},{"$f":"IF($AE452=1,VLOOKUP($F452,all!$E$14:$AD$553,19),\"\")","v":""},{"$f":"IF($AE452=1,VLOOKUP($F452,all!$E$14:$AD$553,20),\"\")","v":""},{"$f":"IF($AE452=1,VLOOKUP($F452,all!$E$14:$AD$553,21),\"\")","v":""},{"$f":"IF($AE452=1,VLOOKUP($F452,all!$E$14:$AD$553,22),\"\")","v":""},{"$f":"IF($AE452=1,VLOOKUP($F452,all!$E$14:$AD$553,23),\"\")","v":""},{"$f":"IF($AE452=1,VLOOKUP($F452,all!$E$14:$AD$553,24),\"\")","v":""},{"$f":"IF($AE452=1,VLOOKUP($F452,all!$E$14:$AD$553,25),\"\")","v":""},null,{"$f":"COUNTIF(all!$E$14:$E$553,F452)","v":0}]
[null,null,null,null,null,420,{"$f":"IF($AE453=1,VLOOKUP($F453,all!$E$14:$AD$553,3),\"\")","v":""},{"$f":"IF($AE453=1,VLOOKUP($F453,all!$E$14:$AD$553,4),\"\")","v":""},{"$f":"IF($AE453=1,VLOOKUP($F453,all!$E$14:$AD$553,5),\"\")","v":""},{"$f":"IF($AE453=1,VLOOKUP($F453,all!$E$14:$AD$553,6),\"\")","v":""},{"$f":"IF($AE453=1,VLOOKUP($F453,all!$E$14:$AD$553,7),\"\")","v":""},{"$f":"IF($AE453=1,VLOOKUP($F453,all!$E$14:$AD$553,8),\"\")","v":""},{"$f":"IF($AE453=1,VLOOKUP($F453,all!$E$14:$AD$553,9),\"\")","v":""},{"$f":"IF($AE453=1,VLOOKUP($F453,all!$E$14:$AD$553,10),\"\")","v":""},{"$f":"IF($AE453=1,VLOOKUP($F453,all!$E$14:$AD$553,11),\"\")","v":""},{"$f":"IF($AE453=1,VLOOKUP($F453,all!$E$14:$AD$553,12),\"\")","v":""},{"$f":"IF($AE453=1,VLOOKUP($F453,all!$E$14:$AD$553,13),\"\")","v":""},{"$f":"IF($AE453=1,VLOOKUP($F453,all!$E$14:$AD$553,14),\"\")","v":""},{"$f":"IF($AE453=1,VLOOKUP($F453,all!$E$14:$AD$553,15),\"\")","v":""},{"$f":"IF($AE453=1,VLOOKUP($F453,all!$E$14:$AD$553,16),\"\")","v":""},{"$f":"IF($AE453=1,VLOOKUP($F453,all!$E$14:$AD$553,17),\"\")","v":""},{"$f":"IF($AE453=1,VLOOKUP($F453,all!$E$14:$AD$553,18),\"\")","v":""},{"$f":"IF($AE453=1,VLOOKUP($F453,all!$E$14:$AD$553,19),\"\")","v":""},{"$f":"IF($AE453=1,VLOOKUP($F453,all!$E$14:$AD$553,20),\"\")","v":""},{"$f":"IF($AE453=1,VLOOKUP($F453,all!$E$14:$AD$553,21),\"\")","v":""},{"$f":"IF($AE453=1,VLOOKUP($F453,all!$E$14:$AD$553,22),\"\")","v":""},{"$f":"IF($AE453=1,VLOOKUP($F453,all!$E$14:$AD$553,23),\"\")","v":""},{"$f":"IF($AE453=1,VLOOKUP($F453,all!$E$14:$AD$553,24),\"\")","v":""},{"$f":"IF($AE453=1,VLOOKUP($F453,all!$E$14:$AD$553,25),\"\")","v":""},null,{"$f":"COUNTIF(all!$E$14:$E$553,F453)","v":0}]
[null,null,null,null,null,421,{"$f":"IF($AE454=1,VLOOKUP($F454,all!$E$14:$AD$553,3),\"\")","v":""},{"$f":"IF($AE454=1,VLOOKUP($F454,all!$E$14:$AD$553,4),\"\")","v":""},{"$f":"IF($AE454=1,VLOOKUP($F454,all!$E$14:$AD$553,5),\"\")","v":""},{"$f":"IF($AE454=1,VLOOKUP($F454,all!$E$14:$AD$553,6),\"\")","v":""},{"$f":"IF($AE454=1,VLOOKUP($F454,all!$E$14:$AD$553,7),\"\")","v":""},{"$f":"IF($AE454=1,VLOOKUP($F454,all!$E$14:$AD$553,8),\"\")","v":""},{"$f":"IF($AE454=1,VLOOKUP($F454,all!$E$14:$AD$553,9),\"\")","v":""},{"$f":"IF($AE454=1,VLOOKUP($F454,all!$E$14:$AD$553,10),\"\")","v":""},{"$f":"IF($AE454=1,VLOOKUP($F454,all!$E$14:$AD$553,11),\"\")","v":""},{"$f":"IF($AE454=1,VLOOKUP($F454,all!$E$14:$AD$553,12),\"\")","v":""},{"$f":"IF($AE454=1,VLOOKUP($F454,all!$E$14:$AD$553,13),\"\")","v":""},{"$f":"IF($AE454=1,VLOOKUP($F454,all!$E$14:$AD$553,14),\"\")","v":""},{"$f":"IF($AE454=1,VLOOKUP($F454,all!$E$14:$AD$553,15),\"\")","v":""},{"$f":"IF($AE454=1,VLOOKUP($F454,all!$E$14:$AD$553,16),\"\")","v":""},{"$f":"IF($AE454=1,VLOOKUP($F454,all!$E$14:$AD$553,17),\"\")","v":""},{"$f":"IF($AE454=1,VLOOKUP($F454,all!$E$14:$AD$553,18),\"\")","v":""},{"$f":"IF($AE454=1,VLOOKUP($F454,all!$E$14:$AD$553,19),\"\")","v":""},{"$f":"IF($AE454=1,VLOOKUP($F454,all!$E$14:$AD$553,20),\"\")","v":""},{"$f":"IF($AE454=1,VLOOKUP($F454,all!$E$14:$AD$553,21),\"\")","v":""},{"$f":"IF($AE454=1,VLOOKUP($F454,all!$E$14:$AD$553,22),\"\")","v":""},{"$f":"IF($AE454=1,VLOOKUP($F454,all!$E$14:$AD$553,23),\"\")","v":""},{"$f":"IF($AE454=1,VLOOKUP($F454,all!$E$14:$AD$553,24),\"\")","v":""},{"$f":"IF($AE454=1,VLOOKUP($F454,all!$E$14:$AD$553,25),\"\")","v":""},null,{"$f":"COUNTIF(all!$E$14:$E$553,F454)","v":0}]
[null,null,null,null,null,422,{"$f":"IF($AE455=1,VLOOKUP($F455,all!$E$14:$AD$553,3),\"\")","v":""},{"$f":"IF($AE455=1,VLOOKUP($F455,all!$E$14:$AD$553,4),\"\")","v":""},{"$f":"IF($AE455=1,VLOOKUP($F455,all!$E$14:$AD$553,5),\"\")","v":""},{"$f":"IF($AE455=1,VLOOKUP($F455,all!$E$14:$AD$553,6),\"\")","v":""},{"$f":"IF($AE455=1,VLOOKUP($F455,all!$E$14:$AD$553,7),\"\")","v":""},{"$f":"IF($AE455=1,VLOOKUP($F455,all!$E$14:$AD$553,8),\"\")","v":""},{"$f":"IF($AE455=1,VLOOKUP($F455,all!$E$14:$AD$553,9),\"\")","v":""},{"$f":"IF($AE455=1,VLOOKUP($F455,all!$E$14:$AD$553,10),\"\")","v":""},{"$f":"IF($AE455=1,VLOOKUP($F455,all!$E$14:$AD$553,11),\"\")","v":""},{"$f":"IF($AE455=1,VLOOKUP($F455,all!$E$14:$AD$553,12),\"\")","v":""},{"$f":"IF($AE455=1,VLOOKUP($F455,all!$E$14:$AD$553,13),\"\")","v":""},{"$f":"IF($AE455=1,VLOOKUP($F455,all!$E$14:$AD$553,14),\"\")","v":""},{"$f":"IF($AE455=1,VLOOKUP($F455,all!$E$14:$AD$553,15),\"\")","v":""},{"$f":"IF($AE455=1,VLOOKUP($F455,all!$E$14:$AD$553,16),\"\")","v":""},{"$f":"IF($AE455=1,VLOOKUP($F455,all!$E$14:$AD$553,17),\"\")","v":""},{"$f":"IF($AE455=1,VLOOKUP($F455,all!$E$14:$AD$553,18),\"\")","v":""},{"$f":"IF($AE455=1,VLOOKUP($F455,all!$E$14:$AD$553,19),\"\")","v":""},{"$f":"IF($AE455=1,VLOOKUP($F455,all!$E$14:$AD$553,20),\"\")","v":""},{"$f":"IF($AE455=1,VLOOKUP($F455,all!$E$14:$AD$553,21),\"\")","v":""},{"$f":"IF($AE455=1,VLOOKUP($F455,all!$E$14:$AD$553,22),\"\")","v":""},{"$f":"IF($AE455=1,VLOOKUP($F455,all!$E$14:$AD$553,23),\"\")","v":""},{"$f":"IF($AE455=1,VLOOKUP($F455,all!$E$14:$AD$553,24),\"\")","v":""},{"$f":"IF($AE455=1,VLOOKUP($F455,all!$E$14:$AD$553,25),\"\")","v":""},null,{"$f":"COUNTIF(all!$E$14:$E$553,F455)","v":0}]
[null,null,null,null,null,423,{"$f":"IF($AE456=1,VLOOKUP($F456,all!$E$14:$AD$553,3),\"\")","v":""},{"$f":"IF($AE456=1,VLOOKUP($F456,all!$E$14:$AD$553,4),\"\")","v":""},{"$f":"IF($AE456=1,VLOOKUP($F456,all!$E$14:$AD$553,5),\"\")","v":""},{"$f":"IF($AE456=1,VLOOKUP($F456,all!$E$14:$AD$553,6),\"\")","v":""},{"$f":"IF($AE456=1,VLOOKUP($F456,all!$E$14:$AD$553,7),\"\")","v":""},{"$f":"IF($AE456=1,VLOOKUP($F456,all!$E$14:$AD$553,8),\"\")","v":""},{"$f":"IF($AE456=1,VLOOKUP($F456,all!$E$14:$AD$553,9),\"\")","v":""},{"$f":"IF($AE456=1,VLOOKUP($F456,all!$E$14:$AD$553,10),\"\")","v":""},{"$f":"IF($AE456=1,VLOOKUP($F456,all!$E$14:$AD$553,11),\"\")","v":""},{"$f":"IF($AE456=1,VLOOKUP($F456,all!$E$14:$AD$553,12),\"\")","v":""},{"$f":"IF($AE456=1,VLOOKUP($F456,all!$E$14:$AD$553,13),\"\")","v":""},{"$f":"IF($AE456=1,VLOOKUP($F456,all!$E$14:$AD$553,14),\"\")","v":""},{"$f":"IF($AE456=1,VLOOKUP($F456,all!$E$14:$AD$553,15),\"\")","v":""},{"$f":"IF($AE456=1,VLOOKUP($F456,all!$E$14:$AD$553,16),\"\")","v":""},{"$f":"IF($AE456=1,VLOOKUP($F456,all!$E$14:$AD$553,17),\"\")","v":""},{"$f":"IF($AE456=1,VLOOKUP($F456,all!$E$14:$AD$553,18),\"\")","v":""},{"$f":"IF($AE456=1,VLOOKUP($F456,all!$E$14:$AD$553,19),\"\")","v":""},{"$f":"IF($AE456=1,VLOOKUP($F456,all!$E$14:$AD$553,20),\"\")","v":""},{"$f":"IF($AE456=1,VLOOKUP($F456,all!$E$14:$AD$553,21),\"\")","v":""},{"$f":"IF($AE456=1,VLOOKUP($F456,all!$E$14:$AD$553,22),\"\")","v":""},{"$f":"IF($AE456=1,VLOOKUP($F456,all!$E$14:$AD$553,23),\"\")","v":""},{"$f":"IF($AE456=1,VLOOKUP($F456,all!$E$14:$AD$553,24),\"\")","v":""},{"$f":"IF($AE456=1,VLOOKUP($F456,all!$E$14:$AD$553,25),\"\")","v":""},null,{"$f":"COUNTIF(all!$E$14:$E$553,F456)","v":0}]
[null,null,null,null,null,424,{"$f":"IF($AE457=1,VLOOKUP($F457,all!$E$14:$AD$553,3),\"\")","v":""},{"$f":"IF($AE457=1,VLOOKUP($F457,all!$E$14:$AD$553,4),\"\")","v":""},{"$f":"IF($AE457=1,VLOOKUP($F457,all!$E$14:$AD$553,5),\"\")","v":""},{"$f":"IF($AE457=1,VLOOKUP($F457,all!$E$14:$AD$553,6),\"\")","v":""},{"$f":"IF($AE457=1,VLOOKUP($F457,all!$E$14:$AD$553,7),\"\")","v":""},{"$f":"IF($AE457=1,VLOOKUP($F457,all!$E$14:$AD$553,8),\"\")","v":""},{"$f":"IF($AE457=1,VLOOKUP($F457,all!$E$14:$AD$553,9),\"\")","v":""},{"$f":"IF($AE457=1,VLOOKUP($F457,all!$E$14:$AD$553,10),\"\")","v":""},{"$f":"IF($AE457=1,VLOOKUP($F457,all!$E$14:$AD$553,11),\"\")","v":""},{"$f":"IF($AE457=1,VLOOKUP($F457,all!$E$14:$AD$553,12),\"\")","v":""},{"$f":"IF($AE457=1,VLOOKUP($F457,all!$E$14:$AD$553,13),\"\")","v":""},{"$f":"IF($AE457=1,VLOOKUP($F457,all!$E$14:$AD$553,14),\"\")","v":""},{"$f":"IF($AE457=1,VLOOKUP($F457,all!$E$14:$AD$553,15),\"\")","v":""},{"$f":"IF($AE457=1,VLOOKUP($F457,all!$E$14:$AD$553,16),\"\")","v":""},{"$f":"IF($AE457=1,VLOOKUP($F457,all!$E$14:$AD$553,17),\"\")","v":""},{"$f":"IF($AE457=1,VLOOKUP($F457,all!$E$14:$AD$553,18),\"\")","v":""},{"$f":"IF($AE457=1,VLOOKUP($F457,all!$E$14:$AD$553,19),\"\")","v":""},{"$f":"IF($AE457=1,VLOOKUP($F457,all!$E$14:$AD$553,20),\"\")","v":""},{"$f":"IF($AE457=1,VLOOKUP($F457,all!$E$14:$AD$553,21),\"\")","v":""},{"$f":"IF($AE457=1,VLOOKUP($F457,all!$E$14:$AD$553,22),\"\")","v":""},{"$f":"IF($AE457=1,VLOOKUP($F457,all!$E$14:$AD$553,23),\"\")","v":""},{"$f":"IF($AE457=1,VLOOKUP($F457,all!$E$14:$AD$553,24),\"\")","v":""},{"$f":"IF($AE457=1,VLOOKUP($F457,all!$E$14:$AD$553,25),\"\")","v":""},null,{"$f":"COUNTIF(all!$E$14:$E$553,F457)","v":0}]
[null,null,null,null,null,425,{"$f":"IF($AE458=1,VLOOKUP($F458,all!$E$14:$AD$553,3),\"\")","v":""},{"$f":"IF($AE458=1,VLOOKUP($F458,all!$E$14:$AD$553,4),\"\")","v":""},{"$f":"IF($AE458=1,VLOOKUP($F458,all!$E$14:$AD$553,5),\"\")","v":""},{"$f":"IF($AE458=1,VLOOKUP($F458,all!$E$14:$AD$553,6),\"\")","v":""},{"$f":"IF($AE458=1,VLOOKUP($F458,all!$E$14:$AD$553,7),\"\")","v":""},{"$f":"IF($AE458=1,VLOOKUP($F458,all!$E$14:$AD$553,8),\"\")","v":""},{"$f":"IF($AE458=1,VLOOKUP($F458,all!$E$14:$AD$553,9),\"\")","v":""},{"$f":"IF($AE458=1,VLOOKUP($F458,all!$E$14:$AD$553,10),\"\")","v":""},{"$f":"IF($AE458=1,VLOOKUP($F458,all!$E$14:$AD$553,11),\"\")","v":""},{"$f":"IF($AE458=1,VLOOKUP($F458,all!$E$14:$AD$553,12),\"\")","v":""},{"$f":"IF($AE458=1,VLOOKUP($F458,all!$E$14:$AD$553,13),\"\")","v":""},{"$f":"IF($AE458=1,VLOOKUP($F458,all!$E$14:$AD$553,14),\"\")","v":""},{"$f":"IF($AE458=1,VLOOKUP($F458,all!$E$14:$AD$553,15),\"\")","v":""},{"$f":"IF($AE458=1,VLOOKUP($F458,all!$E$14:$AD$553,16),\"\")","v":""},{"$f":"IF($AE458=1,VLOOKUP($F458,all!$E$14:$AD$553,17),\"\")","v":""},{"$f":"IF($AE458=1,VLOOKUP($F458,all!$E$14:$AD$553,18),\"\")","v":""},{"$f":"IF($AE458=1,VLOOKUP($F458,all!$E$14:$AD$553,19),\"\")","v":""},{"$f":"IF($AE458=1,VLOOKUP($F458,all!$E$14:$AD$553,20),\"\")","v":""},{"$f":"IF($AE458=1,VLOOKUP($F458,all!$E$14:$AD$553,21),\"\")","v":""},{"$f":"IF($AE458=1,VLOOKUP($F458,all!$E$14:$AD$553,22),\"\")","v":""},{"$f":"IF($AE458=1,VLOOKUP($F458,all!$E$14:$AD$553,23),\"\")","v":""},{"$f":"IF($AE458=1,VLOOKUP($F458,all!$E$14:$AD$553,24),\"\")","v":""},{"$f":"IF($AE458=1,VLOOKUP($F458,all!$E$14:$AD$553,25),\"\")","v":""},null,{"$f":"COUNTIF(all!$E$14:$E$553,F458)","v":0}]
[null,null,null,null,null,426,{"$f":"IF($AE459=1,VLOOKUP($F459,all!$E$14:$AD$553,3),\"\")","v":""},{"$f":"IF($AE459=1,VLOOKUP($F459,all!$E$14:$AD$553,4),\"\")","v":""},{"$f":"IF($AE459=1,VLOOKUP($F459,all!$E$14:$AD$553,5),\"\")","v":""},{"$f":"IF($AE459=1,VLOOKUP($F459,all!$E$14:$AD$553,6),\"\")","v":""},{"$f":"IF($AE459=1,VLOOKUP($F459,all!$E$14:$AD$553,7),\"\")","v":""},{"$f":"IF($AE459=1,VLOOKUP($F459,all!$E$14:$AD$553,8),\"\")","v":""},{"$f":"IF($AE459=1,VLOOKUP($F459,all!$E$14:$AD$553,9),\"\")","v":""},{"$f":"IF($AE459=1,VLOOKUP($F459,all!$E$14:$AD$553,10),\"\")","v":""},{"$f":"IF($AE459=1,VLOOKUP($F459,all!$E$14:$AD$553,11),\"\")","v":""},{"$f":"IF($AE459=1,VLOOKUP($F459,all!$E$14:$AD$553,12),\"\")","v":""},{"$f":"IF($AE459=1,VLOOKUP($F459,all!$E$14:$AD$553,13),\"\")","v":""},{"$f":"IF($AE459=1,VLOOKUP($F459,all!$E$14:$AD$553,14),\"\")","v":""},{"$f":"IF($AE459=1,VLOOKUP($F459,all!$E$14:$AD$553,15),\"\")","v":""},{"$f":"IF($AE459=1,VLOOKUP($F459,all!$E$14:$AD$553,16),\"\")","v":""},{"$f":"IF($AE459=1,VLOOKUP($F459,all!$E$14:$AD$553,17),\"\")","v":""},{"$f":"IF($AE459=1,VLOOKUP($F459,all!$E$14:$AD$553,18),\"\")","v":""},{"$f":"IF($AE459=1,VLOOKUP($F459,all!$E$14:$AD$553,19),\"\")","v":""},{"$f":"IF($AE459=1,VLOOKUP($F459,all!$E$14:$AD$553,20),\"\")","v":""},{"$f":"IF($AE459=1,VLOOKUP($F459,all!$E$14:$AD$553,21),\"\")","v":""},{"$f":"IF($AE459=1,VLOOKUP($F459,all!$E$14:$AD$553,22),\"\")","v":""},{"$f":"IF($AE459=1,VLOOKUP($F459,all!$E$14:$AD$553,23),\"\")","v":""},{"$f":"IF($AE459=1,VLOOKUP($F459,all!$E$14:$AD$553,24),\"\")","v":""},{"$f":"IF($AE459=1,VLOOKUP($F459,all!$E$14:$AD$553,25),\"\")","v":""},null,{"$f":"COUNTIF(all!$E$14:$E$553,F459)","v":0}]
[null,null,null,null,null,427,{"$f":"IF($AE460=1,VLOOKUP($F460,all!$E$14:$AD$553,3),\"\")","v":""},{"$f":"IF($AE460=1,VLOOKUP($F460,all!$E$14:$AD$553,4),\"\")","v":""},{"$f":"IF($AE460=1,VLOOKUP($F460,all!$E$14:$AD$553,5),\"\")","v":""},{"$f":"IF($AE460=1,VLOOKUP($F460,all!$E$14:$AD$553,6),\"\")","v":""},{"$f":"IF($AE460=1,VLOOKUP($F460,all!$E$14:$AD$553,7),\"\")","v":""},{"$f":"IF($AE460=1,VLOOKUP($F460,all!$E$14:$AD$553,8),\"\")","v":""},{"$f":"IF($AE460=1,VLOOKUP($F460,all!$E$14:$AD$553,9),\"\")","v":""},{"$f":"IF($AE460=1,VLOOKUP($F460,all!$E$14:$AD$553,10),\"\")","v":""},{"$f":"IF($AE460=1,VLOOKUP($F460,all!$E$14:$AD$553,11),\"\")","v":""},{"$f":"IF($AE460=1,VLOOKUP($F460,all!$E$14:$AD$553,12),\"\")","v":""},{"$f":"IF($AE460=1,VLOOKUP($F460,all!$E$14:$AD$553,13),\"\")","v":""},{"$f":"IF($AE460=1,VLOOKUP($F460,all!$E$14:$AD$553,14),\"\")","v":""},{"$f":"IF($AE460=1,VLOOKUP($F460,all!$E$14:$AD$553,15),\"\")","v":""},{"$f":"IF($AE460=1,VLOOKUP($F460,all!$E$14:$AD$553,16),\"\")","v":""},{"$f":"IF($AE460=1,VLOOKUP($F460,all!$E$14:$AD$553,17),\"\")","v":""},{"$f":"IF($AE460=1,VLOOKUP($F460,all!$E$14:$AD$553,18),\"\")","v":""},{"$f":"IF($AE460=1,VLOOKUP($F460,all!$E$14:$AD$553,19),\"\")","v":""},{"$f":"IF($AE460=1,VLOOKUP($F460,all!$E$14:$AD$553,20),\"\")","v":""},{"$f":"IF($AE460=1,VLOOKUP($F460,all!$E$14:$AD$553,21),\"\")","v":""},{"$f":"IF($AE460=1,VLOOKUP($F460,all!$E$14:$AD$553,22),\"\")","v":""},{"$f":"IF($AE460=1,VLOOKUP($F460,all!$E$14:$AD$553,23),\"\")","v":""},{"$f":"IF($AE460=1,VLOOKUP($F460,all!$E$14:$AD$553,24),\"\")","v":""},{"$f":"IF($AE460=1,VLOOKUP($F460,all!$E$14:$AD$553,25),\"\")","v":""},null,{"$f":"COUNTIF(all!$E$14:$E$553,F460)","v":0}]
[null,null,null,null,null,428,{"$f":"IF($AE461=1,VLOOKUP($F461,all!$E$14:$AD$553,3),\"\")","v":""},{"$f":"IF($AE461=1,VLOOKUP($F461,all!$E$14:$AD$553,4),\"\")","v":""},{"$f":"IF($AE461=1,VLOOKUP($F461,all!$E$14:$AD$553,5),\"\")","v":""},{"$f":"IF($AE461=1,VLOOKUP($F461,all!$E$14:$AD$553,6),\"\")","v":""},{"$f":"IF($AE461=1,VLOOKUP($F461,all!$E$14:$AD$553,7),\"\")","v":""},{"$f":"IF($AE461=1,VLOOKUP($F461,all!$E$14:$AD$553,8),\"\")","v":""},{"$f":"IF($AE461=1,VLOOKUP($F461,all!$E$14:$AD$553,9),\"\")","v":""},{"$f":"IF($AE461=1,VLOOKUP($F461,all!$E$14:$AD$553,10),\"\")","v":""},{"$f":"IF($AE461=1,VLOOKUP($F461,all!$E$14:$AD$553,11),\"\")","v":""},{"$f":"IF($AE461=1,VLOOKUP($F461,all!$E$14:$AD$553,12),\"\")","v":""},{"$f":"IF($AE461=1,VLOOKUP($F461,all!$E$14:$AD$553,13),\"\")","v":""},{"$f":"IF($AE461=1,VLOOKUP($F461,all!$E$14:$AD$553,14),\"\")","v":""},{"$f":"IF($AE461=1,VLOOKUP($F461,all!$E$14:$AD$553,15),\"\")","v":""},{"$f":"IF($AE461=1,VLOOKUP($F461,all!$E$14:$AD$553,16),\"\")","v":""},{"$f":"IF($AE461=1,VLOOKUP($F461,all!$E$14:$AD$553,17),\"\")","v":""},{"$f":"IF($AE461=1,VLOOKUP($F461,all!$E$14:$AD$553,18),\"\")","v":""},{"$f":"IF($AE461=1,VLOOKUP($F461,all!$E$14:$AD$553,19),\"\")","v":""},{"$f":"IF($AE461=1,VLOOKUP($F461,all!$E$14:$AD$553,20),\"\")","v":""},{"$f":"IF($AE461=1,VLOOKUP($F461,all!$E$14:$AD$553,21),\"\")","v":""},{"$f":"IF($AE461=1,VLOOKUP($F461,all!$E$14:$AD$553,22),\"\")","v":""},{"$f":"IF($AE461=1,VLOOKUP($F461,all!$E$14:$AD$553,23),\"\")","v":""},{"$f":"IF($AE461=1,VLOOKUP($F461,all!$E$14:$AD$553,24),\"\")","v":""},{"$f":"IF($AE461=1,VLOOKUP($F461,all!$E$14:$AD$553,25),\"\")","v":""},null,{"$f":"COUNTIF(all!$E$14:$E$553,F461)","v":0}]
[null,null,null,null,null,429,{"$f":"IF($AE462=1,VLOOKUP($F462,all!$E$14:$AD$553,3),\"\")","v":""},{"$f":"IF($AE462=1,VLOOKUP($F462,all!$E$14:$AD$553,4),\"\")","v":""},{"$f":"IF($AE462=1,VLOOKUP($F462,all!$E$14:$AD$553,5),\"\")","v":""},{"$f":"IF($AE462=1,VLOOKUP($F462,all!$E$14:$AD$553,6),\"\")","v":""},{"$f":"IF($AE462=1,VLOOKUP($F462,all!$E$14:$AD$553,7),\"\")","v":""},{"$f":"IF($AE462=1,VLOOKUP($F462,all!$E$14:$AD$553,8),\"\")","v":""},{"$f":"IF($AE462=1,VLOOKUP($F462,all!$E$14:$AD$553,9),\"\")","v":""},{"$f":"IF($AE462=1,VLOOKUP($F462,all!$E$14:$AD$553,10),\"\")","v":""},{"$f":"IF($AE462=1,VLOOKUP($F462,all!$E$14:$AD$553,11),\"\")","v":""},{"$f":"IF($AE462=1,VLOOKUP($F462,all!$E$14:$AD$553,12),\"\")","v":""},{"$f":"IF($AE462=1,VLOOKUP($F462,all!$E$14:$AD$553,13),\"\")","v":""},{"$f":"IF($AE462=1,VLOOKUP($F462,all!$E$14:$AD$553,14),\"\")","v":""},{"$f":"IF($AE462=1,VLOOKUP($F462,all!$E$14:$AD$553,15),\"\")","v":""},{"$f":"IF($AE462=1,VLOOKUP($F462,all!$E$14:$AD$553,16),\"\")","v":""},{"$f":"IF($AE462=1,VLOOKUP($F462,all!$E$14:$AD$553,17),\"\")","v":""},{"$f":"IF($AE462=1,VLOOKUP($F462,all!$E$14:$AD$553,18),\"\")","v":""},{"$f":"IF($AE462=1,VLOOKUP($F462,all!$E$14:$AD$553,19),\"\")","v":""},{"$f":"IF($AE462=1,VLOOKUP($F462,all!$E$14:$AD$553,20),\"\")","v":""},{"$f":"IF($AE462=1,VLOOKUP($F462,all!$E$14:$AD$553,21),\"\")","v":""},{"$f":"IF($AE462=1,VLOOKUP($F462,all!$E$14:$AD$553,22),\"\")","v":""},{"$f":"IF($AE462=1,VLOOKUP($F462,all!$E$14:$AD$553,23),\"\")","v":""},{"$f":"IF($AE462=1,VLOOKUP($F462,all!$E$14:$AD$553,24),\"\")","v":""},{"$f":"IF($AE462=1,VLOOKUP($F462,all!$E$14:$AD$553,25),\"\")","v":""},null,{"$f":"COUNTIF(all!$E$14:$E$553,F462)","v":0}]
[null,null,null,null,null,430,{"$f":"IF($AE463=1,VLOOKUP($F463,all!$E$14:$AD$553,3),\"\")","v":""},{"$f":"IF($AE463=1,VLOOKUP($F463,all!$E$14:$AD$553,4),\"\")","v":""},{"$f":"IF($AE463=1,VLOOKUP($F463,all!$E$14:$AD$553,5),\"\")","v":""},{"$f":"IF($AE463=1,VLOOKUP($F463,all!$E$14:$AD$553,6),\"\")","v":""},{"$f":"IF($AE463=1,VLOOKUP($F463,all!$E$14:$AD$553,7),\"\")","v":""},{"$f":"IF($AE463=1,VLOOKUP($F463,all!$E$14:$AD$553,8),\"\")","v":""},{"$f":"IF($AE463=1,VLOOKUP($F463,all!$E$14:$AD$553,9),\"\")","v":""},{"$f":"IF($AE463=1,VLOOKUP($F463,all!$E$14:$AD$553,10),\"\")","v":""},{"$f":"IF($AE463=1,VLOOKUP($F463,all!$E$14:$AD$553,11),\"\")","v":""},{"$f":"IF($AE463=1,VLOOKUP($F463,all!$E$14:$AD$553,12),\"\")","v":""},{"$f":"IF($AE463=1,VLOOKUP($F463,all!$E$14:$AD$553,13),\"\")","v":""},{"$f":"IF($AE463=1,VLOOKUP($F463,all!$E$14:$AD$553,14),\"\")","v":""},{"$f":"IF($AE463=1,VLOOKUP($F463,all!$E$14:$AD$553,15),\"\")","v":""},{"$f":"IF($AE463=1,VLOOKUP($F463,all!$E$14:$AD$553,16),\"\")","v":""},{"$f":"IF($AE463=1,VLOOKUP($F463,all!$E$14:$AD$553,17),\"\")","v":""},{"$f":"IF($AE463=1,VLOOKUP($F463,all!$E$14:$AD$553,18),\"\")","v":""},{"$f":"IF($AE463=1,VLOOKUP($F463,all!$E$14:$AD$553,19),\"\")","v":""},{"$f":"IF($AE463=1,VLOOKUP($F463,all!$E$14:$AD$553,20),\"\")","v":""},{"$f":"IF($AE463=1,VLOOKUP($F463,all!$E$14:$AD$553,21),\"\")","v":""},{"$f":"IF($AE463=1,VLOOKUP($F463,all!$E$14:$AD$553,22),\"\")","v":""},{"$f":"IF($AE463=1,VLOOKUP($F463,all!$E$14:$AD$553,23),\"\")","v":""},{"$f":"IF($AE463=1,VLOOKUP($F463,all!$E$14:$AD$553,24),\"\")","v":""},{"$f":"IF($AE463=1,VLOOKUP($F463,all!$E$14:$AD$553,25),\"\")","v":""},null,{"$f":"COUNTIF(all!$E$14:$E$553,F463)","v":0}]
[null,null,null,null,null,431,{"$f":"IF($AE464=1,VLOOKUP($F464,all!$E$14:$AD$553,3),\"\")","v":""},{"$f":"IF($AE464=1,VLOOKUP($F464,all!$E$14:$AD$553,4),\"\")","v":""},{"$f":"IF($AE464=1,VLOOKUP($F464,all!$E$14:$AD$553,5),\"\")","v":""},{"$f":"IF($AE464=1,VLOOKUP($F464,all!$E$14:$AD$553,6),\"\")","v":""},{"$f":"IF($AE464=1,VLOOKUP($F464,all!$E$14:$AD$553,7),\"\")","v":""},{"$f":"IF($AE464=1,VLOOKUP($F464,all!$E$14:$AD$553,8),\"\")","v":""},{"$f":"IF($AE464=1,VLOOKUP($F464,all!$E$14:$AD$553,9),\"\")","v":""},{"$f":"IF($AE464=1,VLOOKUP($F464,all!$E$14:$AD$553,10),\"\")","v":""},{"$f":"IF($AE464=1,VLOOKUP($F464,all!$E$14:$AD$553,11),\"\")","v":""},{"$f":"IF($AE464=1,VLOOKUP($F464,all!$E$14:$AD$553,12),\"\")","v":""},{"$f":"IF($AE464=1,VLOOKUP($F464,all!$E$14:$AD$553,13),\"\")","v":""},{"$f":"IF($AE464=1,VLOOKUP($F464,all!$E$14:$AD$553,14),\"\")","v":""},{"$f":"IF($AE464=1,VLOOKUP($F464,all!$E$14:$AD$553,15),\"\")","v":""},{"$f":"IF($AE464=1,VLOOKUP($F464,all!$E$14:$AD$553,16),\"\")","v":""},{"$f":"IF($AE464=1,VLOOKUP($F464,all!$E$14:$AD$553,17),\"\")","v":""},{"$f":"IF($AE464=1,VLOOKUP($F464,all!$E$14:$AD$553,18),\"\")","v":""},{"$f":"IF($AE464=1,VLOOKUP($F464,all!$E$14:$AD$553,19),\"\")","v":""},{"$f":"IF($AE464=1,VLOOKUP($F464,all!$E$14:$AD$553,20),\"\")","v":""},{"$f":"IF($AE464=1,VLOOKUP($F464,all!$E$14:$AD$553,21),\"\")","v":""},{"$f":"IF($AE464=1,VLOOKUP($F464,all!$E$14:$AD$553,22),\"\")","v":""},{"$f":"IF($AE464=1,VLOOKUP($F464,all!$E$14:$AD$553,23),\"\")","v":""},{"$f":"IF($AE464=1,VLOOKUP($F464,all!$E$14:$AD$553,24),\"\")","v":""},{"$f":"IF($AE464=1,VLOOKUP($F464,all!$E$14:$AD$553,25),\"\")","v":""},null,{"$f":"COUNTIF(all!$E$14:$E$553,F464)","v":0}]
[null,null,null,null,null,432,{"$f":"IF($AE465=1,VLOOKUP($F465,all!$E$14:$AD$553,3),\"\")","v":""},{"$f":"IF($AE465=1,VLOOKUP($F465,all!$E$14:$AD$553,4),\"\")","v":""},{"$f":"IF($AE465=1,VLOOKUP($F465,all!$E$14:$AD$553,5),\"\")","v":""},{"$f":"IF($AE465=1,VLOOKUP($F465,all!$E$14:$AD$553,6),\"\")","v":""},{"$f":"IF($AE465=1,VLOOKUP($F465,all!$E$14:$AD$553,7),\"\")","v":""},{"$f":"IF($AE465=1,VLOOKUP($F465,all!$E$14:$AD$553,8),\"\")","v":""},{"$f":"IF($AE465=1,VLOOKUP($F465,all!$E$14:$AD$553,9),\"\")","v":""},{"$f":"IF($AE465=1,VLOOKUP($F465,all!$E$14:$AD$553,10),\"\")","v":""},{"$f":"IF($AE465=1,VLOOKUP($F465,all!$E$14:$AD$553,11),\"\")","v":""},{"$f":"IF($AE465=1,VLOOKUP($F465,all!$E$14:$AD$553,12),\"\")","v":""},{"$f":"IF($AE465=1,VLOOKUP($F465,all!$E$14:$AD$553,13),\"\")","v":""},{"$f":"IF($AE465=1,VLOOKUP($F465,all!$E$14:$AD$553,14),\"\")","v":""},{"$f":"IF($AE465=1,VLOOKUP($F465,all!$E$14:$AD$553,15),\"\")","v":""},{"$f":"IF($AE465=1,VLOOKUP($F465,all!$E$14:$AD$553,16),\"\")","v":""},{"$f":"IF($AE465=1,VLOOKUP($F465,all!$E$14:$AD$553,17),\"\")","v":""},{"$f":"IF($AE465=1,VLOOKUP($F465,all!$E$14:$AD$553,18),\"\")","v":""},{"$f":"IF($AE465=1,VLOOKUP($F465,all!$E$14:$AD$553,19),\"\")","v":""},{"$f":"IF($AE465=1,VLOOKUP($F465,all!$E$14:$AD$553,20),\"\")","v":""},{"$f":"IF($AE465=1,VLOOKUP($F465,all!$E$14:$AD$553,21),\"\")","v":""},{"$f":"IF($AE465=1,VLOOKUP($F465,all!$E$14:$AD$553,22),\"\")","v":""},{"$f":"IF($AE465=1,VLOOKUP($F465,all!$E$14:$AD$553,23),\"\")","v":""},{"$f":"IF($AE465=1,VLOOKUP($F465,all!$E$14:$AD$553,24),\"\")","v":""},{"$f":"IF($AE465=1,VLOOKUP($F465,all!$E$14:$AD$553,25),\"\")","v":""},null,{"$f":"COUNTIF(all!$E$14:$E$553,F465)","v":0}]
[null,null,null,null,null,433,{"$f":"IF($AE466=1,VLOOKUP($F466,all!$E$14:$AD$553,3),\"\")","v":""},{"$f":"IF($AE466=1,VLOOKUP($F466,all!$E$14:$AD$553,4),\"\")","v":""},{"$f":"IF($AE466=1,VLOOKUP($F466,all!$E$14:$AD$553,5),\"\")","v":""},{"$f":"IF($AE466=1,VLOOKUP($F466,all!$E$14:$AD$553,6),\"\")","v":""},{"$f":"IF($AE466=1,VLOOKUP($F466,all!$E$14:$AD$553,7),\"\")","v":""},{"$f":"IF($AE466=1,VLOOKUP($F466,all!$E$14:$AD$553,8),\"\")","v":""},{"$f":"IF($AE466=1,VLOOKUP($F466,all!$E$14:$AD$553,9),\"\")","v":""},{"$f":"IF($AE466=1,VLOOKUP($F466,all!$E$14:$AD$553,10),\"\")","v":""},{"$f":"IF($AE466=1,VLOOKUP($F466,all!$E$14:$AD$553,11),\"\")","v":""},{"$f":"IF($AE466=1,VLOOKUP($F466,all!$E$14:$AD$553,12),\"\")","v":""},{"$f":"IF($AE466=1,VLOOKUP($F466,all!$E$14:$AD$553,13),\"\")","v":""},{"$f":"IF($AE466=1,VLOOKUP($F466,all!$E$14:$AD$553,14),\"\")","v":""},{"$f":"IF($AE466=1,VLOOKUP($F466,all!$E$14:$AD$553,15),\"\")","v":""},{"$f":"IF($AE466=1,VLOOKUP($F466,all!$E$14:$AD$553,16),\"\")","v":""},{"$f":"IF($AE466=1,VLOOKUP($F466,all!$E$14:$AD$553,17),\"\")","v":""},{"$f":"IF($AE466=1,VLOOKUP($F466,all!$E$14:$AD$553,18),\"\")","v":""},{"$f":"IF($AE466=1,VLOOKUP($F466,all!$E$14:$AD$553,19),\"\")","v":""},{"$f":"IF($AE466=1,VLOOKUP($F466,all!$E$14:$AD$553,20),\"\")","v":""},{"$f":"IF($AE466=1,VLOOKUP($F466,all!$E$14:$AD$553,21),\"\")","v":""},{"$f":"IF($AE466=1,VLOOKUP($F466,all!$E$14:$AD$553,22),\"\")","v":""},{"$f":"IF($AE466=1,VLOOKUP($F466,all!$E$14:$AD$553,23),\"\")","v":""},{"$f":"IF($AE466=1,VLOOKUP($F466,all!$E$14:$AD$553,24),\"\")","v":""},{"$f":"IF($AE466=1,VLOOKUP($F466,all!$E$14:$AD$553,25),\"\")","v":""},null,{"$f":"COUNTIF(all!$E$14:$E$553,F466)","v":0}]
[null,null,null,null,null,434,{"$f":"IF($AE467=1,VLOOKUP($F467,all!$E$14:$AD$553,3),\"\")","v":""},{"$f":"IF($AE467=1,VLOOKUP($F467,all!$E$14:$AD$553,4),\"\")","v":""},{"$f":"IF($AE467=1,VLOOKUP($F467,all!$E$14:$AD$553,5),\"\")","v":""},{"$f":"IF($AE467=1,VLOOKUP($F467,all!$E$14:$AD$553,6),\"\")","v":""},{"$f":"IF($AE467=1,VLOOKUP($F467,all!$E$14:$AD$553,7),\"\")","v":""},{"$f":"IF($AE467=1,VLOOKUP($F467,all!$E$14:$AD$553,8),\"\")","v":""},{"$f":"IF($AE467=1,VLOOKUP($F467,all!$E$14:$AD$553,9),\"\")","v":""},{"$f":"IF($AE467=1,VLOOKUP($F467,all!$E$14:$AD$553,10),\"\")","v":""},{"$f":"IF($AE467=1,VLOOKUP($F467,all!$E$14:$AD$553,11),\"\")","v":""},{"$f":"IF($AE467=1,VLOOKUP($F467,all!$E$14:$AD$553,12),\"\")","v":""},{"$f":"IF($AE467=1,VLOOKUP($F467,all!$E$14:$AD$553,13),\"\")","v":""},{"$f":"IF($AE467=1,VLOOKUP($F467,all!$E$14:$AD$553,14),\"\")","v":""},{"$f":"IF($AE467=1,VLOOKUP($F467,all!$E$14:$AD$553,15),\"\")","v":""},{"$f":"IF($AE467=1,VLOOKUP($F467,all!$E$14:$AD$553,16),\"\")","v":""},{"$f":"IF($AE467=1,VLOOKUP($F467,all!$E$14:$AD$553,17),\"\")","v":""},{"$f":"IF($AE467=1,VLOOKUP($F467,all!$E$14:$AD$553,18),\"\")","v":""},{"$f":"IF($AE467=1,VLOOKUP($F467,all!$E$14:$AD$553,19),\"\")","v":""},{"$f":"IF($AE467=1,VLOOKUP($F467,all!$E$14:$AD$553,20),\"\")","v":""},{"$f":"IF($AE467=1,VLOOKUP($F467,all!$E$14:$AD$553,21),\"\")","v":""},{"$f":"IF($AE467=1,VLOOKUP($F467,all!$E$14:$AD$553,22),\"\")","v":""},{"$f":"IF($AE467=1,VLOOKUP($F467,all!$E$14:$AD$553,23),\"\")","v":""},{"$f":"IF($AE467=1,VLOOKUP($F467,all!$E$14:$AD$553,24),\"\")","v":""},{"$f":"IF($AE467=1,VLOOKUP($F467,all!$E$14:$AD$553,25),\"\")","v":""},null,{"$f":"COUNTIF(all!$E$14:$E$553,F467)","v":0}]
[null,null,null,null,null,435,{"$f":"IF($AE468=1,VLOOKUP($F468,all!$E$14:$AD$553,3),\"\")","v":""},{"$f":"IF($AE468=1,VLOOKUP($F468,all!$E$14:$AD$553,4),\"\")","v":""},{"$f":"IF($AE468=1,VLOOKUP($F468,all!$E$14:$AD$553,5),\"\")","v":""},{"$f":"IF($AE468=1,VLOOKUP($F468,all!$E$14:$AD$553,6),\"\")","v":""},{"$f":"IF($AE468=1,VLOOKUP($F468,all!$E$14:$AD$553,7),\"\")","v":""},{"$f":"IF($AE468=1,VLOOKUP($F468,all!$E$14:$AD$553,8),\"\")","v":""},{"$f":"IF($AE468=1,VLOOKUP($F468,all!$E$14:$AD$553,9),\"\")","v":""},{"$f":"IF($AE468=1,VLOOKUP($F468,all!$E$14:$AD$553,10),\"\")","v":""},{"$f":"IF($AE468=1,VLOOKUP($F468,all!$E$14:$AD$553,11),\"\")","v":""},{"$f":"IF($AE468=1,VLOOKUP($F468,all!$E$14:$AD$553,12),\"\")","v":""},{"$f":"IF($AE468=1,VLOOKUP($F468,all!$E$14:$AD$553,13),\"\")","v":""},{"$f":"IF($AE468=1,VLOOKUP($F468,all!$E$14:$AD$553,14),\"\")","v":""},{"$f":"IF($AE468=1,VLOOKUP($F468,all!$E$14:$AD$553,15),\"\")","v":""},{"$f":"IF($AE468=1,VLOOKUP($F468,all!$E$14:$AD$553,16),\"\")","v":""},{"$f":"IF($AE468=1,VLOOKUP($F468,all!$E$14:$AD$553,17),\"\")","v":""},{"$f":"IF($AE468=1,VLOOKUP($F468,all!$E$14:$AD$553,18),\"\")","v":""},{"$f":"IF($AE468=1,VLOOKUP($F468,all!$E$14:$AD$553,19),\"\")","v":""},{"$f":"IF($AE468=1,VLOOKUP($F468,all!$E$14:$AD$553,20),\"\")","v":""},{"$f":"IF($AE468=1,VLOOKUP($F468,all!$E$14:$AD$553,21),\"\")","v":""},{"$f":"IF($AE468=1,VLOOKUP($F468,all!$E$14:$AD$553,22),\"\")","v":""},{"$f":"IF($AE468=1,VLOOKUP($F468,all!$E$14:$AD$553,23),\"\")","v":""},{"$f":"IF($AE468=1,VLOOKUP($F468,all!$E$14:$AD$553,24),\"\")","v":""},{"$f":"IF($AE468=1,VLOOKUP($F468,all!$E$14:$AD$553,25),\"\")","v":""},null,{"$f":"COUNTIF(all!$E$14:$E$553,F468)","v":0}]
[null,null,null,null,null,436,{"$f":"IF($AE469=1,VLOOKUP($F469,all!$E$14:$AD$553,3),\"\")","v":""},{"$f":"IF($AE469=1,VLOOKUP($F469,all!$E$14:$AD$553,4),\"\")","v":""},{"$f":"IF($AE469=1,VLOOKUP($F469,all!$E$14:$AD$553,5),\"\")","v":""},{"$f":"IF($AE469=1,VLOOKUP($F469,all!$E$14:$AD$553,6),\"\")","v":""},{"$f":"IF($AE469=1,VLOOKUP($F469,all!$E$14:$AD$553,7),\"\")","v":""},{"$f":"IF($AE469=1,VLOOKUP($F469,all!$E$14:$AD$553,8),\"\")","v":""},{"$f":"IF($AE469=1,VLOOKUP($F469,all!$E$14:$AD$553,9),\"\")","v":""},{"$f":"IF($AE469=1,VLOOKUP($F469,all!$E$14:$AD$553,10),\"\")","v":""},{"$f":"IF($AE469=1,VLOOKUP($F469,all!$E$14:$AD$553,11),\"\")","v":""},{"$f":"IF($AE469=1,VLOOKUP($F469,all!$E$14:$AD$553,12),\"\")","v":""},{"$f":"IF($AE469=1,VLOOKUP($F469,all!$E$14:$AD$553,13),\"\")","v":""},{"$f":"IF($AE469=1,VLOOKUP($F469,all!$E$14:$AD$553,14),\"\")","v":""},{"$f":"IF($AE469=1,VLOOKUP($F469,all!$E$14:$AD$553,15),\"\")","v":""},{"$f":"IF($AE469=1,VLOOKUP($F469,all!$E$14:$AD$553,16),\"\")","v":""},{"$f":"IF($AE469=1,VLOOKUP($F469,all!$E$14:$AD$553,17),\"\")","v":""},{"$f":"IF($AE469=1,VLOOKUP($F469,all!$E$14:$AD$553,18),\"\")","v":""},{"$f":"IF($AE469=1,VLOOKUP($F469,all!$E$14:$AD$553,19),\"\")","v":""},{"$f":"IF($AE469=1,VLOOKUP($F469,all!$E$14:$AD$553,20),\"\")","v":""},{"$f":"IF($AE469=1,VLOOKUP($F469,all!$E$14:$AD$553,21),\"\")","v":""},{"$f":"IF($AE469=1,VLOOKUP($F469,all!$E$14:$AD$553,22),\"\")","v":""},{"$f":"IF($AE469=1,VLOOKUP($F469,all!$E$14:$AD$553,23),\"\")","v":""},{"$f":"IF($AE469=1,VLOOKUP($F469,all!$E$14:$AD$553,24),\"\")","v":""},{"$f":"IF($AE469=1,VLOOKUP($F469,all!$E$14:$AD$553,25),\"\")","v":""},null,{"$f":"COUNTIF(all!$E$14:$E$553,F469)","v":0}]
[null,null,null,null,null,437,{"$f":"IF($AE470=1,VLOOKUP($F470,all!$E$14:$AD$553,3),\"\")","v":""},{"$f":"IF($AE470=1,VLOOKUP($F470,all!$E$14:$AD$553,4),\"\")","v":""},{"$f":"IF($AE470=1,VLOOKUP($F470,all!$E$14:$AD$553,5),\"\")","v":""},{"$f":"IF($AE470=1,VLOOKUP($F470,all!$E$14:$AD$553,6),\"\")","v":""},{"$f":"IF($AE470=1,VLOOKUP($F470,all!$E$14:$AD$553,7),\"\")","v":""},{"$f":"IF($AE470=1,VLOOKUP($F470,all!$E$14:$AD$553,8),\"\")","v":""},{"$f":"IF($AE470=1,VLOOKUP($F470,all!$E$14:$AD$553,9),\"\")","v":""},{"$f":"IF($AE470=1,VLOOKUP($F470,all!$E$14:$AD$553,10),\"\")","v":""},{"$f":"IF($AE470=1,VLOOKUP($F470,all!$E$14:$AD$553,11),\"\")","v":""},{"$f":"IF($AE470=1,VLOOKUP($F470,all!$E$14:$AD$553,12),\"\")","v":""},{"$f":"IF($AE470=1,VLOOKUP($F470,all!$E$14:$AD$553,13),\"\")","v":""},{"$f":"IF($AE470=1,VLOOKUP($F470,all!$E$14:$AD$553,14),\"\")","v":""},{"$f":"IF($AE470=1,VLOOKUP($F470,all!$E$14:$AD$553,15),\"\")","v":""},{"$f":"IF($AE470=1,VLOOKUP($F470,all!$E$14:$AD$553,16),\"\")","v":""},{"$f":"IF($AE470=1,VLOOKUP($F470,all!$E$14:$AD$553,17),\"\")","v":""},{"$f":"IF($AE470=1,VLOOKUP($F470,all!$E$14:$AD$553,18),\"\")","v":""},{"$f":"IF($AE470=1,VLOOKUP($F470,all!$E$14:$AD$553,19),\"\")","v":""},{"$f":"IF($AE470=1,VLOOKUP($F470,all!$E$14:$AD$553,20),\"\")","v":""},{"$f":"IF($AE470=1,VLOOKUP($F470,all!$E$14:$AD$553,21),\"\")","v":""},{"$f":"IF($AE470=1,VLOOKUP($F470,all!$E$14:$AD$553,22),\"\")","v":""},{"$f":"IF($AE470=1,VLOOKUP($F470,all!$E$14:$AD$553,23),\"\")","v":""},{"$f":"IF($AE470=1,VLOOKUP($F470,all!$E$14:$AD$553,24),\"\")","v":""},{"$f":"IF($AE470=1,VLOOKUP($F470,all!$E$14:$AD$553,25),\"\")","v":""},null,{"$f":"COUNTIF(all!$E$14:$E$553,F470)","v":0}]
[null,null,null,null,null,438,{"$f":"IF($AE471=1,VLOOKUP($F471,all!$E$14:$AD$553,3),\"\")","v":""},{"$f":"IF($AE471=1,VLOOKUP($F471,all!$E$14:$AD$553,4),\"\")","v":""},{"$f":"IF($AE471=1,VLOOKUP($F471,all!$E$14:$AD$553,5),\"\")","v":""},{"$f":"IF($AE471=1,VLOOKUP($F471,all!$E$14:$AD$553,6),\"\")","v":""},{"$f":"IF($AE471=1,VLOOKUP($F471,all!$E$14:$AD$553,7),\"\")","v":""},{"$f":"IF($AE471=1,VLOOKUP($F471,all!$E$14:$AD$553,8),\"\")","v":""},{"$f":"IF($AE471=1,VLOOKUP($F471,all!$E$14:$AD$553,9),\"\")","v":""},{"$f":"IF($AE471=1,VLOOKUP($F471,all!$E$14:$AD$553,10),\"\")","v":""},{"$f":"IF($AE471=1,VLOOKUP($F471,all!$E$14:$AD$553,11),\"\")","v":""},{"$f":"IF($AE471=1,VLOOKUP($F471,all!$E$14:$AD$553,12),\"\")","v":""},{"$f":"IF($AE471=1,VLOOKUP($F471,all!$E$14:$AD$553,13),\"\")","v":""},{"$f":"IF($AE471=1,VLOOKUP($F471,all!$E$14:$AD$553,14),\"\")","v":""},{"$f":"IF($AE471=1,VLOOKUP($F471,all!$E$14:$AD$553,15),\"\")","v":""},{"$f":"IF($AE471=1,VLOOKUP($F471,all!$E$14:$AD$553,16),\"\")","v":""},{"$f":"IF($AE471=1,VLOOKUP($F471,all!$E$14:$AD$553,17),\"\")","v":""},{"$f":"IF($AE471=1,VLOOKUP($F471,all!$E$14:$AD$553,18),\"\")","v":""},{"$f":"IF($AE471=1,VLOOKUP($F471,all!$E$14:$AD$553,19),\"\")","v":""},{"$f":"IF($AE471=1,VLOOKUP($F471,all!$E$14:$AD$553,20),\"\")","v":""},{"$f":"IF($AE471=1,VLOOKUP($F471,all!$E$14:$AD$553,21),\"\")","v":""},{"$f":"IF($AE471=1,VLOOKUP($F471,all!$E$14:$AD$553,22),\"\")","v":""},{"$f":"IF($AE471=1,VLOOKUP($F471,all!$E$14:$AD$553,23),\"\")","v":""},{"$f":"IF($AE471=1,VLOOKUP($F471,all!$E$14:$AD$553,24),\"\")","v":""},{"$f":"IF($AE471=1,VLOOKUP($F471,all!$E$14:$AD$553,25),\"\")","v":""},null,{"$f":"COUNTIF(all!$E$14:$E$553,F471)","v":0}]
[null,null,null,null,null,439,{"$f":"IF($AE472=1,VLOOKUP($F472,all!$E$14:$AD$553,3),\"\")","v":""},{"$f":"IF($AE472=1,VLOOKUP($F472,all!$E$14:$AD$553,4),\"\")","v":""},{"$f":"IF($AE472=1,VLOOKUP($F472,all!$E$14:$AD$553,5),\"\")","v":""},{"$f":"IF($AE472=1,VLOOKUP($F472,all!$E$14:$AD$553,6),\"\")","v":""},{"$f":"IF($AE472=1,VLOOKUP($F472,all!$E$14:$AD$553,7),\"\")","v":""},{"$f":"IF($AE472=1,VLOOKUP($F472,all!$E$14:$AD$553,8),\"\")","v":""},{"$f":"IF($AE472=1,VLOOKUP($F472,all!$E$14:$AD$553,9),\"\")","v":""},{"$f":"IF($AE472=1,VLOOKUP($F472,all!$E$14:$AD$553,10),\"\")","v":""},{"$f":"IF($AE472=1,VLOOKUP($F472,all!$E$14:$AD$553,11),\"\")","v":""},{"$f":"IF($AE472=1,VLOOKUP($F472,all!$E$14:$AD$553,12),\"\")","v":""},{"$f":"IF($AE472=1,VLOOKUP($F472,all!$E$14:$AD$553,13),\"\")","v":""},{"$f":"IF($AE472=1,VLOOKUP($F472,all!$E$14:$AD$553,14),\"\")","v":""},{"$f":"IF($AE472=1,VLOOKUP($F472,all!$E$14:$AD$553,15),\"\")","v":""},{"$f":"IF($AE472=1,VLOOKUP($F472,all!$E$14:$AD$553,16),\"\")","v":""},{"$f":"IF($AE472=1,VLOOKUP($F472,all!$E$14:$AD$553,17),\"\")","v":""},{"$f":"IF($AE472=1,VLOOKUP($F472,all!$E$14:$AD$553,18),\"\")","v":""},{"$f":"IF($AE472=1,VLOOKUP($F472,all!$E$14:$AD$553,19),\"\")","v":""},{"$f":"IF($AE472=1,VLOOKUP($F472,all!$E$14:$AD$553,20),\"\")","v":""},{"$f":"IF($AE472=1,VLOOKUP($F472,all!$E$14:$AD$553,21),\"\")","v":""},{"$f":"IF($AE472=1,VLOOKUP($F472,all!$E$14:$AD$553,22),\"\")","v":""},{"$f":"IF($AE472=1,VLOOKUP($F472,all!$E$14:$AD$553,23),\"\")","v":""},{"$f":"IF($AE472=1,VLOOKUP($F472,all!$E$14:$AD$553,24),\"\")","v":""},{"$f":"IF($AE472=1,VLOOKUP($F472,all!$E$14:$AD$553,25),\"\")","v":""},null,{"$f":"COUNTIF(all!$E$14:$E$553,F472)","v":0}]
[null,null,null,null,null,440,{"$f":"IF($AE473=1,VLOOKUP($F473,all!$E$14:$AD$553,3),\"\")","v":""},{"$f":"IF($AE473=1,VLOOKUP($F473,all!$E$14:$AD$553,4),\"\")","v":""},{"$f":"IF($AE473=1,VLOOKUP($F473,all!$E$14:$AD$553,5),\"\")","v":""},{"$f":"IF($AE473=1,VLOOKUP($F473,all!$E$14:$AD$553,6),\"\")","v":""},{"$f":"IF($AE473=1,VLOOKUP($F473,all!$E$14:$AD$553,7),\"\")","v":""},{"$f":"IF($AE473=1,VLOOKUP($F473,all!$E$14:$AD$553,8),\"\")","v":""},{"$f":"IF($AE473=1,VLOOKUP($F473,all!$E$14:$AD$553,9),\"\")","v":""},{"$f":"IF($AE473=1,VLOOKUP($F473,all!$E$14:$AD$553,10),\"\")","v":""},{"$f":"IF($AE473=1,VLOOKUP($F473,all!$E$14:$AD$553,11),\"\")","v":""},{"$f":"IF($AE473=1,VLOOKUP($F473,all!$E$14:$AD$553,12),\"\")","v":""},{"$f":"IF($AE473=1,VLOOKUP($F473,all!$E$14:$AD$553,13),\"\")","v":""},{"$f":"IF($AE473=1,VLOOKUP($F473,all!$E$14:$AD$553,14),\"\")","v":""},{"$f":"IF($AE473=1,VLOOKUP($F473,all!$E$14:$AD$553,15),\"\")","v":""},{"$f":"IF($AE473=1,VLOOKUP($F473,all!$E$14:$AD$553,16),\"\")","v":""},{"$f":"IF($AE473=1,VLOOKUP($F473,all!$E$14:$AD$553,17),\"\")","v":""},{"$f":"IF($AE473=1,VLOOKUP($F473,all!$E$14:$AD$553,18),\"\")","v":""},{"$f":"IF($AE473=1,VLOOKUP($F473,all!$E$14:$AD$553,19),\"\")","v":""},{"$f":"IF($AE473=1,VLOOKUP($F473,all!$E$14:$AD$553,20),\"\")","v":""},{"$f":"IF($AE473=1,VLOOKUP($F473,all!$E$14:$AD$553,21),\"\")","v":""},{"$f":"IF($AE473=1,VLOOKUP($F473,all!$E$14:$AD$553,22),\"\")","v":""},{"$f":"IF($AE473=1,VLOOKUP($F473,all!$E$14:$AD$553,23),\"\")","v":""},{"$f":"IF($AE473=1,VLOOKUP($F473,all!$E$14:$AD$553,24),\"\")","v":""},{"$f":"IF($AE473=1,VLOOKUP($F473,all!$E$14:$AD$553,25),\"\")","v":""},null,{"$f":"COUNTIF(all!$E$14:$E$553,F473)","v":0}]
[null,null,null,null,null,441,{"$f":"IF($AE474=1,VLOOKUP($F474,all!$E$14:$AD$553,3),\"\")","v":""},{"$f":"IF($AE474=1,VLOOKUP($F474,all!$E$14:$AD$553,4),\"\")","v":""},{"$f":"IF($AE474=1,VLOOKUP($F474,all!$E$14:$AD$553,5),\"\")","v":""},{"$f":"IF($AE474=1,VLOOKUP($F474,all!$E$14:$AD$553,6),\"\")","v":""},{"$f":"IF($AE474=1,VLOOKUP($F474,all!$E$14:$AD$553,7),\"\")","v":""},{"$f":"IF($AE474=1,VLOOKUP($F474,all!$E$14:$AD$553,8),\"\")","v":""},{"$f":"IF($AE474=1,VLOOKUP($F474,all!$E$14:$AD$553,9),\"\")","v":""},{"$f":"IF($AE474=1,VLOOKUP($F474,all!$E$14:$AD$553,10),\"\")","v":""},{"$f":"IF($AE474=1,VLOOKUP($F474,all!$E$14:$AD$553,11),\"\")","v":""},{"$f":"IF($AE474=1,VLOOKUP($F474,all!$E$14:$AD$553,12),\"\")","v":""},{"$f":"IF($AE474=1,VLOOKUP($F474,all!$E$14:$AD$553,13),\"\")","v":""},{"$f":"IF($AE474=1,VLOOKUP($F474,all!$E$14:$AD$553,14),\"\")","v":""},{"$f":"IF($AE474=1,VLOOKUP($F474,all!$E$14:$AD$553,15),\"\")","v":""},{"$f":"IF($AE474=1,VLOOKUP($F474,all!$E$14:$AD$553,16),\"\")","v":""},{"$f":"IF($AE474=1,VLOOKUP($F474,all!$E$14:$AD$553,17),\"\")","v":""},{"$f":"IF($AE474=1,VLOOKUP($F474,all!$E$14:$AD$553,18),\"\")","v":""},{"$f":"IF($AE474=1,VLOOKUP($F474,all!$E$14:$AD$553,19),\"\")","v":""},{"$f":"IF($AE474=1,VLOOKUP($F474,all!$E$14:$AD$553,20),\"\")","v":""},{"$f":"IF($AE474=1,VLOOKUP($F474,all!$E$14:$AD$553,21),\"\")","v":""},{"$f":"IF($AE474=1,VLOOKUP($F474,all!$E$14:$AD$553,22),\"\")","v":""},{"$f":"IF($AE474=1,VLOOKUP($F474,all!$E$14:$AD$553,23),\"\")","v":""},{"$f":"IF($AE474=1,VLOOKUP($F474,all!$E$14:$AD$553,24),\"\")","v":""},{"$f":"IF($AE474=1,VLOOKUP($F474,all!$E$14:$AD$553,25),\"\")","v":""},null,{"$f":"COUNTIF(all!$E$14:$E$553,F474)","v":0}]
[null,null,null,null,null,442,{"$f":"IF($AE475=1,VLOOKUP($F475,all!$E$14:$AD$553,3),\"\")","v":""},{"$f":"IF($AE475=1,VLOOKUP($F475,all!$E$14:$AD$553,4),\"\")","v":""},{"$f":"IF($AE475=1,VLOOKUP($F475,all!$E$14:$AD$553,5),\"\")","v":""},{"$f":"IF($AE475=1,VLOOKUP($F475,all!$E$14:$AD$553,6),\"\")","v":""},{"$f":"IF($AE475=1,VLOOKUP($F475,all!$E$14:$AD$553,7),\"\")","v":""},{"$f":"IF($AE475=1,VLOOKUP($F475,all!$E$14:$AD$553,8),\"\")","v":""},{"$f":"IF($AE475=1,VLOOKUP($F475,all!$E$14:$AD$553,9),\"\")","v":""},{"$f":"IF($AE475=1,VLOOKUP($F475,all!$E$14:$AD$553,10),\"\")","v":""},{"$f":"IF($AE475=1,VLOOKUP($F475,all!$E$14:$AD$553,11),\"\")","v":""},{"$f":"IF($AE475=1,VLOOKUP($F475,all!$E$14:$AD$553,12),\"\")","v":""},{"$f":"IF($AE475=1,VLOOKUP($F475,all!$E$14:$AD$553,13),\"\")","v":""},{"$f":"IF($AE475=1,VLOOKUP($F475,all!$E$14:$AD$553,14),\"\")","v":""},{"$f":"IF($AE475=1,VLOOKUP($F475,all!$E$14:$AD$553,15),\"\")","v":""},{"$f":"IF($AE475=1,VLOOKUP($F475,all!$E$14:$AD$553,16),\"\")","v":""},{"$f":"IF($AE475=1,VLOOKUP($F475,all!$E$14:$AD$553,17),\"\")","v":""},{"$f":"IF($AE475=1,VLOOKUP($F475,all!$E$14:$AD$553,18),\"\")","v":""},{"$f":"IF($AE475=1,VLOOKUP($F475,all!$E$14:$AD$553,19),\"\")","v":""},{"$f":"IF($AE475=1,VLOOKUP($F475,all!$E$14:$AD$553,20),\"\")","v":""},{"$f":"IF($AE475=1,VLOOKUP($F475,all!$E$14:$AD$553,21),\"\")","v":""},{"$f":"IF($AE475=1,VLOOKUP($F475,all!$E$14:$AD$553,22),\"\")","v":""},{"$f":"IF($AE475=1,VLOOKUP($F475,all!$E$14:$AD$553,23),\"\")","v":""},{"$f":"IF($AE475=1,VLOOKUP($F475,all!$E$14:$AD$553,24),\"\")","v":""},{"$f":"IF($AE475=1,VLOOKUP($F475,all!$E$14:$AD$553,25),\"\")","v":""},null,{"$f":"COUNTIF(all!$E$14:$E$553,F475)","v":0}]
[null,null,null,null,null,443,{"$f":"IF($AE476=1,VLOOKUP($F476,all!$E$14:$AD$553,3),\"\")","v":""},{"$f":"IF($AE476=1,VLOOKUP($F476,all!$E$14:$AD$553,4),\"\")","v":""},{"$f":"IF($AE476=1,VLOOKUP($F476,all!$E$14:$AD$553,5),\"\")","v":""},{"$f":"IF($AE476=1,VLOOKUP($F476,all!$E$14:$AD$553,6),\"\")","v":""},{"$f":"IF($AE476=1,VLOOKUP($F476,all!$E$14:$AD$553,7),\"\")","v":""},{"$f":"IF($AE476=1,VLOOKUP($F476,all!$E$14:$AD$553,8),\"\")","v":""},{"$f":"IF($AE476=1,VLOOKUP($F476,all!$E$14:$AD$553,9),\"\")","v":""},{"$f":"IF($AE476=1,VLOOKUP($F476,all!$E$14:$AD$553,10),\"\")","v":""},{"$f":"IF($AE476=1,VLOOKUP($F476,all!$E$14:$AD$553,11),\"\")","v":""},{"$f":"IF($AE476=1,VLOOKUP($F476,all!$E$14:$AD$553,12),\"\")","v":""},{"$f":"IF($AE476=1,VLOOKUP($F476,all!$E$14:$AD$553,13),\"\")","v":""},{"$f":"IF($AE476=1,VLOOKUP($F476,all!$E$14:$AD$553,14),\"\")","v":""},{"$f":"IF($AE476=1,VLOOKUP($F476,all!$E$14:$AD$553,15),\"\")","v":""},{"$f":"IF($AE476=1,VLOOKUP($F476,all!$E$14:$AD$553,16),\"\")","v":""},{"$f":"IF($AE476=1,VLOOKUP($F476,all!$E$14:$AD$553,17),\"\")","v":""},{"$f":"IF($AE476=1,VLOOKUP($F476,all!$E$14:$AD$553,18),\"\")","v":""},{"$f":"IF($AE476=1,VLOOKUP($F476,all!$E$14:$AD$553,19),\"\")","v":""},{"$f":"IF($AE476=1,VLOOKUP($F476,all!$E$14:$AD$553,20),\"\")","v":""},{"$f":"IF($AE476=1,VLOOKUP($F476,all!$E$14:$AD$553,21),\"\")","v":""},{"$f":"IF($AE476=1,VLOOKUP($F476,all!$E$14:$AD$553,22),\"\")","v":""},{"$f":"IF($AE476=1,VLOOKUP($F476,all!$E$14:$AD$553,23),\"\")","v":""},{"$f":"IF($AE476=1,VLOOKUP($F476,all!$E$14:$AD$553,24),\"\")","v":""},{"$f":"IF($AE476=1,VLOOKUP($F476,all!$E$14:$AD$553,25),\"\")","v":""},null,{"$f":"COUNTIF(all!$E$14:$E$553,F476)","v":0}]
[null,null,null,null,null,444,{"$f":"IF($AE477=1,VLOOKUP($F477,all!$E$14:$AD$553,3),\"\")","v":""},{"$f":"IF($AE477=1,VLOOKUP($F477,all!$E$14:$AD$553,4),\"\")","v":""},{"$f":"IF($AE477=1,VLOOKUP($F477,all!$E$14:$AD$553,5),\"\")","v":""},{"$f":"IF($AE477=1,VLOOKUP($F477,all!$E$14:$AD$553,6),\"\")","v":""},{"$f":"IF($AE477=1,VLOOKUP($F477,all!$E$14:$AD$553,7),\"\")","v":""},{"$f":"IF($AE477=1,VLOOKUP($F477,all!$E$14:$AD$553,8),\"\")","v":""},{"$f":"IF($AE477=1,VLOOKUP($F477,all!$E$14:$AD$553,9),\"\")","v":""},{"$f":"IF($AE477=1,VLOOKUP($F477,all!$E$14:$AD$553,10),\"\")","v":""},{"$f":"IF($AE477=1,VLOOKUP($F477,all!$E$14:$AD$553,11),\"\")","v":""},{"$f":"IF($AE477=1,VLOOKUP($F477,all!$E$14:$AD$553,12),\"\")","v":""},{"$f":"IF($AE477=1,VLOOKUP($F477,all!$E$14:$AD$553,13),\"\")","v":""},{"$f":"IF($AE477=1,VLOOKUP($F477,all!$E$14:$AD$553,14),\"\")","v":""},{"$f":"IF($AE477=1,VLOOKUP($F477,all!$E$14:$AD$553,15),\"\")","v":""},{"$f":"IF($AE477=1,VLOOKUP($F477,all!$E$14:$AD$553,16),\"\")","v":""},{"$f":"IF($AE477=1,VLOOKUP($F477,all!$E$14:$AD$553,17),\"\")","v":""},{"$f":"IF($AE477=1,VLOOKUP($F477,all!$E$14:$AD$553,18),\"\")","v":""},{"$f":"IF($AE477=1,VLOOKUP($F477,all!$E$14:$AD$553,19),\"\")","v":""},{"$f":"IF($AE477=1,VLOOKUP($F477,all!$E$14:$AD$553,20),\"\")","v":""},{"$f":"IF($AE477=1,VLOOKUP($F477,all!$E$14:$AD$553,21),\"\")","v":""},{"$f":"IF($AE477=1,VLOOKUP($F477,all!$E$14:$AD$553,22),\"\")","v":""},{"$f":"IF($AE477=1,VLOOKUP($F477,all!$E$14:$AD$553,23),\"\")","v":""},{"$f":"IF($AE477=1,VLOOKUP($F477,all!$E$14:$AD$553,24),\"\")","v":""},{"$f":"IF($AE477=1,VLOOKUP($F477,all!$E$14:$AD$553,25),\"\")","v":""},null,{"$f":"COUNTIF(all!$E$14:$E$553,F477)","v":0}]
[null,null,null,null,null,445,{"$f":"IF($AE478=1,VLOOKUP($F478,all!$E$14:$AD$553,3),\"\")","v":""},{"$f":"IF($AE478=1,VLOOKUP($F478,all!$E$14:$AD$553,4),\"\")","v":""},{"$f":"IF($AE478=1,VLOOKUP($F478,all!$E$14:$AD$553,5),\"\")","v":""},{"$f":"IF($AE478=1,VLOOKUP($F478,all!$E$14:$AD$553,6),\"\")","v":""},{"$f":"IF($AE478=1,VLOOKUP($F478,all!$E$14:$AD$553,7),\"\")","v":""},{"$f":"IF($AE478=1,VLOOKUP($F478,all!$E$14:$AD$553,8),\"\")","v":""},{"$f":"IF($AE478=1,VLOOKUP($F478,all!$E$14:$AD$553,9),\"\")","v":""},{"$f":"IF($AE478=1,VLOOKUP($F478,all!$E$14:$AD$553,10),\"\")","v":""},{"$f":"IF($AE478=1,VLOOKUP($F478,all!$E$14:$AD$553,11),\"\")","v":""},{"$f":"IF($AE478=1,VLOOKUP($F478,all!$E$14:$AD$553,12),\"\")","v":""},{"$f":"IF($AE478=1,VLOOKUP($F478,all!$E$14:$AD$553,13),\"\")","v":""},{"$f":"IF($AE478=1,VLOOKUP($F478,all!$E$14:$AD$553,14),\"\")","v":""},{"$f":"IF($AE478=1,VLOOKUP($F478,all!$E$14:$AD$553,15),\"\")","v":""},{"$f":"IF($AE478=1,VLOOKUP($F478,all!$E$14:$AD$553,16),\"\")","v":""},{"$f":"IF($AE478=1,VLOOKUP($F478,all!$E$14:$AD$553,17),\"\")","v":""},{"$f":"IF($AE478=1,VLOOKUP($F478,all!$E$14:$AD$553,18),\"\")","v":""},{"$f":"IF($AE478=1,VLOOKUP($F478,all!$E$14:$AD$553,19),\"\")","v":""},{"$f":"IF($AE478=1,VLOOKUP($F478,all!$E$14:$AD$553,20),\"\")","v":""},{"$f":"IF($AE478=1,VLOOKUP($F478,all!$E$14:$AD$553,21),\"\")","v":""},{"$f":"IF($AE478=1,VLOOKUP($F478,all!$E$14:$AD$553,22),\"\")","v":""},{"$f":"IF($AE478=1,VLOOKUP($F478,all!$E$14:$AD$553,23),\"\")","v":""},{"$f":"IF($AE478=1,VLOOKUP($F478,all!$E$14:$AD$553,24),\"\")","v":""},{"$f":"IF($AE478=1,VLOOKUP($F478,all!$E$14:$AD$553,25),\"\")","v":""},null,{"$f":"COUNTIF(all!$E$14:$E$553,F478)","v":0}]
[null,null,null,null,null,446,{"$f":"IF($AE479=1,VLOOKUP($F479,all!$E$14:$AD$553,3),\"\")","v":""},{"$f":"IF($AE479=1,VLOOKUP($F479,all!$E$14:$AD$553,4),\"\")","v":""},{"$f":"IF($AE479=1,VLOOKUP($F479,all!$E$14:$AD$553,5),\"\")","v":""},{"$f":"IF($AE479=1,VLOOKUP($F479,all!$E$14:$AD$553,6),\"\")","v":""},{"$f":"IF($AE479=1,VLOOKUP($F479,all!$E$14:$AD$553,7),\"\")","v":""},{"$f":"IF($AE479=1,VLOOKUP($F479,all!$E$14:$AD$553,8),\"\")","v":""},{"$f":"IF($AE479=1,VLOOKUP($F479,all!$E$14:$AD$553,9),\"\")","v":""},{"$f":"IF($AE479=1,VLOOKUP($F479,all!$E$14:$AD$553,10),\"\")","v":""},{"$f":"IF($AE479=1,VLOOKUP($F479,all!$E$14:$AD$553,11),\"\")","v":""},{"$f":"IF($AE479=1,VLOOKUP($F479,all!$E$14:$AD$553,12),\"\")","v":""},{"$f":"IF($AE479=1,VLOOKUP($F479,all!$E$14:$AD$553,13),\"\")","v":""},{"$f":"IF($AE479=1,VLOOKUP($F479,all!$E$14:$AD$553,14),\"\")","v":""},{"$f":"IF($AE479=1,VLOOKUP($F479,all!$E$14:$AD$553,15),\"\")","v":""},{"$f":"IF($AE479=1,VLOOKUP($F479,all!$E$14:$AD$553,16),\"\")","v":""},{"$f":"IF($AE479=1,VLOOKUP($F479,all!$E$14:$AD$553,17),\"\")","v":""},{"$f":"IF($AE479=1,VLOOKUP($F479,all!$E$14:$AD$553,18),\"\")","v":""},{"$f":"IF($AE479=1,VLOOKUP($F479,all!$E$14:$AD$553,19),\"\")","v":""},{"$f":"IF($AE479=1,VLOOKUP($F479,all!$E$14:$AD$553,20),\"\")","v":""},{"$f":"IF($AE479=1,VLOOKUP($F479,all!$E$14:$AD$553,21),\"\")","v":""},{"$f":"IF($AE479=1,VLOOKUP($F479,all!$E$14:$AD$553,22),\"\")","v":""},{"$f":"IF($AE479=1,VLOOKUP($F479,all!$E$14:$AD$553,23),\"\")","v":""},{"$f":"IF($AE479=1,VLOOKUP($F479,all!$E$14:$AD$553,24),\"\")","v":""},{"$f":"IF($AE479=1,VLOOKUP($F479,all!$E$14:$AD$553,25),\"\")","v":""},null,{"$f":"COUNTIF(all!$E$14:$E$553,F479)","v":0}]
[null,null,null,null,null,447,{"$f":"IF($AE480=1,VLOOKUP($F480,all!$E$14:$AD$553,3),\"\")","v":""},{"$f":"IF($AE480=1,VLOOKUP($F480,all!$E$14:$AD$553,4),\"\")","v":""},{"$f":"IF($AE480=1,VLOOKUP($F480,all!$E$14:$AD$553,5),\"\")","v":""},{"$f":"IF($AE480=1,VLOOKUP($F480,all!$E$14:$AD$553,6),\"\")","v":""},{"$f":"IF($AE480=1,VLOOKUP($F480,all!$E$14:$AD$553,7),\"\")","v":""},{"$f":"IF($AE480=1,VLOOKUP($F480,all!$E$14:$AD$553,8),\"\")","v":""},{"$f":"IF($AE480=1,VLOOKUP($F480,all!$E$14:$AD$553,9),\"\")","v":""},{"$f":"IF($AE480=1,VLOOKUP($F480,all!$E$14:$AD$553,10),\"\")","v":""},{"$f":"IF($AE480=1,VLOOKUP($F480,all!$E$14:$AD$553,11),\"\")","v":""},{"$f":"IF($AE480=1,VLOOKUP($F480,all!$E$14:$AD$553,12),\"\")","v":""},{"$f":"IF($AE480=1,VLOOKUP($F480,all!$E$14:$AD$553,13),\"\")","v":""},{"$f":"IF($AE480=1,VLOOKUP($F480,all!$E$14:$AD$553,14),\"\")","v":""},{"$f":"IF($AE480=1,VLOOKUP($F480,all!$E$14:$AD$553,15),\"\")","v":""},{"$f":"IF($AE480=1,VLOOKUP($F480,all!$E$14:$AD$553,16),\"\")","v":""},{"$f":"IF($AE480=1,VLOOKUP($F480,all!$E$14:$AD$553,17),\"\")","v":""},{"$f":"IF($AE480=1,VLOOKUP($F480,all!$E$14:$AD$553,18),\"\")","v":""},{"$f":"IF($AE480=1,VLOOKUP($F480,all!$E$14:$AD$553,19),\"\")","v":""},{"$f":"IF($AE480=1,VLOOKUP($F480,all!$E$14:$AD$553,20),\"\")","v":""},{"$f":"IF($AE480=1,VLOOKUP($F480,all!$E$14:$AD$553,21),\"\")","v":""},{"$f":"IF($AE480=1,VLOOKUP($F480,all!$E$14:$AD$553,22),\"\")","v":""},{"$f":"IF($AE480=1,VLOOKUP($F480,all!$E$14:$AD$553,23),\"\")","v":""},{"$f":"IF($AE480=1,VLOOKUP($F480,all!$E$14:$AD$553,24),\"\")","v":""},{"$f":"IF($AE480=1,VLOOKUP($F480,all!$E$14:$AD$553,25),\"\")","v":""},null,{"$f":"COUNTIF(all!$E$14:$E$553,F480)","v":0}]
[null,null,null,null,null,448,{"$f":"IF($AE481=1,VLOOKUP($F481,all!$E$14:$AD$553,3),\"\")","v":""},{"$f":"IF($AE481=1,VLOOKUP($F481,all!$E$14:$AD$553,4),\"\")","v":""},{"$f":"IF($AE481=1,VLOOKUP($F481,all!$E$14:$AD$553,5),\"\")","v":""},{"$f":"IF($AE481=1,VLOOKUP($F481,all!$E$14:$AD$553,6),\"\")","v":""},{"$f":"IF($AE481=1,VLOOKUP($F481,all!$E$14:$AD$553,7),\"\")","v":""},{"$f":"IF($AE481=1,VLOOKUP($F481,all!$E$14:$AD$553,8),\"\")","v":""},{"$f":"IF($AE481=1,VLOOKUP($F481,all!$E$14:$AD$553,9),\"\")","v":""},{"$f":"IF($AE481=1,VLOOKUP($F481,all!$E$14:$AD$553,10),\"\")","v":""},{"$f":"IF($AE481=1,VLOOKUP($F481,all!$E$14:$AD$553,11),\"\")","v":""},{"$f":"IF($AE481=1,VLOOKUP($F481,all!$E$14:$AD$553,12),\"\")","v":""},{"$f":"IF($AE481=1,VLOOKUP($F481,all!$E$14:$AD$553,13),\"\")","v":""},{"$f":"IF($AE481=1,VLOOKUP($F481,all!$E$14:$AD$553,14),\"\")","v":""},{"$f":"IF($AE481=1,VLOOKUP($F481,all!$E$14:$AD$553,15),\"\")","v":""},{"$f":"IF($AE481=1,VLOOKUP($F481,all!$E$14:$AD$553,16),\"\")","v":""},{"$f":"IF($AE481=1,VLOOKUP($F481,all!$E$14:$AD$553,17),\"\")","v":""},{"$f":"IF($AE481=1,VLOOKUP($F481,all!$E$14:$AD$553,18),\"\")","v":""},{"$f":"IF($AE481=1,VLOOKUP($F481,all!$E$14:$AD$553,19),\"\")","v":""},{"$f":"IF($AE481=1,VLOOKUP($F481,all!$E$14:$AD$553,20),\"\")","v":""},{"$f":"IF($AE481=1,VLOOKUP($F481,all!$E$14:$AD$553,21),\"\")","v":""},{"$f":"IF($AE481=1,VLOOKUP($F481,all!$E$14:$AD$553,22),\"\")","v":""},{"$f":"IF($AE481=1,VLOOKUP($F481,all!$E$14:$AD$553,23),\"\")","v":""},{"$f":"IF($AE481=1,VLOOKUP($F481,all!$E$14:$AD$553,24),\"\")","v":""},{"$f":"IF($AE481=1,VLOOKUP($F481,all!$E$14:$AD$553,25),\"\")","v":""},null,{"$f":"COUNTIF(all!$E$14:$E$553,F481)","v":0}]
[null,null,null,null,null,449,{"$f":"IF($AE482=1,VLOOKUP($F482,all!$E$14:$AD$553,3),\"\")","v":""},{"$f":"IF($AE482=1,VLOOKUP($F482,all!$E$14:$AD$553,4),\"\")","v":""},{"$f":"IF($AE482=1,VLOOKUP($F482,all!$E$14:$AD$553,5),\"\")","v":""},{"$f":"IF($AE482=1,VLOOKUP($F482,all!$E$14:$AD$553,6),\"\")","v":""},{"$f":"IF($AE482=1,VLOOKUP($F482,all!$E$14:$AD$553,7),\"\")","v":""},{"$f":"IF($AE482=1,VLOOKUP($F482,all!$E$14:$AD$553,8),\"\")","v":""},{"$f":"IF($AE482=1,VLOOKUP($F482,all!$E$14:$AD$553,9),\"\")","v":""},{"$f":"IF($AE482=1,VLOOKUP($F482,all!$E$14:$AD$553,10),\"\")","v":""},{"$f":"IF($AE482=1,VLOOKUP($F482,all!$E$14:$AD$553,11),\"\")","v":""},{"$f":"IF($AE482=1,VLOOKUP($F482,all!$E$14:$AD$553,12),\"\")","v":""},{"$f":"IF($AE482=1,VLOOKUP($F482,all!$E$14:$AD$553,13),\"\")","v":""},{"$f":"IF($AE482=1,VLOOKUP($F482,all!$E$14:$AD$553,14),\"\")","v":""},{"$f":"IF($AE482=1,VLOOKUP($F482,all!$E$14:$AD$553,15),\"\")","v":""},{"$f":"IF($AE482=1,VLOOKUP($F482,all!$E$14:$AD$553,16),\"\")","v":""},{"$f":"IF($AE482=1,VLOOKUP($F482,all!$E$14:$AD$553,17),\"\")","v":""},{"$f":"IF($AE482=1,VLOOKUP($F482,all!$E$14:$AD$553,18),\"\")","v":""},{"$f":"IF($AE482=1,VLOOKUP($F482,all!$E$14:$AD$553,19),\"\")","v":""},{"$f":"IF($AE482=1,VLOOKUP($F482,all!$E$14:$AD$553,20),\"\")","v":""},{"$f":"IF($AE482=1,VLOOKUP($F482,all!$E$14:$AD$553,21),\"\")","v":""},{"$f":"IF($AE482=1,VLOOKUP($F482,all!$E$14:$AD$553,22),\"\")","v":""},{"$f":"IF($AE482=1,VLOOKUP($F482,all!$E$14:$AD$553,23),\"\")","v":""},{"$f":"IF($AE482=1,VLOOKUP($F482,all!$E$14:$AD$553,24),\"\")","v":""},{"$f":"IF($AE482=1,VLOOKUP($F482,all!$E$14:$AD$553,25),\"\")","v":""},null,{"$f":"COUNTIF(all!$E$14:$E$553,F482)","v":0}]
[null,null,null,null,null,450,{"$f":"IF($AE483=1,VLOOKUP($F483,all!$E$14:$AD$553,3),\"\")","v":""},{"$f":"IF($AE483=1,VLOOKUP($F483,all!$E$14:$AD$553,4),\"\")","v":""},{"$f":"IF($AE483=1,VLOOKUP($F483,all!$E$14:$AD$553,5),\"\")","v":""},{"$f":"IF($AE483=1,VLOOKUP($F483,all!$E$14:$AD$553,6),\"\")","v":""},{"$f":"IF($AE483=1,VLOOKUP($F483,all!$E$14:$AD$553,7),\"\")","v":""},{"$f":"IF($AE483=1,VLOOKUP($F483,all!$E$14:$AD$553,8),\"\")","v":""},{"$f":"IF($AE483=1,VLOOKUP($F483,all!$E$14:$AD$553,9),\"\")","v":""},{"$f":"IF($AE483=1,VLOOKUP($F483,all!$E$14:$AD$553,10),\"\")","v":""},{"$f":"IF($AE483=1,VLOOKUP($F483,all!$E$14:$AD$553,11),\"\")","v":""},{"$f":"IF($AE483=1,VLOOKUP($F483,all!$E$14:$AD$553,12),\"\")","v":""},{"$f":"IF($AE483=1,VLOOKUP($F483,all!$E$14:$AD$553,13),\"\")","v":""},{"$f":"IF($AE483=1,VLOOKUP($F483,all!$E$14:$AD$553,14),\"\")","v":""},{"$f":"IF($AE483=1,VLOOKUP($F483,all!$E$14:$AD$553,15),\"\")","v":""},{"$f":"IF($AE483=1,VLOOKUP($F483,all!$E$14:$AD$553,16),\"\")","v":""},{"$f":"IF($AE483=1,VLOOKUP($F483,all!$E$14:$AD$553,17),\"\")","v":""},{"$f":"IF($AE483=1,VLOOKUP($F483,all!$E$14:$AD$553,18),\"\")","v":""},{"$f":"IF($AE483=1,VLOOKUP($F483,all!$E$14:$AD$553,19),\"\")","v":""},{"$f":"IF($AE483=1,VLOOKUP($F483,all!$E$14:$AD$553,20),\"\")","v":""},{"$f":"IF($AE483=1,VLOOKUP($F483,all!$E$14:$AD$553,21),\"\")","v":""},{"$f":"IF($AE483=1,VLOOKUP($F483,all!$E$14:$AD$553,22),\"\")","v":""},{"$f":"IF($AE483=1,VLOOKUP($F483,all!$E$14:$AD$553,23),\"\")","v":""},{"$f":"IF($AE483=1,VLOOKUP($F483,all!$E$14:$AD$553,24),\"\")","v":""},{"$f":"IF($AE483=1,VLOOKUP($F483,all!$E$14:$AD$553,25),\"\")","v":""},null,{"$f":"COUNTIF(all!$E$14:$E$553,F483)","v":0}]
[null,null,null,null,null,451,{"$f":"IF($AE484=1,VLOOKUP($F484,all!$E$14:$AD$553,3),\"\")","v":""},{"$f":"IF($AE484=1,VLOOKUP($F484,all!$E$14:$AD$553,4),\"\")","v":""},{"$f":"IF($AE484=1,VLOOKUP($F484,all!$E$14:$AD$553,5),\"\")","v":""},{"$f":"IF($AE484=1,VLOOKUP($F484,all!$E$14:$AD$553,6),\"\")","v":""},{"$f":"IF($AE484=1,VLOOKUP($F484,all!$E$14:$AD$553,7),\"\")","v":""},{"$f":"IF($AE484=1,VLOOKUP($F484,all!$E$14:$AD$553,8),\"\")","v":""},{"$f":"IF($AE484=1,VLOOKUP($F484,all!$E$14:$AD$553,9),\"\")","v":""},{"$f":"IF($AE484=1,VLOOKUP($F484,all!$E$14:$AD$553,10),\"\")","v":""},{"$f":"IF($AE484=1,VLOOKUP($F484,all!$E$14:$AD$553,11),\"\")","v":""},{"$f":"IF($AE484=1,VLOOKUP($F484,all!$E$14:$AD$553,12),\"\")","v":""},{"$f":"IF($AE484=1,VLOOKUP($F484,all!$E$14:$AD$553,13),\"\")","v":""},{"$f":"IF($AE484=1,VLOOKUP($F484,all!$E$14:$AD$553,14),\"\")","v":""},{"$f":"IF($AE484=1,VLOOKUP($F484,all!$E$14:$AD$553,15),\"\")","v":""},{"$f":"IF($AE484=1,VLOOKUP($F484,all!$E$14:$AD$553,16),\"\")","v":""},{"$f":"IF($AE484=1,VLOOKUP($F484,all!$E$14:$AD$553,17),\"\")","v":""},{"$f":"IF($AE484=1,VLOOKUP($F484,all!$E$14:$AD$553,18),\"\")","v":""},{"$f":"IF($AE484=1,VLOOKUP($F484,all!$E$14:$AD$553,19),\"\")","v":""},{"$f":"IF($AE484=1,VLOOKUP($F484,all!$E$14:$AD$553,20),\"\")","v":""},{"$f":"IF($AE484=1,VLOOKUP($F484,all!$E$14:$AD$553,21),\"\")","v":""},{"$f":"IF($AE484=1,VLOOKUP($F484,all!$E$14:$AD$553,22),\"\")","v":""},{"$f":"IF($AE484=1,VLOOKUP($F484,all!$E$14:$AD$553,23),\"\")","v":""},{"$f":"IF($AE484=1,VLOOKUP($F484,all!$E$14:$AD$553,24),\"\")","v":""},{"$f":"IF($AE484=1,VLOOKUP($F484,all!$E$14:$AD$553,25),\"\")","v":""},null,{"$f":"COUNTIF(all!$E$14:$E$553,F484)","v":0}]
[null,null,null,null,null,452,{"$f":"IF($AE485=1,VLOOKUP($F485,all!$E$14:$AD$553,3),\"\")","v":""},{"$f":"IF($AE485=1,VLOOKUP($F485,all!$E$14:$AD$553,4),\"\")","v":""},{"$f":"IF($AE485=1,VLOOKUP($F485,all!$E$14:$AD$553,5),\"\")","v":""},{"$f":"IF($AE485=1,VLOOKUP($F485,all!$E$14:$AD$553,6),\"\")","v":""},{"$f":"IF($AE485=1,VLOOKUP($F485,all!$E$14:$AD$553,7),\"\")","v":""},{"$f":"IF($AE485=1,VLOOKUP($F485,all!$E$14:$AD$553,8),\"\")","v":""},{"$f":"IF($AE485=1,VLOOKUP($F485,all!$E$14:$AD$553,9),\"\")","v":""},{"$f":"IF($AE485=1,VLOOKUP($F485,all!$E$14:$AD$553,10),\"\")","v":""},{"$f":"IF($AE485=1,VLOOKUP($F485,all!$E$14:$AD$553,11),\"\")","v":""},{"$f":"IF($AE485=1,VLOOKUP($F485,all!$E$14:$AD$553,12),\"\")","v":""},{"$f":"IF($AE485=1,VLOOKUP($F485,all!$E$14:$AD$553,13),\"\")","v":""},{"$f":"IF($AE485=1,VLOOKUP($F485,all!$E$14:$AD$553,14),\"\")","v":""},{"$f":"IF($AE485=1,VLOOKUP($F485,all!$E$14:$AD$553,15),\"\")","v":""},{"$f":"IF($AE485=1,VLOOKUP($F485,all!$E$14:$AD$553,16),\"\")","v":""},{"$f":"IF($AE485=1,VLOOKUP($F485,all!$E$14:$AD$553,17),\"\")","v":""},{"$f":"IF($AE485=1,VLOOKUP($F485,all!$E$14:$AD$553,18),\"\")","v":""},{"$f":"IF($AE485=1,VLOOKUP($F485,all!$E$14:$AD$553,19),\"\")","v":""},{"$f":"IF($AE485=1,VLOOKUP($F485,all!$E$14:$AD$553,20),\"\")","v":""},{"$f":"IF($AE485=1,VLOOKUP($F485,all!$E$14:$AD$553,21),\"\")","v":""},{"$f":"IF($AE485=1,VLOOKUP($F485,all!$E$14:$AD$553,22),\"\")","v":""},{"$f":"IF($AE485=1,VLOOKUP($F485,all!$E$14:$AD$553,23),\"\")","v":""},{"$f":"IF($AE485=1,VLOOKUP($F485,all!$E$14:$AD$553,24),\"\")","v":""},{"$f":"IF($AE485=1,VLOOKUP($F485,all!$E$14:$AD$553,25),\"\")","v":""},null,{"$f":"COUNTIF(all!$E$14:$E$553,F485)","v":0}]
[null,null,null,null,null,453,{"$f":"IF($AE486=1,VLOOKUP($F486,all!$E$14:$AD$553,3),\"\")","v":""},{"$f":"IF($AE486=1,VLOOKUP($F486,all!$E$14:$AD$553,4),\"\")","v":""},{"$f":"IF($AE486=1,VLOOKUP($F486,all!$E$14:$AD$553,5),\"\")","v":""},{"$f":"IF($AE486=1,VLOOKUP($F486,all!$E$14:$AD$553,6),\"\")","v":""},{"$f":"IF($AE486=1,VLOOKUP($F486,all!$E$14:$AD$553,7),\"\")","v":""},{"$f":"IF($AE486=1,VLOOKUP($F486,all!$E$14:$AD$553,8),\"\")","v":""},{"$f":"IF($AE486=1,VLOOKUP($F486,all!$E$14:$AD$553,9),\"\")","v":""},{"$f":"IF($AE486=1,VLOOKUP($F486,all!$E$14:$AD$553,10),\"\")","v":""},{"$f":"IF($AE486=1,VLOOKUP($F486,all!$E$14:$AD$553,11),\"\")","v":""},{"$f":"IF($AE486=1,VLOOKUP($F486,all!$E$14:$AD$553,12),\"\")","v":""},{"$f":"IF($AE486=1,VLOOKUP($F486,all!$E$14:$AD$553,13),\"\")","v":""},{"$f":"IF($AE486=1,VLOOKUP($F486,all!$E$14:$AD$553,14),\"\")","v":""},{"$f":"IF($AE486=1,VLOOKUP($F486,all!$E$14:$AD$553,15),\"\")","v":""},{"$f":"IF($AE486=1,VLOOKUP($F486,all!$E$14:$AD$553,16),\"\")","v":""},{"$f":"IF($AE486=1,VLOOKUP($F486,all!$E$14:$AD$553,17),\"\")","v":""},{"$f":"IF($AE486=1,VLOOKUP($F486,all!$E$14:$AD$553,18),\"\")","v":""},{"$f":"IF($AE486=1,VLOOKUP($F486,all!$E$14:$AD$553,19),\"\")","v":""},{"$f":"IF($AE486=1,VLOOKUP($F486,all!$E$14:$AD$553,20),\"\")","v":""},{"$f":"IF($AE486=1,VLOOKUP($F486,all!$E$14:$AD$553,21),\"\")","v":""},{"$f":"IF($AE486=1,VLOOKUP($F486,all!$E$14:$AD$553,22),\"\")","v":""},{"$f":"IF($AE486=1,VLOOKUP($F486,all!$E$14:$AD$553,23),\"\")","v":""},{"$f":"IF($AE486=1,VLOOKUP($F486,all!$E$14:$AD$553,24),\"\")","v":""},{"$f":"IF($AE486=1,VLOOKUP($F486,all!$E$14:$AD$553,25),\"\")","v":""},null,{"$f":"COUNTIF(all!$E$14:$E$553,F486)","v":0}]
[null,null,null,null,null,454,{"$f":"IF($AE487=1,VLOOKUP($F487,all!$E$14:$AD$553,3),\"\")","v":""},{"$f":"IF($AE487=1,VLOOKUP($F487,all!$E$14:$AD$553,4),\"\")","v":""},{"$f":"IF($AE487=1,VLOOKUP($F487,all!$E$14:$AD$553,5),\"\")","v":""},{"$f":"IF($AE487=1,VLOOKUP($F487,all!$E$14:$AD$553,6),\"\")","v":""},{"$f":"IF($AE487=1,VLOOKUP($F487,all!$E$14:$AD$553,7),\"\")","v":""},{"$f":"IF($AE487=1,VLOOKUP($F487,all!$E$14:$AD$553,8),\"\")","v":""},{"$f":"IF($AE487=1,VLOOKUP($F487,all!$E$14:$AD$553,9),\"\")","v":""},{"$f":"IF($AE487=1,VLOOKUP($F487,all!$E$14:$AD$553,10),\"\")","v":""},{"$f":"IF($AE487=1,VLOOKUP($F487,all!$E$14:$AD$553,11),\"\")","v":""},{"$f":"IF($AE487=1,VLOOKUP($F487,all!$E$14:$AD$553,12),\"\")","v":""},{"$f":"IF($AE487=1,VLOOKUP($F487,all!$E$14:$AD$553,13),\"\")","v":""},{"$f":"IF($AE487=1,VLOOKUP($F487,all!$E$14:$AD$553,14),\"\")","v":""},{"$f":"IF($AE487=1,VLOOKUP($F487,all!$E$14:$AD$553,15),\"\")","v":""},{"$f":"IF($AE487=1,VLOOKUP($F487,all!$E$14:$AD$553,16),\"\")","v":""},{"$f":"IF($AE487=1,VLOOKUP($F487,all!$E$14:$AD$553,17),\"\")","v":""},{"$f":"IF($AE487=1,VLOOKUP($F487,all!$E$14:$AD$553,18),\"\")","v":""},{"$f":"IF($AE487=1,VLOOKUP($F487,all!$E$14:$AD$553,19),\"\")","v":""},{"$f":"IF($AE487=1,VLOOKUP($F487,all!$E$14:$AD$553,20),\"\")","v":""},{"$f":"IF($AE487=1,VLOOKUP($F487,all!$E$14:$AD$553,21),\"\")","v":""},{"$f":"IF($AE487=1,VLOOKUP($F487,all!$E$14:$AD$553,22),\"\")","v":""},{"$f":"IF($AE487=1,VLOOKUP($F487,all!$E$14:$AD$553,23),\"\")","v":""},{"$f":"IF($AE487=1,VLOOKUP($F487,all!$E$14:$AD$553,24),\"\")","v":""},{"$f":"IF($AE487=1,VLOOKUP($F487,all!$E$14:$AD$553,25),\"\")","v":""},null,{"$f":"COUNTIF(all!$E$14:$E$553,F487)","v":0}]
[null,null,null,null,null,455,{"$f":"IF($AE488=1,VLOOKUP($F488,all!$E$14:$AD$553,3),\"\")","v":""},{"$f":"IF($AE488=1,VLOOKUP($F488,all!$E$14:$AD$553,4),\"\")","v":""},{"$f":"IF($AE488=1,VLOOKUP($F488,all!$E$14:$AD$553,5),\"\")","v":""},{"$f":"IF($AE488=1,VLOOKUP($F488,all!$E$14:$AD$553,6),\"\")","v":""},{"$f":"IF($AE488=1,VLOOKUP($F488,all!$E$14:$AD$553,7),\"\")","v":""},{"$f":"IF($AE488=1,VLOOKUP($F488,all!$E$14:$AD$553,8),\"\")","v":""},{"$f":"IF($AE488=1,VLOOKUP($F488,all!$E$14:$AD$553,9),\"\")","v":""},{"$f":"IF($AE488=1,VLOOKUP($F488,all!$E$14:$AD$553,10),\"\")","v":""},{"$f":"IF($AE488=1,VLOOKUP($F488,all!$E$14:$AD$553,11),\"\")","v":""},{"$f":"IF($AE488=1,VLOOKUP($F488,all!$E$14:$AD$553,12),\"\")","v":""},{"$f":"IF($AE488=1,VLOOKUP($F488,all!$E$14:$AD$553,13),\"\")","v":""},{"$f":"IF($AE488=1,VLOOKUP($F488,all!$E$14:$AD$553,14),\"\")","v":""},{"$f":"IF($AE488=1,VLOOKUP($F488,all!$E$14:$AD$553,15),\"\")","v":""},{"$f":"IF($AE488=1,VLOOKUP($F488,all!$E$14:$AD$553,16),\"\")","v":""},{"$f":"IF($AE488=1,VLOOKUP($F488,all!$E$14:$AD$553,17),\"\")","v":""},{"$f":"IF($AE488=1,VLOOKUP($F488,all!$E$14:$AD$553,18),\"\")","v":""},{"$f":"IF($AE488=1,VLOOKUP($F488,all!$E$14:$AD$553,19),\"\")","v":""},{"$f":"IF($AE488=1,VLOOKUP($F488,all!$E$14:$AD$553,20),\"\")","v":""},{"$f":"IF($AE488=1,VLOOKUP($F488,all!$E$14:$AD$553,21),\"\")","v":""},{"$f":"IF($AE488=1,VLOOKUP($F488,all!$E$14:$AD$553,22),\"\")","v":""},{"$f":"IF($AE488=1,VLOOKUP($F488,all!$E$14:$AD$553,23),\"\")","v":""},{"$f":"IF($AE488=1,VLOOKUP($F488,all!$E$14:$AD$553,24),\"\")","v":""},{"$f":"IF($AE488=1,VLOOKUP($F488,all!$E$14:$AD$553,25),\"\")","v":""},null,{"$f":"COUNTIF(all!$E$14:$E$553,F488)","v":0}]
[null,null,null,null,null,456,{"$f":"IF($AE489=1,VLOOKUP($F489,all!$E$14:$AD$553,3),\"\")","v":""},{"$f":"IF($AE489=1,VLOOKUP($F489,all!$E$14:$AD$553,4),\"\")","v":""},{"$f":"IF($AE489=1,VLOOKUP($F489,all!$E$14:$AD$553,5),\"\")","v":""},{"$f":"IF($AE489=1,VLOOKUP($F489,all!$E$14:$AD$553,6),\"\")","v":""},{"$f":"IF($AE489=1,VLOOKUP($F489,all!$E$14:$AD$553,7),\"\")","v":""},{"$f":"IF($AE489=1,VLOOKUP($F489,all!$E$14:$AD$553,8),\"\")","v":""},{"$f":"IF($AE489=1,VLOOKUP($F489,all!$E$14:$AD$553,9),\"\")","v":""},{"$f":"IF($AE489=1,VLOOKUP($F489,all!$E$14:$AD$553,10),\"\")","v":""},{"$f":"IF($AE489=1,VLOOKUP($F489,all!$E$14:$AD$553,11),\"\")","v":""},{"$f":"IF($AE489=1,VLOOKUP($F489,all!$E$14:$AD$553,12),\"\")","v":""},{"$f":"IF($AE489=1,VLOOKUP($F489,all!$E$14:$AD$553,13),\"\")","v":""},{"$f":"IF($AE489=1,VLOOKUP($F489,all!$E$14:$AD$553,14),\"\")","v":""},{"$f":"IF($AE489=1,VLOOKUP($F489,all!$E$14:$AD$553,15),\"\")","v":""},{"$f":"IF($AE489=1,VLOOKUP($F489,all!$E$14:$AD$553,16),\"\")","v":""},{"$f":"IF($AE489=1,VLOOKUP($F489,all!$E$14:$AD$553,17),\"\")","v":""},{"$f":"IF($AE489=1,VLOOKUP($F489,all!$E$14:$AD$553,18),\"\")","v":""},{"$f":"IF($AE489=1,VLOOKUP($F489,all!$E$14:$AD$553,19),\"\")","v":""},{"$f":"IF($AE489=1,VLOOKUP($F489,all!$E$14:$AD$553,20),\"\")","v":""},{"$f":"IF($AE489=1,VLOOKUP($F489,all!$E$14:$AD$553,21),\"\")","v":""},{"$f":"IF($AE489=1,VLOOKUP($F489,all!$E$14:$AD$553,22),\"\")","v":""},{"$f":"IF($AE489=1,VLOOKUP($F489,all!$E$14:$AD$553,23),\"\")","v":""},{"$f":"IF($AE489=1,VLOOKUP($F489,all!$E$14:$AD$553,24),\"\")","v":""},{"$f":"IF($AE489=1,VLOOKUP($F489,all!$E$14:$AD$553,25),\"\")","v":""},null,{"$f":"COUNTIF(all!$E$14:$E$553,F489)","v":0}]
[null,null,null,null,null,457,{"$f":"IF($AE490=1,VLOOKUP($F490,all!$E$14:$AD$553,3),\"\")","v":""},{"$f":"IF($AE490=1,VLOOKUP($F490,all!$E$14:$AD$553,4),\"\")","v":""},{"$f":"IF($AE490=1,VLOOKUP($F490,all!$E$14:$AD$553,5),\"\")","v":""},{"$f":"IF($AE490=1,VLOOKUP($F490,all!$E$14:$AD$553,6),\"\")","v":""},{"$f":"IF($AE490=1,VLOOKUP($F490,all!$E$14:$AD$553,7),\"\")","v":""},{"$f":"IF($AE490=1,VLOOKUP($F490,all!$E$14:$AD$553,8),\"\")","v":""},{"$f":"IF($AE490=1,VLOOKUP($F490,all!$E$14:$AD$553,9),\"\")","v":""},{"$f":"IF($AE490=1,VLOOKUP($F490,all!$E$14:$AD$553,10),\"\")","v":""},{"$f":"IF($AE490=1,VLOOKUP($F490,all!$E$14:$AD$553,11),\"\")","v":""},{"$f":"IF($AE490=1,VLOOKUP($F490,all!$E$14:$AD$553,12),\"\")","v":""},{"$f":"IF($AE490=1,VLOOKUP($F490,all!$E$14:$AD$553,13),\"\")","v":""},{"$f":"IF($AE490=1,VLOOKUP($F490,all!$E$14:$AD$553,14),\"\")","v":""},{"$f":"IF($AE490=1,VLOOKUP($F490,all!$E$14:$AD$553,15),\"\")","v":""},{"$f":"IF($AE490=1,VLOOKUP($F490,all!$E$14:$AD$553,16),\"\")","v":""},{"$f":"IF($AE490=1,VLOOKUP($F490,all!$E$14:$AD$553,17),\"\")","v":""},{"$f":"IF($AE490=1,VLOOKUP($F490,all!$E$14:$AD$553,18),\"\")","v":""},{"$f":"IF($AE490=1,VLOOKUP($F490,all!$E$14:$AD$553,19),\"\")","v":""},{"$f":"IF($AE490=1,VLOOKUP($F490,all!$E$14:$AD$553,20),\"\")","v":""},{"$f":"IF($AE490=1,VLOOKUP($F490,all!$E$14:$AD$553,21),\"\")","v":""},{"$f":"IF($AE490=1,VLOOKUP($F490,all!$E$14:$AD$553,22),\"\")","v":""},{"$f":"IF($AE490=1,VLOOKUP($F490,all!$E$14:$AD$553,23),\"\")","v":""},{"$f":"IF($AE490=1,VLOOKUP($F490,all!$E$14:$AD$553,24),\"\")","v":""},{"$f":"IF($AE490=1,VLOOKUP($F490,all!$E$14:$AD$553,25),\"\")","v":""},null,{"$f":"COUNTIF(all!$E$14:$E$553,F490)","v":0}]
[null,null,null,null,null,458,{"$f":"IF($AE491=1,VLOOKUP($F491,all!$E$14:$AD$553,3),\"\")","v":""},{"$f":"IF($AE491=1,VLOOKUP($F491,all!$E$14:$AD$553,4),\"\")","v":""},{"$f":"IF($AE491=1,VLOOKUP($F491,all!$E$14:$AD$553,5),\"\")","v":""},{"$f":"IF($AE491=1,VLOOKUP($F491,all!$E$14:$AD$553,6),\"\")","v":""},{"$f":"IF($AE491=1,VLOOKUP($F491,all!$E$14:$AD$553,7),\"\")","v":""},{"$f":"IF($AE491=1,VLOOKUP($F491,all!$E$14:$AD$553,8),\"\")","v":""},{"$f":"IF($AE491=1,VLOOKUP($F491,all!$E$14:$AD$553,9),\"\")","v":""},{"$f":"IF($AE491=1,VLOOKUP($F491,all!$E$14:$AD$553,10),\"\")","v":""},{"$f":"IF($AE491=1,VLOOKUP($F491,all!$E$14:$AD$553,11),\"\")","v":""},{"$f":"IF($AE491=1,VLOOKUP($F491,all!$E$14:$AD$553,12),\"\")","v":""},{"$f":"IF($AE491=1,VLOOKUP($F491,all!$E$14:$AD$553,13),\"\")","v":""},{"$f":"IF($AE491=1,VLOOKUP($F491,all!$E$14:$AD$553,14),\"\")","v":""},{"$f":"IF($AE491=1,VLOOKUP($F491,all!$E$14:$AD$553,15),\"\")","v":""},{"$f":"IF($AE491=1,VLOOKUP($F491,all!$E$14:$AD$553,16),\"\")","v":""},{"$f":"IF($AE491=1,VLOOKUP($F491,all!$E$14:$AD$553,17),\"\")","v":""},{"$f":"IF($AE491=1,VLOOKUP($F491,all!$E$14:$AD$553,18),\"\")","v":""},{"$f":"IF($AE491=1,VLOOKUP($F491,all!$E$14:$AD$553,19),\"\")","v":""},{"$f":"IF($AE491=1,VLOOKUP($F491,all!$E$14:$AD$553,20),\"\")","v":""},{"$f":"IF($AE491=1,VLOOKUP($F491,all!$E$14:$AD$553,21),\"\")","v":""},{"$f":"IF($AE491=1,VLOOKUP($F491,all!$E$14:$AD$553,22),\"\")","v":""},{"$f":"IF($AE491=1,VLOOKUP($F491,all!$E$14:$AD$553,23),\"\")","v":""},{"$f":"IF($AE491=1,VLOOKUP($F491,all!$E$14:$AD$553,24),\"\")","v":""},{"$f":"IF($AE491=1,VLOOKUP($F491,all!$E$14:$AD$553,25),\"\")","v":""},null,{"$f":"COUNTIF(all!$E$14:$E$553,F491)","v":0}]
[null,null,null,null,null,459,{"$f":"IF($AE492=1,VLOOKUP($F492,all!$E$14:$AD$553,3),\"\")","v":""},{"$f":"IF($AE492=1,VLOOKUP($F492,all!$E$14:$AD$553,4),\"\")","v":""},{"$f":"IF($AE492=1,VLOOKUP($F492,all!$E$14:$AD$553,5),\"\")","v":""},{"$f":"IF($AE492=1,VLOOKUP($F492,all!$E$14:$AD$553,6),\"\")","v":""},{"$f":"IF($AE492=1,VLOOKUP($F492,all!$E$14:$AD$553,7),\"\")","v":""},{"$f":"IF($AE492=1,VLOOKUP($F492,all!$E$14:$AD$553,8),\"\")","v":""},{"$f":"IF($AE492=1,VLOOKUP($F492,all!$E$14:$AD$553,9),\"\")","v":""},{"$f":"IF($AE492=1,VLOOKUP($F492,all!$E$14:$AD$553,10),\"\")","v":""},{"$f":"IF($AE492=1,VLOOKUP($F492,all!$E$14:$AD$553,11),\"\")","v":""},{"$f":"IF($AE492=1,VLOOKUP($F492,all!$E$14:$AD$553,12),\"\")","v":""},{"$f":"IF($AE492=1,VLOOKUP($F492,all!$E$14:$AD$553,13),\"\")","v":""},{"$f":"IF($AE492=1,VLOOKUP($F492,all!$E$14:$AD$553,14),\"\")","v":""},{"$f":"IF($AE492=1,VLOOKUP($F492,all!$E$14:$AD$553,15),\"\")","v":""},{"$f":"IF($AE492=1,VLOOKUP($F492,all!$E$14:$AD$553,16),\"\")","v":""},{"$f":"IF($AE492=1,VLOOKUP($F492,all!$E$14:$AD$553,17),\"\")","v":""},{"$f":"IF($AE492=1,VLOOKUP($F492,all!$E$14:$AD$553,18),\"\")","v":""},{"$f":"IF($AE492=1,VLOOKUP($F492,all!$E$14:$AD$553,19),\"\")","v":""},{"$f":"IF($AE492=1,VLOOKUP($F492,all!$E$14:$AD$553,20),\"\")","v":""},{"$f":"IF($AE492=1,VLOOKUP($F492,all!$E$14:$AD$553,21),\"\")","v":""},{"$f":"IF($AE492=1,VLOOKUP($F492,all!$E$14:$AD$553,22),\"\")","v":""},{"$f":"IF($AE492=1,VLOOKUP($F492,all!$E$14:$AD$553,23),\"\")","v":""},{"$f":"IF($AE492=1,VLOOKUP($F492,all!$E$14:$AD$553,24),\"\")","v":""},{"$f":"IF($AE492=1,VLOOKUP($F492,all!$E$14:$AD$553,25),\"\")","v":""},null,{"$f":"COUNTIF(all!$E$14:$E$553,F492)","v":0}]
[null,null,null,null,null,460,{"$f":"IF($AE493=1,VLOOKUP($F493,all!$E$14:$AD$553,3),\"\")","v":""},{"$f":"IF($AE493=1,VLOOKUP($F493,all!$E$14:$AD$553,4),\"\")","v":""},{"$f":"IF($AE493=1,VLOOKUP($F493,all!$E$14:$AD$553,5),\"\")","v":""},{"$f":"IF($AE493=1,VLOOKUP($F493,all!$E$14:$AD$553,6),\"\")","v":""},{"$f":"IF($AE493=1,VLOOKUP($F493,all!$E$14:$AD$553,7),\"\")","v":""},{"$f":"IF($AE493=1,VLOOKUP($F493,all!$E$14:$AD$553,8),\"\")","v":""},{"$f":"IF($AE493=1,VLOOKUP($F493,all!$E$14:$AD$553,9),\"\")","v":""},{"$f":"IF($AE493=1,VLOOKUP($F493,all!$E$14:$AD$553,10),\"\")","v":""},{"$f":"IF($AE493=1,VLOOKUP($F493,all!$E$14:$AD$553,11),\"\")","v":""},{"$f":"IF($AE493=1,VLOOKUP($F493,all!$E$14:$AD$553,12),\"\")","v":""},{"$f":"IF($AE493=1,VLOOKUP($F493,all!$E$14:$AD$553,13),\"\")","v":""},{"$f":"IF($AE493=1,VLOOKUP($F493,all!$E$14:$AD$553,14),\"\")","v":""},{"$f":"IF($AE493=1,VLOOKUP($F493,all!$E$14:$AD$553,15),\"\")","v":""},{"$f":"IF($AE493=1,VLOOKUP($F493,all!$E$14:$AD$553,16),\"\")","v":""},{"$f":"IF($AE493=1,VLOOKUP($F493,all!$E$14:$AD$553,17),\"\")","v":""},{"$f":"IF($AE493=1,VLOOKUP($F493,all!$E$14:$AD$553,18),\"\")","v":""},{"$f":"IF($AE493=1,VLOOKUP($F493,all!$E$14:$AD$553,19),\"\")","v":""},{"$f":"IF($AE493=1,VLOOKUP($F493,all!$E$14:$AD$553,20),\"\")","v":""},{"$f":"IF($AE493=1,VLOOKUP($F493,all!$E$14:$AD$553,21),\"\")","v":""},{"$f":"IF($AE493=1,VLOOKUP($F493,all!$E$14:$AD$553,22),\"\")","v":""},{"$f":"IF($AE493=1,VLOOKUP($F493,all!$E$14:$AD$553,23),\"\")","v":""},{"$f":"IF($AE493=1,VLOOKUP($F493,all!$E$14:$AD$553,24),\"\")","v":""},{"$f":"IF($AE493=1,VLOOKUP($F493,all!$E$14:$AD$553,25),\"\")","v":""},null,{"$f":"COUNTIF(all!$E$14:$E$553,F493)","v":0}]
[null,null,null,null,null,461,{"$f":"IF($AE494=1,VLOOKUP($F494,all!$E$14:$AD$553,3),\"\")","v":""},{"$f":"IF($AE494=1,VLOOKUP($F494,all!$E$14:$AD$553,4),\"\")","v":""},{"$f":"IF($AE494=1,VLOOKUP($F494,all!$E$14:$AD$553,5),\"\")","v":""},{"$f":"IF($AE494=1,VLOOKUP($F494,all!$E$14:$AD$553,6),\"\")","v":""},{"$f":"IF($AE494=1,VLOOKUP($F494,all!$E$14:$AD$553,7),\"\")","v":""},{"$f":"IF($AE494=1,VLOOKUP($F494,all!$E$14:$AD$553,8),\"\")","v":""},{"$f":"IF($AE494=1,VLOOKUP($F494,all!$E$14:$AD$553,9),\"\")","v":""},{"$f":"IF($AE494=1,VLOOKUP($F494,all!$E$14:$AD$553,10),\"\")","v":""},{"$f":"IF($AE494=1,VLOOKUP($F494,all!$E$14:$AD$553,11),\"\")","v":""},{"$f":"IF($AE494=1,VLOOKUP($F494,all!$E$14:$AD$553,12),\"\")","v":""},{"$f":"IF($AE494=1,VLOOKUP($F494,all!$E$14:$AD$553,13),\"\")","v":""},{"$f":"IF($AE494=1,VLOOKUP($F494,all!$E$14:$AD$553,14),\"\")","v":""},{"$f":"IF($AE494=1,VLOOKUP($F494,all!$E$14:$AD$553,15),\"\")","v":""},{"$f":"IF($AE494=1,VLOOKUP($F494,all!$E$14:$AD$553,16),\"\")","v":""},{"$f":"IF($AE494=1,VLOOKUP($F494,all!$E$14:$AD$553,17),\"\")","v":""},{"$f":"IF($AE494=1,VLOOKUP($F494,all!$E$14:$AD$553,18),\"\")","v":""},{"$f":"IF($AE494=1,VLOOKUP($F494,all!$E$14:$AD$553,19),\"\")","v":""},{"$f":"IF($AE494=1,VLOOKUP($F494,all!$E$14:$AD$553,20),\"\")","v":""},{"$f":"IF($AE494=1,VLOOKUP($F494,all!$E$14:$AD$553,21),\"\")","v":""},{"$f":"IF($AE494=1,VLOOKUP($F494,all!$E$14:$AD$553,22),\"\")","v":""},{"$f":"IF($AE494=1,VLOOKUP($F494,all!$E$14:$AD$553,23),\"\")","v":""},{"$f":"IF($AE494=1,VLOOKUP($F494,all!$E$14:$AD$553,24),\"\")","v":""},{"$f":"IF($AE494=1,VLOOKUP($F494,all!$E$14:$AD$553,25),\"\")","v":""},null,{"$f":"COUNTIF(all!$E$14:$E$553,F494)","v":0}]
[null,null,null,null,null,462,{"$f":"IF($AE495=1,VLOOKUP($F495,all!$E$14:$AD$553,3),\"\")","v":""},{"$f":"IF($AE495=1,VLOOKUP($F495,all!$E$14:$AD$553,4),\"\")","v":""},{"$f":"IF($AE495=1,VLOOKUP($F495,all!$E$14:$AD$553,5),\"\")","v":""},{"$f":"IF($AE495=1,VLOOKUP($F495,all!$E$14:$AD$553,6),\"\")","v":""},{"$f":"IF($AE495=1,VLOOKUP($F495,all!$E$14:$AD$553,7),\"\")","v":""},{"$f":"IF($AE495=1,VLOOKUP($F495,all!$E$14:$AD$553,8),\"\")","v":""},{"$f":"IF($AE495=1,VLOOKUP($F495,all!$E$14:$AD$553,9),\"\")","v":""},{"$f":"IF($AE495=1,VLOOKUP($F495,all!$E$14:$AD$553,10),\"\")","v":""},{"$f":"IF($AE495=1,VLOOKUP($F495,all!$E$14:$AD$553,11),\"\")","v":""},{"$f":"IF($AE495=1,VLOOKUP($F495,all!$E$14:$AD$553,12),\"\")","v":""},{"$f":"IF($AE495=1,VLOOKUP($F495,all!$E$14:$AD$553,13),\"\")","v":""},{"$f":"IF($AE495=1,VLOOKUP($F495,all!$E$14:$AD$553,14),\"\")","v":""},{"$f":"IF($AE495=1,VLOOKUP($F495,all!$E$14:$AD$553,15),\"\")","v":""},{"$f":"IF($AE495=1,VLOOKUP($F495,all!$E$14:$AD$553,16),\"\")","v":""},{"$f":"IF($AE495=1,VLOOKUP($F495,all!$E$14:$AD$553,17),\"\")","v":""},{"$f":"IF($AE495=1,VLOOKUP($F495,all!$E$14:$AD$553,18),\"\")","v":""},{"$f":"IF($AE495=1,VLOOKUP($F495,all!$E$14:$AD$553,19),\"\")","v":""},{"$f":"IF($AE495=1,VLOOKUP($F495,all!$E$14:$AD$553,20),\"\")","v":""},{"$f":"IF($AE495=1,VLOOKUP($F495,all!$E$14:$AD$553,21),\"\")","v":""},{"$f":"IF($AE495=1,VLOOKUP($F495,all!$E$14:$AD$553,22),\"\")","v":""},{"$f":"IF($AE495=1,VLOOKUP($F495,all!$E$14:$AD$553,23),\"\")","v":""},{"$f":"IF($AE495=1,VLOOKUP($F495,all!$E$14:$AD$553,24),\"\")","v":""},{"$f":"IF($AE495=1,VLOOKUP($F495,all!$E$14:$AD$553,25),\"\")","v":""},null,{"$f":"COUNTIF(all!$E$14:$E$553,F495)","v":0}]
[null,null,null,null,null,463,{"$f":"IF($AE496=1,VLOOKUP($F496,all!$E$14:$AD$553,3),\"\")","v":""},{"$f":"IF($AE496=1,VLOOKUP($F496,all!$E$14:$AD$553,4),\"\")","v":""},{"$f":"IF($AE496=1,VLOOKUP($F496,all!$E$14:$AD$553,5),\"\")","v":""},{"$f":"IF($AE496=1,VLOOKUP($F496,all!$E$14:$AD$553,6),\"\")","v":""},{"$f":"IF($AE496=1,VLOOKUP($F496,all!$E$14:$AD$553,7),\"\")","v":""},{"$f":"IF($AE496=1,VLOOKUP($F496,all!$E$14:$AD$553,8),\"\")","v":""},{"$f":"IF($AE496=1,VLOOKUP($F496,all!$E$14:$AD$553,9),\"\")","v":""},{"$f":"IF($AE496=1,VLOOKUP($F496,all!$E$14:$AD$553,10),\"\")","v":""},{"$f":"IF($AE496=1,VLOOKUP($F496,all!$E$14:$AD$553,11),\"\")","v":""},{"$f":"IF($AE496=1,VLOOKUP($F496,all!$E$14:$AD$553,12),\"\")","v":""},{"$f":"IF($AE496=1,VLOOKUP($F496,all!$E$14:$AD$553,13),\"\")","v":""},{"$f":"IF($AE496=1,VLOOKUP($F496,all!$E$14:$AD$553,14),\"\")","v":""},{"$f":"IF($AE496=1,VLOOKUP($F496,all!$E$14:$AD$553,15),\"\")","v":""},{"$f":"IF($AE496=1,VLOOKUP($F496,all!$E$14:$AD$553,16),\"\")","v":""},{"$f":"IF($AE496=1,VLOOKUP($F496,all!$E$14:$AD$553,17),\"\")","v":""},{"$f":"IF($AE496=1,VLOOKUP($F496,all!$E$14:$AD$553,18),\"\")","v":""},{"$f":"IF($AE496=1,VLOOKUP($F496,all!$E$14:$AD$553,19),\"\")","v":""},{"$f":"IF($AE496=1,VLOOKUP($F496,all!$E$14:$AD$553,20),\"\")","v":""},{"$f":"IF($AE496=1,VLOOKUP($F496,all!$E$14:$AD$553,21),\"\")","v":""},{"$f":"IF($AE496=1,VLOOKUP($F496,all!$E$14:$AD$553,22),\"\")","v":""},{"$f":"IF($AE496=1,VLOOKUP($F496,all!$E$14:$AD$553,23),\"\")","v":""},{"$f":"IF($AE496=1,VLOOKUP($F496,all!$E$14:$AD$553,24),\"\")","v":""},{"$f":"IF($AE496=1,VLOOKUP($F496,all!$E$14:$AD$553,25),\"\")","v":""},null,{"$f":"COUNTIF(all!$E$14:$E$553,F496)","v":0}]
[null,null,null,null,null,464,{"$f":"IF($AE497=1,VLOOKUP($F497,all!$E$14:$AD$553,3),\"\")","v":""},{"$f":"IF($AE497=1,VLOOKUP($F497,all!$E$14:$AD$553,4),\"\")","v":""},{"$f":"IF($AE497=1,VLOOKUP($F497,all!$E$14:$AD$553,5),\"\")","v":""},{"$f":"IF($AE497=1,VLOOKUP($F497,all!$E$14:$AD$553,6),\"\")","v":""},{"$f":"IF($AE497=1,VLOOKUP($F497,all!$E$14:$AD$553,7),\"\")","v":""},{"$f":"IF($AE497=1,VLOOKUP($F497,all!$E$14:$AD$553,8),\"\")","v":""},{"$f":"IF($AE497=1,VLOOKUP($F497,all!$E$14:$AD$553,9),\"\")","v":""},{"$f":"IF($AE497=1,VLOOKUP($F497,all!$E$14:$AD$553,10),\"\")","v":""},{"$f":"IF($AE497=1,VLOOKUP($F497,all!$E$14:$AD$553,11),\"\")","v":""},{"$f":"IF($AE497=1,VLOOKUP($F497,all!$E$14:$AD$553,12),\"\")","v":""},{"$f":"IF($AE497=1,VLOOKUP($F497,all!$E$14:$AD$553,13),\"\")","v":""},{"$f":"IF($AE497=1,VLOOKUP($F497,all!$E$14:$AD$553,14),\"\")","v":""},{"$f":"IF($AE497=1,VLOOKUP($F497,all!$E$14:$AD$553,15),\"\")","v":""},{"$f":"IF($AE497=1,VLOOKUP($F497,all!$E$14:$AD$553,16),\"\")","v":""},{"$f":"IF($AE497=1,VLOOKUP($F497,all!$E$14:$AD$553,17),\"\")","v":""},{"$f":"IF($AE497=1,VLOOKUP($F497,all!$E$14:$AD$553,18),\"\")","v":""},{"$f":"IF($AE497=1,VLOOKUP($F497,all!$E$14:$AD$553,19),\"\")","v":""},{"$f":"IF($AE497=1,VLOOKUP($F497,all!$E$14:$AD$553,20),\"\")","v":""},{"$f":"IF($AE497=1,VLOOKUP($F497,all!$E$14:$AD$553,21),\"\")","v":""},{"$f":"IF($AE497=1,VLOOKUP($F497,all!$E$14:$AD$553,22),\"\")","v":""},{"$f":"IF($AE497=1,VLOOKUP($F497,all!$E$14:$AD$553,23),\"\")","v":""},{"$f":"IF($AE497=1,VLOOKUP($F497,all!$E$14:$AD$553,24),\"\")","v":""},{"$f":"IF($AE497=1,VLOOKUP($F497,all!$E$14:$AD$553,25),\"\")","v":""},null,{"$f":"COUNTIF(all!$E$14:$E$553,F497)","v":0}]
[null,null,null,null,null,465,{"$f":"IF($AE498=1,VLOOKUP($F498,all!$E$14:$AD$553,3),\"\")","v":""},{"$f":"IF($AE498=1,VLOOKUP($F498,all!$E$14:$AD$553,4),\"\")","v":""},{"$f":"IF($AE498=1,VLOOKUP($F498,all!$E$14:$AD$553,5),\"\")","v":""},{"$f":"IF($AE498=1,VLOOKUP($F498,all!$E$14:$AD$553,6),\"\")","v":""},{"$f":"IF($AE498=1,VLOOKUP($F498,all!$E$14:$AD$553,7),\"\")","v":""},{"$f":"IF($AE498=1,VLOOKUP($F498,all!$E$14:$AD$553,8),\"\")","v":""},{"$f":"IF($AE498=1,VLOOKUP($F498,all!$E$14:$AD$553,9),\"\")","v":""},{"$f":"IF($AE498=1,VLOOKUP($F498,all!$E$14:$AD$553,10),\"\")","v":""},{"$f":"IF($AE498=1,VLOOKUP($F498,all!$E$14:$AD$553,11),\"\")","v":""},{"$f":"IF($AE498=1,VLOOKUP($F498,all!$E$14:$AD$553,12),\"\")","v":""},{"$f":"IF($AE498=1,VLOOKUP($F498,all!$E$14:$AD$553,13),\"\")","v":""},{"$f":"IF($AE498=1,VLOOKUP($F498,all!$E$14:$AD$553,14),\"\")","v":""},{"$f":"IF($AE498=1,VLOOKUP($F498,all!$E$14:$AD$553,15),\"\")","v":""},{"$f":"IF($AE498=1,VLOOKUP($F498,all!$E$14:$AD$553,16),\"\")","v":""},{"$f":"IF($AE498=1,VLOOKUP($F498,all!$E$14:$AD$553,17),\"\")","v":""},{"$f":"IF($AE498=1,VLOOKUP($F498,all!$E$14:$AD$553,18),\"\")","v":""},{"$f":"IF($AE498=1,VLOOKUP($F498,all!$E$14:$AD$553,19),\"\")","v":""},{"$f":"IF($AE498=1,VLOOKUP($F498,all!$E$14:$AD$553,20),\"\")","v":""},{"$f":"IF($AE498=1,VLOOKUP($F498,all!$E$14:$AD$553,21),\"\")","v":""},{"$f":"IF($AE498=1,VLOOKUP($F498,all!$E$14:$AD$553,22),\"\")","v":""},{"$f":"IF($AE498=1,VLOOKUP($F498,all!$E$14:$AD$553,23),\"\")","v":""},{"$f":"IF($AE498=1,VLOOKUP($F498,all!$E$14:$AD$553,24),\"\")","v":""},{"$f":"IF($AE498=1,VLOOKUP($F498,all!$E$14:$AD$553,25),\"\")","v":""},null,{"$f":"COUNTIF(all!$E$14:$E$553,F498)","v":0}]
[null,null,null,null,null,466,{"$f":"IF($AE499=1,VLOOKUP($F499,all!$E$14:$AD$553,3),\"\")","v":""},{"$f":"IF($AE499=1,VLOOKUP($F499,all!$E$14:$AD$553,4),\"\")","v":""},{"$f":"IF($AE499=1,VLOOKUP($F499,all!$E$14:$AD$553,5),\"\")","v":""},{"$f":"IF($AE499=1,VLOOKUP($F499,all!$E$14:$AD$553,6),\"\")","v":""},{"$f":"IF($AE499=1,VLOOKUP($F499,all!$E$14:$AD$553,7),\"\")","v":""},{"$f":"IF($AE499=1,VLOOKUP($F499,all!$E$14:$AD$553,8),\"\")","v":""},{"$f":"IF($AE499=1,VLOOKUP($F499,all!$E$14:$AD$553,9),\"\")","v":""},{"$f":"IF($AE499=1,VLOOKUP($F499,all!$E$14:$AD$553,10),\"\")","v":""},{"$f":"IF($AE499=1,VLOOKUP($F499,all!$E$14:$AD$553,11),\"\")","v":""},{"$f":"IF($AE499=1,VLOOKUP($F499,all!$E$14:$AD$553,12),\"\")","v":""},{"$f":"IF($AE499=1,VLOOKUP($F499,all!$E$14:$AD$553,13),\"\")","v":""},{"$f":"IF($AE499=1,VLOOKUP($F499,all!$E$14:$AD$553,14),\"\")","v":""},{"$f":"IF($AE499=1,VLOOKUP($F499,all!$E$14:$AD$553,15),\"\")","v":""},{"$f":"IF($AE499=1,VLOOKUP($F499,all!$E$14:$AD$553,16),\"\")","v":""},{"$f":"IF($AE499=1,VLOOKUP($F499,all!$E$14:$AD$553,17),\"\")","v":""},{"$f":"IF($AE499=1,VLOOKUP($F499,all!$E$14:$AD$553,18),\"\")","v":""},{"$f":"IF($AE499=1,VLOOKUP($F499,all!$E$14:$AD$553,19),\"\")","v":""},{"$f":"IF($AE499=1,VLOOKUP($F499,all!$E$14:$AD$553,20),\"\")","v":""},{"$f":"IF($AE499=1,VLOOKUP($F499,all!$E$14:$AD$553,21),\"\")","v":""},{"$f":"IF($AE499=1,VLOOKUP($F499,all!$E$14:$AD$553,22),\"\")","v":""},{"$f":"IF($AE499=1,VLOOKUP($F499,all!$E$14:$AD$553,23),\"\")","v":""},{"$f":"IF($AE499=1,VLOOKUP($F499,all!$E$14:$AD$553,24),\"\")","v":""},{"$f":"IF($AE499=1,VLOOKUP($F499,all!$E$14:$AD$553,25),\"\")","v":""},null,{"$f":"COUNTIF(all!$E$14:$E$553,F499)","v":0}]
[null,null,null,null,null,467,{"$f":"IF($AE500=1,VLOOKUP($F500,all!$E$14:$AD$553,3),\"\")","v":""},{"$f":"IF($AE500=1,VLOOKUP($F500,all!$E$14:$AD$553,4),\"\")","v":""},{"$f":"IF($AE500=1,VLOOKUP($F500,all!$E$14:$AD$553,5),\"\")","v":""},{"$f":"IF($AE500=1,VLOOKUP($F500,all!$E$14:$AD$553,6),\"\")","v":""},{"$f":"IF($AE500=1,VLOOKUP($F500,all!$E$14:$AD$553,7),\"\")","v":""},{"$f":"IF($AE500=1,VLOOKUP($F500,all!$E$14:$AD$553,8),\"\")","v":""},{"$f":"IF($AE500=1,VLOOKUP($F500,all!$E$14:$AD$553,9),\"\")","v":""},{"$f":"IF($AE500=1,VLOOKUP($F500,all!$E$14:$AD$553,10),\"\")","v":""},{"$f":"IF($AE500=1,VLOOKUP($F500,all!$E$14:$AD$553,11),\"\")","v":""},{"$f":"IF($AE500=1,VLOOKUP($F500,all!$E$14:$AD$553,12),\"\")","v":""},{"$f":"IF($AE500=1,VLOOKUP($F500,all!$E$14:$AD$553,13),\"\")","v":""},{"$f":"IF($AE500=1,VLOOKUP($F500,all!$E$14:$AD$553,14),\"\")","v":""},{"$f":"IF($AE500=1,VLOOKUP($F500,all!$E$14:$AD$553,15),\"\")","v":""},{"$f":"IF($AE500=1,VLOOKUP($F500,all!$E$14:$AD$553,16),\"\")","v":""},{"$f":"IF($AE500=1,VLOOKUP($F500,all!$E$14:$AD$553,17),\"\")","v":""},{"$f":"IF($AE500=1,VLOOKUP($F500,all!$E$14:$AD$553,18),\"\")","v":""},{"$f":"IF($AE500=1,VLOOKUP($F500,all!$E$14:$AD$553,19),\"\")","v":""},{"$f":"IF($AE500=1,VLOOKUP($F500,all!$E$14:$AD$553,20),\"\")","v":""},{"$f":"IF($AE500=1,VLOOKUP($F500,all!$E$14:$AD$553,21),\"\")","v":""},{"$f":"IF($AE500=1,VLOOKUP($F500,all!$E$14:$AD$553,22),\"\")","v":""},{"$f":"IF($AE500=1,VLOOKUP($F500,all!$E$14:$AD$553,23),\"\")","v":""},{"$f":"IF($AE500=1,VLOOKUP($F500,all!$E$14:$AD$553,24),\"\")","v":""},{"$f":"IF($AE500=1,VLOOKUP($F500,all!$E$14:$AD$553,25),\"\")","v":""},null,{"$f":"COUNTIF(all!$E$14:$E$553,F500)","v":0}]
[null,null,null,null,null,468,{"$f":"IF($AE501=1,VLOOKUP($F501,all!$E$14:$AD$553,3),\"\")","v":""},{"$f":"IF($AE501=1,VLOOKUP($F501,all!$E$14:$AD$553,4),\"\")","v":""},{"$f":"IF($AE501=1,VLOOKUP($F501,all!$E$14:$AD$553,5),\"\")","v":""},{"$f":"IF($AE501=1,VLOOKUP($F501,all!$E$14:$AD$553,6),\"\")","v":""},{"$f":"IF($AE501=1,VLOOKUP($F501,all!$E$14:$AD$553,7),\"\")","v":""},{"$f":"IF($AE501=1,VLOOKUP($F501,all!$E$14:$AD$553,8),\"\")","v":""},{"$f":"IF($AE501=1,VLOOKUP($F501,all!$E$14:$AD$553,9),\"\")","v":""},{"$f":"IF($AE501=1,VLOOKUP($F501,all!$E$14:$AD$553,10),\"\")","v":""},{"$f":"IF($AE501=1,VLOOKUP($F501,all!$E$14:$AD$553,11),\"\")","v":""},{"$f":"IF($AE501=1,VLOOKUP($F501,all!$E$14:$AD$553,12),\"\")","v":""},{"$f":"IF($AE501=1,VLOOKUP($F501,all!$E$14:$AD$553,13),\"\")","v":""},{"$f":"IF($AE501=1,VLOOKUP($F501,all!$E$14:$AD$553,14),\"\")","v":""},{"$f":"IF($AE501=1,VLOOKUP($F501,all!$E$14:$AD$553,15),\"\")","v":""},{"$f":"IF($AE501=1,VLOOKUP($F501,all!$E$14:$AD$553,16),\"\")","v":""},{"$f":"IF($AE501=1,VLOOKUP($F501,all!$E$14:$AD$553,17),\"\")","v":""},{"$f":"IF($AE501=1,VLOOKUP($F501,all!$E$14:$AD$553,18),\"\")","v":""},{"$f":"IF($AE501=1,VLOOKUP($F501,all!$E$14:$AD$553,19),\"\")","v":""},{"$f":"IF($AE501=1,VLOOKUP($F501,all!$E$14:$AD$553,20),\"\")","v":""},{"$f":"IF($AE501=1,VLOOKUP($F501,all!$E$14:$AD$553,21),\"\")","v":""},{"$f":"IF($AE501=1,VLOOKUP($F501,all!$E$14:$AD$553,22),\"\")","v":""},{"$f":"IF($AE501=1,VLOOKUP($F501,all!$E$14:$AD$553,23),\"\")","v":""},{"$f":"IF($AE501=1,VLOOKUP($F501,all!$E$14:$AD$553,24),\"\")","v":""},{"$f":"IF($AE501=1,VLOOKUP($F501,all!$E$14:$AD$553,25),\"\")","v":""},null,{"$f":"COUNTIF(all!$E$14:$E$553,F501)","v":0}]
[null,null,null,null,null,469,{"$f":"IF($AE502=1,VLOOKUP($F502,all!$E$14:$AD$553,3),\"\")","v":""},{"$f":"IF($AE502=1,VLOOKUP($F502,all!$E$14:$AD$553,4),\"\")","v":""},{"$f":"IF($AE502=1,VLOOKUP($F502,all!$E$14:$AD$553,5),\"\")","v":""},{"$f":"IF($AE502=1,VLOOKUP($F502,all!$E$14:$AD$553,6),\"\")","v":""},{"$f":"IF($AE502=1,VLOOKUP($F502,all!$E$14:$AD$553,7),\"\")","v":""},{"$f":"IF($AE502=1,VLOOKUP($F502,all!$E$14:$AD$553,8),\"\")","v":""},{"$f":"IF($AE502=1,VLOOKUP($F502,all!$E$14:$AD$553,9),\"\")","v":""},{"$f":"IF($AE502=1,VLOOKUP($F502,all!$E$14:$AD$553,10),\"\")","v":""},{"$f":"IF($AE502=1,VLOOKUP($F502,all!$E$14:$AD$553,11),\"\")","v":""},{"$f":"IF($AE502=1,VLOOKUP($F502,all!$E$14:$AD$553,12),\"\")","v":""},{"$f":"IF($AE502=1,VLOOKUP($F502,all!$E$14:$AD$553,13),\"\")","v":""},{"$f":"IF($AE502=1,VLOOKUP($F502,all!$E$14:$AD$553,14),\"\")","v":""},{"$f":"IF($AE502=1,VLOOKUP($F502,all!$E$14:$AD$553,15),\"\")","v":""},{"$f":"IF($AE502=1,VLOOKUP($F502,all!$E$14:$AD$553,16),\"\")","v":""},{"$f":"IF($AE502=1,VLOOKUP($F502,all!$E$14:$AD$553,17),\"\")","v":""},{"$f":"IF($AE502=1,VLOOKUP($F502,all!$E$14:$AD$553,18),\"\")","v":""},{"$f":"IF($AE502=1,VLOOKUP($F502,all!$E$14:$AD$553,19),\"\")","v":""},{"$f":"IF($AE502=1,VLOOKUP($F502,all!$E$14:$AD$553,20),\"\")","v":""},{"$f":"IF($AE502=1,VLOOKUP($F502,all!$E$14:$AD$553,21),\"\")","v":""},{"$f":"IF($AE502=1,VLOOKUP($F502,all!$E$14:$AD$553,22),\"\")","v":""},{"$f":"IF($AE502=1,VLOOKUP($F502,all!$E$14:$AD$553,23),\"\")","v":""},{"$f":"IF($AE502=1,VLOOKUP($F502,all!$E$14:$AD$553,24),\"\")","v":""},{"$f":"IF($AE502=1,VLOOKUP($F502,all!$E$14:$AD$553,25),\"\")","v":""},null,{"$f":"COUNTIF(all!$E$14:$E$553,F502)","v":0}]
[null,null,null,null,null,470,{"$f":"IF($AE503=1,VLOOKUP($F503,all!$E$14:$AD$553,3),\"\")","v":""},{"$f":"IF($AE503=1,VLOOKUP($F503,all!$E$14:$AD$553,4),\"\")","v":""},{"$f":"IF($AE503=1,VLOOKUP($F503,all!$E$14:$AD$553,5),\"\")","v":""},{"$f":"IF($AE503=1,VLOOKUP($F503,all!$E$14:$AD$553,6),\"\")","v":""},{"$f":"IF($AE503=1,VLOOKUP($F503,all!$E$14:$AD$553,7),\"\")","v":""},{"$f":"IF($AE503=1,VLOOKUP($F503,all!$E$14:$AD$553,8),\"\")","v":""},{"$f":"IF($AE503=1,VLOOKUP($F503,all!$E$14:$AD$553,9),\"\")","v":""},{"$f":"IF($AE503=1,VLOOKUP($F503,all!$E$14:$AD$553,10),\"\")","v":""},{"$f":"IF($AE503=1,VLOOKUP($F503,all!$E$14:$AD$553,11),\"\")","v":""},{"$f":"IF($AE503=1,VLOOKUP($F503,all!$E$14:$AD$553,12),\"\")","v":""},{"$f":"IF($AE503=1,VLOOKUP($F503,all!$E$14:$AD$553,13),\"\")","v":""},{"$f":"IF($AE503=1,VLOOKUP($F503,all!$E$14:$AD$553,14),\"\")","v":""},{"$f":"IF($AE503=1,VLOOKUP($F503,all!$E$14:$AD$553,15),\"\")","v":""},{"$f":"IF($AE503=1,VLOOKUP($F503,all!$E$14:$AD$553,16),\"\")","v":""},{"$f":"IF($AE503=1,VLOOKUP($F503,all!$E$14:$AD$553,17),\"\")","v":""},{"$f":"IF($AE503=1,VLOOKUP($F503,all!$E$14:$AD$553,18),\"\")","v":""},{"$f":"IF($AE503=1,VLOOKUP($F503,all!$E$14:$AD$553,19),\"\")","v":""},{"$f":"IF($AE503=1,VLOOKUP($F503,all!$E$14:$AD$553,20),\"\")","v":""},{"$f":"IF($AE503=1,VLOOKUP($F503,all!$E$14:$AD$553,21),\"\")","v":""},{"$f":"IF($AE503=1,VLOOKUP($F503,all!$E$14:$AD$553,22),\"\")","v":""},{"$f":"IF($AE503=1,VLOOKUP($F503,all!$E$14:$AD$553,23),\"\")","v":""},{"$f":"IF($AE503=1,VLOOKUP($F503,all!$E$14:$AD$553,24),\"\")","v":""},{"$f":"IF($AE503=1,VLOOKUP($F503,all!$E$14:$AD$553,25),\"\")","v":""},null,{"$f":"COUNTIF(all!$E$14:$E$553,F503)","v":0}]
[null,null,null,null,null,471,{"$f":"IF($AE504=1,VLOOKUP($F504,all!$E$14:$AD$553,3),\"\")","v":""},{"$f":"IF($AE504=1,VLOOKUP($F504,all!$E$14:$AD$553,4),\"\")","v":""},{"$f":"IF($AE504=1,VLOOKUP($F504,all!$E$14:$AD$553,5),\"\")","v":""},{"$f":"IF($AE504=1,VLOOKUP($F504,all!$E$14:$AD$553,6),\"\")","v":""},{"$f":"IF($AE504=1,VLOOKUP($F504,all!$E$14:$AD$553,7),\"\")","v":""},{"$f":"IF($AE504=1,VLOOKUP($F504,all!$E$14:$AD$553,8),\"\")","v":""},{"$f":"IF($AE504=1,VLOOKUP($F504,all!$E$14:$AD$553,9),\"\")","v":""},{"$f":"IF($AE504=1,VLOOKUP($F504,all!$E$14:$AD$553,10),\"\")","v":""},{"$f":"IF($AE504=1,VLOOKUP($F504,all!$E$14:$AD$553,11),\"\")","v":""},{"$f":"IF($AE504=1,VLOOKUP($F504,all!$E$14:$AD$553,12),\"\")","v":""},{"$f":"IF($AE504=1,VLOOKUP($F504,all!$E$14:$AD$553,13),\"\")","v":""},{"$f":"IF($AE504=1,VLOOKUP($F504,all!$E$14:$AD$553,14),\"\")","v":""},{"$f":"IF($AE504=1,VLOOKUP($F504,all!$E$14:$AD$553,15),\"\")","v":""},{"$f":"IF($AE504=1,VLOOKUP($F504,all!$E$14:$AD$553,16),\"\")","v":""},{"$f":"IF($AE504=1,VLOOKUP($F504,all!$E$14:$AD$553,17),\"\")","v":""},{"$f":"IF($AE504=1,VLOOKUP($F504,all!$E$14:$AD$553,18),\"\")","v":""},{"$f":"IF($AE504=1,VLOOKUP($F504,all!$E$14:$AD$553,19),\"\")","v":""},{"$f":"IF($AE504=1,VLOOKUP($F504,all!$E$14:$AD$553,20),\"\")","v":""},{"$f":"IF($AE504=1,VLOOKUP($F504,all!$E$14:$AD$553,21),\"\")","v":""},{"$f":"IF($AE504=1,VLOOKUP($F504,all!$E$14:$AD$553,22),\"\")","v":""},{"$f":"IF($AE504=1,VLOOKUP($F504,all!$E$14:$AD$553,23),\"\")","v":""},{"$f":"IF($AE504=1,VLOOKUP($F504,all!$E$14:$AD$553,24),\"\")","v":""},{"$f":"IF($AE504=1,VLOOKUP($F504,all!$E$14:$AD$553,25),\"\")","v":""},null,{"$f":"COUNTIF(all!$E$14:$E$553,F504)","v":0}]
[null,null,null,null,null,472,{"$f":"IF($AE505=1,VLOOKUP($F505,all!$E$14:$AD$553,3),\"\")","v":""},{"$f":"IF($AE505=1,VLOOKUP($F505,all!$E$14:$AD$553,4),\"\")","v":""},{"$f":"IF($AE505=1,VLOOKUP($F505,all!$E$14:$AD$553,5),\"\")","v":""},{"$f":"IF($AE505=1,VLOOKUP($F505,all!$E$14:$AD$553,6),\"\")","v":""},{"$f":"IF($AE505=1,VLOOKUP($F505,all!$E$14:$AD$553,7),\"\")","v":""},{"$f":"IF($AE505=1,VLOOKUP($F505,all!$E$14:$AD$553,8),\"\")","v":""},{"$f":"IF($AE505=1,VLOOKUP($F505,all!$E$14:$AD$553,9),\"\")","v":""},{"$f":"IF($AE505=1,VLOOKUP($F505,all!$E$14:$AD$553,10),\"\")","v":""},{"$f":"IF($AE505=1,VLOOKUP($F505,all!$E$14:$AD$553,11),\"\")","v":""},{"$f":"IF($AE505=1,VLOOKUP($F505,all!$E$14:$AD$553,12),\"\")","v":""},{"$f":"IF($AE505=1,VLOOKUP($F505,all!$E$14:$AD$553,13),\"\")","v":""},{"$f":"IF($AE505=1,VLOOKUP($F505,all!$E$14:$AD$553,14),\"\")","v":""},{"$f":"IF($AE505=1,VLOOKUP($F505,all!$E$14:$AD$553,15),\"\")","v":""},{"$f":"IF($AE505=1,VLOOKUP($F505,all!$E$14:$AD$553,16),\"\")","v":""},{"$f":"IF($AE505=1,VLOOKUP($F505,all!$E$14:$AD$553,17),\"\")","v":""},{"$f":"IF($AE505=1,VLOOKUP($F505,all!$E$14:$AD$553,18),\"\")","v":""},{"$f":"IF($AE505=1,VLOOKUP($F505,all!$E$14:$AD$553,19),\"\")","v":""},{"$f":"IF($AE505=1,VLOOKUP($F505,all!$E$14:$AD$553,20),\"\")","v":""},{"$f":"IF($AE505=1,VLOOKUP($F505,all!$E$14:$AD$553,21),\"\")","v":""},{"$f":"IF($AE505=1,VLOOKUP($F505,all!$E$14:$AD$553,22),\"\")","v":""},{"$f":"IF($AE505=1,VLOOKUP($F505,all!$E$14:$AD$553,23),\"\")","v":""},{"$f":"IF($AE505=1,VLOOKUP($F505,all!$E$14:$AD$553,24),\"\")","v":""},{"$f":"IF($AE505=1,VLOOKUP($F505,all!$E$14:$AD$553,25),\"\")","v":""},null,{"$f":"COUNTIF(all!$E$14:$E$553,F505)","v":0}]
[null,null,null,null,null,473,{"$f":"IF($AE506=1,VLOOKUP($F506,all!$E$14:$AD$553,3),\"\")","v":""},{"$f":"IF($AE506=1,VLOOKUP($F506,all!$E$14:$AD$553,4),\"\")","v":""},{"$f":"IF($AE506=1,VLOOKUP($F506,all!$E$14:$AD$553,5),\"\")","v":""},{"$f":"IF($AE506=1,VLOOKUP($F506,all!$E$14:$AD$553,6),\"\")","v":""},{"$f":"IF($AE506=1,VLOOKUP($F506,all!$E$14:$AD$553,7),\"\")","v":""},{"$f":"IF($AE506=1,VLOOKUP($F506,all!$E$14:$AD$553,8),\"\")","v":""},{"$f":"IF($AE506=1,VLOOKUP($F506,all!$E$14:$AD$553,9),\"\")","v":""},{"$f":"IF($AE506=1,VLOOKUP($F506,all!$E$14:$AD$553,10),\"\")","v":""},{"$f":"IF($AE506=1,VLOOKUP($F506,all!$E$14:$AD$553,11),\"\")","v":""},{"$f":"IF($AE506=1,VLOOKUP($F506,all!$E$14:$AD$553,12),\"\")","v":""},{"$f":"IF($AE506=1,VLOOKUP($F506,all!$E$14:$AD$553,13),\"\")","v":""},{"$f":"IF($AE506=1,VLOOKUP($F506,all!$E$14:$AD$553,14),\"\")","v":""},{"$f":"IF($AE506=1,VLOOKUP($F506,all!$E$14:$AD$553,15),\"\")","v":""},{"$f":"IF($AE506=1,VLOOKUP($F506,all!$E$14:$AD$553,16),\"\")","v":""},{"$f":"IF($AE506=1,VLOOKUP($F506,all!$E$14:$AD$553,17),\"\")","v":""},{"$f":"IF($AE506=1,VLOOKUP($F506,all!$E$14:$AD$553,18),\"\")","v":""},{"$f":"IF($AE506=1,VLOOKUP($F506,all!$E$14:$AD$553,19),\"\")","v":""},{"$f":"IF($AE506=1,VLOOKUP($F506,all!$E$14:$AD$553,20),\"\")","v":""},{"$f":"IF($AE506=1,VLOOKUP($F506,all!$E$14:$AD$553,21),\"\")","v":""},{"$f":"IF($AE506=1,VLOOKUP($F506,all!$E$14:$AD$553,22),\"\")","v":""},{"$f":"IF($AE506=1,VLOOKUP($F506,all!$E$14:$AD$553,23),\"\")","v":""},{"$f":"IF($AE506=1,VLOOKUP($F506,all!$E$14:$AD$553,24),\"\")","v":""},{"$f":"IF($AE506=1,VLOOKUP($F506,all!$E$14:$AD$553,25),\"\")","v":""},null,{"$f":"COUNTIF(all!$E$14:$E$553,F506)","v":0}]
[null,null,null,null,null,474,{"$f":"IF($AE507=1,VLOOKUP($F507,all!$E$14:$AD$553,3),\"\")","v":""},{"$f":"IF($AE507=1,VLOOKUP($F507,all!$E$14:$AD$553,4),\"\")","v":""},{"$f":"IF($AE507=1,VLOOKUP($F507,all!$E$14:$AD$553,5),\"\")","v":""},{"$f":"IF($AE507=1,VLOOKUP($F507,all!$E$14:$AD$553,6),\"\")","v":""},{"$f":"IF($AE507=1,VLOOKUP($F507,all!$E$14:$AD$553,7),\"\")","v":""},{"$f":"IF($AE507=1,VLOOKUP($F507,all!$E$14:$AD$553,8),\"\")","v":""},{"$f":"IF($AE507=1,VLOOKUP($F507,all!$E$14:$AD$553,9),\"\")","v":""},{"$f":"IF($AE507=1,VLOOKUP($F507,all!$E$14:$AD$553,10),\"\")","v":""},{"$f":"IF($AE507=1,VLOOKUP($F507,all!$E$14:$AD$553,11),\"\")","v":""},{"$f":"IF($AE507=1,VLOOKUP($F507,all!$E$14:$AD$553,12),\"\")","v":""},{"$f":"IF($AE507=1,VLOOKUP($F507,all!$E$14:$AD$553,13),\"\")","v":""},{"$f":"IF($AE507=1,VLOOKUP($F507,all!$E$14:$AD$553,14),\"\")","v":""},{"$f":"IF($AE507=1,VLOOKUP($F507,all!$E$14:$AD$553,15),\"\")","v":""},{"$f":"IF($AE507=1,VLOOKUP($F507,all!$E$14:$AD$553,16),\"\")","v":""},{"$f":"IF($AE507=1,VLOOKUP($F507,all!$E$14:$AD$553,17),\"\")","v":""},{"$f":"IF($AE507=1,VLOOKUP($F507,all!$E$14:$AD$553,18),\"\")","v":""},{"$f":"IF($AE507=1,VLOOKUP($F507,all!$E$14:$AD$553,19),\"\")","v":""},{"$f":"IF($AE507=1,VLOOKUP($F507,all!$E$14:$AD$553,20),\"\")","v":""},{"$f":"IF($AE507=1,VLOOKUP($F507,all!$E$14:$AD$553,21),\"\")","v":""},{"$f":"IF($AE507=1,VLOOKUP($F507,all!$E$14:$AD$553,22),\"\")","v":""},{"$f":"IF($AE507=1,VLOOKUP($F507,all!$E$14:$AD$553,23),\"\")","v":""},{"$f":"IF($AE507=1,VLOOKUP($F507,all!$E$14:$AD$553,24),\"\")","v":""},{"$f":"IF($AE507=1,VLOOKUP($F507,all!$E$14:$AD$553,25),\"\")","v":""},null,{"$f":"COUNTIF(all!$E$14:$E$553,F507)","v":0}]
[null,null,null,null,null,475,{"$f":"IF($AE508=1,VLOOKUP($F508,all!$E$14:$AD$553,3),\"\")","v":""},{"$f":"IF($AE508=1,VLOOKUP($F508,all!$E$14:$AD$553,4),\"\")","v":""},{"$f":"IF($AE508=1,VLOOKUP($F508,all!$E$14:$AD$553,5),\"\")","v":""},{"$f":"IF($AE508=1,VLOOKUP($F508,all!$E$14:$AD$553,6),\"\")","v":""},{"$f":"IF($AE508=1,VLOOKUP($F508,all!$E$14:$AD$553,7),\"\")","v":""},{"$f":"IF($AE508=1,VLOOKUP($F508,all!$E$14:$AD$553,8),\"\")","v":""},{"$f":"IF($AE508=1,VLOOKUP($F508,all!$E$14:$AD$553,9),\"\")","v":""},{"$f":"IF($AE508=1,VLOOKUP($F508,all!$E$14:$AD$553,10),\"\")","v":""},{"$f":"IF($AE508=1,VLOOKUP($F508,all!$E$14:$AD$553,11),\"\")","v":""},{"$f":"IF($AE508=1,VLOOKUP($F508,all!$E$14:$AD$553,12),\"\")","v":""},{"$f":"IF($AE508=1,VLOOKUP($F508,all!$E$14:$AD$553,13),\"\")","v":""},{"$f":"IF($AE508=1,VLOOKUP($F508,all!$E$14:$AD$553,14),\"\")","v":""},{"$f":"IF($AE508=1,VLOOKUP($F508,all!$E$14:$AD$553,15),\"\")","v":""},{"$f":"IF($AE508=1,VLOOKUP($F508,all!$E$14:$AD$553,16),\"\")","v":""},{"$f":"IF($AE508=1,VLOOKUP($F508,all!$E$14:$AD$553,17),\"\")","v":""},{"$f":"IF($AE508=1,VLOOKUP($F508,all!$E$14:$AD$553,18),\"\")","v":""},{"$f":"IF($AE508=1,VLOOKUP($F508,all!$E$14:$AD$553,19),\"\")","v":""},{"$f":"IF($AE508=1,VLOOKUP($F508,all!$E$14:$AD$553,20),\"\")","v":""},{"$f":"IF($AE508=1,VLOOKUP($F508,all!$E$14:$AD$553,21),\"\")","v":""},{"$f":"IF($AE508=1,VLOOKUP($F508,all!$E$14:$AD$553,22),\"\")","v":""},{"$f":"IF($AE508=1,VLOOKUP($F508,all!$E$14:$AD$553,23),\"\")","v":""},{"$f":"IF($AE508=1,VLOOKUP($F508,all!$E$14:$AD$553,24),\"\")","v":""},{"$f":"IF($AE508=1,VLOOKUP($F508,all!$E$14:$AD$553,25),\"\")","v":""},null,{"$f":"COUNTIF(all!$E$14:$E$553,F508)","v":0}]
[null,null,null,null,null,476,{"$f":"IF($AE509=1,VLOOKUP($F509,all!$E$14:$AD$553,3),\"\")","v":""},{"$f":"IF($AE509=1,VLOOKUP($F509,all!$E$14:$AD$553,4),\"\")","v":""},{"$f":"IF($AE509=1,VLOOKUP($F509,all!$E$14:$AD$553,5),\"\")","v":""},{"$f":"IF($AE509=1,VLOOKUP($F509,all!$E$14:$AD$553,6),\"\")","v":""},{"$f":"IF($AE509=1,VLOOKUP($F509,all!$E$14:$AD$553,7),\"\")","v":""},{"$f":"IF($AE509=1,VLOOKUP($F509,all!$E$14:$AD$553,8),\"\")","v":""},{"$f":"IF($AE509=1,VLOOKUP($F509,all!$E$14:$AD$553,9),\"\")","v":""},{"$f":"IF($AE509=1,VLOOKUP($F509,all!$E$14:$AD$553,10),\"\")","v":""},{"$f":"IF($AE509=1,VLOOKUP($F509,all!$E$14:$AD$553,11),\"\")","v":""},{"$f":"IF($AE509=1,VLOOKUP($F509,all!$E$14:$AD$553,12),\"\")","v":""},{"$f":"IF($AE509=1,VLOOKUP($F509,all!$E$14:$AD$553,13),\"\")","v":""},{"$f":"IF($AE509=1,VLOOKUP($F509,all!$E$14:$AD$553,14),\"\")","v":""},{"$f":"IF($AE509=1,VLOOKUP($F509,all!$E$14:$AD$553,15),\"\")","v":""},{"$f":"IF($AE509=1,VLOOKUP($F509,all!$E$14:$AD$553,16),\"\")","v":""},{"$f":"IF($AE509=1,VLOOKUP($F509,all!$E$14:$AD$553,17),\"\")","v":""},{"$f":"IF($AE509=1,VLOOKUP($F509,all!$E$14:$AD$553,18),\"\")","v":""},{"$f":"IF($AE509=1,VLOOKUP($F509,all!$E$14:$AD$553,19),\"\")","v":""},{"$f":"IF($AE509=1,VLOOKUP($F509,all!$E$14:$AD$553,20),\"\")","v":""},{"$f":"IF($AE509=1,VLOOKUP($F509,all!$E$14:$AD$553,21),\"\")","v":""},{"$f":"IF($AE509=1,VLOOKUP($F509,all!$E$14:$AD$553,22),\"\")","v":""},{"$f":"IF($AE509=1,VLOOKUP($F509,all!$E$14:$AD$553,23),\"\")","v":""},{"$f":"IF($AE509=1,VLOOKUP($F509,all!$E$14:$AD$553,24),\"\")","v":""},{"$f":"IF($AE509=1,VLOOKUP($F509,all!$E$14:$AD$553,25),\"\")","v":""},null,{"$f":"COUNTIF(all!$E$14:$E$553,F509)","v":0}]
[null,null,null,null,null,477,{"$f":"IF($AE510=1,VLOOKUP($F510,all!$E$14:$AD$553,3),\"\")","v":""},{"$f":"IF($AE510=1,VLOOKUP($F510,all!$E$14:$AD$553,4),\"\")","v":""},{"$f":"IF($AE510=1,VLOOKUP($F510,all!$E$14:$AD$553,5),\"\")","v":""},{"$f":"IF($AE510=1,VLOOKUP($F510,all!$E$14:$AD$553,6),\"\")","v":""},{"$f":"IF($AE510=1,VLOOKUP($F510,all!$E$14:$AD$553,7),\"\")","v":""},{"$f":"IF($AE510=1,VLOOKUP($F510,all!$E$14:$AD$553,8),\"\")","v":""},{"$f":"IF($AE510=1,VLOOKUP($F510,all!$E$14:$AD$553,9),\"\")","v":""},{"$f":"IF($AE510=1,VLOOKUP($F510,all!$E$14:$AD$553,10),\"\")","v":""},{"$f":"IF($AE510=1,VLOOKUP($F510,all!$E$14:$AD$553,11),\"\")","v":""},{"$f":"IF($AE510=1,VLOOKUP($F510,all!$E$14:$AD$553,12),\"\")","v":""},{"$f":"IF($AE510=1,VLOOKUP($F510,all!$E$14:$AD$553,13),\"\")","v":""},{"$f":"IF($AE510=1,VLOOKUP($F510,all!$E$14:$AD$553,14),\"\")","v":""},{"$f":"IF($AE510=1,VLOOKUP($F510,all!$E$14:$AD$553,15),\"\")","v":""},{"$f":"IF($AE510=1,VLOOKUP($F510,all!$E$14:$AD$553,16),\"\")","v":""},{"$f":"IF($AE510=1,VLOOKUP($F510,all!$E$14:$AD$553,17),\"\")","v":""},{"$f":"IF($AE510=1,VLOOKUP($F510,all!$E$14:$AD$553,18),\"\")","v":""},{"$f":"IF($AE510=1,VLOOKUP($F510,all!$E$14:$AD$553,19),\"\")","v":""},{"$f":"IF($AE510=1,VLOOKUP($F510,all!$E$14:$AD$553,20),\"\")","v":""},{"$f":"IF($AE510=1,VLOOKUP($F510,all!$E$14:$AD$553,21),\"\")","v":""},{"$f":"IF($AE510=1,VLOOKUP($F510,all!$E$14:$AD$553,22),\"\")","v":""},{"$f":"IF($AE510=1,VLOOKUP($F510,all!$E$14:$AD$553,23),\"\")","v":""},{"$f":"IF($AE510=1,VLOOKUP($F510,all!$E$14:$AD$553,24),\"\")","v":""},{"$f":"IF($AE510=1,VLOOKUP($F510,all!$E$14:$AD$553,25),\"\")","v":""},null,{"$f":"COUNTIF(all!$E$14:$E$553,F510)","v":0}]
[null,null,null,null,null,478,{"$f":"IF($AE511=1,VLOOKUP($F511,all!$E$14:$AD$553,3),\"\")","v":""},{"$f":"IF($AE511=1,VLOOKUP($F511,all!$E$14:$AD$553,4),\"\")","v":""},{"$f":"IF($AE511=1,VLOOKUP($F511,all!$E$14:$AD$553,5),\"\")","v":""},{"$f":"IF($AE511=1,VLOOKUP($F511,all!$E$14:$AD$553,6),\"\")","v":""},{"$f":"IF($AE511=1,VLOOKUP($F511,all!$E$14:$AD$553,7),\"\")","v":""},{"$f":"IF($AE511=1,VLOOKUP($F511,all!$E$14:$AD$553,8),\"\")","v":""},{"$f":"IF($AE511=1,VLOOKUP($F511,all!$E$14:$AD$553,9),\"\")","v":""},{"$f":"IF($AE511=1,VLOOKUP($F511,all!$E$14:$AD$553,10),\"\")","v":""},{"$f":"IF($AE511=1,VLOOKUP($F511,all!$E$14:$AD$553,11),\"\")","v":""},{"$f":"IF($AE511=1,VLOOKUP($F511,all!$E$14:$AD$553,12),\"\")","v":""},{"$f":"IF($AE511=1,VLOOKUP($F511,all!$E$14:$AD$553,13),\"\")","v":""},{"$f":"IF($AE511=1,VLOOKUP($F511,all!$E$14:$AD$553,14),\"\")","v":""},{"$f":"IF($AE511=1,VLOOKUP($F511,all!$E$14:$AD$553,15),\"\")","v":""},{"$f":"IF($AE511=1,VLOOKUP($F511,all!$E$14:$AD$553,16),\"\")","v":""},{"$f":"IF($AE511=1,VLOOKUP($F511,all!$E$14:$AD$553,17),\"\")","v":""},{"$f":"IF($AE511=1,VLOOKUP($F511,all!$E$14:$AD$553,18),\"\")","v":""},{"$f":"IF($AE511=1,VLOOKUP($F511,all!$E$14:$AD$553,19),\"\")","v":""},{"$f":"IF($AE511=1,VLOOKUP($F511,all!$E$14:$AD$553,20),\"\")","v":""},{"$f":"IF($AE511=1,VLOOKUP($F511,all!$E$14:$AD$553,21),\"\")","v":""},{"$f":"IF($AE511=1,VLOOKUP($F511,all!$E$14:$AD$553,22),\"\")","v":""},{"$f":"IF($AE511=1,VLOOKUP($F511,all!$E$14:$AD$553,23),\"\")","v":""},{"$f":"IF($AE511=1,VLOOKUP($F511,all!$E$14:$AD$553,24),\"\")","v":""},{"$f":"IF($AE511=1,VLOOKUP($F511,all!$E$14:$AD$553,25),\"\")","v":""},null,{"$f":"COUNTIF(all!$E$14:$E$553,F511)","v":0}]
[null,null,null,null,null,479,{"$f":"IF($AE512=1,VLOOKUP($F512,all!$E$14:$AD$553,3),\"\")","v":""},{"$f":"IF($AE512=1,VLOOKUP($F512,all!$E$14:$AD$553,4),\"\")","v":""},{"$f":"IF($AE512=1,VLOOKUP($F512,all!$E$14:$AD$553,5),\"\")","v":""},{"$f":"IF($AE512=1,VLOOKUP($F512,all!$E$14:$AD$553,6),\"\")","v":""},{"$f":"IF($AE512=1,VLOOKUP($F512,all!$E$14:$AD$553,7),\"\")","v":""},{"$f":"IF($AE512=1,VLOOKUP($F512,all!$E$14:$AD$553,8),\"\")","v":""},{"$f":"IF($AE512=1,VLOOKUP($F512,all!$E$14:$AD$553,9),\"\")","v":""},{"$f":"IF($AE512=1,VLOOKUP($F512,all!$E$14:$AD$553,10),\"\")","v":""},{"$f":"IF($AE512=1,VLOOKUP($F512,all!$E$14:$AD$553,11),\"\")","v":""},{"$f":"IF($AE512=1,VLOOKUP($F512,all!$E$14:$AD$553,12),\"\")","v":""},{"$f":"IF($AE512=1,VLOOKUP($F512,all!$E$14:$AD$553,13),\"\")","v":""},{"$f":"IF($AE512=1,VLOOKUP($F512,all!$E$14:$AD$553,14),\"\")","v":""},{"$f":"IF($AE512=1,VLOOKUP($F512,all!$E$14:$AD$553,15),\"\")","v":""},{"$f":"IF($AE512=1,VLOOKUP($F512,all!$E$14:$AD$553,16),\"\")","v":""},{"$f":"IF($AE512=1,VLOOKUP($F512,all!$E$14:$AD$553,17),\"\")","v":""},{"$f":"IF($AE512=1,VLOOKUP($F512,all!$E$14:$AD$553,18),\"\")","v":""},{"$f":"IF($AE512=1,VLOOKUP($F512,all!$E$14:$AD$553,19),\"\")","v":""},{"$f":"IF($AE512=1,VLOOKUP($F512,all!$E$14:$AD$553,20),\"\")","v":""},{"$f":"IF($AE512=1,VLOOKUP($F512,all!$E$14:$AD$553,21),\"\")","v":""},{"$f":"IF($AE512=1,VLOOKUP($F512,all!$E$14:$AD$553,22),\"\")","v":""},{"$f":"IF($AE512=1,VLOOKUP($F512,all!$E$14:$AD$553,23),\"\")","v":""},{"$f":"IF($AE512=1,VLOOKUP($F512,all!$E$14:$AD$553,24),\"\")","v":""},{"$f":"IF($AE512=1,VLOOKUP($F512,all!$E$14:$AD$553,25),\"\")","v":""},null,{"$f":"COUNTIF(all!$E$14:$E$553,F512)","v":0}]
[null,null,null,null,null,480,{"$f":"IF($AE513=1,VLOOKUP($F513,all!$E$14:$AD$553,3),\"\")","v":""},{"$f":"IF($AE513=1,VLOOKUP($F513,all!$E$14:$AD$553,4),\"\")","v":""},{"$f":"IF($AE513=1,VLOOKUP($F513,all!$E$14:$AD$553,5),\"\")","v":""},{"$f":"IF($AE513=1,VLOOKUP($F513,all!$E$14:$AD$553,6),\"\")","v":""},{"$f":"IF($AE513=1,VLOOKUP($F513,all!$E$14:$AD$553,7),\"\")","v":""},{"$f":"IF($AE513=1,VLOOKUP($F513,all!$E$14:$AD$553,8),\"\")","v":""},{"$f":"IF($AE513=1,VLOOKUP($F513,all!$E$14:$AD$553,9),\"\")","v":""},{"$f":"IF($AE513=1,VLOOKUP($F513,all!$E$14:$AD$553,10),\"\")","v":""},{"$f":"IF($AE513=1,VLOOKUP($F513,all!$E$14:$AD$553,11),\"\")","v":""},{"$f":"IF($AE513=1,VLOOKUP($F513,all!$E$14:$AD$553,12),\"\")","v":""},{"$f":"IF($AE513=1,VLOOKUP($F513,all!$E$14:$AD$553,13),\"\")","v":""},{"$f":"IF($AE513=1,VLOOKUP($F513,all!$E$14:$AD$553,14),\"\")","v":""},{"$f":"IF($AE513=1,VLOOKUP($F513,all!$E$14:$AD$553,15),\"\")","v":""},{"$f":"IF($AE513=1,VLOOKUP($F513,all!$E$14:$AD$553,16),\"\")","v":""},{"$f":"IF($AE513=1,VLOOKUP($F513,all!$E$14:$AD$553,17),\"\")","v":""},{"$f":"IF($AE513=1,VLOOKUP($F513,all!$E$14:$AD$553,18),\"\")","v":""},{"$f":"IF($AE513=1,VLOOKUP($F513,all!$E$14:$AD$553,19),\"\")","v":""},{"$f":"IF($AE513=1,VLOOKUP($F513,all!$E$14:$AD$553,20),\"\")","v":""},{"$f":"IF($AE513=1,VLOOKUP($F513,all!$E$14:$AD$553,21),\"\")","v":""},{"$f":"IF($AE513=1,VLOOKUP($F513,all!$E$14:$AD$553,22),\"\")","v":""},{"$f":"IF($AE513=1,VLOOKUP($F513,all!$E$14:$AD$553,23),\"\")","v":""},{"$f":"IF($AE513=1,VLOOKUP($F513,all!$E$14:$AD$553,24),\"\")","v":""},{"$f":"IF($AE513=1,VLOOKUP($F513,all!$E$14:$AD$553,25),\"\")","v":""},null,{"$f":"COUNTIF(all!$E$14:$E$553,F513)","v":0}]
[null,null,null,null,null,481,{"$f":"IF($AE514=1,VLOOKUP($F514,all!$E$14:$AD$553,3),\"\")","v":""},{"$f":"IF($AE514=1,VLOOKUP($F514,all!$E$14:$AD$553,4),\"\")","v":""},{"$f":"IF($AE514=1,VLOOKUP($F514,all!$E$14:$AD$553,5),\"\")","v":""},{"$f":"IF($AE514=1,VLOOKUP($F514,all!$E$14:$AD$553,6),\"\")","v":""},{"$f":"IF($AE514=1,VLOOKUP($F514,all!$E$14:$AD$553,7),\"\")","v":""},{"$f":"IF($AE514=1,VLOOKUP($F514,all!$E$14:$AD$553,8),\"\")","v":""},{"$f":"IF($AE514=1,VLOOKUP($F514,all!$E$14:$AD$553,9),\"\")","v":""},{"$f":"IF($AE514=1,VLOOKUP($F514,all!$E$14:$AD$553,10),\"\")","v":""},{"$f":"IF($AE514=1,VLOOKUP($F514,all!$E$14:$AD$553,11),\"\")","v":""},{"$f":"IF($AE514=1,VLOOKUP($F514,all!$E$14:$AD$553,12),\"\")","v":""},{"$f":"IF($AE514=1,VLOOKUP($F514,all!$E$14:$AD$553,13),\"\")","v":""},{"$f":"IF($AE514=1,VLOOKUP($F514,all!$E$14:$AD$553,14),\"\")","v":""},{"$f":"IF($AE514=1,VLOOKUP($F514,all!$E$14:$AD$553,15),\"\")","v":""},{"$f":"IF($AE514=1,VLOOKUP($F514,all!$E$14:$AD$553,16),\"\")","v":""},{"$f":"IF($AE514=1,VLOOKUP($F514,all!$E$14:$AD$553,17),\"\")","v":""},{"$f":"IF($AE514=1,VLOOKUP($F514,all!$E$14:$AD$553,18),\"\")","v":""},{"$f":"IF($AE514=1,VLOOKUP($F514,all!$E$14:$AD$553,19),\"\")","v":""},{"$f":"IF($AE514=1,VLOOKUP($F514,all!$E$14:$AD$553,20),\"\")","v":""},{"$f":"IF($AE514=1,VLOOKUP($F514,all!$E$14:$AD$553,21),\"\")","v":""},{"$f":"IF($AE514=1,VLOOKUP($F514,all!$E$14:$AD$553,22),\"\")","v":""},{"$f":"IF($AE514=1,VLOOKUP($F514,all!$E$14:$AD$553,23),\"\")","v":""},{"$f":"IF($AE514=1,VLOOKUP($F514,all!$E$14:$AD$553,24),\"\")","v":""},{"$f":"IF($AE514=1,VLOOKUP($F514,all!$E$14:$AD$553,25),\"\")","v":""},null,{"$f":"COUNTIF(all!$E$14:$E$553,F514)","v":0}]

{"sheet":"all","index":2,"n_rows":581,"n_cols":57,"rows_kept":581,"cut":false,"hidden":true,"merged":[]}
[null,null,null,null,null,null,null,null,null,null,1,"up","all spreads",1,"profit loss $s",null,"GREEKS ",null,"probability",1,null,null,null,null,null,null,null,null,null,null,null,null,null,null,null,{"$f":"MATCH(MIN(AI6:AI40),AI6:AI40)","v":{"$error":"#N/A"}},null,{"$f":"VLOOKUP($AP$1,$A$6:$D$105,2)","v":46.25},{"$f":"VLOOKUP($AP$2,$A$6:$D$105,2)","v":260},null,"D vert strike arb call (sc+bc) '''\\_",{"$f":"MATCH(MAX($AO$6:$AO$105),$AO$6:$AO$105,0)","v":6},1,"C neg tv arb bC+bp",{"$f":"MATCH(MIN($AG$6:$AG$105),$AG$6:$AG$105,0)","v":7},{"$f":"MATCH(MAX($AG$6:$AG$105),$AG$6:$AG$105,0)","v":87},null,"=VLOOKUP(AT1,$A$6:$D$110,2)","=VLOOKUP(AS1,$A$6:$D$110,3)"]
[null,"symbol","price'","expire","volat",null,null,null,null,null,2,"down","favorable spreads",2,"profit loss %",1,"delta (stk prc)",null,1,"probability",null,null,null,null,null,null,null,null,null,null,null,null,null,null,null,null,null,null,null,null,"U vert strike arb put (sp+bp) _/'''",{"$f":"MATCH(MAX($AP$6:$AP$105),$AP$6:$AP$105,0)","v":80},"theoretical","P neg tv arb bP+bc",{"$f":"MATCH(MIN($AH$6:$AH$105),$AH$6:$AH$105,0)","v":100},{"$f":"MATCH(MAX($AH$6:$AH$105),$AH$6:$AH$105,0)","v":56},null,"=VLOOKUP(AT2,$A$6:$D$110,2)","=VLOOKUP(AS2,$A$6:$D$110,4)"]
[null,{"$f":"sum!B2","v":"AAPL"},{"$f":"sum!C2","v":167.92},{"$f":"sum!D2","v":"2022-09-16"},{"$f":"sum!B6","v":0.23897626810714645},null,null,null,null,null,3,"neutral",null,null,null,2,"gamma (delta)","G",2,"odds",null,null,null,null,null,null,null,null,null,null,null,null,null,null,null,"min ntv","max ntv",null,null,null,null,1,"implied volatility"]
[null,null,{"$f":"IF(ISNA(MATCH(IF(C3<5,C3,ROUND(C3,-1)),B6:B105))=TRUE,C3,MATCH(IF(C3<5,C3,ROUND(C3,-1)),B6:B105))","v":57},{"$f":"MATCH(IF(C3<5,C3,ROUND(C3,-1)),B111:B209)","v":23},null,null,null,null,null,null,4,"volatile",null,null,null,3,"theta (time to exp)","T",null,null,null,null,null,null,null,null,null,null,null,null,null,null,null,null,null,{"$f":"MIN(AI6:AI105)","v":-1.2299999999999847},{"$f":"MAX(AI6:AI105)","v":338.56},null,null,null,null,null,"delta"]
[null,"strike","calls","puts",null,null,null,null,null,null,5,"arbitrage",null,null,null,4,"vega (volatility)","V",null,null,null,null,null,null,null,null,null,null,null,null,null,null,"ctv","ptv","net tv",{"$f":"VLOOKUP(MATCH(\"X\",$AJ$6:$AJ$105),$A$6:$B$105,2)","v":47.5},{"$f":"VLOOKUP(MATCH(\"X\",$AK$6:$AK$105),$A$6:$B$105,2)","v":315},{"$f":"H32","v":170},null,null,"arbcall","arbput","time value","theo call","theo put","iv call","iv put","delta call","delta put","tv call","tv put"]
[1,{"$f":"IF(sum!A14=\"\",\"\",sum!A14)","v":40},{"$f":"IF(sum!B14=\"\",\"\",sum!B14)","v":127},{"$f":"IF(sum!D14=\"\",\"\",sum!D14)","v":0.01},null,{"$f":"VLOOKUP(105+$D$4,$A$111:$D$214,2)","v":170},null,null,null,null,6,"debit",null,null,null,5,"rho (interest)","R",null,null,null,null,null,null,null,null,null,null,null,null,null,null,{"$f":"IF(OR(C6=0,C6=\"\"),\"\",IF(B6>=$C$3,C6,C6-($C$3-B6)))","v":-0.91999999999998749},{"$f":"IF(OR(D6=0,D6=\"\"),\"\",IF(B6<=$C$3,D6,D6-(B6-$C$3)))","v":0.01},{"$f":"IF(OR(C6=\"\",D6=\"\",C6=0,D6=0),\"\",AG6-AH6)","v":-0.9299999999999875},{"$f":"IF(AI6=MIN($AI$6:$AI$105),\"X\",1)","v":1},{"$f":"IF(AI6=MAX($AI$6:$AI$105),\"X\",1)","v":1},null,null,null,{"$f":"IF(B7=\"\",-9999,(C6-C7)-(B7-B6))","v":-0.20000000000000284},{"$f":"IF(B7=\"\",-9999,(D7-D6)-(B7-B6))","v":-1.25},null,{"$f":"IF(sum!A14=\"\",0,PB(\"C\",sum!$C$2,sum!A14,(sum!$D$2-NOW())/365,sum!$C$6,sum!$D$6,sum!$B$6))","v":127.76930281757714},{"$f":"IF(sum!A14=\"\",0,PB(\"P\",sum!$C$2,sum!A14,(sum!$D$2-NOW())/365,sum!$C$6,sum!$D$6,sum!$B$6))","v":0},{"$f":"IF(OR(sum!B14=0,sum!A14=\"\"),0,V(\"C\",sum!$C$2,sum!A14,(sum!$D$2-NOW())/365,$F$2,$G$2,sum!B14))","v":3.0517578125E-5},{"$f":"IF(OR(sum!D14=0,sum!A14=\"\"),0,V(\"P\",sum!$C$2,sum!A14,(sum!$D$2-NOW())/365,$F$2,$G$2,sum!D14))","v":1.999969482421875},{"$f":"IF(sum!A14=\"\",\"\",D(\"C\",sum!$C$2,sum!A14,(sum!$D$2-NOW())/365,sum!$C$6,sum!$D$6,sum!$B$6))","v":1},{"$f":"IF(sum!A14=\"\",\"\",D(\"P\",sum!$C$2,sum!A14,(sum!$D$2-NOW())/365,sum!$C$6,sum!$D$6,sum!$B$6))","v":0},{"$f":"AG6","v":-0.91999999999998749},{"$f":"AH6","v":0.01}]
[2,{"$f":"IF(sum!A15=\"\",\"\",sum!A15)","v":41.25},{"$f":"IF(sum!B15=\"\",\"\",sum!B15)","v":125.95},{"$f":"IF(sum!D15=\"\",\"\",sum!D15)","v":0.01},null,null,null,null,null,null,7,"credit",null,null,null,null,null,null,null,null,null,null,null,null,null,null,null,null,null,null,null,null,-0.71999999999998465,0.01,-0.72999999999998466,1,{"$f":"IF(AI7=MAX($AI$6:$AI$105),\"X\",1)","v":1},null,null,null,{"$f":"IF(B8=\"\",-9999,(C7-C8)-(B8-B7))","v":-0.39999999999999147},{"$f":"IF(B8=\"\",-9999,(D8-D7)-(B8-B7))","v":-1.24},null,{"$f":"IF(sum!A15=\"\",0,PB(\"C\",sum!$C$2,sum!A15,(sum!$D$2-NOW())/365,sum!$C$6,sum!$D$6,sum!$B$6))","v":126.51993972209533},{"$f":"IF(sum!A15=\"\",0,PB(\"P\",sum!$C$2,sum!A15,(sum!$D$2-NOW())/365,sum!$C$6,sum!$D$6,sum!$B$6))","v":0},{"$f":"IF(OR(sum!B15=0,sum!A15=\"\"),0,V(\"C\",sum!$C$2,sum!A15,(sum!$D$2-NOW())/365,$F$2,$G$2,sum!B15))","v":3.0517578125E-5},{"$f":"IF(OR(sum!D15=0,sum!A15=\"\"),0,V(\"P\",sum!$C$2,sum!A15,(sum!$D$2-NOW())/365,$F$2,$G$2,sum!D15))","v":1.999969482421875},{"$f":"IF(sum!A15=\"\",\"\",D(\"C\",sum!$C$2,sum!A15,(sum!$D$2-NOW())/365,sum!$C$6,sum!$D$6,sum!$B$6))","v":1},{"$f":"IF(sum!A15=\"\",\"\",D(\"P\",sum!$C$2,sum!A15,(sum!$D$2-NOW())/365,sum!$C$6,sum!$D$6,sum!$B$6))","v":0},{"$f":"AG7","v":-0.71999999999998465},{"$f":"AH7","v":0.01}]
[3,{"$f":"IF(sum!A16=\"\",\"\",sum!A16)","v":42.5},{"$f":"IF(sum!B16=\"\",\"\",sum!B16)","v":125.1},{"$f":"IF(sum!D16=\"\",\"\",sum!D16)","v":0.02},null,null,null,null,null,null,8,"strangle straddle",null,null,null,null,null,null,null,null,null,null,null,null,null,null,null,null,null,null,null,null,-0.31999999999999318,0.02,-0.3399999999999932,1,1,null,null,null,0.14999999999999147,-1.26,null,{"$f":"IF(sum!A16=\"\",0,PB(\"C\",sum!$C$2,sum!A16,(sum!$D$2-NOW())/365,sum!$C$6,sum!$D$6,sum!$B$6))","v":125.270576642528},{"$f":"IF(sum!A16=\"\",0,PB(\"P\",sum!$C$2,sum!A16,(sum!$D$2-NOW())/365,sum!$C$6,sum!$D$6,sum!$B$6))","v":0},{"$f":"IF(OR(sum!B16=0,sum!A16=\"\"),0,V(\"C\",sum!$C$2,sum!A16,(sum!$D$2-NOW())/365,$F$2,$G$2,sum!B16))","v":3.0517578125E-5},{"$f":"IF(OR(sum!D16=0,sum!A16=\"\"),0,V(\"P\",sum!$C$2,sum!A16,(sum!$D$2-NOW())/365,$F$2,$G$2,sum!D16))","v":1.999969482421875},{"$f":"IF(sum!A16=\"\",\"\",D(\"C\",sum!$C$2,sum!A16,(sum!$D$2-NOW())/365,sum!$C$6,sum!$D$6,sum!$B$6))","v":1},{"$f":"IF(sum!A16=\"\",\"\",D(\"P\",sum!$C$2,sum!A16,(sum!$D$2-NOW())/365,sum!$C$6,sum!$D$6,sum!$B$6))","v":0},-0.31999999999999318,0.02]
[4,{"$f":"IF(sum!A17=\"\",\"\",sum!A17)","v":43.75},{"$f":"IF(sum!B17=\"\",\"\",sum!B17)","v":123.7},{"$f":"IF(sum!D17=\"\",\"\",sum!D17)","v":0.01},null,null,null,null,null,null,9,"ratio",null,null,null,null,null,null,null,null,null,null,null,null,null,null,null,null,null,null,{"$f":"MATCH(MIN($AF$14:$AF$452),$AF$14:$AF$452,0)","v":147},1,-0.46999999999998465,0.01,-0.47999999999998466,1,1,null,null,null,-0.39999999999999147,-1.25,null,{"$f":"IF(sum!A17=\"\",0,PB(\"C\",sum!$C$2,sum!A17,(sum!$D$2-NOW())/365,sum!$C$6,sum!$D$6,sum!$B$6))","v":124.02121356664566},{"$f":"IF(sum!A17=\"\",0,PB(\"P\",sum!$C$2,sum!A17,(sum!$D$2-NOW())/365,sum!$C$6,sum!$D$6,sum!$B$6))","v":0},{"$f":"IF(OR(sum!B17=0,sum!A17=\"\"),0,V(\"C\",sum!$C$2,sum!A17,(sum!$D$2-NOW())/365,$F$2,$G$2,sum!B17))","v":3.0517578125E-5},{"$f":"IF(OR(sum!D17=0,sum!A17=\"\"),0,V(\"P\",sum!$C$2,sum!A17,(sum!$D$2-NOW())/365,$F$2,$G$2,sum!D17))","v":1.926177978515625},{"$f":"IF(sum!A17=\"\",\"\",D(\"C\",sum!$C$2,sum!A17,(sum!$D$2-NOW())/365,sum!$C$6,sum!$D$6,sum!$B$6))","v":1},{"$f":"IF(sum!A17=\"\",\"\",D(\"P\",sum!$C$2,sum!A17,(sum!$D$2-NOW())/365,sum!$C$6,sum!$D$6,sum!$B$6))","v":0},-0.46999999999998465,0.01]
[5,{"$f":"IF(sum!A18=\"\",\"\",sum!A18)","v":45},{"$f":"IF(sum!B18=\"\",\"\",sum!B18)","v":122.85},{"$f":"IF(sum!D18=\"\",\"\",sum!D18)","v":0.01},null,null,null,null,null,null,10,"butterfly",null,null,null,null,null,null,null,null,null,null,null,null,null,null,null,null,null,null,null,null,-6.9999999999993179E-2,0.01,-7.9999999999993174E-2,1,1,null,null,null,-5.9500000000000028,-1.25,null,{"$f":"IF(sum!A18=\"\",0,PB(\"C\",sum!$C$2,sum!A18,(sum!$D$2-NOW())/365,sum!$C$6,sum!$D$6,sum!$B$6))","v":122.77185048610957},{"$f":"IF(sum!A18=\"\",0,PB(\"P\",sum!$C$2,sum!A18,(sum!$D$2-NOW())/365,sum!$C$6,sum!$D$6,sum!$B$6))","v":0},{"$f":"IF(OR(sum!B18=0,sum!A18=\"\"),0,V(\"C\",sum!$C$2,sum!A18,(sum!$D$2-NOW())/365,$F$2,$G$2,sum!B18))","v":3.0517578125E-5},{"$f":"IF(OR(sum!D18=0,sum!A18=\"\"),0,V(\"P\",sum!$C$2,sum!A18,(sum!$D$2-NOW())/365,$F$2,$G$2,sum!D18))","v":1.886810302734375},{"$f":"IF(sum!A18=\"\",\"\",D(\"C\",sum!$C$2,sum!A18,(sum!$D$2-NOW())/365,sum!$C$6,sum!$D$6,sum!$B$6))","v":1},{"$f":"IF(sum!A18=\"\",\"\",D(\"P\",sum!$C$2,sum!A18,(sum!$D$2-NOW())/365,sum!$C$6,sum!$D$6,sum!$B$6))","v":0},-6.9999999999993179E-2,0.01]
[6,{"$f":"IF(sum!A19=\"\",\"\",sum!A19)","v":46.25},{"$f":"IF(sum!B19=\"\",\"\",sum!B19)","v":127.55},{"$f":"IF(sum!D19=\"\",\"\",sum!D19)","v":0.01},null,null,null,null,null,null,11,"single",null,null,null,null,null,null,null,null,null,null,null,null,null,null,null,null,null,null,null,null,5.8800000000000097,0.01,5.8700000000000099,1,1,null,null,null,7.0999999999999943,-1.25,null,{"$f":"IF(sum!A19=\"\",0,PB(\"C\",sum!$C$2,sum!A19,(sum!$D$2-NOW())/365,sum!$C$6,sum!$D$6,sum!$B$6))","v":121.52248740281379},{"$f":"IF(sum!A19=\"\",0,PB(\"P\",sum!$C$2,sum!A19,(sum!$D$2-NOW())/365,sum!$C$6,sum!$D$6,sum!$B$6))","v":0},{"$f":"IF(OR(sum!B19=0,sum!A19=\"\"),0,V(\"C\",sum!$C$2,sum!A19,(sum!$D$2-NOW())/365,$F$2,$G$2,sum!B19))","v":1.999969482421875},{"$f":"IF(OR(sum!D19=0,sum!A19=\"\"),0,V(\"P\",sum!$C$2,sum!A19,(sum!$D$2-NOW())/365,$F$2,$G$2,sum!D19))","v":1.848541259765625},{"$f":"IF(sum!A19=\"\",\"\",D(\"C\",sum!$C$2,sum!A19,(sum!$D$2-NOW())/365,sum!$C$6,sum!$D$6,sum!$B$6))","v":1},{"$f":"IF(sum!A19=\"\",\"\",D(\"P\",sum!$C$2,sum!A19,(sum!$D$2-NOW())/365,sum!$C$6,sum!$D$6,sum!$B$6))","v":0},5.8800000000000097,0.01,null,null,null,"exp","cheap"]
[7,{"$f":"IF(sum!A20=\"\",\"\",sum!A20)","v":47.5},{"$f":"IF(sum!B20=\"\",\"\",sum!B20)","v":119.2},{"$f":"IF(sum!D20=\"\",\"\",sum!D20)","v":0.01},null,null,null,null,null,null,12,"ALL strategies",null,null,null,null,null,null,null,null,null,null,null,null,null,null,null,null,null,null,null,null,-1.2199999999999847,0.01,-1.2299999999999847,"X",1,null,null,null,-5.0999999999999943,-1.25,null,{"$f":"IF(sum!A20=\"\",0,PB(\"C\",sum!$C$2,sum!A20,(sum!$D$2-NOW())/365,sum!$C$6,sum!$D$6,sum!$B$6))","v":120.27312432318703},{"$f":"IF(sum!A20=\"\",0,PB(\"P\",sum!$C$2,sum!A20,(sum!$D$2-NOW())/365,sum!$C$6,sum!$D$6,sum!$B$6))","v":0},{"$f":"IF(OR(sum!B20=0,sum!A20=\"\"),0,V(\"C\",sum!$C$2,sum!A20,(sum!$D$2-NOW())/365,$F$2,$G$2,sum!B20))","v":3.0517578125E-5},{"$f":"IF(OR(sum!D20=0,sum!A20=\"\"),0,V(\"P\",sum!$C$2,sum!A20,(sum!$D$2-NOW())/365,$F$2,$G$2,sum!D20))","v":1.811309814453125},{"$f":"IF(sum!A20=\"\",\"\",D(\"C\",sum!$C$2,sum!A20,(sum!$D$2-NOW())/365,sum!$C$6,sum!$D$6,sum!$B$6))","v":1},{"$f":"IF(sum!A20=\"\",\"\",D(\"P\",sum!$C$2,sum!A20,(sum!$D$2-NOW())/365,sum!$C$6,sum!$D$6,sum!$B$6))","v":0},-1.2199999999999847,0.01,null,null,null,1.2,0.8]
[8,{"$f":"IF(sum!A21=\"\",\"\",sum!A21)","v":48.75},{"$f":"IF(sum!B21=\"\",\"\",sum!B21)","v":123.05},{"$f":"IF(sum!D21=\"\",\"\",sum!D21)","v":0.01},null,null,"custom","buy strike","prem","sell strike","prem","strike 3","prem 3","strike 4","prem 4","max risk(cost)","max reward","breakeven","be 2","prob of profit","rew / risk","prob x rr","cost","max return",1,2,3,4,"2x","direct","strat",3,3.8800000000000097,0.01,3.8700000000000099,1,1,null,null,null,5,-1.25,null,{"$f":"IF(sum!A21=\"\",0,PB(\"C\",sum!$C$2,sum!A21,(sum!$D$2-NOW())/365,sum!$C$6,sum!$D$6,sum!$B$6))","v":119.023761234451},{"$f":"IF(sum!A21=\"\",0,PB(\"P\",sum!$C$2,sum!A21,(sum!$D$2-NOW())/365,sum!$C$6,sum!$D$6,sum!$B$6))","v":0},{"$f":"IF(OR(sum!B21=0,sum!A21=\"\"),0,V(\"C\",sum!$C$2,sum!A21,(sum!$D$2-NOW())/365,$F$2,$G$2,sum!B21))","v":1.999969482421875},{"$f":"IF(OR(sum!D21=0,sum!A21=\"\"),0,V(\"P\",sum!$C$2,sum!A21,(sum!$D$2-NOW())/365,$F$2,$G$2,sum!D21))","v":1.775054931640625},{"$f":"IF(sum!A21=\"\",\"\",D(\"C\",sum!$C$2,sum!A21,(sum!$D$2-NOW())/365,sum!$C$6,sum!$D$6,sum!$B$6))","v":1},{"$f":"IF(sum!A21=\"\",\"\",D(\"P\",sum!$C$2,sum!A21,(sum!$D$2-NOW())/365,sum!$C$6,sum!$D$6,sum!$B$6))","v":0},3.8800000000000097,0.01,null,1,2,"1 exp/cheap","2 exp cheap","favorable"]
[9,{"$f":"IF(sum!A22=\"\",\"\",sum!A22)","v":50},{"$f":"IF(sum!B22=\"\",\"\",sum!B22)","v":116.8},{"$f":"IF(sum!D22=\"\",\"\",sum!D22)","v":0.01},{"$f":"IF(AF14=\"\",\"\",RANK(AF14,$AF$14:$AF$493,1))","v":""},1,{"$f":"CONCATENATE(\"call debit _/'' b\",H14,\"c+s\",J14,\"c\")","v":"call debit _/'' b155c+s157.5c"},{"$f":"VLOOKUP($C$4-6,$A$6:$D$105,2)","v":155},{"$f":"VLOOKUP($C$4-6,$A$6:$D$105,3)","v":13.49},{"$f":"VLOOKUP($C$4-5,$A$6:$D$105,2)","v":157.5},{"$f":"VLOOKUP($C$4-5,$A$6:$D$105,3)","v":11.45},null,null,null,null,{"$f":"IF(OR(I14=0,K14=0,I14=\"\",K14=\"\"),\"\",(I14-K14)*sum!$J$2)","v":204.00000000000009},{"$f":"IF(P14=\"\",\"\",(J14-H14)*sum!$J$2-P14)","v":45.999999999999915},{"$f":"IF(P14=\"\",\"\",(I14-K14)+H14)","v":157.04},null,{"$f":"IF(OR(Q14=\"\",Q14<=0),\"\",IF(P14<0,1,1-(NORMSDIST(LN(ABS(R14)/$C$3)/($E$3*SQRT(($D$3-NOW())/365))))))","v":0.89281455735131965},{"$f":"IF(T14=\"\",\"\",Q14/(P14+0.00001))","v":0.22549018502499041},{"$f":"IF(T14=\"\",\"\",T14*U14)","v":0.20132091973015398},{"$f":"IF(P14=\"\",\"\",(I14-K14)*sum!$J$2)","v":204.00000000000009},{"$f":"IF(P14=\"\",\"\",Q14/W14)","v":0.22549019607843085},1,2,null,null,null,1,6,{"$f":"IF($AF$13=12,IF($AF$9=2,IF(BE14=\"X\",F14,\"\"),F14),IF($AF$13<=4,IF(AD14=$AF$13,IF($AF$9=2,IF(BE14=\"X\",F14,\"\"),F14),\"\"),IF(AE14=$AF$13,IF($AF$9=2,IF(BE14=\"X\",F14,\"\"),F14),\"\")))","v":""},-1.1199999999999903,0.01,-1.1299999999999903,1,1,null,null,null,-1.0499999999999972,-2.4900000000000002,null,{"$f":"IF(sum!A22=\"\",0,PB(\"C\",sum!$C$2,sum!A22,(sum!$D$2-NOW())/365,sum!$C$6,sum!$D$6,sum!$B$6))","v":117.77439815392682},{"$f":"IF(sum!A22=\"\",0,PB(\"P\",sum!$C$2,sum!A22,(sum!$D$2-NOW())/365,sum!$C$6,sum!$D$6,sum!$B$6))","v":0},{"$f":"IF(OR(sum!B22=0,sum!A22=\"\"),0,V(\"C\",sum!$C$2,sum!A22,(sum!$D$2-NOW())/365,$F$2,$G$2,sum!B22))","v":3.0517578125E-5},{"$f":"IF(OR(sum!D22=0,sum!A22=\"\"),0,V(\"P\",sum!$C$2,sum!A22,(sum!$D$2-NOW())/365,$F$2,$G$2,sum!D22))","v":1.739776611328125},{"$f":"IF(sum!A22=\"\",\"\",D(\"C\",sum!$C$2,sum!A22,(sum!$D$2-NOW())/365,sum!$C$6,sum!$D$6,sum!$B$6))","v":1},{"$f":"IF(sum!A22=\"\",\"\",D(\"P\",sum!$C$2,sum!A22,(sum!$D$2-NOW())/365,sum!$C$6,sum!$D$6,sum!$B$6))","v":0},-1.1199999999999903,0.01,null,{"$f":"VLOOKUP(H14,sum!$A$14:$E$113,3)","v":13.09787729197069},{"$f":"VLOOKUP(J14,sum!$A$14:$E$113,3)","v":10.843538736465916},{"$f":"IF(I14>BA14*$BC$12,\"exp\",IF(I14<BA14*$BD$12,\"cheap\",\"\"))","v":""},{"$f":"IF(K14>BB14*$BC$12,\"exp\",IF(K14<BB14*$BD$12,\"cheap\",\"\"))","v":""},{"$f":"IF(OR(AND(BD14=\"exp\",BC14=\"\"),AND(BD14=\"\",BC14=\"cheap\")),\"X\",\"\")","v":""}]
[10,{"$f":"IF(sum!A23=\"\",\"\",sum!A23)","v":52.5},{"$f":"IF(sum!B23=\"\",\"\",sum!B23)","v":115.35},{"$f":"IF(sum!D23=\"\",\"\",sum!D23)","v":0.02},{"$f":"IF(AF15=\"\",\"\",RANK(AF15,$AF$14:$AF$493,1))","v":""},2,{"$f":"CONCATENATE(\"call debit _/'' b\",H15,\"c+s\",J15,\"c\")","v":"call debit _/'' b155c+s160c"},{"$f":"H14","v":155},{"$f":"I14","v":13.49},{"$f":"VLOOKUP($C$4-4,$A$6:$D$105,2)","v":160},{"$f":"VLOOKUP($C$4-4,$A$6:$D$105,3)","v":9.75},null,null,null,null,{"$f":"IF(OR(I15=0,K15=0,I15=\"\",K15=\"\"),\"\",(I15-K15)*sum!$J$2)","v":374},{"$f":"IF(P15=\"\",\"\",(J15-H15)*sum!$J$2-P15)","v":126},158.74,null,{"$f":"IF(OR(Q15=\"\",Q15<=0),\"\",IF(P15<0,1,1-(NORMSDIST(LN(ABS(R15)/$C$3)/($E$3*SQRT(($D$3-NOW())/365))))))","v":0.85130880457463154},{"$f":"IF(T15=\"\",\"\",Q15/(P15+0.00001))","v":0.3368983867139469},0.28680456285657208,{"$f":"IF(P15=\"\",\"\",(I15-K15)*sum!$J$2)","v":374},{"$f":"IF(P15=\"\",\"\",Q15/W15)","v":0.33689839572192515},1,2,null,null,null,1,6,{"$f":"IF($AF$13=12,IF($AF$9=2,IF(BE15=\"X\",F15,\"\"),F15),IF($AF$13<=4,IF(AD15=$AF$13,IF($AF$9=2,IF(BE15=\"X\",F15,\"\"),F15),\"\"),IF(AE15=$AF$13,IF($AF$9=2,IF(BE15=\"X\",F15,\"\"),F15),\"\")))","v":""},-6.9999999999993179E-2,0.02,-8.9999999999993183E-2,1,1,null,null,null,1.1499999999999915,-2.5099999999999998,null,{"$f":"IF(sum!A23=\"\",0,PB(\"C\",sum!$C$2,sum!A23,(sum!$D$2-NOW())/365,sum!$C$6,sum!$D$6,sum!$B$6))","v":115.27567198926486},{"$f":"IF(sum!A23=\"\",0,PB(\"P\",sum!$C$2,sum!A23,(sum!$D$2-NOW())/365,sum!$C$6,sum!$D$6,sum!$B$6))","v":0},{"$f":"V(\"C\",sum!$C$2,sum!A23,(sum!$D$2-NOW())/365,$F$2,$G$2,sum!B23)","v":3.0517578125E-5},{"$f":"IF(OR(sum!D23=0,sum!A23=\"\"),0,V(\"P\",sum!$C$2,sum!A23,(sum!$D$2-NOW())/365,$F$2,$G$2,sum!D23))","v":1.775604248046875},{"$f":"IF(sum!A23=\"\",\"\",D(\"C\",sum!$C$2,sum!A23,(sum!$D$2-NOW())/365,sum!$C$6,sum!$D$6,sum!$B$6))","v":1},{"$f":"IF(sum!A23=\"\",\"\",D(\"P\",sum!$C$2,sum!A23,(sum!$D$2-NOW())/365,sum!$C$6,sum!$D$6,sum!$B$6))","v":0},-6.9999999999993179E-2,0.02,null,{"$f":"VLOOKUP(H15,sum!$A$14:$E$113,3)","v":13.09787729197069},{"$f":"VLOOKUP(J15,sum!$A$14:$E$113,3)","v":8.7405758489679783},{"$f":"IF(I15>BA15*$BC$12,\"exp\",IF(I15<BA15*$BD$12,\"cheap\",\"\"))","v":""},{"$f":"IF(K15>BB15*$BC$12,\"exp\",IF(K15<BB15*$BD$12,\"cheap\",\"\"))","v":""},""]
[11,{"$f":"IF(sum!A24=\"\",\"\",sum!A24)","v":55},{"$f":"IF(sum!B24=\"\",\"\",sum!B24)","v":111.7},{"$f":"IF(sum!D24=\"\",\"\",sum!D24)","v":0.01},"",3,"call debit _/'' b155c+s162.5c",{"$f":"H15","v":155},{"$f":"I15","v":13.49},{"$f":"VLOOKUP($C$4-3,$A$6:$D$105,2)","v":162.5},{"$f":"VLOOKUP($C$4-3,$A$6:$D$105,3)","v":7.9},null,null,null,null,{"$f":"IF(OR(I16=0,K16=0,I16=\"\",K16=\"\"),\"\",(I16-K16)*sum!$J$2)","v":559},{"$f":"IF(P16=\"\",\"\",(J16-H16)*sum!$J$2-P16)","v":191},160.59,null,0.79596507563708929,0.34168156812734229,0.27196659521827926,{"$f":"IF(P16=\"\",\"\",(I16-K16)*sum!$J$2)","v":559},0.34168157423971379,1,2,null,null,null,1,6,"",-1.2199999999999847,0.01,-1.2299999999999847,"X",1,null,null,null,-1.3499999999999943,-2.5,null,{"$f":"IF(sum!A24=\"\",0,PB(\"C\",sum!$C$2,sum!A24,(sum!$D$2-NOW())/365,sum!$C$6,sum!$D$6,sum!$B$6))","v":112.77694582908227},{"$f":"IF(sum!A24=\"\",0,PB(\"P\",sum!$C$2,sum!A24,(sum!$D$2-NOW())/365,sum!$C$6,sum!$D$6,sum!$B$6))","v":0},{"$f":"IF(OR(sum!B24=0,sum!A24=\"\"),0,V(\"C\",sum!$C$2,sum!A24,(sum!$D$2-NOW())/365,$F$2,$G$2,sum!B24))","v":3.0517578125E-5},{"$f":"IF(OR(sum!D24=0,sum!A24=\"\"),0,V(\"P\",sum!$C$2,sum!A24,(sum!$D$2-NOW())/365,$F$2,$G$2,sum!D24))","v":1.607147216796875},{"$f":"IF(sum!A24=\"\",\"\",D(\"C\",sum!$C$2,sum!A24,(sum!$D$2-NOW())/365,sum!$C$6,sum!$D$6,sum!$B$6))","v":1},{"$f":"IF(sum!A24=\"\",\"\",D(\"P\",sum!$C$2,sum!A24,(sum!$D$2-NOW())/365,sum!$C$6,sum!$D$6,sum!$B$6))","v":0},-1.2199999999999847,0.01,null,{"$f":"VLOOKUP(H16,sum!$A$14:$E$113,3)","v":13.09787729197069},{"$f":"VLOOKUP(J16,sum!$A$14:$E$113,3)","v":6.8366814360047243},"","",""]
[12,{"$f":"IF(sum!A25=\"\",\"\",sum!A25)","v":57.5},{"$f":"IF(sum!B25=\"\",\"\",sum!B25)","v":110.55},{"$f":"IF(sum!D25=\"\",\"\",sum!D25)","v":0.01},"",4,"call debit _/'' b157.5c+s160c",{"$f":"VLOOKUP($C$4-5,$A$6:$D$105,2)","v":157.5},{"$f":"VLOOKUP($C$4-5,$A$6:$D$105,3)","v":11.45},{"$f":"J15","v":160},{"$f":"K15","v":9.75},null,null,null,null,{"$f":"IF(OR(I17=0,K17=0,I17=\"\",K17=\"\"),\"\",(I17-K17)*sum!$J$2)","v":169.99999999999994},{"$f":"IF(P17=\"\",\"\",(J17-H17)*sum!$J$2-P17)","v":80.000000000000057},159.19999999999999,null,0.83852857386693536,0.47058820761245884,0.39460165860787239,{"$f":"IF(P17=\"\",\"\",(I17-K17)*sum!$J$2)","v":169.99999999999994},0.47058823529411814,1,2,null,null,null,1,6,"",0.13000000000000966,0.01,0.12000000000000967,1,1,null,null,null,0.45000000000000284,-2.5,null,{"$f":"IF(sum!A25=\"\",0,PB(\"C\",sum!$C$2,sum!A25,(sum!$D$2-NOW())/365,sum!$C$6,sum!$D$6,sum!$B$6))","v":110.2782196688521},{"$f":"IF(sum!A25=\"\",0,PB(\"P\",sum!$C$2,sum!A25,(sum!$D$2-NOW())/365,sum!$C$6,sum!$D$6,sum!$B$6))","v":0},{"$f":"IF(OR(sum!B25=0,sum!A25=\"\"),0,V(\"C\",sum!$C$2,sum!A25,(sum!$D$2-NOW())/365,$F$2,$G$2,sum!B25))","v":1.999969482421875},{"$f":"IF(OR(sum!D25=0,sum!A25=\"\"),0,V(\"P\",sum!$C$2,sum!A25,(sum!$D$2-NOW())/365,$F$2,$G$2,sum!D25))","v":1.545379638671875},{"$f":"IF(sum!A25=\"\",\"\",D(\"C\",sum!$C$2,sum!A25,(sum!$D$2-NOW())/365,sum!$C$6,sum!$D$6,sum!$B$6))","v":1},{"$f":"IF(sum!A25=\"\",\"\",D(\"P\",sum!$C$2,sum!A25,(sum!$D$2-NOW())/365,sum!$C$6,sum!$D$6,sum!$B$6))","v":0},0.13000000000000966,0.01,null,{"$f":"VLOOKUP(H17,sum!$A$14:$E$113,3)","v":10.843538736465916},{"$f":"VLOOKUP(J17,sum!$A$14:$E$113,3)","v":8.7405758489679783},"","",""]
[13,{"$f":"IF(sum!A26=\"\",\"\",sum!A26)","v":60},{"$f":"IF(sum!B26=\"\",\"\",sum!B26)","v":107.6},{"$f":"IF(sum!D26=\"\",\"\",sum!D26)","v":0.01},"",5,"call debit _/'' b157.5c+s162.5c",{"$f":"H17","v":157.5},{"$f":"I17","v":11.45},{"$f":"J16","v":162.5},{"$f":"K16","v":7.9},null,null,null,null,{"$f":"IF(OR(I18=0,K18=0,I18=\"\",K18=\"\"),\"\",(I18-K18)*sum!$J$2)","v":354.99999999999989},{"$f":"IF(P18=\"\",\"\",(J18-H18)*sum!$J$2-P18)","v":145.00000000000011},161.05000000000001,null,0.78061659717013432,0.4084506927196993,0.31884338986263583,{"$f":"IF(P18=\"\",\"\",(I18-K18)*sum!$J$2)","v":354.99999999999989},0.40845070422535257,1,2,null,null,null,1,6,"",-0.31999999999999318,0.01,-0.32999999999999319,1,1,null,null,null,0.5,-2.5,null,{"$f":"IF(sum!A26=\"\",0,PB(\"C\",sum!$C$2,sum!A26,(sum!$D$2-NOW())/365,sum!$C$6,sum!$D$6,sum!$B$6))","v":107.77949350420596},{"$f":"IF(sum!A26=\"\",0,PB(\"P\",sum!$C$2,sum!A26,(sum!$D$2-NOW())/365,sum!$C$6,sum!$D$6,sum!$B$6))","v":0},{"$f":"IF(OR(sum!B26=0,sum!A26=\"\"),0,V(\"C\",sum!$C$2,sum!A26,(sum!$D$2-NOW())/365,$F$2,$G$2,sum!B26))","v":3.0517578125E-5},{"$f":"IF(OR(sum!D26=0,sum!A26=\"\"),0,V(\"P\",sum!$C$2,sum!A26,(sum!$D$2-NOW())/365,$F$2,$G$2,sum!D26))","v":1.486236572265625},{"$f":"IF(sum!A26=\"\",\"\",D(\"C\",sum!$C$2,sum!A26,(sum!$D$2-NOW())/365,sum!$C$6,sum!$D$6,sum!$B$6))","v":1},{"$f":"IF(sum!A26=\"\",\"\",D(\"P\",sum!$C$2,sum!A26,(sum!$D$2-NOW())/365,sum!$C$6,sum!$D$6,sum!$B$6))","v":0},-0.31999999999999318,0.01,null,{"$f":"VLOOKUP(H18,sum!$A$14:$E$113,3)","v":10.843538736465916},{"$f":"VLOOKUP(J18,sum!$A$14:$E$113,3)","v":6.8366814360047243},"","",""]
[14,{"$f":"IF(sum!A27=\"\",\"\",sum!A27)","v":62.5},{"$f":"IF(sum!B27=\"\",\"\",sum!B27)","v":104.6},{"$f":"IF(sum!D27=\"\",\"\",sum!D27)","v":0.01},"",6,"call debit _/'' b157.5c+s165c",{"$f":"H18","v":157.5},{"$f":"I18","v":11.45},{"$f":"VLOOKUP($C$4-2,$A$6:$D$105,2)","v":165},{"$f":"VLOOKUP($C$4-2,$A$6:$D$105,3)","v":6.13},null,null,null,null,{"$f":"IF(OR(I19=0,K19=0,I19=\"\",K19=\"\"),\"\",(I19-K19)*sum!$J$2)","v":531.99999999999989},{"$f":"IF(P19=\"\",\"\",(J19-H19)*sum!$J$2-P19)","v":218.00000000000011},162.82,null,0.71622964212938744,0.40977442838769901,0.29349259219789597,{"$f":"IF(P19=\"\",\"\",(I19-K19)*sum!$J$2)","v":531.99999999999989},0.40977443609022585,1,2,null,null,null,1,6,"",-0.81999999999999318,0.01,-0.82999999999999319,1,1,null,null,null,-0.83000000000001251,-2.5,null,{"$f":"IF(sum!A27=\"\",0,PB(\"C\",sum!$C$2,sum!A27,(sum!$D$2-NOW())/365,sum!$C$6,sum!$D$6,sum!$B$6))","v":105.2807673456519},{"$f":"IF(sum!A27=\"\",0,PB(\"P\",sum!$C$2,sum!A27,(sum!$D$2-NOW())/365,sum!$C$6,sum!$D$6,sum!$B$6))","v":0},{"$f":"IF(OR(sum!B27=0,sum!A27=\"\"),0,V(\"C\",sum!$C$2,sum!A27,(sum!$D$2-NOW())/365,$F$2,$G$2,sum!B27))","v":3.0517578125E-5},{"$f":"IF(OR(sum!D27=0,sum!A27=\"\"),0,V(\"P\",sum!$C$2,sum!A27,(sum!$D$2-NOW())/365,$F$2,$G$2,sum!D27))","v":1.429534912109375},{"$f":"IF(sum!A27=\"\",\"\",D(\"C\",sum!$C$2,sum!A27,(sum!$D$2-NOW())/365,sum!$C$6,sum!$D$6,sum!$B$6))","v":1},{"$f":"IF(sum!A27=\"\",\"\",D(\"P\",sum!$C$2,sum!A27,(sum!$D$2-NOW())/365,sum!$C$6,sum!$D$6,sum!$B$6))","v":0},-0.81999999999999318,0.01,null,{"$f":"VLOOKUP(H19,sum!$A$14:$E$113,3)","v":10.843538736465916},{"$f":"VLOOKUP(J19,sum!$A$14:$E$113,3)","v":5.1729445158851775},"","",""]
[15,{"$f":"IF(sum!A28=\"\",\"\",sum!A28)","v":65},{"$f":"IF(sum!B28=\"\",\"\",sum!B28)","v":102.93},{"$f":"IF(sum!D28=\"\",\"\",sum!D28)","v":0.01},"",7,"call debit _/'' b160c+s162.5c",{"$f":"J15","v":160},{"$f":"K15","v":9.75},{"$f":"J18","v":162.5},{"$f":"K18","v":7.9},null,null,null,null,{"$f":"IF(OR(I20=0,K20=0,I20=\"\",K20=\"\"),\"\",(I20-K20)*sum!$J$2)","v":184.99999999999997},{"$f":"IF(P20=\"\",\"\",(J20-H20)*sum!$J$2-P20)","v":65.000000000000028},161.85,null,0.75251717339981172,0.35135133235938765,0.26439791149734421,{"$f":"IF(P20=\"\",\"\",(I20-K20)*sum!$J$2)","v":184.99999999999997},0.35135135135135154,1,2,null,null,null,1,6,"",1.0000000000019327E-2,0.01,1.9326554245857608E-14,1,1,null,null,null,0.83000000000001251,-2.4700000000000002,null,{"$f":"IF(sum!A28=\"\",0,PB(\"C\",sum!$C$2,sum!A28,(sum!$D$2-NOW())/365,sum!$C$6,sum!$D$6,sum!$B$6))","v":102.78204117929801},{"$f":"IF(sum!A28=\"\",0,PB(\"P\",sum!$C$2,sum!A28,(sum!$D$2-NOW())/365,sum!$C$6,sum!$D$6,sum!$B$6))","v":0},{"$f":"IF(OR(sum!B28=0,sum!A28=\"\"),0,V(\"C\",sum!$C$2,sum!A28,(sum!$D$2-NOW())/365,$F$2,$G$2,sum!B28))","v":1.375152587890625},{"$f":"IF(OR(sum!D28=0,sum!A28=\"\"),0,V(\"P\",sum!$C$2,sum!A28,(sum!$D$2-NOW())/365,$F$2,$G$2,sum!D28))","v":1.375152587890625},{"$f":"IF(sum!A28=\"\",\"\",D(\"C\",sum!$C$2,sum!A28,(sum!$D$2-NOW())/365,sum!$C$6,sum!$D$6,sum!$B$6))","v":1},{"$f":"IF(sum!A28=\"\",\"\",D(\"P\",sum!$C$2,sum!A28,(sum!$D$2-NOW())/365,sum!$C$6,sum!$D$6,sum!$B$6))","v":0},1.0000000000019327E-2,0.01,null,{"$f":"VLOOKUP(H20,sum!$A$14:$E$113,3)","v":8.7405758489679783},{"$f":"VLOOKUP(J20,sum!$A$14:$E$113,3)","v":6.8366814360047243},"","",""]
[16,{"$f":"IF(sum!A29=\"\",\"\",sum!A29)","v":67.5},{"$f":"IF(sum!B29=\"\",\"\",sum!B29)","v":99.6},{"$f":"IF(sum!D29=\"\",\"\",sum!D29)","v":0.04},"",8,"call debit _/'' b160c+s165c",{"$f":"H20","v":160},{"$f":"I20","v":9.75},{"$f":"J19","v":165},{"$f":"K19","v":6.13},null,null,null,null,{"$f":"IF(OR(I21=0,K21=0,I21=\"\",K21=\"\"),\"\",(I21-K21)*sum!$J$2)","v":362},{"$f":"IF(P21=\"\",\"\",(J21-H21)*sum!$J$2-P21)","v":138},163.62,null,0.6846806583656887,0.38121545908244592,0.26101085150374731,{"$f":"IF(P21=\"\",\"\",(I21-K21)*sum!$J$2)","v":362},0.38121546961325969,1,2,null,null,null,1,6,"",-0.81999999999999318,0.04,-0.85999999999999321,1,1,null,null,null,-4.7000000000000028,-2.52,null,{"$f":"IF(sum!A29=\"\",0,PB(\"C\",sum!$C$2,sum!A29,(sum!$D$2-NOW())/365,sum!$C$6,sum!$D$6,sum!$B$6))","v":100.2833150172571},{"$f":"IF(sum!A29=\"\",0,PB(\"P\",sum!$C$2,sum!A29,(sum!$D$2-NOW())/365,sum!$C$6,sum!$D$6,sum!$B$6))","v":0},{"$f":"IF(OR(sum!B29=0,sum!A29=\"\"),0,V(\"C\",sum!$C$2,sum!A29,(sum!$D$2-NOW())/365,$F$2,$G$2,sum!B29))","v":3.0517578125E-5},{"$f":"IF(OR(sum!D29=0,sum!A29=\"\"),0,V(\"P\",sum!$C$2,sum!A29,(sum!$D$2-NOW())/365,$F$2,$G$2,sum!D29))","v":1.504547119140625},{"$f":"IF(sum!A29=\"\",\"\",D(\"C\",sum!$C$2,sum!A29,(sum!$D$2-NOW())/365,sum!$C$6,sum!$D$6,sum!$B$6))","v":1},{"$f":"IF(sum!A29=\"\",\"\",D(\"P\",sum!$C$2,sum!A29,(sum!$D$2-NOW())/365,sum!$C$6,sum!$D$6,sum!$B$6))","v":0},-0.81999999999999318,0.04,null,{"$f":"VLOOKUP(H21,sum!$A$14:$E$113,3)","v":8.7405758489679783},{"$f":"VLOOKUP(J21,sum!$A$14:$E$113,3)","v":5.1729445158851775},"","",""]
[17,{"$f":"IF(sum!A30=\"\",\"\",sum!A30)","v":70},{"$f":"IF(sum!B30=\"\",\"\",sum!B30)","v":101.8},{"$f":"IF(sum!D30=\"\",\"\",sum!D30)","v":0.02},"",9,"call debit _/'' b160c+s167.5c",{"$f":"H21","v":160},{"$f":"I21","v":9.75},{"$f":"VLOOKUP($C$4-1,$A$6:$D$105,2)","v":167.5},{"$f":"VLOOKUP($C$4-1,$A$6:$D$105,3)","v":4.5999999999999996},null,null,null,null,{"$f":"IF(OR(I22=0,K22=0,I22=\"\",K22=\"\"),\"\",(I22-K22)*sum!$J$2)","v":515},{"$f":"IF(P22=\"\",\"\",(J22-H22)*sum!$J$2-P22)","v":235},165.15,null,0.62107666601861,0.45631067075124915,0.28340391005890148,{"$f":"IF(P22=\"\",\"\",(I22-K22)*sum!$J$2)","v":515},0.4563106796116505,1,2,null,null,null,1,6,"",3.8800000000000097,0.02,3.8600000000000096,1,1,null,null,null,3.5999999999999943,-2.5099999999999998,null,{"$f":"IF(sum!A30=\"\",0,PB(\"C\",sum!$C$2,sum!A30,(sum!$D$2-NOW())/365,sum!$C$6,sum!$D$6,sum!$B$6))","v":97.784588849306374},{"$f":"IF(sum!A30=\"\",0,PB(\"P\",sum!$C$2,sum!A30,(sum!$D$2-NOW())/365,sum!$C$6,sum!$D$6,sum!$B$6))","v":0},{"$f":"IF(OR(sum!B30=0,sum!A30=\"\"),0,V(\"C\",sum!$C$2,sum!A30,(sum!$D$2-NOW())/365,$F$2,$G$2,sum!B30))","v":1.999969482421875},{"$f":"IF(OR(sum!D30=0,sum!A30=\"\"),0,V(\"P\",sum!$C$2,sum!A30,(sum!$D$2-NOW())/365,$F$2,$G$2,sum!D30))","v":1.352752685546875},{"$f":"IF(sum!A30=\"\",\"\",D(\"C\",sum!$C$2,sum!A30,(sum!$D$2-NOW())/365,sum!$C$6,sum!$D$6,sum!$B$6))","v":1},{"$f":"IF(sum!A30=\"\",\"\",D(\"P\",sum!$C$2,sum!A30,(sum!$D$2-NOW())/365,sum!$C$6,sum!$D$6,sum!$B$6))","v":0},3.8800000000000097,0.02,null,{"$f":"VLOOKUP(H22,sum!$A$14:$E$113,3)","v":8.7405758489679783},{"$f":"VLOOKUP(J22,sum!$A$14:$E$113,3)","v":3.7760676776467079},"","exp","X"]
[18,{"$f":"IF(sum!A31=\"\",\"\",sum!A31)","v":72.5},{"$f":"IF(sum!B31=\"\",\"\",sum!B31)","v":95.7},{"$f":"IF(sum!D31=\"\",\"\",sum!D31)","v":0.01},"",10,"call debit _/'' b162.5c+s165c",{"$f":"J16","v":162.5},{"$f":"K16","v":7.9},{"$f":"J21","v":165},{"$f":"K21","v":6.13},null,null,null,null,{"$f":"IF(OR(I23=0,K23=0,I23=\"\",K23=\"\"),\"\",(I23-K23)*sum!$J$2)","v":177.00000000000006},{"$f":"IF(P23=\"\",\"\",(J23-H23)*sum!$J$2-P23)","v":72.999999999999943},164.27,null,0.6581207476920039,0.41242935522997948,0.27142831563408515,{"$f":"IF(P23=\"\",\"\",(I23-K23)*sum!$J$2)","v":177.00000000000006},0.41242937853107298,1,2,null,null,null,1,6,"",0.28000000000001535,0.01,0.27000000000001534,1,1,null,null,null,0.75,-2.5,null,{"$f":"IF(sum!A31=\"\",0,PB(\"C\",sum!$C$2,sum!A31,(sum!$D$2-NOW())/365,sum!$C$6,sum!$D$6,sum!$B$6))","v":95.285862688123302},{"$f":"IF(sum!A31=\"\",0,PB(\"P\",sum!$C$2,sum!A31,(sum!$D$2-NOW())/365,sum!$C$6,sum!$D$6,sum!$B$6))","v":0},{"$f":"IF(OR(sum!B31=0,sum!A31=\"\"),0,V(\"C\",sum!$C$2,sum!A31,(sum!$D$2-NOW())/365,$F$2,$G$2,sum!B31))","v":1.770721435546875},{"$f":"IF(OR(sum!D31=0,sum!A31=\"\"),0,V(\"P\",sum!$C$2,sum!A31,(sum!$D$2-NOW())/365,$F$2,$G$2,sum!D31))","v":1.223602294921875},{"$f":"IF(sum!A31=\"\",\"\",D(\"C\",sum!$C$2,sum!A31,(sum!$D$2-NOW())/365,sum!$C$6,sum!$D$6,sum!$B$6))","v":1},{"$f":"IF(sum!A31=\"\",\"\",D(\"P\",sum!$C$2,sum!A31,(sum!$D$2-NOW())/365,sum!$C$6,sum!$D$6,sum!$B$6))","v":0},0.28000000000001535,0.01,null,{"$f":"VLOOKUP(H23,sum!$A$14:$E$113,3)","v":6.8366814360047243},{"$f":"VLOOKUP(J23,sum!$A$14:$E$113,3)","v":5.1729445158851775},"","",""]
[19,{"$f":"IF(sum!A32=\"\",\"\",sum!A32)","v":75},{"$f":"IF(sum!B32=\"\",\"\",sum!B32)","v":92.45},{"$f":"IF(sum!D32=\"\",\"\",sum!D32)","v":0.01},"",11,"call debit _/'' b162.5c+s167.5c",{"$f":"H23","v":162.5},{"$f":"I23","v":7.9},{"$f":"J22","v":167.5},{"$f":"K22","v":4.5999999999999996},null,null,null,null,{"$f":"IF(OR(I24=0,K24=0,I24=\"\",K24=\"\"),\"\",(I24-K24)*sum!$J$2)","v":330.00000000000006},{"$f":"IF(P24=\"\",\"\",(J24-H24)*sum!$J$2-P24)","v":169.99999999999994},165.8,null,0.59308997901455707,0.51515149954086348,0.30553119205200835,{"$f":"IF(P24=\"\",\"\",(I24-K24)*sum!$J$2)","v":330.00000000000006},0.51515151515151492,1,2,null,null,null,1,6,"",-0.46999999999998465,0.01,-0.47999999999998466,1,1,null,null,null,-0.14999999999999147,-1.25,null,{"$f":"IF(sum!A32=\"\",0,PB(\"C\",sum!$C$2,sum!A32,(sum!$D$2-NOW())/365,sum!$C$6,sum!$D$6,sum!$B$6))","v":92.787136527734688},{"$f":"IF(sum!A32=\"\",0,PB(\"P\",sum!$C$2,sum!A32,(sum!$D$2-NOW())/365,sum!$C$6,sum!$D$6,sum!$B$6))","v":0},{"$f":"IF(OR(sum!B32=0,sum!A32=\"\"),0,V(\"C\",sum!$C$2,sum!A32,(sum!$D$2-NOW())/365,$F$2,$G$2,sum!B32))","v":3.0517578125E-5},{"$f":"IF(OR(sum!D32=0,sum!A32=\"\"),0,V(\"P\",sum!$C$2,sum!A32,(sum!$D$2-NOW())/365,$F$2,$G$2,sum!D32))","v":1.176605224609375},{"$f":"IF(sum!A32=\"\",\"\",D(\"C\",sum!$C$2,sum!A32,(sum!$D$2-NOW())/365,sum!$C$6,sum!$D$6,sum!$B$6))","v":1},{"$f":"IF(sum!A32=\"\",\"\",D(\"P\",sum!$C$2,sum!A32,(sum!$D$2-NOW())/365,sum!$C$6,sum!$D$6,sum!$B$6))","v":0},-0.46999999999998465,0.01,null,{"$f":"VLOOKUP(H24,sum!$A$14:$E$113,3)","v":6.8366814360047243},{"$f":"VLOOKUP(J24,sum!$A$14:$E$113,3)","v":3.7760676776467079},"","exp","X"]
[20,{"$f":"IF(sum!A33=\"\",\"\",sum!A33)","v":76.25},{"$f":"IF(sum!B33=\"\",\"\",sum!B33)","v":91.35},{"$f":"IF(sum!D33=\"\",\"\",sum!D33)","v":0.01},"",12,"call debit _/'' b162.5c+s170c",{"$f":"H24","v":162.5},{"$f":"I24","v":7.9},{"$f":"VLOOKUP($C$4,$A$6:$D$105,2)","v":170},{"$f":"VLOOKUP($C$4,$A$6:$D$105,3)","v":3.3},null,null,null,null,{"$f":"IF(OR(I25=0,K25=0,I25=\"\",K25=\"\"),\"\",(I25-K25)*sum!$J$2)","v":460.00000000000006},{"$f":"IF(P25=\"\",\"\",(J25-H25)*sum!$J$2-P25)","v":289.99999999999994},167.1,null,0.53614859450946395,0.63043476890359185,0.33800671527755949,{"$f":"IF(P25=\"\",\"\",(I25-K25)*sum!$J$2)","v":460.00000000000006},0.63043478260869545,1,2,null,null,null,1,6,"",-0.31999999999999318,0.01,-0.32999999999999319,1,1,null,null,null,0.25,-1.25,null,{"$f":"IF(sum!A33=\"\",0,PB(\"C\",sum!$C$2,sum!A33,(sum!$D$2-NOW())/365,sum!$C$6,sum!$D$6,sum!$B$6))","v":91.537773445467082},{"$f":"IF(sum!A33=\"\",0,PB(\"P\",sum!$C$2,sum!A33,(sum!$D$2-NOW())/365,sum!$C$6,sum!$D$6,sum!$B$6))","v":0},{"$f":"IF(OR(sum!B33=0,sum!A33=\"\"),0,V(\"C\",sum!$C$2,sum!A33,(sum!$D$2-NOW())/365,$F$2,$G$2,sum!B33))","v":3.0517578125E-5},{"$f":"IF(OR(sum!D33=0,sum!A33=\"\"),0,V(\"P\",sum!$C$2,sum!A33,(sum!$D$2-NOW())/365,$F$2,$G$2,sum!D33))","v":1.153656005859375},{"$f":"IF(sum!A33=\"\",\"\",D(\"C\",sum!$C$2,sum!A33,(sum!$D$2-NOW())/365,sum!$C$6,sum!$D$6,sum!$B$6))","v":1},{"$f":"IF(sum!A33=\"\",\"\",D(\"P\",sum!$C$2,sum!A33,(sum!$D$2-NOW())/365,sum!$C$6,sum!$D$6,sum!$B$6))","v":0},-0.31999999999999318,0.01,null,{"$f":"VLOOKUP(H25,sum!$A$14:$E$113,3)","v":6.8366814360047243},{"$f":"VLOOKUP(J25,sum!$A$14:$E$113,3)","v":2.6531942972793985},"","exp",{"$f":"IF(OR(AND(BD25=\"exp\",BC25=\"\"),AND(BD25=\"\",BC25=\"cheap\")),\"X\",\"\")","v":"X"}]
[21,{"$f":"IF(sum!A34=\"\",\"\",sum!A34)","v":77.5},{"$f":"IF(sum!B34=\"\",\"\",sum!B34)","v":89.85},{"$f":"IF(sum!D34=\"\",\"\",sum!D34)","v":0.01},"",13,"call debit _/'' b165c+s167.5c",{"$f":"J21","v":165},{"$f":"K21","v":6.13},{"$f":"J24","v":167.5},{"$f":"K24","v":4.5999999999999996},null,null,null,null,{"$f":"IF(OR(I26=0,K26=0,I26=\"\",K26=\"\"),\"\",(I26-K26)*sum!$J$2)","v":153.00000000000003},{"$f":"IF(P26=\"\",\"\",(J26-H26)*sum!$J$2-P26)","v":96.999999999999972},166.53,null,0.56122286512951858,0.63398688666752345,0.35580793699009089,{"$f":"IF(P26=\"\",\"\",(I26-K26)*sum!$J$2)","v":153.00000000000003},0.63398692810457491,1,2,null,null,null,1,6,"",-0.56999999999999318,0.01,-0.57999999999999319,1,1,null,null,null,-0.90000000000000568,-1.25,null,{"$f":"IF(sum!A34=\"\",0,PB(\"C\",sum!$C$2,sum!A34,(sum!$D$2-NOW())/365,sum!$C$6,sum!$D$6,sum!$B$6))","v":90.288410367298567},{"$f":"IF(sum!A34=\"\",0,PB(\"P\",sum!$C$2,sum!A34,(sum!$D$2-NOW())/365,sum!$C$6,sum!$D$6,sum!$B$6))","v":0},{"$f":"IF(OR(sum!B34=0,sum!A34=\"\"),0,V(\"C\",sum!$C$2,sum!A34,(sum!$D$2-NOW())/365,$F$2,$G$2,sum!B34))","v":3.0517578125E-5},{"$f":"IF(OR(sum!D34=0,sum!A34=\"\"),0,V(\"P\",sum!$C$2,sum!A34,(sum!$D$2-NOW())/365,$F$2,$G$2,sum!D34))","v":1.131072998046875},{"$f":"IF(sum!A34=\"\",\"\",D(\"C\",sum!$C$2,sum!A34,(sum!$D$2-NOW())/365,sum!$C$6,sum!$D$6,sum!$B$6))","v":1},{"$f":"IF(sum!A34=\"\",\"\",D(\"P\",sum!$C$2,sum!A34,(sum!$D$2-NOW())/365,sum!$C$6,sum!$D$6,sum!$B$6))","v":0},-0.56999999999999318,0.01,null,{"$f":"VLOOKUP(H26,sum!$A$14:$E$113,3)","v":5.1729445158851775},{"$f":"VLOOKUP(J26,sum!$A$14:$E$113,3)","v":3.7760676776467079},"","exp",{"$f":"IF(OR(AND(BD26=\"exp\",BC26=\"\"),AND(BD26=\"\",BC26=\"cheap\")),\"X\",\"\")","v":"X"}]
[22,{"$f":"IF(sum!A35=\"\",\"\",sum!A35)","v":78.75},{"$f":"IF(sum!B35=\"\",\"\",sum!B35)","v":89.5},{"$f":"IF(sum!D35=\"\",\"\",sum!D35)","v":0.01},"",14,"call debit _/'' b165c+s170c",{"$f":"H26","v":165},{"$f":"I26","v":6.13},{"$f":"J25","v":170},{"$f":"K25","v":3.3},null,null,null,null,{"$f":"IF(OR(I27=0,K27=0,I27=\"\",K27=\"\"),\"\",(I27-K27)*sum!$J$2)","v":283},{"$f":"IF(P27=\"\",\"\",(J27-H27)*sum!$J$2-P27)","v":217},167.83,null,0.50396426221943269,0.76678442520196388,0.38643194712825951,{"$f":"IF(P27=\"\",\"\",(I27-K27)*sum!$J$2)","v":283},0.7667844522968198,1,2,null,null,null,1,6,"",0.33000000000001251,0.01,0.3200000000000125,1,1,null,null,null,0.65000000000000568,-1.25,null,{"$f":"IF(sum!A35=\"\",0,PB(\"C\",sum!$C$2,sum!A35,(sum!$D$2-NOW())/365,sum!$C$6,sum!$D$6,sum!$B$6))","v":89.039047280955643},{"$f":"IF(sum!A35=\"\",0,PB(\"P\",sum!$C$2,sum!A35,(sum!$D$2-NOW())/365,sum!$C$6,sum!$D$6,sum!$B$6))","v":0},{"$f":"IF(OR(sum!B35=0,sum!A35=\"\"),0,V(\"C\",sum!$C$2,sum!A35,(sum!$D$2-NOW())/365,$F$2,$G$2,sum!B35))","v":1.651214599609375},{"$f":"IF(OR(sum!D35=0,sum!A35=\"\"),0,V(\"P\",sum!$C$2,sum!A35,(sum!$D$2-NOW())/365,$F$2,$G$2,sum!D35))","v":1.108856201171875},{"$f":"IF(sum!A35=\"\",\"\",D(\"C\",sum!$C$2,sum!A35,(sum!$D$2-NOW())/365,sum!$C$6,sum!$D$6,sum!$B$6))","v":1},{"$f":"IF(sum!A35=\"\",\"\",D(\"P\",sum!$C$2,sum!A35,(sum!$D$2-NOW())/365,sum!$C$6,sum!$D$6,sum!$B$6))","v":0},0.33000000000001251,0.01,null,{"$f":"VLOOKUP(H27,sum!$A$14:$E$113,3)","v":5.1729445158851775},{"$f":"VLOOKUP(J27,sum!$A$14:$E$113,3)","v":2.6531942972793985},"","exp","X"]
[23,{"$f":"IF(sum!A36=\"\",\"\",sum!A36)","v":80},{"$f":"IF(sum!B36=\"\",\"\",sum!B36)","v":87.6},{"$f":"IF(sum!D36=\"\",\"\",sum!D36)","v":0.01},"",15,"call debit _/'' b165c+s172.5c",{"$f":"H27","v":165},{"$f":"I27","v":6.13},{"$f":"VLOOKUP($C$4+1,$A$6:$D$105,2)","v":172.5},{"$f":"VLOOKUP($C$4+1,$A$6:$D$105,3)","v":2.21},null,null,null,null,{"$f":"IF(OR(I28=0,K28=0,I28=\"\",K28=\"\"),\"\",(I28-K28)*sum!$J$2)","v":392},{"$f":"IF(P28=\"\",\"\",(J28-H28)*sum!$J$2-P28)","v":358},168.92,null,0.4561827980868236,0.9132652828248653,0.41661591211460136,{"$f":"IF(P28=\"\",\"\",(I28-K28)*sum!$J$2)","v":392},0.91326530612244894,1,2,null,null,null,1,6,"",-0.31999999999999318,0.01,-0.32999999999999319,1,1,null,null,null,-0.65000000000000568,-1.25,null,{"$f":"IF(sum!A36=\"\",0,PB(\"C\",sum!$C$2,sum!A36,(sum!$D$2-NOW())/365,sum!$C$6,sum!$D$6,sum!$B$6))","v":87.789684199522114},{"$f":"IF(sum!A36=\"\",0,PB(\"P\",sum!$C$2,sum!A36,(sum!$D$2-NOW())/365,sum!$C$6,sum!$D$6,sum!$B$6))","v":0},{"$f":"IF(OR(sum!B36=0,sum!A36=\"\"),0,V(\"C\",sum!$C$2,sum!A36,(sum!$D$2-NOW())/365,$F$2,$G$2,sum!B36))","v":3.0517578125E-5},{"$f":"IF(OR(sum!D36=0,sum!A36=\"\"),0,V(\"P\",sum!$C$2,sum!A36,(sum!$D$2-NOW())/365,$F$2,$G$2,sum!D36))","v":1.087005615234375},{"$f":"IF(sum!A36=\"\",\"\",D(\"C\",sum!$C$2,sum!A36,(sum!$D$2-NOW())/365,sum!$C$6,sum!$D$6,sum!$B$6))","v":1},{"$f":"IF(sum!A36=\"\",\"\",D(\"P\",sum!$C$2,sum!A36,(sum!$D$2-NOW())/365,sum!$C$6,sum!$D$6,sum!$B$6))","v":0},-0.31999999999999318,0.01,null,{"$f":"VLOOKUP(H28,sum!$A$14:$E$113,3)","v":5.1729445158851775},{"$f":"VLOOKUP(J28,sum!$A$14:$E$113,3)","v":1.7912926031122538},"","exp","X"]
[24,{"$f":"IF(sum!A37=\"\",\"\",sum!A37)","v":81.25},{"$f":"IF(sum!B37=\"\",\"\",sum!B37)","v":87},{"$f":"IF(sum!D37=\"\",\"\",sum!D37)","v":0.01},"",16,"call debit _/'' b167.5c+s170c",{"$f":"J24","v":167.5},{"$f":"K24","v":4.5999999999999996},{"$f":"J27","v":170},{"$f":"K27","v":3.3},null,null,null,null,{"$f":"IF(OR(I29=0,K29=0,I29=\"\",K29=\"\"),\"\",(I29-K29)*sum!$J$2)","v":129.99999999999997},{"$f":"IF(P29=\"\",\"\",(J29-H29)*sum!$J$2-P29)","v":120.00000000000003},168.8,null,0.46140964346193136,0.92307685207101176,0.42591656120204752,{"$f":"IF(P29=\"\",\"\",(I29-K29)*sum!$J$2)","v":129.99999999999997},0.92307692307692346,1,2,null,null,null,1,6,"",0.33000000000001251,0.01,0.3200000000000125,1,1,null,null,null,0.29999999999999716,-1.25,null,{"$f":"IF(sum!A37=\"\",0,PB(\"C\",sum!$C$2,sum!A37,(sum!$D$2-NOW())/365,sum!$C$6,sum!$D$6,sum!$B$6))","v":86.540321122120318},{"$f":"IF(sum!A37=\"\",0,PB(\"P\",sum!$C$2,sum!A37,(sum!$D$2-NOW())/365,sum!$C$6,sum!$D$6,sum!$B$6))","v":0},{"$f":"IF(OR(sum!B37=0,sum!A37=\"\"),0,V(\"C\",sum!$C$2,sum!A37,(sum!$D$2-NOW())/365,$F$2,$G$2,sum!B37))","v":1.589263916015625},{"$f":"IF(OR(sum!D37=0,sum!A37=\"\"),0,V(\"P\",sum!$C$2,sum!A37,(sum!$D$2-NOW())/365,$F$2,$G$2,sum!D37))","v":1.065460205078125},{"$f":"IF(sum!A37=\"\",\"\",D(\"C\",sum!$C$2,sum!A37,(sum!$D$2-NOW())/365,sum!$C$6,sum!$D$6,sum!$B$6))","v":1},{"$f":"IF(sum!A37=\"\",\"\",D(\"P\",sum!$C$2,sum!A37,(sum!$D$2-NOW())/365,sum!$C$6,sum!$D$6,sum!$B$6))","v":0},0.33000000000001251,0.01,null,{"$f":"VLOOKUP(H29,sum!$A$14:$E$113,3)","v":3.7760676776467079},{"$f":"VLOOKUP(J29,sum!$A$14:$E$113,3)","v":2.6531942972793985},"exp","exp",""]
[25,{"$f":"IF(sum!A38=\"\",\"\",sum!A38)","v":82.5},{"$f":"IF(sum!B38=\"\",\"\",sum!B38)","v":85.45},{"$f":"IF(sum!D38=\"\",\"\",sum!D38)","v":0.01},"",17,"call debit _/'' b167.5c+s172.5c",{"$f":"H29","v":167.5},{"$f":"I29","v":4.5999999999999996},{"$f":"J28","v":172.5},{"$f":"K28","v":2.21},null,null,null,null,{"$f":"IF(OR(I30=0,K30=0,I30=\"\",K30=\"\"),\"\",(I30-K30)*sum!$J$2)","v":238.99999999999997},{"$f":"IF(P30=\"\",\"\",(J30-H30)*sum!$J$2-P30)","v":261},169.89,null,0.41442059948286236,1.0920501635125455,0.45256808342822696,{"$f":"IF(P30=\"\",\"\",(I30-K30)*sum!$J$2)","v":238.99999999999997},1.092050209205021,1,2,null,null,null,1,6,"",3.0000000000015348E-2,0.01,2.0000000000015346E-2,1,1,null,null,null,1.1500000000000057,-1.25,null,{"$f":"IF(sum!A38=\"\",0,PB(\"C\",sum!$C$2,sum!A38,(sum!$D$2-NOW())/365,sum!$C$6,sum!$D$6,sum!$B$6))","v":85.290958035852668},{"$f":"IF(sum!A38=\"\",0,PB(\"P\",sum!$C$2,sum!A38,(sum!$D$2-NOW())/365,sum!$C$6,sum!$D$6,sum!$B$6))","v":0},{"$f":"IF(OR(sum!B38=0,sum!A38=\"\"),0,V(\"C\",sum!$C$2,sum!A38,(sum!$D$2-NOW())/365,$F$2,$G$2,sum!B38))","v":1.156158447265625},{"$f":"IF(OR(sum!D38=0,sum!A38=\"\"),0,V(\"P\",sum!$C$2,sum!A38,(sum!$D$2-NOW())/365,$F$2,$G$2,sum!D38))","v":1.044219970703125},{"$f":"IF(sum!A38=\"\",\"\",D(\"C\",sum!$C$2,sum!A38,(sum!$D$2-NOW())/365,sum!$C$6,sum!$D$6,sum!$B$6))","v":1},{"$f":"IF(sum!A38=\"\",\"\",D(\"P\",sum!$C$2,sum!A38,(sum!$D$2-NOW())/365,sum!$C$6,sum!$D$6,sum!$B$6))","v":0},3.0000000000015348E-2,0.01,null,{"$f":"VLOOKUP(H30,sum!$A$14:$E$113,3)","v":3.7760676776467079},{"$f":"VLOOKUP(J30,sum!$A$14:$E$113,3)","v":1.7912926031122538},"exp","exp",""]
[26,{"$f":"IF(sum!A39=\"\",\"\",sum!A39)","v":83.75},{"$f":"IF(sum!B39=\"\",\"\",sum!B39)","v":83.05},{"$f":"IF(sum!D39=\"\",\"\",sum!D39)","v":0.01},"",18,"call debit _/'' b167.5c+s175c",{"$f":"H30","v":167.5},{"$f":"I30","v":4.5999999999999996},{"$f":"VLOOKUP($C$4+2,$A$6:$D$105,2)","v":175},{"$f":"VLOOKUP($C$4+2,$A$6:$D$105,3)","v":1.4},null,null,null,null,{"$f":"IF(OR(I31=0,K31=0,I31=\"\",K31=\"\"),\"\",(I31-K31)*sum!$J$2)","v":320},{"$f":"IF(P31=\"\",\"\",(J31-H31)*sum!$J$2-P31)","v":430},170.7,null,0.38043020138443695,1.3437499580078138,0.51120306713524133,{"$f":"IF(P31=\"\",\"\",(I31-K31)*sum!$J$2)","v":320},1.34375,1,2,null,null,null,1,6,"",-1.1199999999999903,0.01,-1.1299999999999903,1,1,null,null,null,-0.60000000000000853,-1.25,null,{"$f":"IF(sum!A39=\"\",0,PB(\"C\",sum!$C$2,sum!A39,(sum!$D$2-NOW())/365,sum!$C$6,sum!$D$6,sum!$B$6))","v":84.04159495921364},{"$f":"IF(sum!A39=\"\",0,PB(\"P\",sum!$C$2,sum!A39,(sum!$D$2-NOW())/365,sum!$C$6,sum!$D$6,sum!$B$6))","v":0},{"$f":"IF(OR(sum!B39=0,sum!A39=\"\"),0,V(\"C\",sum!$C$2,sum!A39,(sum!$D$2-NOW())/365,$F$2,$G$2,sum!B39))","v":3.0517578125E-5},{"$f":"IF(OR(sum!D39=0,sum!A39=\"\"),0,V(\"P\",sum!$C$2,sum!A39,(sum!$D$2-NOW())/365,$F$2,$G$2,sum!D39))","v":1.023345947265625},{"$f":"IF(sum!A39=\"\",\"\",D(\"C\",sum!$C$2,sum!A39,(sum!$D$2-NOW())/365,sum!$C$6,sum!$D$6,sum!$B$6))","v":1},{"$f":"IF(sum!A39=\"\",\"\",D(\"P\",sum!$C$2,sum!A39,(sum!$D$2-NOW())/365,sum!$C$6,sum!$D$6,sum!$B$6))","v":0},-1.1199999999999903,0.01,null,{"$f":"VLOOKUP(H31,sum!$A$14:$E$113,3)","v":3.7760676776467079},{"$f":"VLOOKUP(J31,sum!$A$14:$E$113,3)","v":1.1605609180556016},"exp","exp",""]
[27,{"$f":"IF(sum!A40=\"\",\"\",sum!A40)","v":85},{"$f":"IF(sum!B40=\"\",\"\",sum!B40)","v":82.4},{"$f":"IF(sum!D40=\"\",\"\",sum!D40)","v":0.01},"",19,"call debit _/'' b170c+s172.5c",{"$f":"VLOOKUP($C$4,$A$6:$D$105,2)","v":170},{"$f":"VLOOKUP($C$4,$A$6:$D$105,3)","v":3.3},{"$f":"VLOOKUP($C$4+1,$A$6:$D$105,2)","v":172.5},{"$f":"VLOOKUP($C$4+1,$A$6:$D$105,3)","v":2.21},null,null,null,null,{"$f":"IF(OR(I32=0,K32=0,I32=\"\",K32=\"\"),\"\",(I32-K32)*sum!$J$2)","v":108.99999999999999},{"$f":"IF(P32=\"\",\"\",(J32-H32)*sum!$J$2-P32)","v":141},171.09,null,0.36442678998381761,1.2935778629745081,0.47141442819792662,{"$f":"IF(P32=\"\",\"\",(I32-K32)*sum!$J$2)","v":108.99999999999999},1.2935779816513764,1,2,null,null,null,1,6,"",-0.51999999999998181,0.01,-0.52999999999998182,1,1,null,null,null,-0.25,-1.25,null,{"$f":"IF(sum!A40=\"\",0,PB(\"C\",sum!$C$2,sum!A40,(sum!$D$2-NOW())/365,sum!$C$6,sum!$D$6,sum!$B$6))","v":82.792231872993526},{"$f":"IF(sum!A40=\"\",0,PB(\"P\",sum!$C$2,sum!A40,(sum!$D$2-NOW())/365,sum!$C$6,sum!$D$6,sum!$B$6))","v":0},{"$f":"IF(OR(sum!B40=0,sum!A40=\"\"),0,V(\"C\",sum!$C$2,sum!A40,(sum!$D$2-NOW())/365,$F$2,$G$2,sum!B40))","v":3.0517578125E-5},{"$f":"IF(OR(sum!D40=0,sum!A40=\"\"),0,V(\"P\",sum!$C$2,sum!A40,(sum!$D$2-NOW())/365,$F$2,$G$2,sum!D40))","v":1.002716064453125},{"$f":"IF(sum!A40=\"\",\"\",D(\"C\",sum!$C$2,sum!A40,(sum!$D$2-NOW())/365,sum!$C$6,sum!$D$6,sum!$B$6))","v":1},{"$f":"IF(sum!A40=\"\",\"\",D(\"P\",sum!$C$2,sum!A40,(sum!$D$2-NOW())/365,sum!$C$6,sum!$D$6,sum!$B$6))","v":0},-0.51999999999998181,0.01,null,{"$f":"VLOOKUP(H32,sum!$A$14:$E$113,3)","v":2.6531942972793985},{"$f":"VLOOKUP(J32,sum!$A$14:$E$113,3)","v":1.7912926031122538},"exp","exp",""]
[28,{"$f":"IF(sum!A41=\"\",\"\",sum!A41)","v":86.25},{"$f":"IF(sum!B41=\"\",\"\",sum!B41)","v":81.400000000000006},{"$f":"IF(sum!D41=\"\",\"\",sum!D41)","v":0.01},"",20,"call debit _/'' b170c+s175c",{"$f":"VLOOKUP($C$4,$A$6:$D$105,2)","v":170},{"$f":"VLOOKUP($C$4,$A$6:$D$105,3)","v":3.3},{"$f":"VLOOKUP($C$4+2,$A$6:$D$105,2)","v":175},{"$f":"VLOOKUP($C$4+2,$A$6:$D$105,3)","v":1.4},null,null,null,null,{"$f":"IF(OR(I33=0,K33=0,I33=\"\",K33=\"\"),\"\",(I33-K33)*sum!$J$2)","v":190},{"$f":"IF(P33=\"\",\"\",(J33-H33)*sum!$J$2-P33)","v":310},171.9,null,0.3320726471876333,1.6315788614958493,0.54180271163231153,{"$f":"IF(P33=\"\",\"\",(I33-K33)*sum!$J$2)","v":190},1.631578947368421,1,2,null,null,null,1,6,"",-0.26999999999998181,0.01,-0.27999999999998182,1,1,null,null,null,0.40000000000000568,-1.25,null,{"$f":"IF(sum!A41=\"\",0,PB(\"C\",sum!$C$2,sum!A41,(sum!$D$2-NOW())/365,sum!$C$6,sum!$D$6,sum!$B$6))","v":81.542868791563961},{"$f":"IF(sum!A41=\"\",0,PB(\"P\",sum!$C$2,sum!A41,(sum!$D$2-NOW())/365,sum!$C$6,sum!$D$6,sum!$B$6))","v":0},{"$f":"IF(OR(sum!B41=0,sum!A41=\"\"),0,V(\"C\",sum!$C$2,sum!A41,(sum!$D$2-NOW())/365,$F$2,$G$2,sum!B41))","v":3.0517578125E-5},{"$f":"IF(OR(sum!D41=0,sum!A41=\"\"),0,V(\"P\",sum!$C$2,sum!A41,(sum!$D$2-NOW())/365,$F$2,$G$2,sum!D41))","v":0.982391357421875},{"$f":"IF(sum!A41=\"\",\"\",D(\"C\",sum!$C$2,sum!A41,(sum!$D$2-NOW())/365,sum!$C$6,sum!$D$6,sum!$B$6))","v":1},{"$f":"IF(sum!A41=\"\",\"\",D(\"P\",sum!$C$2,sum!A41,(sum!$D$2-NOW())/365,sum!$C$6,sum!$D$6,sum!$B$6))","v":0},-0.26999999999998181,0.01,null,{"$f":"VLOOKUP(H33,sum!$A$14:$E$113,3)","v":2.6531942972793985},{"$f":"VLOOKUP(J33,sum!$A$14:$E$113,3)","v":1.1605609180556016},"exp","exp",""]
[29,{"$f":"IF(sum!A42=\"\",\"\",sum!A42)","v":87.5},{"$f":"IF(sum!B42=\"\",\"\",sum!B42)","v":79.75},{"$f":"IF(sum!D42=\"\",\"\",sum!D42)","v":0.01},"",21,"call debit _/'' b170c+s177.5c",{"$f":"VLOOKUP($C$4,$A$6:$D$105,2)","v":170},{"$f":"VLOOKUP($C$4,$A$6:$D$105,3)","v":3.3},{"$f":"VLOOKUP($C$4+3,$A$6:$D$105,2)","v":177.5},{"$f":"VLOOKUP($C$4+3,$A$6:$D$105,3)","v":0.84},null,null,null,null,{"$f":"IF(OR(I34=0,K34=0,I34=\"\",K34=\"\"),\"\",(I34-K34)*sum!$J$2)","v":246},{"$f":"IF(P34=\"\",\"\",(J34-H34)*sum!$J$2-P34)","v":504},172.46,null,0.31048288985217609,2.0487804045211218,0.63611126066822821,{"$f":"IF(P34=\"\",\"\",(I34-K34)*sum!$J$2)","v":246},2.0487804878048781,1,2,null,null,null,1,6,"",-0.66999999999998749,0.01,-0.6799999999999875,1,1,null,null,null,-9.9999999999994316E-2,-2.5,null,{"$f":"IF(sum!A42=\"\",0,PB(\"C\",sum!$C$2,sum!A42,(sum!$D$2-NOW())/365,sum!$C$6,sum!$D$6,sum!$B$6))","v":80.293505711707482},{"$f":"IF(sum!A42=\"\",0,PB(\"P\",sum!$C$2,sum!A42,(sum!$D$2-NOW())/365,sum!$C$6,sum!$D$6,sum!$B$6))","v":0},{"$f":"IF(OR(sum!B42=0,sum!A42=\"\"),0,V(\"C\",sum!$C$2,sum!A42,(sum!$D$2-NOW())/365,$F$2,$G$2,sum!B42))","v":3.0517578125E-5},{"$f":"IF(OR(sum!D42=0,sum!A42=\"\"),0,V(\"P\",sum!$C$2,sum!A42,(sum!$D$2-NOW())/365,$F$2,$G$2,sum!D42))","v":0.962371826171875},{"$f":"IF(sum!A42=\"\",\"\",D(\"C\",sum!$C$2,sum!A42,(sum!$D$2-NOW())/365,sum!$C$6,sum!$D$6,sum!$B$6))","v":1},{"$f":"IF(sum!A42=\"\",\"\",D(\"P\",sum!$C$2,sum!A42,(sum!$D$2-NOW())/365,sum!$C$6,sum!$D$6,sum!$B$6))","v":0},-0.66999999999998749,0.01,null,{"$f":"VLOOKUP(H34,sum!$A$14:$E$113,3)","v":2.6531942972793985},{"$f":"VLOOKUP(J34,sum!$A$14:$E$113,3)","v":0.72096128615324773},"exp","",""]
[30,{"$f":"IF(sum!A43=\"\",\"\",sum!A43)","v":90},{"$f":"IF(sum!B43=\"\",\"\",sum!B43)","v":77.349999999999994},{"$f":"IF(sum!D43=\"\",\"\",sum!D43)","v":0.01},"",22,"call debit _/'' b172.5c+s175c",{"$f":"J32","v":172.5},{"$f":"K32","v":2.21},{"$f":"J33","v":175},{"$f":"K33","v":1.4},null,null,null,null,{"$f":"IF(OR(I35=0,K35=0,I35=\"\",K35=\"\"),\"\",(I35-K35)*sum!$J$2)","v":81},{"$f":"IF(P35=\"\",\"\",(J35-H35)*sum!$J$2-P35)","v":169},173.31,null,0.27906783669017887,2.0864194955037658,0.58225257503845029,{"$f":"IF(P35=\"\",\"\",(I35-K35)*sum!$J$2)","v":81},2.0864197530864197,1,2,null,null,null,1,6,"",-0.56999999999999318,0.01,-0.57999999999999319,1,1,null,null,null,-0.75,-2.5,null,{"$f":"IF(sum!A43=\"\",0,PB(\"C\",sum!$C$2,sum!A43,(sum!$D$2-NOW())/365,sum!$C$6,sum!$D$6,sum!$B$6))","v":77.794779552725572},{"$f":"IF(sum!A43=\"\",0,PB(\"P\",sum!$C$2,sum!A43,(sum!$D$2-NOW())/365,sum!$C$6,sum!$D$6,sum!$B$6))","v":0},{"$f":"IF(OR(sum!B43=0,sum!A43=\"\"),0,V(\"C\",sum!$C$2,sum!A43,(sum!$D$2-NOW())/365,$F$2,$G$2,sum!B43))","v":3.0517578125E-5},{"$f":"IF(OR(sum!D43=0,sum!A43=\"\"),0,V(\"P\",sum!$C$2,sum!A43,(sum!$D$2-NOW())/365,$F$2,$G$2,sum!D43))","v":0.923187255859375},{"$f":"IF(sum!A43=\"\",\"\",D(\"C\",sum!$C$2,sum!A43,(sum!$D$2-NOW())/365,sum!$C$6,sum!$D$6,sum!$B$6))","v":1},{"$f":"IF(sum!A43=\"\",\"\",D(\"P\",sum!$C$2,sum!A43,(sum!$D$2-NOW())/365,sum!$C$6,sum!$D$6,sum!$B$6))","v":0},-0.56999999999999318,0.01,null,{"$f":"VLOOKUP(H35,sum!$A$14:$E$113,3)","v":1.7912926031122538},{"$f":"VLOOKUP(J35,sum!$A$14:$E$113,3)","v":1.1605609180556016},"exp","exp",""]
[31,{"$f":"IF(sum!A44=\"\",\"\",sum!A44)","v":92.5},{"$f":"IF(sum!B44=\"\",\"\",sum!B44)","v":75.599999999999994},{"$f":"IF(sum!D44=\"\",\"\",sum!D44)","v":0.01},"",23,"call debit _/'' b172.5c+s177.5c",{"$f":"H35","v":172.5},{"$f":"I35","v":2.21},{"$f":"J34","v":177.5},{"$f":"K34","v":0.84},null,null,null,null,{"$f":"IF(OR(I36=0,K36=0,I36=\"\",K36=\"\"),\"\",(I36-K36)*sum!$J$2)","v":137},{"$f":"IF(P36=\"\",\"\",(J36-H36)*sum!$J$2-P36)","v":363},173.87,null,0.25933136073418162,2.6496348430923473,0.68713340930783817,{"$f":"IF(P36=\"\",\"\",(I36-K36)*sum!$J$2)","v":137},2.6496350364963503,1,2,null,null,null,1,6,"",0.18000000000000682,0.01,0.17000000000000681,1,1,null,null,null,0.15999999999999659,-2.5,null,{"$f":"IF(sum!A44=\"\",0,PB(\"C\",sum!$C$2,sum!A44,(sum!$D$2-NOW())/365,sum!$C$6,sum!$D$6,sum!$B$6))","v":75.296053391352359},{"$f":"IF(sum!A44=\"\",0,PB(\"P\",sum!$C$2,sum!A44,(sum!$D$2-NOW())/365,sum!$C$6,sum!$D$6,sum!$B$6))","v":0},{"$f":"IF(OR(sum!B44=0,sum!A44=\"\"),0,V(\"C\",sum!$C$2,sum!A44,(sum!$D$2-NOW())/365,$F$2,$G$2,sum!B44))","v":1.216400146484375},{"$f":"IF(OR(sum!D44=0,sum!A44=\"\"),0,V(\"P\",sum!$C$2,sum!A44,(sum!$D$2-NOW())/365,$F$2,$G$2,sum!D44))","v":0.884979248046875},{"$f":"IF(sum!A44=\"\",\"\",D(\"C\",sum!$C$2,sum!A44,(sum!$D$2-NOW())/365,sum!$C$6,sum!$D$6,sum!$B$6))","v":1},{"$f":"IF(sum!A44=\"\",\"\",D(\"P\",sum!$C$2,sum!A44,(sum!$D$2-NOW())/365,sum!$C$6,sum!$D$6,sum!$B$6))","v":0},0.18000000000000682,0.01,null,{"$f":"VLOOKUP(H36,sum!$A$14:$E$113,3)","v":1.7912926031122538},{"$f":"VLOOKUP(J36,sum!$A$14:$E$113,3)","v":0.72096128615324773},"exp","",""]
[32,{"$f":"IF(sum!A45=\"\",\"\",sum!A45)","v":95},{"$f":"IF(sum!B45=\"\",\"\",sum!B45)","v":72.94},{"$f":"IF(sum!D45=\"\",\"\",sum!D45)","v":0.01},"",24,"call debit _/'' b172.5c+s180c",{"$f":"H35","v":172.5},{"$f":"I35","v":2.21},{"$f":"VLOOKUP($C$4+4,$A$6:$D$105,2)","v":180},{"$f":"VLOOKUP($C$4+4,$A$6:$D$105,3)","v":0.49},null,null,null,null,{"$f":"IF(OR(I37=0,K37=0,I37=\"\",K37=\"\"),\"\",(I37-K37)*sum!$J$2)","v":172},{"$f":"IF(P37=\"\",\"\",(J37-H37)*sum!$J$2-P37)","v":578},174.22,null,0.24740375719333318,3.360464920903202,0.83139164734784943,{"$f":"IF(P37=\"\",\"\",(I37-K37)*sum!$J$2)","v":172},3.36046511627907,1,2,null,null,null,1,6,"",2.0000000000010232E-2,0.01,1.0000000000010232E-2,1,1,null,null,null,-3.710000000000008,-2.5,null,{"$f":"IF(sum!A45=\"\",0,PB(\"C\",sum!$C$2,sum!A45,(sum!$D$2-NOW())/365,sum!$C$6,sum!$D$6,sum!$B$6))","v":72.797327223845286},{"$f":"IF(sum!A45=\"\",0,PB(\"P\",sum!$C$2,sum!A45,(sum!$D$2-NOW())/365,sum!$C$6,sum!$D$6,sum!$B$6))","v":0},{"$f":"IF(OR(sum!B45=0,sum!A45=\"\"),0,V(\"C\",sum!$C$2,sum!A45,(sum!$D$2-NOW())/365,$F$2,$G$2,sum!B45))","v":0.903472900390625},{"$f":"IF(OR(sum!D45=0,sum!A45=\"\"),0,V(\"P\",sum!$C$2,sum!A45,(sum!$D$2-NOW())/365,$F$2,$G$2,sum!D45))","v":0.847747802734375},{"$f":"IF(sum!A45=\"\",\"\",D(\"C\",sum!$C$2,sum!A45,(sum!$D$2-NOW())/365,sum!$C$6,sum!$D$6,sum!$B$6))","v":1},{"$f":"IF(sum!A45=\"\",\"\",D(\"P\",sum!$C$2,sum!A45,(sum!$D$2-NOW())/365,sum!$C$6,sum!$D$6,sum!$B$6))","v":0},2.0000000000010232E-2,0.01,null,{"$f":"VLOOKUP(H37,sum!$A$14:$E$113,3)","v":1.7912926031122538},{"$f":"VLOOKUP(J37,sum!$A$14:$E$113,3)","v":0.42924785852553882},"exp","",""]
[33,{"$f":"IF(sum!A46=\"\",\"\",sum!A46)","v":97.5},{"$f":"IF(sum!B46=\"\",\"\",sum!B46)","v":74.150000000000006},{"$f":"IF(sum!D46=\"\",\"\",sum!D46)","v":0.01},"",25,"call debit _/'' b175c+s177.5c",{"$f":"J33","v":175},{"$f":"K33","v":1.4},{"$f":"J36","v":177.5},{"$f":"K36","v":0.84},null,null,null,null,{"$f":"IF(OR(I38=0,K38=0,I38=\"\",K38=\"\"),\"\",(I38-K38)*sum!$J$2)","v":55.999999999999993},{"$f":"IF(P38=\"\",\"\",(J38-H38)*sum!$J$2-P38)","v":194},175.56,null,0.20477069418860416,3.4642850956633762,0.70938406390622455,{"$f":"IF(P38=\"\",\"\",(I38-K38)*sum!$J$2)","v":55.999999999999993},3.4642857142857149,1,2,null,null,null,1,6,"",3.7300000000000182,0.01,3.7200000000000184,{"$f":"IF(AI38=MIN($AI$6:$AI$105),\"X\",1)","v":1},1,null,null,null,3.9500000000000028,-2.5,null,{"$f":"IF(sum!A46=\"\",0,PB(\"C\",sum!$C$2,sum!A46,(sum!$D$2-NOW())/365,sum!$C$6,sum!$D$6,sum!$B$6))","v":70.298601062472073},{"$f":"IF(sum!A46=\"\",0,PB(\"P\",sum!$C$2,sum!A46,(sum!$D$2-NOW())/365,sum!$C$6,sum!$D$6,sum!$B$6))","v":0},{"$f":"IF(OR(sum!B46=0,sum!A46=\"\"),0,V(\"C\",sum!$C$2,sum!A46,(sum!$D$2-NOW())/365,$F$2,$G$2,sum!B46))","v":1.999969482421875},{"$f":"IF(OR(sum!D46=0,sum!A46=\"\"),0,V(\"P\",sum!$C$2,sum!A46,(sum!$D$2-NOW())/365,$F$2,$G$2,sum!D46))","v":0.811492919921875},{"$f":"IF(sum!A46=\"\",\"\",D(\"C\",sum!$C$2,sum!A46,(sum!$D$2-NOW())/365,sum!$C$6,sum!$D$6,sum!$B$6))","v":1},{"$f":"IF(sum!A46=\"\",\"\",D(\"P\",sum!$C$2,sum!A46,(sum!$D$2-NOW())/365,sum!$C$6,sum!$D$6,sum!$B$6))","v":0},3.7300000000000182,0.01,null,{"$f":"VLOOKUP(H38,sum!$A$14:$E$113,3)","v":1.1605609180556016},{"$f":"VLOOKUP(J38,sum!$A$14:$E$113,3)","v":0.72096128615324773},"exp","",""]
[34,{"$f":"IF(sum!A47=\"\",\"\",sum!A47)","v":100},{"$f":"IF(sum!B47=\"\",\"\",sum!B47)","v":67.7},{"$f":"IF(sum!D47=\"\",\"\",sum!D47)","v":0.01},"",26,"call debit _/'' b175c+s180c",{"$f":"H38","v":175},{"$f":"I38","v":1.4},{"$f":"J37","v":180},{"$f":"K37","v":0.49},null,null,null,null,{"$f":"IF(OR(I39=0,K39=0,I39=\"\",K39=\"\"),\"\",(I39-K39)*sum!$J$2)","v":90.999999999999986},{"$f":"IF(P39=\"\",\"\",(J39-H39)*sum!$J$2-P39)","v":409},175.91,null,0.19444920941602906,4.4945050006038469,0.87395294408380719,{"$f":"IF(P39=\"\",\"\",(I39-K39)*sum!$J$2)","v":90.999999999999986},4.4945054945054954,1,2,null,null,null,1,6,"",-0.21999999999998465,0.01,-0.22999999999998466,1,1,null,null,null,-4.4699999999999989,-2.5,null,{"$f":"IF(sum!A47=\"\",0,PB(\"C\",sum!$C$2,sum!A47,(sum!$D$2-NOW())/365,sum!$C$6,sum!$D$6,sum!$B$6))","v":67.799874902561015},{"$f":"IF(sum!A47=\"\",0,PB(\"P\",sum!$C$2,sum!A47,(sum!$D$2-NOW())/365,sum!$C$6,sum!$D$6,sum!$B$6))","v":0},{"$f":"IF(OR(sum!B47=0,sum!A47=\"\"),0,V(\"C\",sum!$C$2,sum!A47,(sum!$D$2-NOW())/365,$F$2,$G$2,sum!B47))","v":3.0517578125E-5},{"$f":"IF(OR(sum!D47=0,sum!A47=\"\"),0,V(\"P\",sum!$C$2,sum!A47,(sum!$D$2-NOW())/365,$F$2,$G$2,sum!D47))","v":0.776031494140625},{"$f":"IF(sum!A47=\"\",\"\",D(\"C\",sum!$C$2,sum!A47,(sum!$D$2-NOW())/365,sum!$C$6,sum!$D$6,sum!$B$6))","v":1},{"$f":"IF(sum!A47=\"\",\"\",D(\"P\",sum!$C$2,sum!A47,(sum!$D$2-NOW())/365,sum!$C$6,sum!$D$6,sum!$B$6))","v":0},-0.21999999999998465,0.01,null,{"$f":"VLOOKUP(H39,sum!$A$14:$E$113,3)","v":1.1605609180556016},{"$f":"VLOOKUP(J39,sum!$A$14:$E$113,3)","v":0.42924785852553882},"exp","",""]
[35,{"$f":"IF(sum!A48=\"\",\"\",sum!A48)","v":102.5},{"$f":"IF(sum!B48=\"\",\"\",sum!B48)","v":69.67},{"$f":"IF(sum!D48=\"\",\"\",sum!D48)","v":0.01},"",27,"call debit _/'' b175c+s182.5c",{"$f":"H38","v":175},{"$f":"I38","v":1.4},{"$f":"VLOOKUP($C$4+5,$A$6:$D$105,2)","v":182.5},{"$f":"VLOOKUP($C$4+5,$A$6:$D$105,3)","v":0.28000000000000003},null,null,null,null,{"$f":"IF(OR(I40=0,K40=0,I40=\"\",K40=\"\"),\"\",(I40-K40)*sum!$J$2)","v":111.99999999999999},{"$f":"IF(P40=\"\",\"\",(J40-H40)*sum!$J$2-P40)","v":638},176.12,null,0.18842069961746177,5.6964280628189234,1.073324960916884,{"$f":"IF(P40=\"\",\"\",(I40-K40)*sum!$J$2)","v":111.99999999999999},5.6964285714285721,1,2,null,null,null,1,6,"",4.2500000000000142,0.01,4.2400000000000144,1,1,null,null,null,4.1700000000000017,-2.4900000000000002,null,{"$f":"IF(sum!A48=\"\",0,PB(\"C\",sum!$C$2,sum!A48,(sum!$D$2-NOW())/365,sum!$C$6,sum!$D$6,sum!$B$6))","v":65.301148732979584},{"$f":"IF(sum!A48=\"\",0,PB(\"P\",sum!$C$2,sum!A48,(sum!$D$2-NOW())/365,sum!$C$6,sum!$D$6,sum!$B$6))","v":0},{"$f":"IF(OR(sum!B48=0,sum!A48=\"\"),0,V(\"C\",sum!$C$2,sum!A48,(sum!$D$2-NOW())/365,$F$2,$G$2,sum!B48))","v":1.999969482421875},{"$f":"IF(OR(sum!D48=0,sum!A48=\"\"),0,V(\"P\",sum!$C$2,sum!A48,(sum!$D$2-NOW())/365,$F$2,$G$2,sum!D48))","v":0.741424560546875},{"$f":"IF(sum!A48=\"\",\"\",D(\"C\",sum!$C$2,sum!A48,(sum!$D$2-NOW())/365,sum!$C$6,sum!$D$6,sum!$B$6))","v":1},{"$f":"IF(sum!A48=\"\",\"\",D(\"P\",sum!$C$2,sum!A48,(sum!$D$2-NOW())/365,sum!$C$6,sum!$D$6,sum!$B$6))","v":0},4.2500000000000142,0.01,null,{"$f":"VLOOKUP(H40,sum!$A$14:$E$113,3)","v":1.1605609180556016},{"$f":"VLOOKUP(J40,sum!$A$14:$E$113,3)","v":0.24491065469218576},"exp","",""]
[36,{"$f":"IF(sum!A49=\"\",\"\",sum!A49)","v":105},{"$f":"IF(sum!B49=\"\",\"\",sum!B49)","v":63},{"$f":"IF(sum!D49=\"\",\"\",sum!D49)","v":0.02},"",28,"call debit _/'' b177.5c+s180c",{"$f":"J38","v":177.5},{"$f":"K38","v":0.84},{"$f":"J39","v":180},{"$f":"K37","v":0.49},null,null,null,null,{"$f":"IF(OR(I41=0,K41=0,I41=\"\",K41=\"\"),\"\",(I41-K41)*sum!$J$2)","v":35},{"$f":"IF(P41=\"\",\"\",(J41-H41)*sum!$J$2-P41)","v":215},177.85,null,0.14345753740325562,6.1428553877556027,0.88123890655173964,{"$f":"IF(P41=\"\",\"\",(I41-K41)*sum!$J$2)","v":35},6.1428571428571432,1,2,null,null,null,1,6,"",{"$f":"IF(OR(C41=0,C41=\"\"),\"\",IF(B41>=$C$3,C41,C41-($C$3-B41)))","v":8.0000000000012506E-2},{"$f":"IF(OR(D41=0,D41=\"\"),\"\",IF(B41<=$C$3,D41,D41-(B41-$C$3)))","v":0.02},{"$f":"IF(OR(C41=\"\",D41=\"\",C41=0,D41=0),\"\",AG41-AH41)","v":6.0000000000012502E-2},1,1,null,null,null,0.5,-2.5,null,{"$f":"IF(sum!A49=\"\",0,PB(\"C\",sum!$C$2,sum!A49,(sum!$D$2-NOW())/365,sum!$C$6,sum!$D$6,sum!$B$6))","v":62.802422575237969},{"$f":"IF(sum!A49=\"\",0,PB(\"P\",sum!$C$2,sum!A49,(sum!$D$2-NOW())/365,sum!$C$6,sum!$D$6,sum!$B$6))","v":0},{"$f":"IF(OR(sum!B49=0,sum!A49=\"\"),0,V(\"C\",sum!$C$2,sum!A49,(sum!$D$2-NOW())/365,$F$2,$G$2,sum!B49))","v":0.880340576171875},{"$f":"IF(OR(sum!D49=0,sum!A49=\"\"),0,V(\"P\",sum!$C$2,sum!A49,(sum!$D$2-NOW())/365,$F$2,$G$2,sum!D49))","v":0.755096435546875},{"$f":"IF(sum!A49=\"\",\"\",D(\"C\",sum!$C$2,sum!A49,(sum!$D$2-NOW())/365,sum!$C$6,sum!$D$6,sum!$B$6))","v":1},{"$f":"IF(sum!A49=\"\",\"\",D(\"P\",sum!$C$2,sum!A49,(sum!$D$2-NOW())/365,sum!$C$6,sum!$D$6,sum!$B$6))","v":0},8.0000000000012506E-2,0.02,null,{"$f":"VLOOKUP(H41,sum!$A$14:$E$113,3)","v":0.72096128615324773},{"$f":"VLOOKUP(J41,sum!$A$14:$E$113,3)","v":0.42924785852553882},"","",""]
[37,{"$f":"IF(sum!A50=\"\",\"\",sum!A50)","v":107.5},{"$f":"IF(sum!B50=\"\",\"\",sum!B50)","v":60},{"$f":"IF(sum!D50=\"\",\"\",sum!D50)","v":0.02},"",29,"call debit _/'' b180c+s182.5c",{"$f":"J41","v":180},0.49,{"$f":"J40","v":182.5},{"$f":"K40","v":0.28000000000000003},null,null,null,null,{"$f":"IF(OR(I42=0,K42=0,I42=\"\",K42=\"\"),\"\",(I42-K42)*sum!$J$2)","v":20.999999999999996},{"$f":"IF(P42=\"\",\"\",(J42-H42)*sum!$J$2-P42)","v":229},180.21,null,9.5224164374859477E-2,10.904756712020616,1.0383963456133032,{"$f":"IF(P42=\"\",\"\",(I42-K42)*sum!$J$2)","v":20.999999999999996},10.904761904761907,1,2,null,null,null,1,6,"",-0.41999999999998749,0.02,-0.43999999999998751,1,1,null,null,null,3.9999999999999147E-2,-2.5,null,{"$f":"IF(sum!A50=\"\",0,PB(\"C\",sum!$C$2,sum!A50,(sum!$D$2-NOW())/365,sum!$C$6,sum!$D$6,sum!$B$6))","v":60.303696410153876},{"$f":"IF(sum!A50=\"\",0,PB(\"P\",sum!$C$2,sum!A50,(sum!$D$2-NOW())/365,sum!$C$6,sum!$D$6,sum!$B$6))","v":-6.6950552226966844E-15},{"$f":"IF(OR(sum!B50=0,sum!A50=\"\"),0,V(\"C\",sum!$C$2,sum!A50,(sum!$D$2-NOW())/365,$F$2,$G$2,sum!B50))","v":3.0517578125E-5},{"$f":"IF(OR(sum!D50=0,sum!A50=\"\"),0,V(\"P\",sum!$C$2,sum!A50,(sum!$D$2-NOW())/365,$F$2,$G$2,sum!D50))","v":0.720062255859375},{"$f":"IF(sum!A50=\"\",\"\",D(\"C\",sum!$C$2,sum!A50,(sum!$D$2-NOW())/365,sum!$C$6,sum!$D$6,sum!$B$6))","v":0.99999999999999989},{"$f":"IF(sum!A50=\"\",\"\",D(\"P\",sum!$C$2,sum!A50,(sum!$D$2-NOW())/365,sum!$C$6,sum!$D$6,sum!$B$6))","v":-1.1102230246251565E-16},-0.41999999999998749,0.02,null,{"$f":"VLOOKUP(H42,sum!$A$14:$E$113,3)","v":0.42924785852553882},{"$f":"VLOOKUP(J42,sum!$A$14:$E$113,3)","v":0.24491065469218576},"","",""]
[38,{"$f":"IF(sum!A51=\"\",\"\",sum!A51)","v":110},{"$f":"IF(sum!B51=\"\",\"\",sum!B51)","v":57.46},{"$f":"IF(sum!D51=\"\",\"\",sum!D51)","v":0.02},"",30,"call debit _/'' b182.5c+s185c",182.5,0.28000000000000003,{"$f":"VLOOKUP($C$4+6,$A$6:$D$105,2)","v":185},{"$f":"VLOOKUP($C$4+6,$A$6:$D$105,3)","v":0.15},null,null,null,null,{"$f":"IF(OR(I43=0,K43=0,I43=\"\",K43=\"\"),\"\",(I43-K43)*sum!$J$2)","v":13.000000000000004},{"$f":"IF(P43=\"\",\"\",(J43-H43)*sum!$J$2-P43)","v":237},182.63,null,5.979392366087477E-2,18.230755207111375,1.0900883851341128,{"$f":"IF(P43=\"\",\"\",(I43-K43)*sum!$J$2)","v":13.000000000000004},18.230769230769226,1,2,null,null,null,1,6,"",-0.45999999999998664,0.02,-0.47999999999998666,1,1,null,null,null,0.16000000000000369,-2.4900000000000002,null,{"$f":"IF(sum!A51=\"\",0,PB(\"C\",sum!$C$2,sum!A51,(sum!$D$2-NOW())/365,sum!$C$6,sum!$D$6,sum!$B$6))","v":57.804970244402156},{"$f":"IF(sum!A51=\"\",0,PB(\"P\",sum!$C$2,sum!A51,(sum!$D$2-NOW())/365,sum!$C$6,sum!$D$6,sum!$B$6))","v":-5.6614606265526228E-15},{"$f":"IF(OR(sum!B51=0,sum!A51=\"\"),0,V(\"C\",sum!$C$2,sum!A51,(sum!$D$2-NOW())/365,$F$2,$G$2,sum!B51))","v":3.0517578125E-5},{"$f":"IF(OR(sum!D51=0,sum!A51=\"\"),0,V(\"P\",sum!$C$2,sum!A51,(sum!$D$2-NOW())/365,$F$2,$G$2,sum!D51))","v":0.685760498046875},{"$f":"IF(sum!A51=\"\",\"\",D(\"C\",sum!$C$2,sum!A51,(sum!$D$2-NOW())/365,sum!$C$6,sum!$D$6,sum!$B$6))","v":0.999999999999998},{"$f":"IF(sum!A51=\"\",\"\",D(\"P\",sum!$C$2,sum!A51,(sum!$D$2-NOW())/365,sum!$C$6,sum!$D$6,sum!$B$6))","v":-1.9984014443252818E-15},-0.45999999999998664,0.02,null,{"$f":"VLOOKUP(H43,sum!$A$14:$E$113,3)","v":0.24491065469218576},{"$f":"VLOOKUP(J43,sum!$A$14:$E$113,3)","v":0.13393034202680809},"","",""]
[39,{"$f":"IF(sum!A52=\"\",\"\",sum!A52)","v":112.5},{"$f":"IF(sum!B52=\"\",\"\",sum!B52)","v":54.8},{"$f":"IF(sum!D52=\"\",\"\",sum!D52)","v":0.03},"",31,"call debit _/'' b185c+s187.5c",185,0.15,{"$f":"VLOOKUP($C$4+7,$A$6:$D$105,2)","v":187.5},{"$f":"VLOOKUP($C$4+7,$A$6:$D$105,3)","v":0.1},null,null,null,null,{"$f":"IF(OR(I44=0,K44=0,I44=\"\",K44=\"\"),\"\",(I44-K44)*sum!$J$2)","v":4.9999999999999991},{"$f":"IF(P44=\"\",\"\",(J44-H44)*sum!$J$2-P44)","v":245},185.05,null,3.5890630767837717E-2,48.999902000196009,1.7586373903492678,{"$f":"IF(P44=\"\",\"\",(I44-K44)*sum!$J$2)","v":4.9999999999999991},49.000000000000007,1,2,null,null,null,1,6,"",-0.61999999999999034,0.03,-0.64999999999999036,1,1,null,null,null,0.45999999999999375,-2.5,null,{"$f":"IF(sum!A52=\"\",0,PB(\"C\",sum!$C$2,sum!A52,(sum!$D$2-NOW())/365,sum!$C$6,sum!$D$6,sum!$B$6))","v":55.30624408295769},{"$f":"IF(sum!A52=\"\",0,PB(\"P\",sum!$C$2,sum!A52,(sum!$D$2-NOW())/365,sum!$C$6,sum!$D$6,sum!$B$6))","v":5.2061576798479052E-14},{"$f":"IF(OR(sum!B52=0,sum!A52=\"\"),0,V(\"C\",sum!$C$2,sum!A52,(sum!$D$2-NOW())/365,$F$2,$G$2,sum!B52))","v":3.0517578125E-5},{"$f":"IF(OR(sum!D52=0,sum!A52=\"\"),0,V(\"P\",sum!$C$2,sum!A52,(sum!$D$2-NOW())/365,$F$2,$G$2,sum!D52))","v":0.680206298828125},{"$f":"IF(sum!A52=\"\",\"\",D(\"C\",sum!$C$2,sum!A52,(sum!$D$2-NOW())/365,sum!$C$6,sum!$D$6,sum!$B$6))","v":0.99999999999994993},{"$f":"IF(sum!A52=\"\",\"\",D(\"P\",sum!$C$2,sum!A52,(sum!$D$2-NOW())/365,sum!$C$6,sum!$D$6,sum!$B$6))","v":-5.007105841059456E-14},-0.61999999999999034,0.03,null,{"$f":"VLOOKUP(H44,sum!$A$14:$E$113,3)","v":0.13393034202680809},{"$f":"VLOOKUP(J44,sum!$A$14:$E$113,3)","v":7.0224132615857915E-2},"","exp","X"]
[40,{"$f":"IF(sum!A53=\"\",\"\",sum!A53)","v":115},{"$f":"IF(sum!B53=\"\",\"\",sum!B53)","v":51.84},{"$f":"IF(sum!D53=\"\",\"\",sum!D53)","v":0.03},"",32,"call debit _/'' b187.5c+s190c",187.5,0.1,{"$f":"VLOOKUP($C$4+8,$A$6:$D$105,2)","v":190},{"$f":"VLOOKUP($C$4+8,$A$6:$D$105,3)","v":7.0000000000000007E-2},null,null,null,null,{"$f":"IF(OR(I45=0,K45=0,I45=\"\",K45=\"\"),\"\",(I45-K45)*sum!$J$2)","v":3},{"$f":"IF(P45=\"\",\"\",(J45-H45)*sum!$J$2-P45)","v":247},187.53,null,2.0316228392891933E-2,82.333058889803695,1.6726972286906734,{"$f":"IF(P45=\"\",\"\",(I45-K45)*sum!$J$2)","v":3},82.333333333333329,1,2,null,null,null,1,6,"",-1.0799999999999841,0.03,-1.1099999999999841,1,1,null,null,null,-0.15999999999999659,-2.4900000000000002,null,{"$f":"IF(sum!A53=\"\",0,PB(\"C\",sum!$C$2,sum!A53,(sum!$D$2-NOW())/365,sum!$C$6,sum!$D$6,sum!$B$6))","v":52.807517920783241},{"$f":"IF(sum!A53=\"\",0,PB(\"P\",sum!$C$2,sum!A53,(sum!$D$2-NOW())/365,sum!$C$6,sum!$D$6,sum!$B$6))","v":1.2257241815230459E-12},{"$f":"IF(OR(sum!B53=0,sum!A53=\"\"),0,V(\"C\",sum!$C$2,sum!A53,(sum!$D$2-NOW())/365,$F$2,$G$2,sum!B53))","v":3.0517578125E-5},{"$f":"IF(OR(sum!D53=0,sum!A53=\"\"),0,V(\"P\",sum!$C$2,sum!A53,(sum!$D$2-NOW())/365,$F$2,$G$2,sum!D53))","v":0.645965576171875},{"$f":"IF(sum!A53=\"\",\"\",D(\"C\",sum!$C$2,sum!A53,(sum!$D$2-NOW())/365,sum!$C$6,sum!$D$6,sum!$B$6))","v":0.99999999999899281},{"$f":"IF(sum!A53=\"\",\"\",D(\"P\",sum!$C$2,sum!A53,(sum!$D$2-NOW())/365,sum!$C$6,sum!$D$6,sum!$B$6))","v":-1.007194327939942E-12},-1.0799999999999841,0.03,null,{"$f":"VLOOKUP(H45,sum!$A$14:$E$113,3)","v":7.0224132615857915E-2},{"$f":"VLOOKUP(J45,sum!$A$14:$E$113,3)","v":3.532416713605202E-2},"exp","exp",""]
[41,{"$f":"IF(sum!A54=\"\",\"\",sum!A54)","v":117.5},{"$f":"IF(sum!B54=\"\",\"\",sum!B54)","v":49.5},{"$f":"IF(sum!D54=\"\",\"\",sum!D54)","v":0.04},"",33,"call debit _/'' b190c+s192.5c",190,7.0000000000000007E-2,{"$f":"VLOOKUP($C$4+9,$A$6:$D$105,2)","v":192.5},{"$f":"VLOOKUP($C$4+9,$A$6:$D$105,3)","v":0.05},null,null,null,null,{"$f":"IF(OR(I46=0,K46=0,I46=\"\",K46=\"\"),\"\",(I46-K46)*sum!$J$2)","v":2.0000000000000004},{"$f":"IF(P46=\"\",\"\",(J46-H46)*sum!$J$2-P46)","v":248},190.02,null,1.0959956256437531E-2,123.99938000309996,1.3590277806593503,{"$f":"IF(P46=\"\",\"\",(I46-K46)*sum!$J$2)","v":2.0000000000000004},123.99999999999997,1,2,null,null,null,1,6,"",-0.91999999999998749,0.04,-0.95999999999998753,1,1,null,null,null,-0.45000000000000284,-2.4900000000000002,null,{"$f":"IF(sum!A54=\"\",0,PB(\"C\",sum!$C$2,sum!A54,(sum!$D$2-NOW())/365,sum!$C$6,sum!$D$6,sum!$B$6))","v":50.308791742708109},{"$f":"IF(sum!A54=\"\",0,PB(\"P\",sum!$C$2,sum!A54,(sum!$D$2-NOW())/365,sum!$C$6,sum!$D$6,sum!$B$6))","v":2.0970885839823545E-11},{"$f":"IF(OR(sum!B54=0,sum!A54=\"\"),0,V(\"C\",sum!$C$2,sum!A54,(sum!$D$2-NOW())/365,$F$2,$G$2,sum!B54))","v":3.0517578125E-5},{"$f":"IF(OR(sum!D54=0,sum!A54=\"\"),0,V(\"P\",sum!$C$2,sum!A54,(sum!$D$2-NOW())/365,$F$2,$G$2,sum!D54))","v":0.632415771484375},{"$f":"IF(sum!A54=\"\",\"\",D(\"C\",sum!$C$2,sum!A54,(sum!$D$2-NOW())/365,sum!$C$6,sum!$D$6,sum!$B$6))","v":0.99999999998377276},{"$f":"IF(sum!A54=\"\",\"\",D(\"P\",sum!$C$2,sum!A54,(sum!$D$2-NOW())/365,sum!$C$6,sum!$D$6,sum!$B$6))","v":-1.6227241772526213E-11},-0.91999999999998749,0.04,null,{"$f":"VLOOKUP(H46,sum!$A$14:$E$113,3)","v":3.532416713605202E-2},{"$f":"VLOOKUP(J46,sum!$A$14:$E$113,3)","v":1.7058454232202869E-2},"exp","exp",""]
[42,{"$f":"IF(sum!A55=\"\",\"\",sum!A55)","v":120},{"$f":"IF(sum!B55=\"\",\"\",sum!B55)","v":47.45},{"$f":"IF(sum!D55=\"\",\"\",sum!D55)","v":0.05},"",34,"call debit _/'' b192.5c+s195c",192.5,0.05,{"$f":"VLOOKUP($C$4+10,$A$6:$D$105,2)","v":195},{"$f":"VLOOKUP($C$4+10,$A$6:$D$105,3)","v":0.04},null,null,null,null,{"$f":"IF(OR(I47=0,K47=0,I47=\"\",K47=\"\"),\"\",(I47-K47)*sum!$J$2)","v":1.0000000000000002},{"$f":"IF(P47=\"\",\"\",(J47-H47)*sum!$J$2-P47)","v":249},192.51,null,5.6535562389358196E-3,248.99751002489967,1.4077214262807558,{"$f":"IF(P47=\"\",\"\",(I47-K47)*sum!$J$2)","v":1.0000000000000002},248.99999999999994,1,2,null,null,null,1,6,"",-0.46999999999998465,0.05,-0.5199999999999847,1,1,null,null,null,0.5800000000000054,-2.48,null,{"$f":"IF(sum!A55=\"\",0,PB(\"C\",sum!$C$2,sum!A55,(sum!$D$2-NOW())/365,sum!$C$6,sum!$D$6,sum!$B$6))","v":47.810065578218754},{"$f":"IF(sum!A55=\"\",0,PB(\"P\",sum!$C$2,sum!A55,(sum!$D$2-NOW())/365,sum!$C$6,sum!$D$6,sum!$B$6))","v":2.9085065990195276E-10},{"$f":"IF(OR(sum!B55=0,sum!A55=\"\"),0,V(\"C\",sum!$C$2,sum!A55,(sum!$D$2-NOW())/365,$F$2,$G$2,sum!B55))","v":3.0517578125E-5},{"$f":"IF(OR(sum!D55=0,sum!A55=\"\"),0,V(\"P\",sum!$C$2,sum!A55,(sum!$D$2-NOW())/365,$F$2,$G$2,sum!D55))","v":0.614471435546875},{"$f":"IF(sum!A55=\"\",\"\",D(\"C\",sum!$C$2,sum!A55,(sum!$D$2-NOW())/365,sum!$C$6,sum!$D$6,sum!$B$6))","v":0.99999999978791532},{"$f":"IF(sum!A55=\"\",\"\",D(\"P\",sum!$C$2,sum!A55,(sum!$D$2-NOW())/365,sum!$C$6,sum!$D$6,sum!$B$6))","v":-2.1208468314881657E-10},-0.46999999999998465,0.05,null,{"$f":"VLOOKUP(H47,sum!$A$14:$E$113,3)","v":1.7058454232202869E-2},{"$f":"VLOOKUP(J47,sum!$A$14:$E$113,3)","v":7.9148220244192324E-3},"exp","exp",""]
[43,{"$f":"IF(sum!A56=\"\",\"\",sum!A56)","v":122.5},{"$f":"IF(sum!B56=\"\",\"\",sum!B56)","v":44.37},{"$f":"IF(sum!D56=\"\",\"\",sum!D56)","v":7.0000000000000007E-2},"",35,"call debit _/'' b195c+s197.5c",195,0.04,{"$f":"VLOOKUP($C$4+11,$A$6:$D$105,2)","v":197.5},{"$f":"VLOOKUP($C$4+11,$A$6:$D$105,3)","v":0.04},null,null,null,null,{"$f":"IF(OR(I48=0,K48=0,I48=\"\",K48=\"\"),\"\",(I48-K48)*sum!$J$2)","v":0},{"$f":"IF(P48=\"\",\"\",(J48-H48)*sum!$J$2-P48)","v":250},195,null,2.7919144302870347E-3,24999999.999999996,{"$f":"IF(T48=\"\",\"\",T48*U48)","v":69797.860757175862},{"$f":"IF(P48=\"\",\"\",(I48-K48)*sum!$J$2)","v":0},{"$error":"#DIV/0!"},1,2,null,null,null,1,6,"",-1.0499999999999901,7.0000000000000007E-2,-1.1199999999999901,1,1,null,null,null,-0.48000000000000398,-2.5,null,{"$f":"IF(sum!A56=\"\",0,PB(\"C\",sum!$C$2,sum!A56,(sum!$D$2-NOW())/365,sum!$C$6,sum!$D$6,sum!$B$6))","v":45.311339417884483},{"$f":"IF(sum!A56=\"\",0,PB(\"P\",sum!$C$2,sum!A56,(sum!$D$2-NOW())/365,sum!$C$6,sum!$D$6,sum!$B$6))","v":3.3170101396451992E-9},{"$f":"IF(OR(sum!B56=0,sum!A56=\"\"),0,V(\"C\",sum!$C$2,sum!A56,(sum!$D$2-NOW())/365,$F$2,$G$2,sum!B56))","v":3.0517578125E-5},{"$f":"IF(OR(sum!D56=0,sum!A56=\"\"),0,V(\"P\",sum!$C$2,sum!A56,(sum!$D$2-NOW())/365,$F$2,$G$2,sum!D56))","v":0.605316162109375},{"$f":"IF(sum!A56=\"\",\"\",D(\"C\",sum!$C$2,sum!A56,(sum!$D$2-NOW())/365,sum!$C$6,sum!$D$6,sum!$B$6))","v":0.99999999772415649},{"$f":"IF(sum!A56=\"\",\"\",D(\"P\",sum!$C$2,sum!A56,(sum!$D$2-NOW())/365,sum!$C$6,sum!$D$6,sum!$B$6))","v":-2.2758435136438493E-9},-1.0499999999999901,7.0000000000000007E-2,null,{"$f":"VLOOKUP(H48,sum!$A$14:$E$113,3)","v":7.9148220244192324E-3},{"$f":"VLOOKUP(J48,sum!$A$14:$E$113,3)","v":3.5315442936487695E-3},"exp","exp",""]
[44,{"$f":"IF(sum!A57=\"\",\"\",sum!A57)","v":125},{"$f":"IF(sum!B57=\"\",\"\",sum!B57)","v":42.35},{"$f":"IF(sum!D57=\"\",\"\",sum!D57)","v":7.0000000000000007E-2},"",36,{"$f":"CONCATENATE(\"put debit '''\\_ b\",H49,\"p+s\",J49,\"p\")","v":"put debit '''\\_ b157.5p+s155p"},{"$f":"VLOOKUP($C$4-5,$A$6:$D$105,2)","v":157.5},{"$f":"VLOOKUP($C$4-5,$A$6:$D$105,4)","v":1.36},{"$f":"VLOOKUP($C$4-6,$A$6:$D$105,2)","v":155},{"$f":"VLOOKUP($C$4-6,$A$6:$D$105,4)","v":1.01},null,null,null,null,{"$f":"IF(OR(I49=0,K49=0,I49=\"\",K49=\"\"),\"\",(I49-K49)*sum!$J$2)","v":35.000000000000007},{"$f":"IF(P49=\"\",\"\",(H49-J49)*sum!$J$2-P49)","v":215},{"$f":"H49-(I49-K49)","v":157.15},null,{"$f":"IF(OR(Q49=\"\",Q49<=0),\"\",IF(P49<0,1,(NORMSDIST(LN(ABS(R49)/$C$3)/($E$3*SQRT(($D$3-NOW())/365))))))","v":0.10960016895465655},6.1428553877556018,0.67325798836203621,{"$f":"IF(P49=\"\",\"\",(I49-K49)*sum!$J$2)","v":35.000000000000007},6.1428571428571415,3,4,null,null,null,2,6,"",-0.56999999999998607,7.0000000000000007E-2,-0.63999999999998614,1,1,null,null,null,-0.75,-4.97,null,{"$f":"IF(sum!A57=\"\",0,PB(\"C\",sum!$C$2,sum!A57,(sum!$D$2-NOW())/365,sum!$C$6,sum!$D$6,sum!$B$6))","v":42.81261328602497},{"$f":"IF(sum!A57=\"\",0,PB(\"P\",sum!$C$2,sum!A57,(sum!$D$2-NOW())/365,sum!$C$6,sum!$D$6,sum!$B$6))","v":3.1463640448586386E-8},{"$f":"IF(OR(sum!B57=0,sum!A57=\"\"),0,V(\"C\",sum!$C$2,sum!A57,(sum!$D$2-NOW())/365,$F$2,$G$2,sum!B57))","v":3.0517578125E-5},{"$f":"IF(OR(sum!D57=0,sum!A57=\"\"),0,V(\"P\",sum!$C$2,sum!A57,(sum!$D$2-NOW())/365,$F$2,$G$2,sum!D57))","v":0.570648193359375},{"$f":"IF(sum!A57=\"\",\"\",D(\"C\",sum!$C$2,sum!A57,(sum!$D$2-NOW())/365,sum!$C$6,sum!$D$6,sum!$B$6))","v":0.99999997972239207},{"$f":"IF(sum!A57=\"\",\"\",D(\"P\",sum!$C$2,sum!A57,(sum!$D$2-NOW())/365,sum!$C$6,sum!$D$6,sum!$B$6))","v":-2.027760792611133E-8},-0.56999999999998607,7.0000000000000007E-2,null,{"$f":"VLOOKUP(H49,sum!$A$14:$E$113,5)","v":0.51436556584883419},{"$f":"VLOOKUP(J49,sum!$A$14:$E$113,5)","v":0.26997798933985173},"exp","exp",""]
[45,{"$f":"IF(sum!A58=\"\",\"\",sum!A58)","v":130},{"$f":"IF(sum!B58=\"\",\"\",sum!B58)","v":38.1},{"$f":"IF(sum!D58=\"\",\"\",sum!D58)","v":0.1},"",37,{"$f":"CONCATENATE(\"put debit '''\\_ b\",H50,\"p+s\",J50,\"p\")","v":"put debit '''\\_ b160p+s155p"},{"$f":"VLOOKUP($C$4-4,$A$6:$D$105,2)","v":160},{"$f":"VLOOKUP($C$4-4,$A$6:$D$105,4)","v":1.85},{"$f":"J49","v":155},{"$f":"K49","v":1.01},null,null,null,null,{"$f":"IF(OR(I50=0,K50=0,I50=\"\",K50=\"\"),\"\",(I50-K50)*sum!$J$2)","v":84.000000000000014},{"$f":"IF(P50=\"\",\"\",(H50-J50)*sum!$J$2-P50)","v":416},159.16,null,{"$f":"IF(OR(Q50=\"\",Q50<=0),\"\",IF(P50<0,1,(NORMSDIST(LN(ABS(R50)/$C$3)/($E$3*SQRT(($D$3-NOW())/365))))))","v":0.16033397496338805},4.9523803628118603,0.79403482910025147,{"$f":"IF(P50=\"\",\"\",(I50-K50)*sum!$J$2)","v":84.000000000000014},4.9523809523809517,3,4,null,null,null,2,6,"",0.18000000000001393,0.1,8.0000000000013921E-2,1,1,null,null,null,0.64999999999999858,-4.97,null,{"$f":"IF(sum!A58=\"\",0,PB(\"C\",sum!$C$2,sum!A58,(sum!$D$2-NOW())/365,sum!$C$6,sum!$D$6,sum!$B$6))","v":37.815162631327922},{"$f":"IF(sum!A58=\"\",0,PB(\"P\",sum!$C$2,sum!A58,(sum!$D$2-NOW())/365,sum!$C$6,sum!$D$6,sum!$B$6))","v":1.6982730006188658E-6},{"$f":"IF(OR(sum!B58=0,sum!A58=\"\"),0,V(\"C\",sum!$C$2,sum!A58,(sum!$D$2-NOW())/365,$F$2,$G$2,sum!B58))","v":0.577423095703125},{"$f":"IF(OR(sum!D58=0,sum!A58=\"\"),0,V(\"P\",sum!$C$2,sum!A58,(sum!$D$2-NOW())/365,$F$2,$G$2,sum!D58))","v":0.528167724609375},{"$f":"IF(sum!A58=\"\",\"\",D(\"C\",sum!$C$2,sum!A58,(sum!$D$2-NOW())/365,sum!$C$6,sum!$D$6,sum!$B$6))","v":0.9999990397089964},{"$f":"IF(sum!A58=\"\",\"\",D(\"P\",sum!$C$2,sum!A58,(sum!$D$2-NOW())/365,sum!$C$6,sum!$D$6,sum!$B$6))","v":-9.6029107354844712E-7},0.18000000000001393,0.1,null,{"$f":"VLOOKUP(H50,sum!$A$14:$E$113,5)","v":0.91012887232689366},{"$f":"VLOOKUP(J50,sum!$A$14:$E$113,5)","v":0.26997798933985173},"exp","exp",""]
[46,{"$f":"IF(sum!A59=\"\",\"\",sum!A59)","v":135},{"$f":"IF(sum!B59=\"\",\"\",sum!B59)","v":32.450000000000003},{"$f":"IF(sum!D59=\"\",\"\",sum!D59)","v":0.13},"",38,"put debit '''\\_ b162.5p+s155p",{"$f":"VLOOKUP($C$4-3,$A$6:$D$105,2)","v":162.5},{"$f":"VLOOKUP($C$4-3,$A$6:$D$105,4)","v":2.4500000000000002},{"$f":"J50","v":155},{"$f":"K50","v":1.01},null,null,null,null,{"$f":"IF(OR(I51=0,K51=0,I51=\"\",K51=\"\"),\"\",(I51-K51)*sum!$J$2)","v":144.00000000000003},{"$f":"IF(P51=\"\",\"\",(H51-J51)*sum!$J$2-P51)","v":606},161.06,null,0.21972377284341718,4.2083330410879825,0.92467081316946287,{"$f":"IF(P51=\"\",\"\",(I51-K51)*sum!$J$2)","v":144.00000000000003},4.2083333333333321,3,4,null,null,null,2,6,"",-0.46999999999998465,0.13,-0.59999999999998466,1,1,null,null,null,-0.54999999999999716,-4.93,null,{"$f":"IF(sum!A59=\"\",0,PB(\"C\",sum!$C$2,sum!A59,(sum!$D$2-NOW())/365,sum!$C$6,sum!$D$6,sum!$B$6))","v":32.817758030147814},{"$f":"IF(sum!A59=\"\",0,PB(\"P\",sum!$C$2,sum!A59,(sum!$D$2-NOW())/365,sum!$C$6,sum!$D$6,sum!$B$6))","v":4.9427675238404578E-5},{"$f":"IF(OR(sum!B59=0,sum!A59=\"\"),0,V(\"C\",sum!$C$2,sum!A59,(sum!$D$2-NOW())/365,$F$2,$G$2,sum!B59))","v":3.0517578125E-5},{"$f":"IF(OR(sum!D59=0,sum!A59=\"\"),0,V(\"P\",sum!$C$2,sum!A59,(sum!$D$2-NOW())/365,$F$2,$G$2,sum!D59))","v":0.478118896484375},{"$f":"IF(sum!A59=\"\",\"\",D(\"C\",sum!$C$2,sum!A59,(sum!$D$2-NOW())/365,sum!$C$6,sum!$D$6,sum!$B$6))","v":0.99997569223034577},{"$f":"IF(sum!A59=\"\",\"\",D(\"P\",sum!$C$2,sum!A59,(sum!$D$2-NOW())/365,sum!$C$6,sum!$D$6,sum!$B$6))","v":-2.4307769654230427E-5},-0.46999999999998465,0.13,null,{"$f":"VLOOKUP(H51,sum!$A$14:$E$113,5)","v":1.5049606005843685},{"$f":"VLOOKUP(J51,sum!$A$14:$E$113,5)","v":0.26997798933985173},"exp","exp",""]
[47,{"$f":"IF(sum!A60=\"\",\"\",sum!A60)","v":140},{"$f":"IF(sum!B60=\"\",\"\",sum!B60)","v":28},{"$f":"IF(sum!D60=\"\",\"\",sum!D60)","v":0.2},"",39,"put debit '''\\_ b160p+s157.5p",{"$f":"H50","v":160},{"$f":"I50","v":1.85},{"$f":"H49","v":157.5},{"$f":"I49","v":1.36},null,null,null,null,{"$f":"IF(OR(I52=0,K52=0,I52=\"\",K52=\"\"),\"\",(I52-K52)*sum!$J$2)","v":49},{"$f":"IF(P52=\"\",\"\",(H52-J52)*sum!$J$2-P52)","v":201},159.51,null,0.17045451282434762,4.1020399791755144,0.69921122623635934,{"$f":"IF(P52=\"\",\"\",(I52-K52)*sum!$J$2)","v":49},4.1020408163265305,3,4,null,null,null,2,6,"",8.0000000000012506E-2,0.2,-0.11999999999998751,1,1,null,null,null,0.21000000000000085,-4.87,null,{"$f":"IF(sum!A60=\"\",0,PB(\"C\",sum!$C$2,sum!A60,(sum!$D$2-NOW())/365,sum!$C$6,sum!$D$6,sum!$B$6))","v":27.821087657177117},{"$f":"IF(sum!A60=\"\",0,PB(\"P\",sum!$C$2,sum!A60,(sum!$D$2-NOW())/365,sum!$C$6,sum!$D$6,sum!$B$6))","v":8.3138051006095837E-4},{"$f":"IF(OR(sum!B60=0,sum!A60=\"\"),0,V(\"C\",sum!$C$2,sum!A60,(sum!$D$2-NOW())/365,$F$2,$G$2,sum!B60))","v":0.379669189453125},{"$f":"IF(OR(sum!D60=0,sum!A60=\"\"),0,V(\"P\",sum!$C$2,sum!A60,(sum!$D$2-NOW())/365,$F$2,$G$2,sum!D60))","v":0.439605712890625},{"$f":"IF(sum!A60=\"\",\"\",D(\"C\",sum!$C$2,sum!A60,(sum!$D$2-NOW())/365,sum!$C$6,sum!$D$6,sum!$B$6))","v":0.99964817910154002},{"$f":"IF(sum!A60=\"\",\"\",D(\"P\",sum!$C$2,sum!A60,(sum!$D$2-NOW())/365,sum!$C$6,sum!$D$6,sum!$B$6))","v":-3.5182101887598627E-4},8.0000000000012506E-2,0.2,null,{"$f":"VLOOKUP(H52,sum!$A$14:$E$113,5)","v":0.91012887232689366},{"$f":"VLOOKUP(J52,sum!$A$14:$E$113,5)","v":0.51436556584883419},"exp","exp",""]
[48,{"$f":"IF(sum!A61=\"\",\"\",sum!A61)","v":145},{"$f":"IF(sum!B61=\"\",\"\",sum!B61)","v":22.79},{"$f":"IF(sum!D61=\"\",\"\",sum!D61)","v":0.33},"",40,"put debit '''\\_ b162.5p+s157.5p",{"$f":"H51","v":162.5},{"$f":"I51","v":2.4500000000000002},{"$f":"J52","v":157.5},{"$f":"K52","v":1.36},null,null,null,null,{"$f":"IF(OR(I53=0,K53=0,I53=\"\",K53=\"\"),\"\",(I53-K53)*sum!$J$2)","v":109.00000000000001},{"$f":"IF(P53=\"\",\"\",(H53-J53)*sum!$J$2-P53)","v":391},161.41,null,0.23181253924711626,3.5871556342059043,0.83154765623987037,{"$f":"IF(P53=\"\",\"\",(I53-K53)*sum!$J$2)","v":109.00000000000001},3.5871559633027519,3,4,null,null,null,2,6,"",-0.12999999999998835,0.33,-0.45999999999998836,1,1,null,null,null,-0.51000000000000156,-4.76,null,{"$f":"IF(sum!A61=\"\",0,PB(\"C\",sum!$C$2,sum!A61,(sum!$D$2-NOW())/365,sum!$C$6,sum!$D$6,sum!$B$6))","v":22.831409550203546},{"$f":"IF(sum!A61=\"\",0,PB(\"P\",sum!$C$2,sum!A61,(sum!$D$2-NOW())/365,sum!$C$6,sum!$D$6,sum!$B$6))","v":8.6055952123089696E-3},{"$f":"IF(OR(sum!B61=0,sum!A61=\"\"),0,V(\"C\",sum!$C$2,sum!A61,(sum!$D$2-NOW())/365,$F$2,$G$2,sum!B61))","v":3.0517578125E-5},{"$f":"IF(OR(sum!D61=0,sum!A61=\"\"),0,V(\"P\",sum!$C$2,sum!A61,(sum!$D$2-NOW())/365,$F$2,$G$2,sum!D61))","v":0.405670166015625},{"$f":"IF(sum!A61=\"\",\"\",D(\"C\",sum!$C$2,sum!A61,(sum!$D$2-NOW())/365,sum!$C$6,sum!$D$6,sum!$B$6))","v":0.99690686530569783},{"$f":"IF(sum!A61=\"\",\"\",D(\"P\",sum!$C$2,sum!A61,(sum!$D$2-NOW())/365,sum!$C$6,sum!$D$6,sum!$B$6))","v":-3.0931342198933232E-3},-0.12999999999998835,0.33,null,{"$f":"VLOOKUP(H53,sum!$A$14:$E$113,5)","v":1.5049606005843685},{"$f":"VLOOKUP(J53,sum!$A$14:$E$113,5)","v":0.51436556584883419},"exp","exp",""]
[49,{"$f":"IF(sum!A62=\"\",\"\",sum!A62)","v":150},{"$f":"IF(sum!B62=\"\",\"\",sum!B62)","v":18.3},{"$f":"IF(sum!D62=\"\",\"\",sum!D62)","v":0.56999999999999995},"",41,"put debit '''\\_ b165p+s157.5p",{"$f":"VLOOKUP($C$4-2,$A$6:$D$105,2)","v":165},{"$f":"VLOOKUP($C$4-2,$A$6:$D$105,4)","v":3.26},{"$f":"J53","v":157.5},{"$f":"K53","v":1.36},null,null,null,null,{"$f":"IF(OR(I54=0,K54=0,I54=\"\",K54=\"\"),\"\",(I54-K54)*sum!$J$2)","v":189.99999999999997},{"$f":"IF(P54=\"\",\"\",(H54-J54)*sum!$J$2-P54)","v":560},163.1,null,0.2946573775616127,2.9473682659279863,0.86846380394665834,{"$f":"IF(P54=\"\",\"\",(I54-K54)*sum!$J$2)","v":189.99999999999997},2.9473684210526319,3,4,null,null,null,2,6,"",0.38000000000001322,0.56999999999999995,-0.18999999999998674,1,1,null,null,null,0,-2.27,null,{"$f":"IF(sum!A62=\"\",0,PB(\"C\",sum!$C$2,sum!A62,(sum!$D$2-NOW())/365,sum!$C$6,sum!$D$6,sum!$B$6))","v":17.88343847114308},{"$f":"IF(sum!A62=\"\",0,PB(\"P\",sum!$C$2,sum!A62,(sum!$D$2-NOW())/365,sum!$C$6,sum!$D$6,sum!$B$6))","v":5.8086851101639247E-2},{"$f":"IF(OR(sum!B62=0,sum!A62=\"\"),0,V(\"C\",sum!$C$2,sum!A62,(sum!$D$2-NOW())/365,$F$2,$G$2,sum!B62))","v":0.339630126953125},{"$f":"IF(OR(sum!D62=0,sum!A62=\"\"),0,V(\"P\",sum!$C$2,sum!A62,(sum!$D$2-NOW())/365,$F$2,$G$2,sum!D62))","v":0.375030517578125},{"$f":"IF(sum!A62=\"\",\"\",D(\"C\",sum!$C$2,sum!A62,(sum!$D$2-NOW())/365,sum!$C$6,sum!$D$6,sum!$B$6))","v":0.98254290775004871},{"$f":"IF(sum!A62=\"\",\"\",D(\"P\",sum!$C$2,sum!A62,(sum!$D$2-NOW())/365,sum!$C$6,sum!$D$6,sum!$B$6))","v":-1.7457091136809488E-2},0.38000000000001322,0.56999999999999995,null,{"$f":"VLOOKUP(H54,sum!$A$14:$E$113,5)","v":2.33994988513588},{"$f":"VLOOKUP(J54,sum!$A$14:$E$113,5)","v":0.51436556584883419},"exp","exp",""]
[50,{"$f":"IF(sum!A63=\"\",\"\",sum!A63)","v":152.5},{"$f":"IF(sum!B63=\"\",\"\",sum!B63)","v":15.8},{"$f":"IF(sum!D63=\"\",\"\",sum!D63)","v":0.8},"",42,"put debit '''\\_ b162.5p+s160p",{"$f":"H51","v":162.5},{"$f":"I51","v":2.4500000000000002},{"$f":"H50","v":160},{"$f":"I50","v":1.85},null,null,null,null,{"$f":"IF(OR(I55=0,K55=0,I55=\"\",K55=\"\"),\"\",(I55-K55)*sum!$J$2)","v":60.000000000000007},{"$f":"IF(P55=\"\",\"\",(H55-J55)*sum!$J$2-P55)","v":190},161.9,null,0.24929592384544341,3.1666661388889765,0.7894369606044106,{"$f":"IF(P55=\"\",\"\",(I55-K55)*sum!$J$2)","v":60.000000000000007},3.1666666666666661,3,4,null,null,null,2,6,"",0.38000000000001322,0.8,-0.41999999999998683,1,1,null,null,null,-0.1899999999999995,-2.29,null,{"$f":"IF(sum!A63=\"\",0,PB(\"C\",sum!$C$2,sum!A63,(sum!$D$2-NOW())/365,sum!$C$6,sum!$D$6,sum!$B$6))","v":15.457401310147787},{"$f":"IF(sum!A63=\"\",0,PB(\"P\",sum!$C$2,sum!A63,(sum!$D$2-NOW())/365,sum!$C$6,sum!$D$6,sum!$B$6))","v":0.13077584266326259},{"$f":"IF(OR(sum!B63=0,sum!A63=\"\"),0,V(\"C\",sum!$C$2,sum!A63,(sum!$D$2-NOW())/365,$F$2,$G$2,sum!B63))","v":0.300323486328125},{"$f":"IF(OR(sum!D63=0,sum!A63=\"\"),0,V(\"P\",sum!$C$2,sum!A63,(sum!$D$2-NOW())/365,$F$2,$G$2,sum!D63))","v":0.366668701171875},{"$f":"IF(sum!A63=\"\",\"\",D(\"C\",sum!$C$2,sum!A63,(sum!$D$2-NOW())/365,sum!$C$6,sum!$D$6,sum!$B$6))","v":0.96430320484790133},{"$f":"IF(sum!A63=\"\",\"\",D(\"P\",sum!$C$2,sum!A63,(sum!$D$2-NOW())/365,sum!$C$6,sum!$D$6,sum!$B$6))","v":-3.5696795584007512E-2},0.38000000000001322,0.8,null,{"$f":"VLOOKUP(H55,sum!$A$14:$E$113,5)","v":1.5049606005843685},{"$f":"VLOOKUP(J55,sum!$A$14:$E$113,5)","v":0.91012887232689366},"exp","exp",""]
[51,{"$f":"IF(sum!A64=\"\",\"\",sum!A64)","v":155},{"$f":"IF(sum!B64=\"\",\"\",sum!B64)","v":13.49},{"$f":"IF(sum!D64=\"\",\"\",sum!D64)","v":1.01},"",43,"put debit '''\\_ b165p+s160p",{"$f":"H54","v":165},{"$f":"I54","v":3.26},{"$f":"J55","v":160},{"$f":"K55","v":1.85},null,null,null,null,{"$f":"IF(OR(I56=0,K56=0,I56=\"\",K56=\"\"),\"\",(I56-K56)*sum!$J$2)","v":140.99999999999997},{"$f":"IF(P56=\"\",\"\",(H56-J56)*sum!$J$2-P56)","v":359},163.59,null,0.31411242144356133,2.5460991102057373,0.79976135674202109,{"$f":"IF(P56=\"\",\"\",(I56-K56)*sum!$J$2)","v":140.99999999999997},2.5460992907801425,3,4,null,null,null,2,6,"",0.57000000000001272,1.01,-0.43999999999998729,1,1,null,null,null,-0.45999999999999908,-2.15,null,{"$f":"IF(sum!A64=\"\",0,PB(\"C\",sum!$C$2,sum!A64,(sum!$D$2-NOW())/365,sum!$C$6,sum!$D$6,sum!$B$6))","v":13.09787729197069},{"$f":"IF(sum!A64=\"\",0,PB(\"P\",sum!$C$2,sum!A64,(sum!$D$2-NOW())/365,sum!$C$6,sum!$D$6,sum!$B$6))","v":0.26997798933985173},{"$f":"IF(OR(sum!B64=0,sum!A64=\"\"),0,V(\"C\",sum!$C$2,sum!A64,(sum!$D$2-NOW())/365,$F$2,$G$2,sum!B64))","v":0.290740966796875},{"$f":"IF(OR(sum!D64=0,sum!A64=\"\"),0,V(\"P\",sum!$C$2,sum!A64,(sum!$D$2-NOW())/365,$F$2,$G$2,sum!D64))","v":0.347137451171875},{"$f":"IF(sum!A64=\"\",\"\",D(\"C\",sum!$C$2,sum!A64,(sum!$D$2-NOW())/365,sum!$C$6,sum!$D$6,sum!$B$6))","v":0.93339476919898245},{"$f":"IF(sum!A64=\"\",\"\",D(\"P\",sum!$C$2,sum!A64,(sum!$D$2-NOW())/365,sum!$C$6,sum!$D$6,sum!$B$6))","v":-6.6605235516902228E-2},0.57000000000001272,1.01,null,{"$f":"VLOOKUP(H56,sum!$A$14:$E$113,5)","v":2.33994988513588},{"$f":"VLOOKUP(J56,sum!$A$14:$E$113,5)","v":0.91012887232689366},"exp","exp",""]
[52,{"$f":"IF(sum!A65=\"\",\"\",sum!A65)","v":157.5},{"$f":"IF(sum!B65=\"\",\"\",sum!B65)","v":11.45},{"$f":"IF(sum!D65=\"\",\"\",sum!D65)","v":1.36},"",44,"put debit '''\\_ b167.5p+s160p",{"$f":"VLOOKUP($C$4-1,$A$6:$D$105,2)","v":167.5},{"$f":"VLOOKUP($C$4-1,$A$6:$D$105,4)","v":4.25},{"$f":"J56","v":160},{"$f":"K56","v":1.85},null,null,null,null,{"$f":"IF(OR(I57=0,K57=0,I57=\"\",K57=\"\"),\"\",(I57-K57)*sum!$J$2)","v":240},{"$f":"IF(P57=\"\",\"\",(H57-J57)*sum!$J$2-P57)","v":510},165.1,null,0.37679003699214292,2.1249999114583371,0.80067879524668728,{"$f":"IF(P57=\"\",\"\",(I57-K57)*sum!$J$2)","v":240},2.125,3,4,null,null,null,2,6,"",1.0300000000000118,1.36,-0.3299999999999883,1,1,null,null,null,-0.80000000000000071,-2.0099999999999998,null,{"$f":"IF(sum!A65=\"\",0,PB(\"C\",sum!$C$2,sum!A65,(sum!$D$2-NOW())/365,sum!$C$6,sum!$D$6,sum!$B$6))","v":10.843538736465916},{"$f":"IF(sum!A65=\"\",0,PB(\"P\",sum!$C$2,sum!A65,(sum!$D$2-NOW())/365,sum!$C$6,sum!$D$6,sum!$B$6))","v":0.51436556584883419},{"$f":"IF(OR(sum!B65=0,sum!A65=\"\"),0,V(\"C\",sum!$C$2,sum!A65,(sum!$D$2-NOW())/365,$F$2,$G$2,sum!B65))","v":0.301483154296875},{"$f":"IF(OR(sum!D65=0,sum!A65=\"\"),0,V(\"P\",sum!$C$2,sum!A65,(sum!$D$2-NOW())/365,$F$2,$G$2,sum!D65))","v":0.335113525390625},{"$f":"IF(sum!A65=\"\",\"\",D(\"C\",sum!$C$2,sum!A65,(sum!$D$2-NOW())/365,sum!$C$6,sum!$D$6,sum!$B$6))","v":0.88589451159631982},{"$f":"IF(sum!A65=\"\",\"\",D(\"P\",sum!$C$2,sum!A65,(sum!$D$2-NOW())/365,sum!$C$6,sum!$D$6,sum!$B$6))","v":-0.11410549121371727},1.0300000000000118,1.36,null,{"$f":"VLOOKUP(H57,sum!$A$14:$E$113,5)","v":3.4417991640991801},{"$f":"VLOOKUP(J57,sum!$A$14:$E$113,5)","v":0.91012887232689366},"exp","exp",""]
[53,{"$f":"IF(sum!A66=\"\",\"\",sum!A66)","v":160},{"$f":"IF(sum!B66=\"\",\"\",sum!B66)","v":9.75},{"$f":"IF(sum!D66=\"\",\"\",sum!D66)","v":1.85},"",45,"put debit '''\\_ b165p+s162.5p",{"$f":"H56","v":165},{"$f":"I56","v":3.26},{"$f":"H55","v":162.5},{"$f":"I55","v":2.4500000000000002},null,null,null,null,{"$f":"IF(OR(I58=0,K58=0,I58=\"\",K58=\"\"),\"\",(I58-K58)*sum!$J$2)","v":80.999999999999957},{"$f":"IF(P58=\"\",\"\",(H58-J58)*sum!$J$2-P58)","v":169.00000000000006},164.19,null,0.33857010619090899,2.0864194955037676,0.7063992701514934,{"$f":"IF(P58=\"\",\"\",(I58-K58)*sum!$J$2)","v":80.999999999999957},2.0864197530864215,3,4,null,null,null,2,6,"",1.8300000000000125,1.85,-1.9999999999987583E-2,1,1,null,null,null,-0.65000000000000036,-1.9,null,{"$f":"IF(sum!A66=\"\",0,PB(\"C\",sum!$C$2,sum!A66,(sum!$D$2-NOW())/365,sum!$C$6,sum!$D$6,sum!$B$6))","v":8.7405758489679783},{"$f":"IF(sum!A66=\"\",0,PB(\"P\",sum!$C$2,sum!A66,(sum!$D$2-NOW())/365,sum!$C$6,sum!$D$6,sum!$B$6))","v":0.91012887232689366},{"$f":"IF(OR(sum!B66=0,sum!A66=\"\"),0,V(\"C\",sum!$C$2,sum!A66,(sum!$D$2-NOW())/365,$F$2,$G$2,sum!B66))","v":0.324005126953125},{"$f":"IF(OR(sum!D66=0,sum!A66=\"\"),0,V(\"P\",sum!$C$2,sum!A66,(sum!$D$2-NOW())/365,$F$2,$G$2,sum!D66))","v":0.325714111328125},{"$f":"IF(sum!A66=\"\",\"\",D(\"C\",sum!$C$2,sum!A66,(sum!$D$2-NOW())/365,sum!$C$6,sum!$D$6,sum!$B$6))","v":0.81939721142821542},{"$f":"IF(sum!A66=\"\",\"\",D(\"P\",sum!$C$2,sum!A66,(sum!$D$2-NOW())/365,sum!$C$6,sum!$D$6,sum!$B$6))","v":-0.18060278713533617},1.8300000000000125,1.85,null,{"$f":"VLOOKUP(H58,sum!$A$14:$E$113,5)","v":2.33994988513588},{"$f":"VLOOKUP(J58,sum!$A$14:$E$113,5)","v":1.5049606005843685},"exp","exp",""]
[54,{"$f":"IF(sum!A67=\"\",\"\",sum!A67)","v":162.5},{"$f":"IF(sum!B67=\"\",\"\",sum!B67)","v":7.9},{"$f":"IF(sum!D67=\"\",\"\",sum!D67)","v":2.4500000000000002},"",46,"put debit '''\\_ b167.5p+s162.5p",{"$f":"H57","v":167.5},{"$f":"I57","v":4.25},{"$f":"J58","v":162.5},{"$f":"K58","v":2.4500000000000002},null,null,null,null,{"$f":"IF(OR(I59=0,K59=0,I59=\"\",K59=\"\"),\"\",(I59-K59)*sum!$J$2)","v":179.99999999999997},{"$f":"IF(P59=\"\",\"\",(H59-J59)*sum!$J$2-P59)","v":320},165.7,null,0.40257655302472095,1.7777776790123514,0.71569161006108117,{"$f":"IF(P59=\"\",\"\",(I59-K59)*sum!$J$2)","v":179.99999999999997},1.7777777777777781,3,4,null,null,null,2,6,"",2.4800000000000129,2.4500000000000002,3.0000000000012683E-2,1,1,null,null,null,-0.72999999999999954,-1.6900000000000004,null,{"$f":"IF(sum!A67=\"\",0,PB(\"C\",sum!$C$2,sum!A67,(sum!$D$2-NOW())/365,sum!$C$6,sum!$D$6,sum!$B$6))","v":6.8366814360047243},{"$f":"IF(sum!A67=\"\",0,PB(\"P\",sum!$C$2,sum!A67,(sum!$D$2-NOW())/365,sum!$C$6,sum!$D$6,sum!$B$6))","v":1.5049606005843685},{"$f":"IF(OR(sum!B67=0,sum!A67=\"\"),0,V(\"C\",sum!$C$2,sum!A67,(sum!$D$2-NOW())/365,$F$2,$G$2,sum!B67))","v":0.316070556640625},{"$f":"IF(OR(sum!D67=0,sum!A67=\"\"),0,V(\"P\",sum!$C$2,sum!A67,(sum!$D$2-NOW())/365,$F$2,$G$2,sum!D67))","v":0.313812255859375},{"$f":"IF(sum!A67=\"\",\"\",D(\"C\",sum!$C$2,sum!A67,(sum!$D$2-NOW())/365,sum!$C$6,sum!$D$6,sum!$B$6))","v":0.73423956235201504},{"$f":"IF(sum!A67=\"\",\"\",D(\"P\",sum!$C$2,sum!A67,(sum!$D$2-NOW())/365,sum!$C$6,sum!$D$6,sum!$B$6))","v":-0.26576044005874233},2.4800000000000129,2.4500000000000002,null,{"$f":"VLOOKUP(H59,sum!$A$14:$E$113,5)","v":3.4417991640991801},{"$f":"VLOOKUP(J59,sum!$A$14:$E$113,5)","v":1.5049606005843685},"exp","exp",""]
[55,{"$f":"IF(sum!A68=\"\",\"\",sum!A68)","v":165},{"$f":"IF(sum!B68=\"\",\"\",sum!B68)","v":6.13},{"$f":"IF(sum!D68=\"\",\"\",sum!D68)","v":3.26},"",47,"put debit '''\\_ b170p+s162.5p",{"$f":"VLOOKUP($C$4,$A$6:$D$105,2)","v":170},{"$f":"VLOOKUP($C$4,$A$6:$D$105,4)","v":5.45},{"$f":"J59","v":162.5},{"$f":"K59","v":2.4500000000000002},null,null,null,null,{"$f":"IF(OR(I60=0,K60=0,I60=\"\",K60=\"\"),\"\",(I60-K60)*sum!$J$2)","v":300},{"$f":"IF(P60=\"\",\"\",(H60-J60)*sum!$J$2-P60)","v":450},167,null,0.45944533648766284,1.4999999500000019,0.68916798175922833,{"$f":"IF(P60=\"\",\"\",(I60-K60)*sum!$J$2)","v":300},1.5,3,4,null,null,null,2,6,"",3.2100000000000124,3.26,-4.9999999999987388E-2,1,1,null,null,null,-0.96999999999999975,-1.5099999999999998,null,{"$f":"IF(sum!A68=\"\",0,PB(\"C\",sum!$C$2,sum!A68,(sum!$D$2-NOW())/365,sum!$C$6,sum!$D$6,sum!$B$6))","v":5.1729445158851775},{"$f":"IF(sum!A68=\"\",0,PB(\"P\",sum!$C$2,sum!A68,(sum!$D$2-NOW())/365,sum!$C$6,sum!$D$6,sum!$B$6))","v":2.33994988513588},{"$f":"IF(OR(sum!B68=0,sum!A68=\"\"),0,V(\"C\",sum!$C$2,sum!A68,(sum!$D$2-NOW())/365,$F$2,$G$2,sum!B68))","v":0.301605224609375},{"$f":"IF(OR(sum!D68=0,sum!A68=\"\"),0,V(\"P\",sum!$C$2,sum!A68,(sum!$D$2-NOW())/365,$F$2,$G$2,sum!D68))","v":0.305084228515625},{"$f":"IF(sum!A68=\"\",\"\",D(\"C\",sum!$C$2,sum!A68,(sum!$D$2-NOW())/365,sum!$C$6,sum!$D$6,sum!$B$6))","v":0.63408382465859181},{"$f":"IF(sum!A68=\"\",\"\",D(\"P\",sum!$C$2,sum!A68,(sum!$D$2-NOW())/365,sum!$C$6,sum!$D$6,sum!$B$6))","v":-0.36591617678146326},3.2100000000000124,3.26,null,{"$f":"VLOOKUP(H60,sum!$A$14:$E$113,5)","v":4.8176520596149288},{"$f":"VLOOKUP(J60,sum!$A$14:$E$113,5)","v":1.5049606005843685},"","exp","X"]
[56,{"$f":"IF(sum!A69=\"\",\"\",sum!A69)","v":167.5},{"$f":"IF(sum!B69=\"\",\"\",sum!B69)","v":4.5999999999999996},{"$f":"IF(sum!D69=\"\",\"\",sum!D69)","v":4.25},"",48,"put debit '''\\_ b167.5p+s165p",{"$f":"H59","v":167.5},{"$f":"I59","v":4.25},{"$f":"H56","v":165},{"$f":"I56","v":3.26},null,null,null,null,{"$f":"IF(OR(I61=0,K61=0,I61=\"\",K61=\"\"),\"\",(I61-K61)*sum!$J$2)","v":99.000000000000028},{"$f":"IF(P61=\"\",\"\",(H61-J61)*sum!$J$2-P61)","v":150.99999999999997},166.51,null,0.43789963469035625,1.5252523711866284,0.66790745615322422,{"$f":"IF(P61=\"\",\"\",(I61-K61)*sum!$J$2)","v":99.000000000000028},1.5252525252525246,3,4,null,null,null,2,6,"",4.1800000000000122,4.25,-6.999999999998785E-2,1,1,null,null,null,-1.2000000000000002,-1.2999999999999998,null,{"$f":"IF(sum!A69=\"\",0,PB(\"C\",sum!$C$2,sum!A69,(sum!$D$2-NOW())/365,sum!$C$6,sum!$D$6,sum!$B$6))","v":3.7760676776467079},{"$f":"IF(sum!A69=\"\",0,PB(\"P\",sum!$C$2,sum!A69,(sum!$D$2-NOW())/365,sum!$C$6,sum!$D$6,sum!$B$6))","v":3.4417991640991801},{"$f":"IF(OR(sum!B69=0,sum!A69=\"\"),0,V(\"C\",sum!$C$2,sum!A69,(sum!$D$2-NOW())/365,$F$2,$G$2,sum!B69))","v":0.290496826171875},{"$f":"IF(OR(sum!D69=0,sum!A69=\"\"),0,V(\"P\",sum!$C$2,sum!A69,(sum!$D$2-NOW())/365,$F$2,$G$2,sum!D69))","v":0.295135498046875},{"$f":"IF(sum!A69=\"\",\"\",D(\"C\",sum!$C$2,sum!A69,(sum!$D$2-NOW())/365,sum!$C$6,sum!$D$6,sum!$B$6))","v":0.52549442825405268},{"$f":"IF(sum!A69=\"\",\"\",D(\"P\",sum!$C$2,sum!A69,(sum!$D$2-NOW())/365,sum!$C$6,sum!$D$6,sum!$B$6))","v":-0.47450557171016339},4.1800000000000122,4.25,null,{"$f":"VLOOKUP(H61,sum!$A$14:$E$113,5)","v":3.4417991640991801},{"$f":"VLOOKUP(J61,sum!$A$14:$E$113,5)","v":2.33994988513588},"exp","exp",""]
[57,{"$f":"IF(sum!A70=\"\",\"\",sum!A70)","v":170},{"$f":"IF(sum!B70=\"\",\"\",sum!B70)","v":3.3},{"$f":"IF(sum!D70=\"\",\"\",sum!D70)","v":5.45},"",49,"put debit '''\\_ b170p+s165p",{"$f":"H60","v":170},{"$f":"I60","v":5.45},{"$f":"J61","v":165},{"$f":"K61","v":3.26},null,null,null,null,{"$f":"IF(OR(I62=0,K62=0,I62=\"\",K62=\"\"),\"\",(I62-K62)*sum!$J$2)","v":219.00000000000003},{"$f":"IF(P62=\"\",\"\",(H62-J62)*sum!$J$2-P62)","v":281},167.81,null,0.49515454131997361,1.2831049642417822,0.63533525003452085,{"$f":"IF(P62=\"\",\"\",(I62-K62)*sum!$J$2)","v":219.00000000000003},1.2831050228310501,3,4,null,null,null,2,6,"",3.3,3.3699999999999877,-6.999999999998785E-2,1,1,null,null,null,-1.4100000000000001,-1.1000000000000005,null,{"$f":"IF(sum!A70=\"\",0,PB(\"C\",sum!$C$2,sum!A70,(sum!$D$2-NOW())/365,sum!$C$6,sum!$D$6,sum!$B$6))","v":2.6531942972793985},{"$f":"IF(sum!A70=\"\",0,PB(\"P\",sum!$C$2,sum!A70,(sum!$D$2-NOW())/365,sum!$C$6,sum!$D$6,sum!$B$6))","v":4.8176520596149288},{"$f":"IF(OR(sum!B70=0,sum!A70=\"\"),0,V(\"C\",sum!$C$2,sum!A70,(sum!$D$2-NOW())/365,$F$2,$G$2,sum!B70))","v":0.279937744140625},{"$f":"IF(OR(sum!D70=0,sum!A70=\"\"),0,V(\"P\",sum!$C$2,sum!A70,(sum!$D$2-NOW())/365,$F$2,$G$2,sum!D70))","v":0.284637451171875},{"$f":"IF(sum!A70=\"\",\"\",D(\"C\",sum!$C$2,sum!A70,(sum!$D$2-NOW())/365,sum!$C$6,sum!$D$6,sum!$B$6))","v":0.41657524565792092},{"$f":"IF(sum!A70=\"\",\"\",D(\"P\",sum!$C$2,sum!A70,(sum!$D$2-NOW())/365,sum!$C$6,sum!$D$6,sum!$B$6))","v":-0.58342475434207908},3.3,3.3699999999999877,null,{"$f":"VLOOKUP(H62,sum!$A$14:$E$113,5)","v":4.8176520596149288},{"$f":"VLOOKUP(J62,sum!$A$14:$E$113,5)","v":2.33994988513588},"","exp","X"]
[58,{"$f":"IF(sum!A71=\"\",\"\",sum!A71)","v":172.5},{"$f":"IF(sum!B71=\"\",\"\",sum!B71)","v":2.21},{"$f":"IF(sum!D71=\"\",\"\",sum!D71)","v":6.85},"",50,"put debit '''\\_ b172.5p+s165p",{"$f":"VLOOKUP($C$4+1,$A$6:$D$105,2)","v":172.5},{"$f":"VLOOKUP($C$4+1,$A$6:$D$105,4)","v":6.85},{"$f":"J62","v":165},{"$f":"K62","v":3.26},null,null,null,null,{"$f":"IF(OR(I63=0,K63=0,I63=\"\",K63=\"\"),\"\",(I63-K63)*sum!$J$2)","v":359},{"$f":"IF(P63=\"\",\"\",(H63-J63)*sum!$J$2-P63)","v":391},168.91,null,0.54338205007026763,1.0891364599126334,0.59181720239360058,{"$f":"IF(P63=\"\",\"\",(I63-K63)*sum!$J$2)","v":359},1.0891364902506964,3,4,null,null,null,2,6,"",2.21,2.2699999999999871,-5.9999999999987175E-2,1,1,null,null,null,-1.69,-0.75,null,{"$f":"IF(sum!A71=\"\",0,PB(\"C\",sum!$C$2,sum!A71,(sum!$D$2-NOW())/365,sum!$C$6,sum!$D$6,sum!$B$6))","v":1.7912926031122538},{"$f":"IF(sum!A71=\"\",0,PB(\"P\",sum!$C$2,sum!A71,(sum!$D$2-NOW())/365,sum!$C$6,sum!$D$6,sum!$B$6))","v":6.4544764363941738},{"$f":"IF(OR(sum!B71=0,sum!A71=\"\"),0,V(\"C\",sum!$C$2,sum!A71,(sum!$D$2-NOW())/365,$F$2,$G$2,sum!B71))","v":0.267486572265625},{"$f":"IF(OR(sum!D71=0,sum!A71=\"\"),0,V(\"P\",sum!$C$2,sum!A71,(sum!$D$2-NOW())/365,$F$2,$G$2,sum!D71))","v":0.271759033203125},{"$f":"IF(sum!A71=\"\",\"\",D(\"C\",sum!$C$2,sum!A71,(sum!$D$2-NOW())/365,sum!$C$6,sum!$D$6,sum!$B$6))","v":0.31516412507223646},{"$f":"IF(sum!A71=\"\",\"\",D(\"P\",sum!$C$2,sum!A71,(sum!$D$2-NOW())/365,sum!$C$6,sum!$D$6,sum!$B$6))","v":-0.68483587835199622},2.21,2.2699999999999871,null,{"$f":"VLOOKUP(H63,sum!$A$14:$E$113,5)","v":6.4544764363941738},{"$f":"VLOOKUP(J63,sum!$A$14:$E$113,5)","v":2.33994988513588},"","exp","X"]
[59,{"$f":"IF(sum!A72=\"\",\"\",sum!A72)","v":175},{"$f":"IF(sum!B72=\"\",\"\",sum!B72)","v":1.4},{"$f":"IF(sum!D72=\"\",\"\",sum!D72)","v":8.6},"",51,"put debit '''\\_ b170p+s167.5p",{"$f":"H62","v":170},{"$f":"I62","v":5.45},{"$f":"H61","v":167.5},{"$f":"I61","v":4.25},null,null,null,null,{"$f":"IF(OR(I64=0,K64=0,I64=\"\",K64=\"\"),\"\",(I64-K64)*sum!$J$2)","v":120.00000000000001},{"$f":"IF(P64=\"\",\"\",(H64-J64)*sum!$J$2-P64)","v":130},168.8,null,0.53859035653806864,1.0833332430555629,0.58347283762683777,{"$f":"IF(P64=\"\",\"\",(I64-K64)*sum!$J$2)","v":120.00000000000001},1.0833333333333333,3,4,null,null,null,2,6,"",1.4,1.5199999999999871,-0.11999999999998723,1,1,null,null,null,-1.94,-9.9999999999999645E-2,null,{"$f":"IF(sum!A72=\"\",0,PB(\"C\",sum!$C$2,sum!A72,(sum!$D$2-NOW())/365,sum!$C$6,sum!$D$6,sum!$B$6))","v":1.1605609180556016},{"$f":"IF(sum!A72=\"\",0,PB(\"P\",sum!$C$2,sum!A72,(sum!$D$2-NOW())/365,sum!$C$6,sum!$D$6,sum!$B$6))","v":8.3224709171568918},{"$f":"IF(OR(sum!B72=0,sum!A72=\"\"),0,V(\"C\",sum!$C$2,sum!A72,(sum!$D$2-NOW())/365,$F$2,$G$2,sum!B72))","v":0.257598876953125},{"$f":"IF(OR(sum!D72=0,sum!A72=\"\"),0,V(\"P\",sum!$C$2,sum!A72,(sum!$D$2-NOW())/365,$F$2,$G$2,sum!D72))","v":0.267547607421875},{"$f":"IF(sum!A72=\"\",\"\",D(\"C\",sum!$C$2,sum!A72,(sum!$D$2-NOW())/365,sum!$C$6,sum!$D$6,sum!$B$6))","v":0.22723804467177866},{"$f":"IF(sum!A72=\"\",\"\",D(\"P\",sum!$C$2,sum!A72,(sum!$D$2-NOW())/365,sum!$C$6,sum!$D$6,sum!$B$6))","v":-0.77276195018566296},1.4,1.5199999999999871,null,{"$f":"VLOOKUP(H64,sum!$A$14:$E$113,5)","v":4.8176520596149288},{"$f":"VLOOKUP(J64,sum!$A$14:$E$113,5)","v":3.4417991640991801},"","exp","X"]
[60,{"$f":"IF(sum!A73=\"\",\"\",sum!A73)","v":177.5},{"$f":"IF(sum!B73=\"\",\"\",sum!B73)","v":0.84},{"$f":"IF(sum!D73=\"\",\"\",sum!D73)","v":11},"",52,"put debit '''\\_ b172.5p+s167.5p",{"$f":"H63","v":172.5},{"$f":"I63","v":6.85},{"$f":"J64","v":167.5},{"$f":"K64","v":4.25},null,null,null,null,{"$f":"IF(OR(I65=0,K65=0,I65=\"\",K65=\"\"),\"\",(I65-K65)*sum!$J$2)","v":259.99999999999994},{"$f":"IF(P65=\"\",\"\",(H65-J65)*sum!$J$2-P65)","v":240.00000000000006},169.9,null,0.58600454080427011,0.92307688757396633,0.54092724762981703,{"$f":"IF(P65=\"\",\"\",(I65-K65)*sum!$J$2)","v":259.99999999999994},0.92307692307692346,3,4,null,null,null,2,6,"",0.84,1.4199999999999875,-0.57999999999998753,1,1,null,null,null,-2.15,-0.44999999999999929,null,{"$f":"IF(sum!A73=\"\",0,PB(\"C\",sum!$C$2,sum!A73,(sum!$D$2-NOW())/365,sum!$C$6,sum!$D$6,sum!$B$6))","v":0.72096128615324773},{"$f":"IF(sum!A73=\"\",0,PB(\"P\",sum!$C$2,sum!A73,(sum!$D$2-NOW())/365,sum!$C$6,sum!$D$6,sum!$B$6))","v":10.381597438811696},{"$f":"IF(OR(sum!B73=0,sum!A73=\"\"),0,V(\"C\",sum!$C$2,sum!A73,(sum!$D$2-NOW())/365,$F$2,$G$2,sum!B73))","v":0.250213623046875},{"$f":"IF(OR(sum!D73=0,sum!A73=\"\"),0,V(\"P\",sum!$C$2,sum!A73,(sum!$D$2-NOW())/365,$F$2,$G$2,sum!D73))","v":0.305511474609375},{"$f":"IF(sum!A73=\"\",\"\",D(\"C\",sum!$C$2,sum!A73,(sum!$D$2-NOW())/365,sum!$C$6,sum!$D$6,sum!$B$6))","v":0.15603250022407678},{"$f":"IF(sum!A73=\"\",\"\",D(\"P\",sum!$C$2,sum!A73,(sum!$D$2-NOW())/365,sum!$C$6,sum!$D$6,sum!$B$6))","v":-0.84396749432470997},0.84,1.4199999999999875,null,{"$f":"VLOOKUP(H65,sum!$A$14:$E$113,5)","v":6.4544764363941738},{"$f":"VLOOKUP(J65,sum!$A$14:$E$113,5)","v":3.4417991640991801},"","exp","X"]
[61,{"$f":"IF(sum!A74=\"\",\"\",sum!A74)","v":180},{"$f":"IF(sum!B74=\"\",\"\",sum!B74)","v":0.49},{"$f":"IF(sum!D74=\"\",\"\",sum!D74)","v":13.05},"",53,"put debit '''\\_ b175p+s167.5p",{"$f":"VLOOKUP($C$4+2,$A$6:$D$105,2)","v":175},{"$f":"VLOOKUP($C$4+2,$A$6:$D$105,4)","v":8.6},{"$f":"J65","v":167.5},{"$f":"K65","v":4.25},null,null,null,null,{"$f":"IF(OR(I66=0,K66=0,I66=\"\",K66=\"\"),\"\",(I66-K66)*sum!$J$2)","v":434.99999999999994},{"$f":"IF(P66=\"\",\"\",(H66-J66)*sum!$J$2-P66)","v":315.00000000000006},170.65,null,0.61749986870590023,0.72413791438763442,0.44715506705932867,{"$f":"IF(P66=\"\",\"\",(I66-K66)*sum!$J$2)","v":434.99999999999994},0.72413793103448298,3,4,null,null,null,2,6,"",0.49,0.9699999999999882,-0.47999999999998821,1,1,null,null,null,-2.29,-0.5,null,{"$f":"IF(sum!A74=\"\",0,PB(\"C\",sum!$C$2,sum!A74,(sum!$D$2-NOW())/365,sum!$C$6,sum!$D$6,sum!$B$6))","v":0.42924785852553882},{"$f":"IF(sum!A74=\"\",0,PB(\"P\",sum!$C$2,sum!A74,(sum!$D$2-NOW())/365,sum!$C$6,sum!$D$6,sum!$B$6))","v":12.588610165225987},{"$f":"IF(OR(sum!B74=0,sum!A74=\"\"),0,V(\"C\",sum!$C$2,sum!A74,(sum!$D$2-NOW())/365,$F$2,$G$2,sum!B74))","v":0.246368408203125},{"$f":"IF(OR(sum!D74=0,sum!A74=\"\"),0,V(\"P\",sum!$C$2,sum!A74,(sum!$D$2-NOW())/365,$F$2,$G$2,sum!D74))","v":0.303924560546875},{"$f":"IF(sum!A74=\"\",\"\",D(\"C\",sum!$C$2,sum!A74,(sum!$D$2-NOW())/365,sum!$C$6,sum!$D$6,sum!$B$6))","v":0.10201631027531244},{"$f":"IF(sum!A74=\"\",\"\",D(\"P\",sum!$C$2,sum!A74,(sum!$D$2-NOW())/365,sum!$C$6,sum!$D$6,sum!$B$6))","v":-0.89798368972468756},0.49,0.9699999999999882,null,{"$f":"VLOOKUP(H66,sum!$A$14:$E$113,5)","v":8.3224709171568918},{"$f":"VLOOKUP(J66,sum!$A$14:$E$113,5)","v":3.4417991640991801},"","exp","X"]
[62,{"$f":"IF(sum!A75=\"\",\"\",sum!A75)","v":182.5},{"$f":"IF(sum!B75=\"\",\"\",sum!B75)","v":0.28000000000000003},{"$f":"IF(sum!D75=\"\",\"\",sum!D75)","v":15.05},"",54,"put debit '''\\_ b172.5p+s170p",{"$f":"H65","v":172.5},{"$f":"I65","v":6.85},{"$f":"H64","v":170},{"$f":"I64","v":5.45},null,null,null,null,{"$f":"IF(OR(I67=0,K67=0,I67=\"\",K67=\"\"),\"\",(I67-K67)*sum!$J$2)","v":139.99999999999994},{"$f":"IF(P67=\"\",\"\",(H67-J67)*sum!$J$2-P67)","v":110.00000000000006},171.1,null,0.63598012171406304,0.78571422959184145,{"$f":"IF(T67=\"\",\"\",T67*U67)","v":0.49969863136829062},{"$f":"IF(P67=\"\",\"\",(I67-K67)*sum!$J$2)","v":139.99999999999994},0.78571428571428648,3,4,null,null,null,2,6,"",0.28000000000000003,0.4699999999999882,-0.18999999999998818,1,1,null,null,null,-2.37,-0.10000000000000142,null,{"$f":"IF(sum!A75=\"\",0,PB(\"C\",sum!$C$2,sum!A75,(sum!$D$2-NOW())/365,sum!$C$6,sum!$D$6,sum!$B$6))","v":0.24491065469218576},{"$f":"IF(sum!A75=\"\",0,PB(\"P\",sum!$C$2,sum!A75,(sum!$D$2-NOW())/365,sum!$C$6,sum!$D$6,sum!$B$6))","v":14.902999144444635},{"$f":"IF(OR(sum!B75=0,sum!A75=\"\"),0,V(\"C\",sum!$C$2,sum!A75,(sum!$D$2-NOW())/365,$F$2,$G$2,sum!B75))","v":0.244964599609375},{"$f":"IF(OR(sum!D75=0,sum!A75=\"\"),0,V(\"P\",sum!$C$2,sum!A75,(sum!$D$2-NOW())/365,$F$2,$G$2,sum!D75))","v":0.277618408203125},{"$f":"IF(sum!A75=\"\",\"\",D(\"C\",sum!$C$2,sum!A75,(sum!$D$2-NOW())/365,sum!$C$6,sum!$D$6,sum!$B$6))","v":6.3527587413170772E-2},{"$f":"IF(sum!A75=\"\",\"\",D(\"P\",sum!$C$2,sum!A75,(sum!$D$2-NOW())/365,sum!$C$6,sum!$D$6,sum!$B$6))","v":-0.93647241379641066},0.28000000000000003,0.4699999999999882,null,{"$f":"VLOOKUP(H67,sum!$A$14:$E$113,5)","v":6.4544764363941738},{"$f":"VLOOKUP(J67,sum!$A$14:$E$113,5)","v":4.8176520596149288},"","",""]
[63,{"$f":"IF(sum!A76=\"\",\"\",sum!A76)","v":185},{"$f":"IF(sum!B76=\"\",\"\",sum!B76)","v":0.15},{"$f":"IF(sum!D76=\"\",\"\",sum!D76)","v":17.45},"",55,"put debit '''\\_ b175p+s170p",{"$f":"H66","v":175},{"$f":"I66","v":8.6},{"$f":"J67","v":170},{"$f":"K67","v":5.45},null,null,null,null,{"$f":"IF(OR(I68=0,K68=0,I68=\"\",K68=\"\"),\"\",(I68-K68)*sum!$J$2)","v":314.99999999999994},{"$f":"IF(P68=\"\",\"\",(H68-J68)*sum!$J$2-P68)","v":185.00000000000006},171.85,null,0.66596743183576868,0.58730156865709338,0.39112371739168283,{"$f":"IF(P68=\"\",\"\",(I68-K68)*sum!$J$2)","v":314.99999999999994},0.58730158730158755,3,4,null,null,null,2,6,"",0.15,0.36999999999998678,-0.21999999999998679,1,1,null,null,null,-2.4500000000000002,0.90000000000000213,null,{"$f":"IF(sum!A76=\"\",0,PB(\"C\",sum!$C$2,sum!A76,(sum!$D$2-NOW())/365,sum!$C$6,sum!$D$6,sum!$B$6))","v":0.13393034202680809},{"$f":"IF(sum!A76=\"\",0,PB(\"P\",sum!$C$2,sum!A76,(sum!$D$2-NOW())/365,sum!$C$6,sum!$D$6,sum!$B$6))","v":17.290744993426728},{"$f":"IF(OR(sum!B76=0,sum!A76=\"\"),0,V(\"C\",sum!$C$2,sum!A76,(sum!$D$2-NOW())/365,$F$2,$G$2,sum!B76))","v":0.242889404296875},{"$f":"IF(OR(sum!D76=0,sum!A76=\"\"),0,V(\"P\",sum!$C$2,sum!A76,(sum!$D$2-NOW())/365,$F$2,$G$2,sum!D76))","v":0.292938232421875},{"$f":"IF(sum!A76=\"\",\"\",D(\"C\",sum!$C$2,sum!A76,(sum!$D$2-NOW())/365,sum!$C$6,sum!$D$6,sum!$B$6))","v":3.7700933128170799E-2},{"$f":"IF(sum!A76=\"\",\"\",D(\"P\",sum!$C$2,sum!A76,(sum!$D$2-NOW())/365,sum!$C$6,sum!$D$6,sum!$B$6))","v":-0.96229906779816199},0.15,0.36999999999998678,null,{"$f":"VLOOKUP(H68,sum!$A$14:$E$113,5)","v":8.3224709171568918},{"$f":"VLOOKUP(J68,sum!$A$14:$E$113,5)","v":4.8176520596149288},"","",{"$f":"IF(OR(AND(BD68=\"exp\",BC68=\"\"),AND(BD68=\"\",BC68=\"cheap\")),\"X\",\"\")","v":""}]
[64,{"$f":"IF(sum!A77=\"\",\"\",sum!A77)","v":187.5},{"$f":"IF(sum!B77=\"\",\"\",sum!B77)","v":0.1},{"$f":"IF(sum!D77=\"\",\"\",sum!D77)","v":20.85},"",56,"put debit '''\\_ b177.5p+s170p",{"$f":"VLOOKUP($C$4+3,$A$6:$D$105,2)","v":177.5},{"$f":"VLOOKUP($C$4+3,$A$6:$D$105,4)","v":11},{"$f":"J68","v":170},{"$f":"K68","v":5.45},null,null,null,null,{"$f":"IF(OR(I69=0,K69=0,I69=\"\",K69=\"\"),\"\",(I69-K69)*sum!$J$2)","v":555},{"$f":"IF(P69=\"\",\"\",(H69-J69)*sum!$J$2-P69)","v":195},171.95,null,0.66988212251925638,0.35135134502069648,0.23536398475245973,{"$f":"IF(P69=\"\",\"\",(I69-K69)*sum!$J$2)","v":555},0.35135135135135137,3,4,null,null,null,2,6,"",0.1,1.2699999999999889,-1.1699999999999888,1,1,null,null,null,-2.4700000000000002,-0.44000000000000128,null,{"$f":"IF(sum!A77=\"\",0,PB(\"C\",sum!$C$2,sum!A77,(sum!$D$2-NOW())/365,sum!$C$6,sum!$D$6,sum!$B$6))","v":7.0224132615857915E-2},{"$f":"IF(sum!A77=\"\",0,PB(\"P\",sum!$C$2,sum!A77,(sum!$D$2-NOW())/365,sum!$C$6,sum!$D$6,sum!$B$6))","v":19.725764937686222},{"$f":"IF(OR(sum!B77=0,sum!A77=\"\"),0,V(\"C\",sum!$C$2,sum!A77,(sum!$D$2-NOW())/365,$F$2,$G$2,sum!B77))","v":0.251678466796875},{"$f":"IF(OR(sum!D77=0,sum!A77=\"\"),0,V(\"P\",sum!$C$2,sum!A77,(sum!$D$2-NOW())/365,$F$2,$G$2,sum!D77))","v":0.449859619140625},{"$f":"IF(sum!A77=\"\",\"\",D(\"C\",sum!$C$2,sum!A77,(sum!$D$2-NOW())/365,sum!$C$6,sum!$D$6,sum!$B$6))","v":2.1340368080139283E-2},{"$f":"IF(sum!A77=\"\",\"\",D(\"P\",sum!$C$2,sum!A77,(sum!$D$2-NOW())/365,sum!$C$6,sum!$D$6,sum!$B$6))","v":-0.97865962929501826},0.1,1.2699999999999889,null,{"$f":"VLOOKUP(H69,sum!$A$14:$E$113,5)","v":10.381597438811696},{"$f":"VLOOKUP(J69,sum!$A$14:$E$113,5)","v":4.8176520596149288},"","",""]
[65,{"$f":"IF(sum!A78=\"\",\"\",sum!A78)","v":190},{"$f":"IF(sum!B78=\"\",\"\",sum!B78)","v":7.0000000000000007E-2},{"$f":"IF(sum!D78=\"\",\"\",sum!D78)","v":22.91},"",57,"put debit '''\\_ b175p+s172.5p",{"$f":"H68","v":175},{"$f":"I68","v":8.6},{"$f":"H67","v":172.5},{"$f":"I65","v":6.85},null,null,null,null,{"$f":"IF(OR(I70=0,K70=0,I70=\"\",K70=\"\"),\"\",(I70-K70)*sum!$J$2)","v":175},{"$f":"IF(P70=\"\",\"\",(H70-J70)*sum!$J$2-P70)","v":75},173.25,null,0.71877113601404141,0.42857140408163402,0.30804475497488887,{"$f":"IF(P70=\"\",\"\",(I70-K70)*sum!$J$2)","v":175},0.42857142857142855,3,4,null,null,null,2,6,"",7.0000000000000007E-2,0.82999999999998764,-0.75999999999998757,{"$f":"IF(AI70=MIN($AI$6:$AI$105),\"X\",1)","v":1},1,null,null,null,-2.48,3.9999999999999147E-2,null,{"$f":"IF(sum!A78=\"\",0,PB(\"C\",sum!$C$2,sum!A78,(sum!$D$2-NOW())/365,sum!$C$6,sum!$D$6,sum!$B$6))","v":3.532416713605202E-2},{"$f":"IF(sum!A78=\"\",0,PB(\"P\",sum!$C$2,sum!A78,(sum!$D$2-NOW())/365,sum!$C$6,sum!$D$6,sum!$B$6))","v":22.189591148520748},{"$f":"IF(OR(sum!B78=0,sum!A78=\"\"),0,V(\"C\",sum!$C$2,sum!A78,(sum!$D$2-NOW())/365,$F$2,$G$2,sum!B78))","v":0.261749267578125},{"$f":"IF(OR(sum!D78=0,sum!A78=\"\"),0,V(\"P\",sum!$C$2,sum!A78,(sum!$D$2-NOW())/365,$F$2,$G$2,sum!D78))","v":0.429168701171875},{"$f":"IF(sum!A78=\"\",\"\",D(\"C\",sum!$C$2,sum!A78,(sum!$D$2-NOW())/365,sum!$C$6,sum!$D$6,sum!$B$6))","v":1.1533200860438519E-2},{"$f":"IF(sum!A78=\"\",\"\",D(\"P\",sum!$C$2,sum!A78,(sum!$D$2-NOW())/365,sum!$C$6,sum!$D$6,sum!$B$6))","v":-0.98846679978937857},7.0000000000000007E-2,0.82999999999998764,null,{"$f":"VLOOKUP(H70,sum!$A$14:$E$113,5)","v":8.3224709171568918},{"$f":"VLOOKUP(J70,sum!$A$14:$E$113,5)","v":6.4544764363941738},"","",""]
[66,{"$f":"IF(sum!A79=\"\",\"\",sum!A79)","v":192.5},{"$f":"IF(sum!B79=\"\",\"\",sum!B79)","v":0.05},{"$f":"IF(sum!D79=\"\",\"\",sum!D79)","v":25.45},"",58,"put debit '''\\_ b177.5p+s172.5p",{"$f":"H69","v":177.5},{"$f":"I69","v":11},{"$f":"J70","v":172.5},{"$f":"K70","v":6.85},null,null,null,null,{"$f":"IF(OR(I71=0,K71=0,I71=\"\",K71=\"\"),\"\",(I71-K71)*sum!$J$2)","v":415.00000000000006},{"$f":"IF(P71=\"\",\"\",(H71-J71)*sum!$J$2-P71)","v":84.999999999999943},173.35,null,0.72236793410979483,0.20481927217302942,0.14795487450550304,{"$f":"IF(P71=\"\",\"\",(I71-K71)*sum!$J$2)","v":415.00000000000006},0.20481927710843356,3,4,null,null,null,2,6,"",0.05,0.86999999999998678,-0.81999999999998674,1,{"$f":"IF(AI71=MAX($AI$6:$AI$105),\"X\",1)","v":1},null,null,null,{"$f":"IF(B72=\"\",-9999,(C71-C72)-(B72-B71))","v":-2.4900000000000002},{"$f":"IF(B72=\"\",-9999,(D72-D71)-(B72-B71))","v":-0.14999999999999858},null,{"$f":"IF(sum!A79=\"\",0,PB(\"C\",sum!$C$2,sum!A79,(sum!$D$2-NOW())/365,sum!$C$6,sum!$D$6,sum!$B$6))","v":1.7058454232202869E-2},{"$f":"IF(sum!A79=\"\",0,PB(\"P\",sum!$C$2,sum!A79,(sum!$D$2-NOW())/365,sum!$C$6,sum!$D$6,sum!$B$6))","v":24.670051587226055},{"$f":"IF(OR(sum!B79=0,sum!A79=\"\"),0,V(\"C\",sum!$C$2,sum!A79,(sum!$D$2-NOW())/365,$F$2,$G$2,sum!B79))","v":0.271820068359375},{"$f":"IF(OR(sum!D79=0,sum!A79=\"\"),0,V(\"P\",sum!$C$2,sum!A79,(sum!$D$2-NOW())/365,$F$2,$G$2,sum!D79))","v":0.467010498046875},{"$f":"IF(sum!A79=\"\",\"\",D(\"C\",sum!$C$2,sum!A79,(sum!$D$2-NOW())/365,sum!$C$6,sum!$D$6,sum!$B$6))","v":5.9578033172691391E-3},{"$f":"IF(sum!A79=\"\",\"\",D(\"P\",sum!$C$2,sum!A79,(sum!$D$2-NOW())/365,sum!$C$6,sum!$D$6,sum!$B$6))","v":-0.99404219695077156},{"$f":"AG71","v":0.05},{"$f":"AH71","v":0.86999999999998678},null,{"$f":"VLOOKUP(H71,sum!$A$14:$E$113,5)","v":10.381597438811696},{"$f":"VLOOKUP(J71,sum!$A$14:$E$113,5)","v":6.4544764363941738},"","",""]
[67,{"$f":"IF(sum!A80=\"\",\"\",sum!A80)","v":195},{"$f":"IF(sum!B80=\"\",\"\",sum!B80)","v":0.04},{"$f":"IF(sum!D80=\"\",\"\",sum!D80)","v":27.8},"",59,"put debit '''\\_ b180p+s172.5p",{"$f":"VLOOKUP($C$4+4,$A$6:$D$105,2)","v":180},{"$f":"VLOOKUP($C$4+4,$A$6:$D$105,4)","v":13.05},{"$f":"J71","v":172.5},{"$f":"K71","v":6.85},null,null,null,null,{"$f":"IF(OR(I72=0,K72=0,I72=\"\",K72=\"\"),\"\",(I72-K72)*sum!$J$2)","v":620.00000000000011},{"$f":"IF(P72=\"\",\"\",(H72-J72)*sum!$J$2-P72)","v":129.99999999999989},173.8,null,0.73824502648041701,0.2096774159729447,0.15479330950729198,{"$f":"IF(P72=\"\",\"\",(I72-K72)*sum!$J$2)","v":620.00000000000011},0.2096774193548385,3,4,null,null,null,2,6,"",0.04,0.7199999999999882,-0.67999999999998817,1,1,null,null,null,-2.5,0,null,{"$f":"IF(sum!A80=\"\",0,PB(\"C\",sum!$C$2,sum!A80,(sum!$D$2-NOW())/365,sum!$C$6,sum!$D$6,sum!$B$6))","v":7.9148220244192324E-3},{"$f":"IF(sum!A80=\"\",0,PB(\"P\",sum!$C$2,sum!A80,(sum!$D$2-NOW())/365,sum!$C$6,sum!$D$6,sum!$B$6))","v":27.159634125648296},{"$f":"IF(OR(sum!B80=0,sum!A80=\"\"),0,V(\"C\",sum!$C$2,sum!A80,(sum!$D$2-NOW())/365,$F$2,$G$2,sum!B80))","v":0.285247802734375},{"$f":"IF(OR(sum!D80=0,sum!A80=\"\"),0,V(\"P\",sum!$C$2,sum!A80,(sum!$D$2-NOW())/365,$F$2,$G$2,sum!D80))","v":0.475006103515625},{"$f":"IF(sum!A80=\"\",\"\",D(\"C\",sum!$C$2,sum!A80,(sum!$D$2-NOW())/365,sum!$C$6,sum!$D$6,sum!$B$6))","v":2.9453415275658701E-3},{"$f":"IF(sum!A80=\"\",\"\",D(\"P\",sum!$C$2,sum!A80,(sum!$D$2-NOW())/365,sum!$C$6,sum!$D$6,sum!$B$6))","v":-0.99705465878471078},0.04,0.7199999999999882,null,{"$f":"VLOOKUP(H72,sum!$A$14:$E$113,5)","v":12.588610165225987},{"$f":"VLOOKUP(J72,sum!$A$14:$E$113,5)","v":6.4544764363941738},"","",""]
[68,{"$f":"IF(sum!A81=\"\",\"\",sum!A81)","v":197.5},{"$f":"IF(sum!B81=\"\",\"\",sum!B81)","v":0.04},{"$f":"IF(sum!D81=\"\",\"\",sum!D81)","v":30.3},"",60,"put debit '''\\_ b177.5p+s175p",{"$f":"H71","v":177.5},{"$f":"I71","v":11},{"$f":"H70","v":175},{"$f":"I70","v":8.6},null,null,null,null,{"$f":"IF(OR(I73=0,K73=0,I73=\"\",K73=\"\"),\"\",(I73-K73)*sum!$J$2)","v":240.00000000000003},{"$f":"IF(P73=\"\",\"\",(H73-J73)*sum!$J$2-P73)","v":9.9999999999999716},175.1,null,0.78114643668424266,4.1666664930555507E-2,3.2547766839019734E-2,{"$f":"IF(P73=\"\",\"\",(I73-K73)*sum!$J$2)","v":240.00000000000003},4.1666666666666546E-2,3,4,null,null,null,2,6,"",0.04,0.7199999999999882,-0.67999999999998817,1,1,null,null,null,-2.4900000000000002,9.9999999999997868E-2,null,{"$f":"IF(sum!A81=\"\",0,PB(\"C\",sum!$C$2,sum!A81,(sum!$D$2-NOW())/365,sum!$C$6,sum!$D$6,sum!$B$6))","v":3.5315442936487695E-3},{"$f":"IF(sum!A81=\"\",0,PB(\"P\",sum!$C$2,sum!A81,(sum!$D$2-NOW())/365,sum!$C$6,sum!$D$6,sum!$B$6))","v":29.653977004576944},{"$f":"IF(OR(sum!B81=0,sum!A81=\"\"),0,V(\"C\",sum!$C$2,sum!A81,(sum!$D$2-NOW())/365,$F$2,$G$2,sum!B81))","v":0.306121826171875},{"$f":"IF(OR(sum!D81=0,sum!A81=\"\"),0,V(\"P\",sum!$C$2,sum!A81,(sum!$D$2-NOW())/365,$F$2,$G$2,sum!D81))","v":0.504608154296875},{"$f":"IF(sum!A81=\"\",\"\",D(\"C\",sum!$C$2,sum!A81,(sum!$D$2-NOW())/365,sum!$C$6,sum!$D$6,sum!$B$6))","v":1.3952261969547575E-3},{"$f":"IF(sum!A81=\"\",\"\",D(\"P\",sum!$C$2,sum!A81,(sum!$D$2-NOW())/365,sum!$C$6,sum!$D$6,sum!$B$6))","v":-0.99860477367410327},0.04,0.7199999999999882,null,{"$f":"VLOOKUP(H73,sum!$A$14:$E$113,5)","v":10.381597438811696},{"$f":"VLOOKUP(J73,sum!$A$14:$E$113,5)","v":8.3224709171568918},"","",""]
[69,{"$f":"IF(sum!A82=\"\",\"\",sum!A82)","v":200},{"$f":"IF(sum!B82=\"\",\"\",sum!B82)","v":0.03},{"$f":"IF(sum!D82=\"\",\"\",sum!D82)","v":32.9},"",61,"put debit '''\\_ b180p+s175p",{"$f":"H72","v":180},{"$f":"I72","v":13.05},{"$f":"J73","v":175},{"$f":"K73","v":8.6},null,null,null,null,{"$f":"IF(OR(I74=0,K74=0,I74=\"\",K74=\"\"),\"\",(I74-K74)*sum!$J$2)","v":445.00000000000011},{"$f":"IF(P74=\"\",\"\",(H74-J74)*sum!$J$2-P74)","v":54.999999999999886},175.55,null,0.79492938947707181,0.12359550284055022,9.8249697615150289E-2,{"$f":"IF(P74=\"\",\"\",(I74-K74)*sum!$J$2)","v":445.00000000000011},0.12359550561797725,3,4,null,null,null,2,6,"",0.03,0.81999999999998607,-0.78999999999998605,1,1,null,null,null,-4.99,-0.19999999999999574,null,{"$f":"IF(sum!A82=\"\",0,PB(\"C\",sum!$C$2,sum!A82,(sum!$D$2-NOW())/365,sum!$C$6,sum!$D$6,sum!$B$6))","v":1.5167881077984974E-3},{"$f":"IF(sum!A82=\"\",0,PB(\"P\",sum!$C$2,sum!A82,(sum!$D$2-NOW())/365,sum!$C$6,sum!$D$6,sum!$B$6))","v":32.150688411484481},{"$f":"IF(OR(sum!B82=0,sum!A82=\"\"),0,V(\"C\",sum!$C$2,sum!A82,(sum!$D$2-NOW())/365,$F$2,$G$2,sum!B82))","v":0.315399169921875},{"$f":"IF(OR(sum!D82=0,sum!A82=\"\"),0,V(\"P\",sum!$C$2,sum!A82,(sum!$D$2-NOW())/365,$F$2,$G$2,sum!D82))","v":0.550201416015625},{"$f":"IF(sum!A82=\"\",\"\",D(\"C\",sum!$C$2,sum!A82,(sum!$D$2-NOW())/365,sum!$C$6,sum!$D$6,sum!$B$6))","v":6.3411907755417385E-4},{"$f":"IF(sum!A82=\"\",\"\",D(\"P\",sum!$C$2,sum!A82,(sum!$D$2-NOW())/365,sum!$C$6,sum!$D$6,sum!$B$6))","v":-0.9993658811243793},0.03,0.81999999999998607,null,{"$f":"VLOOKUP(H74,sum!$A$14:$E$113,5)","v":12.588610165225987},{"$f":"VLOOKUP(J74,sum!$A$14:$E$113,5)","v":8.3224709171568918},"","",""]
[70,{"$f":"IF(sum!A83=\"\",\"\",sum!A83)","v":205},{"$f":"IF(sum!B83=\"\",\"\",sum!B83)","v":0.02},{"$f":"IF(sum!D83=\"\",\"\",sum!D83)","v":37.700000000000003},"",62,"put debit '''\\_ b182.5p+s175p",{"$f":"VLOOKUP($C$4+5,$A$6:$D$105,2)","v":182.5},{"$f":"VLOOKUP($C$4+5,$A$6:$D$105,4)","v":15.05},{"$f":"J74","v":175},{"$f":"K74","v":8.6},null,null,null,null,{"$f":"IF(OR(I75=0,K75=0,I75=\"\",K75=\"\"),\"\",(I75-K75)*sum!$J$2)","v":645.00000000000011},{"$f":"IF(P75=\"\",\"\",(H75-J75)*sum!$J$2-P75)","v":104.99999999999989},176.05,null,0.80958352451454407,0.16279069515053166,0.13179266473814011,{"$f":"IF(P75=\"\",\"\",(I75-K75)*sum!$J$2)","v":645.00000000000011},0.16279069767441839,3,4,null,null,null,2,6,"",0.02,0.61999999999999034,-0.59999999999999032,1,1,null,null,null,-5,-0.30000000000000426,null,{"$f":"IF(sum!A83=\"\",0,PB(\"C\",sum!$C$2,sum!A83,(sum!$D$2-NOW())/365,sum!$C$6,sum!$D$6,sum!$B$6))","v":2.5055346863409045E-4},{"$f":"IF(sum!A83=\"\",0,PB(\"P\",sum!$C$2,sum!A83,(sum!$D$2-NOW())/365,sum!$C$6,sum!$D$6,sum!$B$6))","v":37.146874503861909},{"$f":"IF(OR(sum!B83=0,sum!A83=\"\"),0,V(\"C\",sum!$C$2,sum!A83,(sum!$D$2-NOW())/365,$F$2,$G$2,sum!B83))","v":0.338470458984375},{"$f":"IF(OR(sum!D83=0,sum!A83=\"\"),0,V(\"P\",sum!$C$2,sum!A83,(sum!$D$2-NOW())/365,$F$2,$G$2,sum!D83))","v":0.569610595703125},{"$f":"IF(sum!A83=\"\",\"\",D(\"C\",sum!$C$2,sum!A83,(sum!$D$2-NOW())/365,sum!$C$6,sum!$D$6,sum!$B$6))","v":1.1628314763778569E-4},{"$f":"IF(sum!A83=\"\",\"\",D(\"P\",sum!$C$2,sum!A83,(sum!$D$2-NOW())/365,sum!$C$6,sum!$D$6,sum!$B$6))","v":-0.99988371683654764},0.02,0.61999999999999034,null,{"$f":"VLOOKUP(H75,sum!$A$14:$E$113,5)","v":14.902999144444635},{"$f":"VLOOKUP(J75,sum!$A$14:$E$113,5)","v":8.3224709171568918},"","",""]
[71,{"$f":"IF(sum!A84=\"\",\"\",sum!A84)","v":210},{"$f":"IF(sum!B84=\"\",\"\",sum!B84)","v":0.02},{"$f":"IF(sum!D84=\"\",\"\",sum!D84)","v":42.4},"",63,"put debit '''\\_ b180p+s177.5p",{"$f":"H74","v":180},{"$f":"I74","v":13.05},{"$f":"H73","v":177.5},{"$f":"I73","v":11},null,null,null,null,{"$f":"IF(OR(I76=0,K76=0,I76=\"\",K76=\"\"),\"\",(I76-K76)*sum!$J$2)","v":205.00000000000006},{"$f":"IF(P76=\"\",\"\",(H76-J76)*sum!$J$2-P76)","v":44.999999999999943},177.95,null,0.85888706028443762,0.21951218441403944,0.18853617476798967,{"$f":"IF(P76=\"\",\"\",(I76-K76)*sum!$J$2)","v":205.00000000000006},0.21951219512195089,3,4,null,null,null,2,6,"",0.02,0.31999999999998607,-0.29999999999998606,1,1,null,null,null,-4.99,0.17000000000000171,null,{"$f":"IF(sum!A84=\"\",0,PB(\"C\",sum!$C$2,sum!A84,(sum!$D$2-NOW())/365,sum!$C$6,sum!$D$6,sum!$B$6))","v":3.597029433315916E-5},{"$f":"IF(sum!A84=\"\",0,PB(\"P\",sum!$C$2,sum!A84,(sum!$D$2-NOW())/365,sum!$C$6,sum!$D$6,sum!$B$6))","v":42.144112247831771},{"$f":"IF(OR(sum!B84=0,sum!A84=\"\"),0,V(\"C\",sum!$C$2,sum!A84,(sum!$D$2-NOW())/365,$F$2,$G$2,sum!B84))","v":0.374298095703125},{"$f":"IF(OR(sum!D84=0,sum!A84=\"\"),0,V(\"P\",sum!$C$2,sum!A84,(sum!$D$2-NOW())/365,$F$2,$G$2,sum!D84))","v":0.546478271484375},{"$f":"IF(sum!A84=\"\",\"\",D(\"C\",sum!$C$2,sum!A84,(sum!$D$2-NOW())/365,sum!$C$6,sum!$D$6,sum!$B$6))","v":1.8349124525363081E-5},{"$f":"IF(sum!A84=\"\",\"\",D(\"P\",sum!$C$2,sum!A84,(sum!$D$2-NOW())/365,sum!$C$6,sum!$D$6,sum!$B$6))","v":-0.99998165087340929},0.02,0.31999999999998607,null,{"$f":"VLOOKUP(H76,sum!$A$14:$E$113,5)","v":12.588610165225987},{"$f":"VLOOKUP(J76,sum!$A$14:$E$113,5)","v":10.381597438811696},"","",""]
[72,{"$f":"IF(sum!A85=\"\",\"\",sum!A85)","v":215},{"$f":"IF(sum!B85=\"\",\"\",sum!B85)","v":0.01},{"$f":"IF(sum!D85=\"\",\"\",sum!D85)","v":47.57},"",64,"put debit '''\\_ b182.5p+s180p",{"$f":"H75","v":182.5},{"$f":"I75","v":15.05},{"$f":"H76","v":180},13.05,null,null,null,null,{"$f":"IF(OR(I77=0,K77=0,I77=\"\",K77=\"\"),\"\",(I77-K77)*sum!$J$2)","v":200},{"$f":"IF(P77=\"\",\"\",(H77-J77)*sum!$J$2-P77)","v":50},180.5,null,0.90972408376921787,0.24999998750000063,0.22743100957075399,{"$f":"IF(P77=\"\",\"\",(I77-K77)*sum!$J$2)","v":200},0.25,3,4,null,null,null,2,6,"",0.01,0.48999999999998778,-0.47999999999998777,1,1,null,null,null,-5,-0.50999999999999801,null,{"$f":"IF(sum!A85=\"\",0,PB(\"C\",sum!$C$2,sum!A85,(sum!$D$2-NOW())/365,sum!$C$6,sum!$D$6,sum!$B$6))","v":4.5255733988849205E-6},{"$f":"IF(sum!A85=\"\",0,PB(\"P\",sum!$C$2,sum!A85,(sum!$D$2-NOW())/365,sum!$C$6,sum!$D$6,sum!$B$6))","v":47.141533126608152},{"$f":"IF(OR(sum!B85=0,sum!A85=\"\"),0,V(\"C\",sum!$C$2,sum!A85,(sum!$D$2-NOW())/365,$F$2,$G$2,sum!B85))","v":0.382110595703125},{"$f":"IF(OR(sum!D85=0,sum!A85=\"\"),0,V(\"P\",sum!$C$2,sum!A85,(sum!$D$2-NOW())/365,$F$2,$G$2,sum!D85))","v":0.640411376953125},{"$f":"IF(sum!A85=\"\",\"\",D(\"C\",sum!$C$2,sum!A85,(sum!$D$2-NOW())/365,sum!$C$6,sum!$D$6,sum!$B$6))","v":2.5163297115993188E-6},{"$f":"IF(sum!A85=\"\",\"\",D(\"P\",sum!$C$2,sum!A85,(sum!$D$2-NOW())/365,sum!$C$6,sum!$D$6,sum!$B$6))","v":-0.99999748366857333},0.01,0.48999999999998778,null,{"$f":"VLOOKUP(H77,sum!$A$14:$E$113,5)","v":14.902999144444635},{"$f":"VLOOKUP(J77,sum!$A$14:$E$113,5)","v":12.588610165225987},"","",""]
[73,{"$f":"IF(sum!A86=\"\",\"\",sum!A86)","v":220},{"$f":"IF(sum!B86=\"\",\"\",sum!B86)","v":0.01},{"$f":"IF(sum!D86=\"\",\"\",sum!D86)","v":52.06},"",65,"put debit '''\\_ b185p+s182.5p",{"$f":"VLOOKUP($C$4+6,$A$6:$D$105,2)","v":185},{"$f":"VLOOKUP($C$4+6,$A$6:$D$105,4)","v":17.45},182.5,15.05,null,null,null,null,{"$f":"IF(OR(I78=0,K78=0,I78=\"\",K78=\"\"),\"\",(I78-K78)*sum!$J$2)","v":239.99999999999986},{"$f":"IF(P78=\"\",\"\",(H78-J78)*sum!$J$2-P78)","v":10.000000000000142},182.6,null,0.93984346461186208,4.1666664930556242E-2,3.9160142727155553E-2,{"$f":"IF(P78=\"\",\"\",(I78-K78)*sum!$J$2)","v":239.99999999999986},4.1666666666667282E-2,3,4,null,null,null,2,6,"",0.01,-2.0000000000010232E-2,3.0000000000010234E-2,1,1,null,null,null,-5,-0.26000000000000512,null,{"$f":"IF(sum!A86=\"\",0,PB(\"C\",sum!$C$2,sum!A86,(sum!$D$2-NOW())/365,sum!$C$6,sum!$D$6,sum!$B$6))","v":5.0309191253262341E-7},{"$f":"IF(sum!A86=\"\",0,PB(\"P\",sum!$C$2,sum!A86,(sum!$D$2-NOW())/365,sum!$C$6,sum!$D$6,sum!$B$6))","v":52.138981430357205},{"$f":"IF(OR(sum!B86=0,sum!A86=\"\"),0,V(\"C\",sum!$C$2,sum!A86,(sum!$D$2-NOW())/365,$F$2,$G$2,sum!B86))","v":0.413848876953125},{"$f":"IF(OR(sum!D86=0,sum!A86=\"\"),0,V(\"P\",sum!$C$2,sum!A86,(sum!$D$2-NOW())/365,$F$2,$G$2,sum!D86))","v":3.0517578125E-5},{"$f":"IF(sum!A86=\"\",\"\",D(\"C\",sum!$C$2,sum!A86,(sum!$D$2-NOW())/365,sum!$C$6,sum!$D$6,sum!$B$6))","v":3.0274249152029142E-7},{"$f":"IF(sum!A86=\"\",\"\",D(\"P\",sum!$C$2,sum!A86,(sum!$D$2-NOW())/365,sum!$C$6,sum!$D$6,sum!$B$6))","v":-0.99999969725765536},0.01,-2.0000000000010232E-2,null,{"$f":"VLOOKUP(H78,sum!$A$14:$E$113,5)","v":17.290744993426728},{"$f":"VLOOKUP(J78,sum!$A$14:$E$113,5)","v":14.902999144444635},"","",""]
[74,{"$f":"IF(sum!A87=\"\",\"\",sum!A87)","v":225},{"$f":"IF(sum!B87=\"\",\"\",sum!B87)","v":0.01},{"$f":"IF(sum!D87=\"\",\"\",sum!D87)","v":56.8},{"$f":"IF(AF79=\"\",\"\",RANK(AF79,$AF$14:$AF$493,1))","v":""},66,"put debit '''\\_ b187.5p+s185p",{"$f":"VLOOKUP($C$4+7,$A$6:$D$105,2)","v":187.5},{"$f":"VLOOKUP($C$4+7,$A$6:$D$105,4)","v":20.85},185,17.45,null,null,null,null,{"$f":"IF(OR(I79=0,K79=0,I79=\"\",K79=\"\"),\"\",(I79-K79)*sum!$J$2)","v":340.00000000000023},{"$f":"IF(P79=\"\",\"\",(H79-J79)*sum!$J$2-P79)","v":-90.000000000000227},184.1,null,"",{"$f":"IF(T79=\"\",\"\",Q79/(P79+0.00001))","v":""},"",{"$f":"IF(P79=\"\",\"\",(I79-K79)*sum!$J$2)","v":340.00000000000023},{"$f":"IF(P79=\"\",\"\",Q79/W79)","v":-0.26470588235294168},3,4,null,null,null,2,6,{"$f":"IF($AF$13=12,IF($AF$9=2,IF(BE79=\"X\",F79,\"\"),F79),IF($AF$13<=4,IF(AD79=$AF$13,IF($AF$9=2,IF(BE79=\"X\",F79,\"\"),F79),\"\"),IF(AE79=$AF$13,IF($AF$9=2,IF(BE79=\"X\",F79,\"\"),F79),\"\")))","v":""},0.01,-0.28000000000001535,0.29000000000001536,1,1,null,null,null,-5,0.25,null,{"$f":"IF(sum!A87=\"\",0,PB(\"C\",sum!$C$2,sum!A87,(sum!$D$2-NOW())/365,sum!$C$6,sum!$D$6,sum!$B$6))","v":4.9808422275775492E-8},{"$f":"IF(sum!A87=\"\",0,PB(\"P\",sum!$C$2,sum!A87,(sum!$D$2-NOW())/365,sum!$C$6,sum!$D$6,sum!$B$6))","v":57.136433302538506},{"$f":"IF(OR(sum!B87=0,sum!A87=\"\"),0,V(\"C\",sum!$C$2,sum!A87,(sum!$D$2-NOW())/365,$F$2,$G$2,sum!B87))","v":0.444549560546875},{"$f":"IF(OR(sum!D87=0,sum!A87=\"\"),0,V(\"P\",sum!$C$2,sum!A87,(sum!$D$2-NOW())/365,$F$2,$G$2,sum!D87))","v":3.0517578125E-5},{"$f":"IF(sum!A87=\"\",\"\",D(\"C\",sum!$C$2,sum!A87,(sum!$D$2-NOW())/365,sum!$C$6,sum!$D$6,sum!$B$6))","v":3.2240454306275979E-8},{"$f":"IF(sum!A87=\"\",\"\",D(\"P\",sum!$C$2,sum!A87,(sum!$D$2-NOW())/365,sum!$C$6,sum!$D$6,sum!$B$6))","v":-0.9999999677595578},0.01,-0.28000000000001535,null,{"$f":"VLOOKUP(H79,sum!$A$14:$E$113,5)","v":19.725764937686222},{"$f":"VLOOKUP(J79,sum!$A$14:$E$113,5)","v":17.290744993426728},{"$f":"IF(I79>BA79*$BC$12,\"exp\",IF(I79<BA79*$BD$12,\"cheap\",\"\"))","v":""},{"$f":"IF(K79>BB79*$BC$12,\"exp\",IF(K79<BB79*$BD$12,\"cheap\",\"\"))","v":""},""]
[75,{"$f":"IF(sum!A88=\"\",\"\",sum!A88)","v":230},{"$f":"IF(sum!B88=\"\",\"\",sum!B88)","v":0.01},{"$f":"IF(sum!D88=\"\",\"\",sum!D88)","v":62.05},"",67,"put debit '''\\_ b190p+s187.5p",{"$f":"VLOOKUP($C$4+8,$A$6:$D$105,2)","v":190},{"$f":"VLOOKUP($C$4+8,$A$6:$D$105,4)","v":22.91},187.5,20.85,null,null,null,null,{"$f":"IF(OR(I80=0,K80=0,I80=\"\",K80=\"\"),\"\",(I80-K80)*sum!$J$2)","v":205.99999999999989},{"$f":"IF(P80=\"\",\"\",(H80-J80)*sum!$J$2-P80)","v":44.000000000000114},187.94,null,0.98158940683663087,0.21359222264115491,{"$f":"IF(T80=\"\",\"\",T80*U80)","v":0.20965986312724885},{"$f":"IF(P80=\"\",\"\",(I80-K80)*sum!$J$2)","v":205.99999999999989},0.21359223300970942,3,4,null,null,null,2,6,"",0.01,-3.0000000000015348E-2,4.000000000001535E-2,1,1,null,null,null,-5,-6.0499999999999972,null,{"$f":"IF(sum!A88=\"\",0,PB(\"C\",sum!$C$2,sum!A88,(sum!$D$2-NOW())/365,sum!$C$6,sum!$D$6,sum!$B$6))","v":4.4251122178470778E-9},{"$f":"IF(sum!A88=\"\",0,PB(\"P\",sum!$C$2,sum!A88,(sum!$D$2-NOW())/365,sum!$C$6,sum!$D$6,sum!$B$6))","v":62.133885583959511},{"$f":"IF(OR(sum!B88=0,sum!A88=\"\"),0,V(\"C\",sum!$C$2,sum!A88,(sum!$D$2-NOW())/365,$F$2,$G$2,sum!B88))","v":0.474395751953125},{"$f":"IF(OR(sum!D88=0,sum!A88=\"\"),0,V(\"P\",sum!$C$2,sum!A88,(sum!$D$2-NOW())/365,$F$2,$G$2,sum!D88))","v":3.0517578125E-5},{"$f":"IF(sum!A88=\"\",\"\",D(\"C\",sum!$C$2,sum!A88,(sum!$D$2-NOW())/365,sum!$C$6,sum!$D$6,sum!$B$6))","v":3.0646462034766841E-9},{"$f":"IF(sum!A88=\"\",\"\",D(\"P\",sum!$C$2,sum!A88,(sum!$D$2-NOW())/365,sum!$C$6,sum!$D$6,sum!$B$6))","v":-0.99999999693535657},0.01,-3.0000000000015348E-2,null,{"$f":"VLOOKUP(H80,sum!$A$14:$E$113,5)","v":22.189591148520748},{"$f":"VLOOKUP(J80,sum!$A$14:$E$113,5)","v":19.725764937686222},"","",""]
[76,{"$f":"IF(sum!A89=\"\",\"\",sum!A89)","v":235},{"$f":"IF(sum!B89=\"\",\"\",sum!B89)","v":0.01},{"$f":"IF(sum!D89=\"\",\"\",sum!D89)","v":61},"",68,"put debit '''\\_ b192.5p+s190p",{"$f":"VLOOKUP($C$4+9,$A$6:$D$105,2)","v":192.5},{"$f":"VLOOKUP($C$4+9,$A$6:$D$105,4)","v":25.45},190,22.91,null,null,null,null,{"$f":"IF(OR(I81=0,K81=0,I81=\"\",K81=\"\"),\"\",(I81-K81)*sum!$J$2)","v":253.99999999999991},{"$f":"IF(P81=\"\",\"\",(H81-J81)*sum!$J$2-P81)","v":-3.9999999999999147},189.96,null,"","",{"$f":"IF(T81=\"\",\"\",T81*U81)","v":""},{"$f":"IF(P81=\"\",\"\",(I81-K81)*sum!$J$2)","v":253.99999999999991},-1.5748031496062662E-2,3,4,null,null,null,2,6,"",0.01,-6.0800000000000125,6.0900000000000123,1,1,null,null,null,-5,5.6500000000000057,null,{"$f":"IF(sum!A89=\"\",0,PB(\"C\",sum!$C$2,sum!A89,(sum!$D$2-NOW())/365,sum!$C$6,sum!$D$6,sum!$B$6))","v":3.553045957180301E-10},{"$f":"IF(sum!A89=\"\",0,PB(\"P\",sum!$C$2,sum!A89,(sum!$D$2-NOW())/365,sum!$C$6,sum!$D$6,sum!$B$6))","v":67.131337902738636},{"$f":"IF(OR(sum!B89=0,sum!A89=\"\"),0,V(\"C\",sum!$C$2,sum!A89,(sum!$D$2-NOW())/365,$F$2,$G$2,sum!B89))","v":0.503387451171875},{"$f":"IF(OR(sum!D89=0,sum!A89=\"\"),0,V(\"P\",sum!$C$2,sum!A89,(sum!$D$2-NOW())/365,$F$2,$G$2,sum!D89))","v":3.0517578125E-5},{"$f":"IF(sum!A89=\"\",\"\",D(\"C\",sum!$C$2,sum!A89,(sum!$D$2-NOW())/365,sum!$C$6,sum!$D$6,sum!$B$6))","v":2.6206148362462045E-10},{"$f":"IF(sum!A89=\"\",\"\",D(\"P\",sum!$C$2,sum!A89,(sum!$D$2-NOW())/365,sum!$C$6,sum!$D$6,sum!$B$6))","v":-0.99999999973793852},0.01,-6.0800000000000125,null,{"$f":"VLOOKUP(H81,sum!$A$14:$E$113,5)","v":24.670051587226055},{"$f":"VLOOKUP(J81,sum!$A$14:$E$113,5)","v":22.189591148520748},"","",""]
[77,{"$f":"IF(sum!A90=\"\",\"\",sum!A90)","v":240},{"$f":"IF(sum!B90=\"\",\"\",sum!B90)","v":0.01},{"$f":"IF(sum!D90=\"\",\"\",sum!D90)","v":71.650000000000006},"",69,"put debit '''\\_ b195p+s192.5p",{"$f":"VLOOKUP($C$4+10,$A$6:$D$105,2)","v":195},{"$f":"VLOOKUP($C$4+10,$A$6:$D$105,4)","v":27.8},192.5,25.45,null,null,null,null,{"$f":"IF(OR(I82=0,K82=0,I82=\"\",K82=\"\"),\"\",(I82-K82)*sum!$J$2)","v":235.00000000000014},{"$f":"IF(P82=\"\",\"\",(H82-J82)*sum!$J$2-P82)","v":14.999999999999858},192.65,null,0.99456010344307255,6.3829784517880864E-2,{"$f":"IF(T82=\"\",\"\",T82*U82)","v":6.3482557092852623E-2},{"$f":"IF(P82=\"\",\"\",(I82-K82)*sum!$J$2)","v":235.00000000000014},6.382978723404191E-2,3,4,null,null,null,2,6,"",0.01,-0.43000000000000682,0.44000000000000683,1,1,null,null,null,-5,-5.5,null,{"$f":"IF(sum!A90=\"\",0,PB(\"C\",sum!$C$2,sum!A90,(sum!$D$2-NOW())/365,sum!$C$6,sum!$D$6,sum!$B$6))","v":2.5974641891930035E-11},{"$f":"IF(sum!A90=\"\",0,PB(\"P\",sum!$C$2,sum!A90,(sum!$D$2-NOW())/365,sum!$C$6,sum!$D$6,sum!$B$6))","v":72.128790231272717},{"$f":"IF(OR(sum!B90=0,sum!A90=\"\"),0,V(\"C\",sum!$C$2,sum!A90,(sum!$D$2-NOW())/365,$F$2,$G$2,sum!B90))","v":0.531585693359375},{"$f":"IF(OR(sum!D90=0,sum!A90=\"\"),0,V(\"P\",sum!$C$2,sum!A90,(sum!$D$2-NOW())/365,$F$2,$G$2,sum!D90))","v":3.0517578125E-5},{"$f":"IF(sum!A90=\"\",\"\",D(\"C\",sum!$C$2,sum!A90,(sum!$D$2-NOW())/365,sum!$C$6,sum!$D$6,sum!$B$6))","v":2.0306534231906426E-11},{"$f":"IF(sum!A90=\"\",\"\",D(\"P\",sum!$C$2,sum!A90,(sum!$D$2-NOW())/365,sum!$C$6,sum!$D$6,sum!$B$6))","v":-0.99999999997969347},0.01,-0.43000000000000682,null,{"$f":"VLOOKUP(H82,sum!$A$14:$E$113,5)","v":27.159634125648296},{"$f":"VLOOKUP(J82,sum!$A$14:$E$113,5)","v":24.670051587226055},"","",""]
[78,{"$f":"IF(sum!A91=\"\",\"\",sum!A91)","v":245},{"$f":"IF(sum!B91=\"\",\"\",sum!B91)","v":0.01},{"$f":"IF(sum!D91=\"\",\"\",sum!D91)","v":71.150000000000006},"",70,"put debit '''\\_ b197.5p+s195p",{"$f":"VLOOKUP($C$4+11,$A$6:$D$105,2)","v":197.5},{"$f":"VLOOKUP($C$4+11,$A$6:$D$105,4)","v":30.3},195,27.8,null,null,null,null,{"$f":"IF(OR(I83=0,K83=0,I83=\"\",K83=\"\"),\"\",(I83-K83)*sum!$J$2)","v":250},{"$f":"IF(P83=\"\",\"\",(H83-J83)*sum!$J$2-P83)","v":0},195,null,"","",{"$f":"IF(T83=\"\",\"\",T83*U83)","v":""},{"$f":"IF(P83=\"\",\"\",(I83-K83)*sum!$J$2)","v":250},0,3,4,null,null,null,2,6,"",0.01,-5.9300000000000068,5.9400000000000066,1,1,null,null,null,-5.0199999999999996,5.8499999999999943,null,{"$f":"IF(sum!A91=\"\",0,PB(\"C\",sum!$C$2,sum!A91,(sum!$D$2-NOW())/365,sum!$C$6,sum!$D$6,sum!$B$6))","v":1.7276582174493254E-12},{"$f":"IF(sum!A91=\"\",0,PB(\"P\",sum!$C$2,sum!A91,(sum!$D$2-NOW())/365,sum!$C$6,sum!$D$6,sum!$B$6))","v":77.126242554878075},{"$f":"IF(OR(sum!B91=0,sum!A91=\"\"),0,V(\"C\",sum!$C$2,sum!A91,(sum!$D$2-NOW())/365,$F$2,$G$2,sum!B91))","v":0.559051513671875},{"$f":"IF(OR(sum!D91=0,sum!A91=\"\"),0,V(\"P\",sum!$C$2,sum!A91,(sum!$D$2-NOW())/365,$F$2,$G$2,sum!D91))","v":3.0517578125E-5},{"$f":"IF(sum!A91=\"\",\"\",D(\"C\",sum!$C$2,sum!A91,(sum!$D$2-NOW())/365,sum!$C$6,sum!$D$6,sum!$B$6))","v":1.4355183708403274E-12},{"$f":"IF(sum!A91=\"\",\"\",D(\"P\",sum!$C$2,sum!A91,(sum!$D$2-NOW())/365,sum!$C$6,sum!$D$6,sum!$B$6))","v":-0.99999999999856448},0.01,-5.9300000000000068,null,{"$f":"VLOOKUP(H83,sum!$A$14:$E$113,5)","v":29.653977004576944},{"$f":"VLOOKUP(J83,sum!$A$14:$E$113,5)","v":27.159634125648296},"","",""]
[79,{"$f":"IF(sum!A92=\"\",\"\",sum!A92)","v":250},{"$f":"IF(sum!B92=\"\",\"\",sum!B92)","v":0.03},{"$f":"IF(sum!D92=\"\",\"\",sum!D92)","v":82},"",71,{"$f":"CONCATENATE(\"put credit _/'' b\",H84,\"p+s\",J84,\"p\")","v":"put credit _/'' b155p+s157.5p"},{"$f":"J49","v":155},{"$f":"K49","v":1.01},{"$f":"H49","v":157.5},{"$f":"I49","v":1.36},null,null,null,null,{"$f":"Q49","v":215},{"$f":"P49","v":35.000000000000007},{"$f":"J84-(K84-I84)","v":157.15},null,{"$f":"IF(OR(Q84=\"\",Q84<=0),\"\",IF(P84<1,1,1-(NORMSDIST(LN(ABS(R84)/$C$3)/($E$3*SQRT(($D$3-NOW())/365))))))","v":0.89039983104534348},0.16279069010275862,{"$f":"IF(T84=\"\",\"\",T84*U84)","v":0.14494880296325113},{"$f":"P84","v":215},0.16279069767441864,3,4,null,null,null,1,7,"",0.03,-8.0000000000012506E-2,0.1100000000000125,1,1,null,null,null,-9.98,-6.1500000000000057,null,{"$f":"IF(sum!A92=\"\",0,PB(\"C\",sum!$C$2,sum!A92,(sum!$D$2-NOW())/365,sum!$C$6,sum!$D$6,sum!$B$6))","v":9.0225597694968322E-14},{"$f":"IF(sum!A92=\"\",0,PB(\"P\",sum!$C$2,sum!A92,(sum!$D$2-NOW())/365,sum!$C$6,sum!$D$6,sum!$B$6))","v":82.123694881411382},{"$f":"IF(OR(sum!B92=0,sum!A92=\"\"),0,V(\"C\",sum!$C$2,sum!A92,(sum!$D$2-NOW())/365,$F$2,$G$2,sum!B92))","v":0.648773193359375},{"$f":"IF(OR(sum!D92=0,sum!A92=\"\"),0,V(\"P\",sum!$C$2,sum!A92,(sum!$D$2-NOW())/365,$F$2,$G$2,sum!D92))","v":3.0517578125E-5},{"$f":"IF(sum!A92=\"\",\"\",D(\"C\",sum!$C$2,sum!A92,(sum!$D$2-NOW())/365,sum!$C$6,sum!$D$6,sum!$B$6))","v":9.3147711766050634E-14},{"$f":"IF(sum!A92=\"\",\"\",D(\"P\",sum!$C$2,sum!A92,(sum!$D$2-NOW())/365,sum!$C$6,sum!$D$6,sum!$B$6))","v":-0.99999999999990685},0.03,-8.0000000000012506E-2,null,{"$f":"VLOOKUP(H84,sum!$A$14:$E$113,5)","v":0.26997798933985173},{"$f":"VLOOKUP(J84,sum!$A$14:$E$113,5)","v":0.51436556584883419},"exp","exp",""]
[80,{"$f":"IF(sum!A93=\"\",\"\",sum!A93)","v":260},{"$f":"IF(sum!B93=\"\",\"\",sum!B93)","v":0.01},{"$f":"IF(sum!D93=\"\",\"\",sum!D93)","v":85.85},"",72,{"$f":"CONCATENATE(\"put credit _/'' b\",H85,\"p+s\",J85,\"p\")","v":"put credit _/'' b155p+s160p"},{"$f":"J50","v":155},{"$f":"K50","v":1.01},{"$f":"H50","v":160},{"$f":"I50","v":1.85},null,null,null,null,{"$f":"Q50","v":416},{"$f":"P50","v":84.000000000000014},159.16,null,0.83966602503661192,0.20192307206915697,{"$f":"IF(T85=\"\",\"\",T85*U85)","v":0.16954794328749034},{"$f":"P85","v":416},0.20192307692307696,3,4,null,null,null,1,7,"",0.01,-6.2300000000000182,6.240000000000018,1,1,null,null,null,-10,6.7000000000000028,null,{"$f":"IF(sum!A93=\"\",0,PB(\"C\",sum!$C$2,sum!A93,(sum!$D$2-NOW())/365,sum!$C$6,sum!$D$6,sum!$B$6))","v":-1.830566550772387E-15},{"$f":"IF(sum!A93=\"\",0,PB(\"P\",sum!$C$2,sum!A93,(sum!$D$2-NOW())/365,sum!$C$6,sum!$D$6,sum!$B$6))","v":92.118599531702614},{"$f":"IF(OR(sum!B93=0,sum!A93=\"\"),0,V(\"C\",sum!$C$2,sum!A93,(sum!$D$2-NOW())/365,$F$2,$G$2,sum!B93))","v":0.637359619140625},{"$f":"IF(OR(sum!D93=0,sum!A93=\"\"),0,V(\"P\",sum!$C$2,sum!A93,(sum!$D$2-NOW())/365,$F$2,$G$2,sum!D93))","v":3.0517578125E-5},{"$f":"IF(sum!A93=\"\",\"\",D(\"C\",sum!$C$2,sum!A93,(sum!$D$2-NOW())/365,sum!$C$6,sum!$D$6,sum!$B$6))","v":3.3306690738754696E-16},{"$f":"IF(sum!A93=\"\",\"\",D(\"P\",sum!$C$2,sum!A93,(sum!$D$2-NOW())/365,sum!$C$6,sum!$D$6,sum!$B$6))","v":-0.99999999999999967},0.01,-6.2300000000000182,null,{"$f":"VLOOKUP(H85,sum!$A$14:$E$113,5)","v":0.26997798933985173},{"$f":"VLOOKUP(J85,sum!$A$14:$E$113,5)","v":0.91012887232689366},"exp","exp",""]
[81,{"$f":"IF(sum!A94=\"\",\"\",sum!A94)","v":270},{"$f":"IF(sum!B94=\"\",\"\",sum!B94)","v":0.01},{"$f":"IF(sum!D94=\"\",\"\",sum!D94)","v":102.55},"",73,"put credit _/'' b155p+s162.5p",155,1.01,162.5,2.4500000000000002,null,null,null,null,606,144.00000000000003,161.06,null,0.78027622715658285,0.23762375845505354,0.18541216973007632,606,0.23762376237623767,3,4,null,null,null,1,7,"",0.01,0.46999999999998465,-0.45999999999998464,1,1,null,null,null,-10,-0.75,null,{"$f":"IF(sum!A94=\"\",0,PB(\"C\",sum!$C$2,sum!A94,(sum!$D$2-NOW())/365,sum!$C$6,sum!$D$6,sum!$B$6))","v":0},{"$f":"IF(sum!A94=\"\",0,PB(\"P\",sum!$C$2,sum!A94,(sum!$D$2-NOW())/365,sum!$C$6,sum!$D$6,sum!$B$6))","v":102.11350418274512},{"$f":"IF(OR(sum!B94=0,sum!A94=\"\"),0,V(\"C\",sum!$C$2,sum!A94,(sum!$D$2-NOW())/365,$F$2,$G$2,sum!B94))","v":0.686553955078125},{"$f":"IF(OR(sum!D94=0,sum!A94=\"\"),0,V(\"P\",sum!$C$2,sum!A94,(sum!$D$2-NOW())/365,$F$2,$G$2,sum!D94))","v":1.068084716796875},{"$f":"IF(sum!A94=\"\",\"\",D(\"C\",sum!$C$2,sum!A94,(sum!$D$2-NOW())/365,sum!$C$6,sum!$D$6,sum!$B$6))","v":0},{"$f":"IF(sum!A94=\"\",\"\",D(\"P\",sum!$C$2,sum!A94,(sum!$D$2-NOW())/365,sum!$C$6,sum!$D$6,sum!$B$6))","v":-1},0.01,0.46999999999998465,null,{"$f":"VLOOKUP(H86,sum!$A$14:$E$113,5)","v":0.26997798933985173},{"$f":"VLOOKUP(J86,sum!$A$14:$E$113,5)","v":1.5049606005843685},"exp","exp",""]
[82,{"$f":"IF(sum!A95=\"\",\"\",sum!A95)","v":280},{"$f":"IF(sum!B95=\"\",\"\",sum!B95)","v":0.01},{"$f":"IF(sum!D95=\"\",\"\",sum!D95)","v":111.8},"",74,"put credit _/'' b157.5p+s160p",157.5,1.36,160,1.85,null,null,null,null,201,49,159.51,null,0.82954548717565235,0.24378108239895113,0.20222749676284577,201,0.24378109452736318,3,4,null,null,null,1,7,"",0.01,-0.28000000000001535,0.29000000000001536,1,1,null,null,null,-10,-6.25,null,{"$f":"IF(sum!A95=\"\",0,PB(\"C\",sum!$C$2,sum!A95,(sum!$D$2-NOW())/365,sum!$C$6,sum!$D$6,sum!$B$6))","v":0},{"$f":"IF(sum!A95=\"\",0,PB(\"P\",sum!$C$2,sum!A95,(sum!$D$2-NOW())/365,sum!$C$6,sum!$D$6,sum!$B$6))","v":112.10840883301844},{"$f":"IF(OR(sum!B95=0,sum!A95=\"\"),0,V(\"C\",sum!$C$2,sum!A95,(sum!$D$2-NOW())/365,$F$2,$G$2,sum!B95))","v":0.733551025390625},{"$f":"IF(OR(sum!D95=0,sum!A95=\"\"),0,V(\"P\",sum!$C$2,sum!A95,(sum!$D$2-NOW())/365,$F$2,$G$2,sum!D95))","v":3.0517578125E-5},{"$f":"IF(sum!A95=\"\",\"\",D(\"C\",sum!$C$2,sum!A95,(sum!$D$2-NOW())/365,sum!$C$6,sum!$D$6,sum!$B$6))","v":0},{"$f":"IF(sum!A95=\"\",\"\",D(\"P\",sum!$C$2,sum!A95,(sum!$D$2-NOW())/365,sum!$C$6,sum!$D$6,sum!$B$6))","v":-1},0.01,-0.28000000000001535,null,{"$f":"VLOOKUP(H87,sum!$A$14:$E$113,5)","v":0.51436556584883419},{"$f":"VLOOKUP(J87,sum!$A$14:$E$113,5)","v":0.91012887232689366},"exp","exp",""]
[83,{"$f":"IF(sum!A96=\"\",\"\",sum!A96)","v":290},{"$f":"IF(sum!B96=\"\",\"\",sum!B96)","v":0.01},{"$f":"IF(sum!D96=\"\",\"\",sum!D96)","v":115.55},"",75,"put credit _/'' b157.5p+s162.5p",157.5,1.36,162.5,2.4500000000000002,null,null,null,null,391,109.00000000000001,161.41,null,0.7681874607528838,0.27877237138689592,0.21414944010375947,391,0.27877237851662406,3,4,null,null,null,1,7,"",0.01,-6.5300000000000153,6.5400000000000151,1,1,null,null,null,-10,6.6499999999999915,null,{"$f":"IF(sum!A96=\"\",0,PB(\"C\",sum!$C$2,sum!A96,(sum!$D$2-NOW())/365,sum!$C$6,sum!$D$6,sum!$B$6))","v":0},{"$f":"IF(sum!A96=\"\",0,PB(\"P\",sum!$C$2,sum!A96,(sum!$D$2-NOW())/365,sum!$C$6,sum!$D$6,sum!$B$6))","v":122.10331348406095},{"$f":"IF(OR(sum!B96=0,sum!A96=\"\"),0,V(\"C\",sum!$C$2,sum!A96,(sum!$D$2-NOW())/365,$F$2,$G$2,sum!B96))","v":0.778533935546875},{"$f":"IF(OR(sum!D96=0,sum!A96=\"\"),0,V(\"P\",sum!$C$2,sum!A96,(sum!$D$2-NOW())/365,$F$2,$G$2,sum!D96))","v":3.0517578125E-5},{"$f":"IF(sum!A96=\"\",\"\",D(\"C\",sum!$C$2,sum!A96,(sum!$D$2-NOW())/365,sum!$C$6,sum!$D$6,sum!$B$6))","v":0},{"$f":"IF(sum!A96=\"\",\"\",D(\"P\",sum!$C$2,sum!A96,(sum!$D$2-NOW())/365,sum!$C$6,sum!$D$6,sum!$B$6))","v":-1},0.01,-6.5300000000000153,null,{"$f":"VLOOKUP(H88,sum!$A$14:$E$113,5)","v":0.51436556584883419},{"$f":"VLOOKUP(J88,sum!$A$14:$E$113,5)","v":1.5049606005843685},"exp","exp",""]
[84,{"$f":"IF(sum!A97=\"\",\"\",sum!A97)","v":300},{"$f":"IF(sum!B97=\"\",\"\",sum!B97)","v":0.01},{"$f":"IF(sum!D97=\"\",\"\",sum!D97)","v":132.19999999999999},"",76,"put credit _/'' b157.5p+s165p",157.5,1.36,165,3.26,null,null,null,null,560,189.99999999999997,163.1,null,0.7053426224383873,0.33928570822704091,0.23931267119672656,560,0.33928571428571425,3,4,null,null,null,1,7,"",0.01,0.11999999999997613,-0.10999999999997613,1,1,null,null,null,-222.99,-107.67999999999999,null,{"$f":"IF(sum!A97=\"\",0,PB(\"C\",sum!$C$2,sum!A97,(sum!$D$2-NOW())/365,sum!$C$6,sum!$D$6,sum!$B$6))","v":0},{"$f":"IF(sum!A97=\"\",0,PB(\"P\",sum!$C$2,sum!A97,(sum!$D$2-NOW())/365,sum!$C$6,sum!$D$6,sum!$B$6))","v":132.09821813447485},{"$f":"IF(OR(sum!B97=0,sum!A97=\"\"),0,V(\"C\",sum!$C$2,sum!A97,(sum!$D$2-NOW())/365,$F$2,$G$2,sum!B97))","v":0.821685791015625},{"$f":"IF(OR(sum!D97=0,sum!A97=\"\"),0,V(\"P\",sum!$C$2,sum!A97,(sum!$D$2-NOW())/365,$F$2,$G$2,sum!D97))","v":1.045562744140625},{"$f":"IF(sum!A97=\"\",\"\",D(\"C\",sum!$C$2,sum!A97,(sum!$D$2-NOW())/365,sum!$C$6,sum!$D$6,sum!$B$6))","v":0},{"$f":"IF(sum!A97=\"\",\"\",D(\"P\",sum!$C$2,sum!A97,(sum!$D$2-NOW())/365,sum!$C$6,sum!$D$6,sum!$B$6))","v":-1},0.01,0.11999999999997613,null,{"$f":"VLOOKUP(H89,sum!$A$14:$E$113,5)","v":0.51436556584883419},{"$f":"VLOOKUP(J89,sum!$A$14:$E$113,5)","v":2.33994988513588},"exp","exp",""]
[85,{"$f":"IF(sum!A98=\"\",\"\",sum!A98)","v":305},{"$f":"IF(sum!B98=\"\",\"\",sum!B98)","v":218},{"$f":"IF(sum!D98=\"\",\"\",sum!D98)","v":29.52},"",77,"put credit _/'' b160p+s162.5p",160,1.85,162.5,2.4500000000000002,null,null,null,null,190,60.000000000000007,161.9,null,0.75070407615455659,0.31578945706371281,0.23706443262436352,190,0.31578947368421056,3,4,null,null,null,1,7,"",218,-107.56000000000002,325.56,1,1,null,null,null,-2.6599999999999966,-9.120000000000001,null,{"$f":"IF(sum!A98=\"\",0,PB(\"C\",sum!$C$2,sum!A98,(sum!$D$2-NOW())/365,sum!$C$6,sum!$D$6,sum!$B$6))","v":0},{"$f":"IF(sum!A98=\"\",0,PB(\"P\",sum!$C$2,sum!A98,(sum!$D$2-NOW())/365,sum!$C$6,sum!$D$6,sum!$B$6))","v":137.09567045987407},{"$f":"IF(OR(sum!B98=0,sum!A98=\"\"),0,V(\"C\",sum!$C$2,sum!A98,(sum!$D$2-NOW())/365,$F$2,$G$2,sum!B98))","v":1.999969482421875},{"$f":"IF(OR(sum!D98=0,sum!A98=\"\"),0,V(\"P\",sum!$C$2,sum!A98,(sum!$D$2-NOW())/365,$F$2,$G$2,sum!D98))","v":3.0517578125E-5},{"$f":"IF(sum!A98=\"\",\"\",D(\"C\",sum!$C$2,sum!A98,(sum!$D$2-NOW())/365,sum!$C$6,sum!$D$6,sum!$B$6))","v":0},{"$f":"IF(sum!A98=\"\",\"\",D(\"P\",sum!$C$2,sum!A98,(sum!$D$2-NOW())/365,sum!$C$6,sum!$D$6,sum!$B$6))","v":-1},218,-107.56000000000002,null,{"$f":"VLOOKUP(H90,sum!$A$14:$E$113,5)","v":0.91012887232689366},{"$f":"VLOOKUP(J90,sum!$A$14:$E$113,5)","v":1.5049606005843685},"exp","exp",""]
[86,{"$f":"IF(sum!A99=\"\",\"\",sum!A99)","v":310},{"$f":"IF(sum!B99=\"\",\"\",sum!B99)","v":215.66},{"$f":"IF(sum!D99=\"\",\"\",sum!D99)","v":25.4},"",78,"put credit _/'' b160p+s165p",160,1.85,165,3.26,null,null,null,null,359,140.99999999999997,163.59,null,0.68588757855643867,0.39275764922680639,0.26938759298769338,359,0.39275766016713082,3,4,null,null,null,1,7,"",215.66,-116.68,332.34000000000003,1,1,null,null,null,-8.7400000000000091,-2.4799999999999969,null,{"$f":"IF(sum!A99=\"\",0,PB(\"C\",sum!$C$2,sum!A99,(sum!$D$2-NOW())/365,sum!$C$6,sum!$D$6,sum!$B$6))","v":0},{"$f":"IF(sum!A99=\"\",0,PB(\"P\",sum!$C$2,sum!A99,(sum!$D$2-NOW())/365,sum!$C$6,sum!$D$6,sum!$B$6))","v":142.09312278587441},{"$f":"IF(OR(sum!B99=0,sum!A99=\"\"),0,V(\"C\",sum!$C$2,sum!A99,(sum!$D$2-NOW())/365,$F$2,$G$2,sum!B99))","v":1.999969482421875},{"$f":"IF(OR(sum!D99=0,sum!A99=\"\"),0,V(\"P\",sum!$C$2,sum!A99,(sum!$D$2-NOW())/365,$F$2,$G$2,sum!D99))","v":3.0517578125E-5},{"$f":"IF(sum!A99=\"\",\"\",D(\"C\",sum!$C$2,sum!A99,(sum!$D$2-NOW())/365,sum!$C$6,sum!$D$6,sum!$B$6))","v":0},{"$f":"IF(sum!A99=\"\",\"\",D(\"P\",sum!$C$2,sum!A99,(sum!$D$2-NOW())/365,sum!$C$6,sum!$D$6,sum!$B$6))","v":-1},215.66,-116.68,null,{"$f":"VLOOKUP(H91,sum!$A$14:$E$113,5)","v":0.91012887232689366},{"$f":"VLOOKUP(J91,sum!$A$14:$E$113,5)","v":2.33994988513588},"exp","exp",""]
[87,{"$f":"IF(sum!A100=\"\",\"\",sum!A100)","v":315},{"$f":"IF(sum!B100=\"\",\"\",sum!B100)","v":219.4},{"$f":"IF(sum!D100=\"\",\"\",sum!D100)","v":27.92},"",79,"put credit _/'' b160p+s167.5p",160,1.85,167.5,4.25,null,null,null,null,510,240,165.1,null,0.62320996300785714,0.47058822606689754,0.29327527095908434,510,0.47058823529411764,3,4,null,null,null,1,7,"",219.4,-119.16000000000001,338.56,1,"X",null,null,null,6.4000000000000057,-3.2000000000000028,null,{"$f":"IF(sum!A100=\"\",0,PB(\"C\",sum!$C$2,sum!A100,(sum!$D$2-NOW())/365,sum!$C$6,sum!$D$6,sum!$B$6))","v":0},{"$f":"IF(sum!A100=\"\",0,PB(\"P\",sum!$C$2,sum!A100,(sum!$D$2-NOW())/365,sum!$C$6,sum!$D$6,sum!$B$6))","v":147.09057511109509},{"$f":"IF(OR(sum!B100=0,sum!A100=\"\"),0,V(\"C\",sum!$C$2,sum!A100,(sum!$D$2-NOW())/365,$F$2,$G$2,sum!B100))","v":1.999969482421875},{"$f":"IF(OR(sum!D100=0,sum!A100=\"\"),0,V(\"P\",sum!$C$2,sum!A100,(sum!$D$2-NOW())/365,$F$2,$G$2,sum!D100))","v":3.0517578125E-5},{"$f":"IF(sum!A100=\"\",\"\",D(\"C\",sum!$C$2,sum!A100,(sum!$D$2-NOW())/365,sum!$C$6,sum!$D$6,sum!$B$6))","v":0},{"$f":"IF(sum!A100=\"\",\"\",D(\"P\",sum!$C$2,sum!A100,(sum!$D$2-NOW())/365,sum!$C$6,sum!$D$6,sum!$B$6))","v":-1},219.4,-119.16000000000001,null,{"$f":"VLOOKUP(H92,sum!$A$14:$E$113,5)","v":0.91012887232689366},{"$f":"VLOOKUP(J92,sum!$A$14:$E$113,5)","v":3.4417991640991801},"exp","exp",""]
[88,{"$f":"IF(sum!A101=\"\",\"\",sum!A101)","v":320},{"$f":"IF(sum!B101=\"\",\"\",sum!B101)","v":208},{"$f":"IF(sum!D101=\"\",\"\",sum!D101)","v":29.72},"",80,"put credit _/'' b162.5p+s165p",162.5,2.4500000000000002,165,3.26,null,null,null,null,169.00000000000006,80.999999999999957,164.19,null,0.66142989380909101,0.47928991246805208,0.3170166759075122,169.00000000000006,0.47928994082840193,3,4,null,null,null,1,7,"",208,-122.36000000000001,330.36,1,1,null,null,null,-7.4000000000000057,-5.2399999999999984,null,{"$f":"IF(sum!A101=\"\",0,PB(\"C\",sum!$C$2,sum!A101,(sum!$D$2-NOW())/365,sum!$C$6,sum!$D$6,sum!$B$6))","v":0},{"$f":"IF(sum!A101=\"\",0,PB(\"P\",sum!$C$2,sum!A101,(sum!$D$2-NOW())/365,sum!$C$6,sum!$D$6,sum!$B$6))","v":152.08802743660945},{"$f":"IF(OR(sum!B101=0,sum!A101=\"\"),0,V(\"C\",sum!$C$2,sum!A101,(sum!$D$2-NOW())/365,$F$2,$G$2,sum!B101))","v":1.999969482421875},{"$f":"IF(OR(sum!D101=0,sum!A101=\"\"),0,V(\"P\",sum!$C$2,sum!A101,(sum!$D$2-NOW())/365,$F$2,$G$2,sum!D101))","v":3.0517578125E-5},{"$f":"IF(sum!A101=\"\",\"\",D(\"C\",sum!$C$2,sum!A101,(sum!$D$2-NOW())/365,sum!$C$6,sum!$D$6,sum!$B$6))","v":0},{"$f":"IF(sum!A101=\"\",\"\",D(\"P\",sum!$C$2,sum!A101,(sum!$D$2-NOW())/365,sum!$C$6,sum!$D$6,sum!$B$6))","v":-1},208,-122.36000000000001,null,{"$f":"VLOOKUP(H93,sum!$A$14:$E$113,5)","v":1.5049606005843685},{"$f":"VLOOKUP(J93,sum!$A$14:$E$113,5)","v":2.33994988513588},"exp","exp",""]
[89,{"$f":"IF(sum!A102=\"\",\"\",sum!A102)","v":325},{"$f":"IF(sum!B102=\"\",\"\",sum!B102)","v":210.4},{"$f":"IF(sum!D102=\"\",\"\",sum!D102)","v":29.48},"",81,"put credit _/'' b162.5p+s167.5p",162.5,2.4500000000000002,167.5,4.25,null,null,null,null,320,179.99999999999997,165.7,null,0.59742344697527905,0.56249998242187549,0.33605067842201075,320,0.56249999999999989,3,4,null,null,null,1,7,"",210.4,-127.60000000000001,338,1,1,null,null,null,2.539999999999992,-3.4000000000000021,null,{"$f":"IF(sum!A102=\"\",0,PB(\"C\",sum!$C$2,sum!A102,(sum!$D$2-NOW())/365,sum!$C$6,sum!$D$6,sum!$B$6))","v":0},{"$f":"IF(sum!A102=\"\",0,PB(\"P\",sum!$C$2,sum!A102,(sum!$D$2-NOW())/365,sum!$C$6,sum!$D$6,sum!$B$6))","v":157.08547976209218},{"$f":"IF(OR(sum!B102=0,sum!A102=\"\"),0,V(\"C\",sum!$C$2,sum!A102,(sum!$D$2-NOW())/365,$F$2,$G$2,sum!B102))","v":1.999969482421875},{"$f":"IF(OR(sum!D102=0,sum!A102=\"\"),0,V(\"P\",sum!$C$2,sum!A102,(sum!$D$2-NOW())/365,$F$2,$G$2,sum!D102))","v":3.0517578125E-5},{"$f":"IF(sum!A102=\"\",\"\",D(\"C\",sum!$C$2,sum!A102,(sum!$D$2-NOW())/365,sum!$C$6,sum!$D$6,sum!$B$6))","v":0},{"$f":"IF(sum!A102=\"\",\"\",D(\"P\",sum!$C$2,sum!A102,(sum!$D$2-NOW())/365,sum!$C$6,sum!$D$6,sum!$B$6))","v":-1},210.4,-127.60000000000001,null,{"$f":"VLOOKUP(H94,sum!$A$14:$E$113,5)","v":1.5049606005843685},{"$f":"VLOOKUP(J94,sum!$A$14:$E$113,5)","v":3.4417991640991801},"exp","exp",""]
[90,{"$f":"IF(sum!A103=\"\",\"\",sum!A103)","v":330},{"$f":"IF(sum!B103=\"\",\"\",sum!B103)","v":202.86},{"$f":"IF(sum!D103=\"\",\"\",sum!D103)","v":31.08},"",82,"put credit _/'' b162.5p+s170p",162.5,2.4500000000000002,170,5.45,null,null,null,null,450,300,167,null,0.54055466351233716,0.66666665185185225,0.36036976766667445,450,0.66666666666666663,3,4,null,null,null,1,7,"",202.86,-131,333.86,1,1,null,null,null,2.8600000000000136,-2.6799999999999997,null,{"$f":"IF(sum!A103=\"\",0,PB(\"C\",sum!$C$2,sum!A103,(sum!$D$2-NOW())/365,sum!$C$6,sum!$D$6,sum!$B$6))","v":0},{"$f":"IF(sum!A103=\"\",0,PB(\"P\",sum!$C$2,sum!A103,(sum!$D$2-NOW())/365,sum!$C$6,sum!$D$6,sum!$B$6))","v":162.08293208757914},{"$f":"IF(OR(sum!B103=0,sum!A103=\"\"),0,V(\"C\",sum!$C$2,sum!A103,(sum!$D$2-NOW())/365,$F$2,$G$2,sum!B103))","v":1.999969482421875},{"$f":"IF(OR(sum!D103=0,sum!A103=\"\"),0,V(\"P\",sum!$C$2,sum!A103,(sum!$D$2-NOW())/365,$F$2,$G$2,sum!D103))","v":3.0517578125E-5},{"$f":"IF(sum!A103=\"\",\"\",D(\"C\",sum!$C$2,sum!A103,(sum!$D$2-NOW())/365,sum!$C$6,sum!$D$6,sum!$B$6))","v":0},{"$f":"IF(sum!A103=\"\",\"\",D(\"P\",sum!$C$2,sum!A103,(sum!$D$2-NOW())/365,sum!$C$6,sum!$D$6,sum!$B$6))","v":-1},202.86,-131,null,{"$f":"VLOOKUP(H95,sum!$A$14:$E$113,5)","v":1.5049606005843685},{"$f":"VLOOKUP(J95,sum!$A$14:$E$113,5)","v":4.8176520596149288},"exp","",""]
[91,{"$f":"IF(sum!A104=\"\",\"\",sum!A104)","v":335},{"$f":"IF(sum!B104=\"\",\"\",sum!B104)","v":195},{"$f":"IF(sum!D104=\"\",\"\",sum!D104)","v":33.4},"",83,"put credit _/'' b165p+s167.5p",165,3.26,167.5,4.25,null,null,null,null,150.99999999999997,99.000000000000028,166.51,null,0.56210036530964369,0.65562909565370253,0.36852935417457749,150.99999999999997,0.65562913907284803,3,4,null,null,null,1,7,"",195,-133.68,328.68,1,1,null,null,null,-6.5,-4.7999999999999972,null,{"$f":"IF(sum!A104=\"\",0,PB(\"C\",sum!$C$2,sum!A104,(sum!$D$2-NOW())/365,sum!$C$6,sum!$D$6,sum!$B$6))","v":0},{"$f":"IF(sum!A104=\"\",0,PB(\"P\",sum!$C$2,sum!A104,(sum!$D$2-NOW())/365,sum!$C$6,sum!$D$6,sum!$B$6))","v":167.08038441294761},{"$f":"IF(OR(sum!B104=0,sum!A104=\"\"),0,V(\"C\",sum!$C$2,sum!A104,(sum!$D$2-NOW())/365,$F$2,$G$2,sum!B104))","v":1.999969482421875},{"$f":"IF(OR(sum!D104=0,sum!A104=\"\"),0,V(\"P\",sum!$C$2,sum!A104,(sum!$D$2-NOW())/365,$F$2,$G$2,sum!D104))","v":3.0517578125E-5},{"$f":"IF(sum!A104=\"\",\"\",D(\"C\",sum!$C$2,sum!A104,(sum!$D$2-NOW())/365,sum!$C$6,sum!$D$6,sum!$B$6))","v":0},{"$f":"IF(sum!A104=\"\",\"\",D(\"P\",sum!$C$2,sum!A104,(sum!$D$2-NOW())/365,sum!$C$6,sum!$D$6,sum!$B$6))","v":-1},195,-133.68,null,{"$f":"VLOOKUP(H96,sum!$A$14:$E$113,5)","v":2.33994988513588},{"$f":"VLOOKUP(J96,sum!$A$14:$E$113,5)","v":3.4417991640991801},"exp","exp",""]
[92,{"$f":"IF(sum!A105=\"\",\"\",sum!A105)","v":340},{"$f":"IF(sum!B105=\"\",\"\",sum!B105)","v":196.5},{"$f":"IF(sum!D105=\"\",\"\",sum!D105)","v":33.6},"",84,"put credit _/'' b165p+s170p",165,3.26,170,5.45,null,null,null,null,281,219.00000000000003,167.81,null,0.50484545868002639,0.77935940286977234,0.39345605521838167,281,0.77935943060498236,3,4,null,null,null,1,7,"",196.5,-138.48000000000002,334.98,1,1,null,null,null,4.9799999999999898,-3.0799999999999983,null,{"$f":"IF(sum!A105=\"\",0,PB(\"C\",sum!$C$2,sum!A105,(sum!$D$2-NOW())/365,sum!$C$6,sum!$D$6,sum!$B$6))","v":0},{"$f":"IF(sum!A105=\"\",0,PB(\"P\",sum!$C$2,sum!A105,(sum!$D$2-NOW())/365,sum!$C$6,sum!$D$6,sum!$B$6))","v":172.07783673845987},{"$f":"IF(OR(sum!B105=0,sum!A105=\"\"),0,V(\"C\",sum!$C$2,sum!A105,(sum!$D$2-NOW())/365,$F$2,$G$2,sum!B105))","v":1.999969482421875},{"$f":"IF(OR(sum!D105=0,sum!A105=\"\"),0,V(\"P\",sum!$C$2,sum!A105,(sum!$D$2-NOW())/365,$F$2,$G$2,sum!D105))","v":3.0517578125E-5},{"$f":"IF(sum!A105=\"\",\"\",D(\"C\",sum!$C$2,sum!A105,(sum!$D$2-NOW())/365,sum!$C$6,sum!$D$6,sum!$B$6))","v":0},{"$f":"IF(sum!A105=\"\",\"\",D(\"P\",sum!$C$2,sum!A105,(sum!$D$2-NOW())/365,sum!$C$6,sum!$D$6,sum!$B$6))","v":-1},196.5,-138.48000000000002,null,{"$f":"VLOOKUP(H97,sum!$A$14:$E$113,5)","v":2.33994988513588},{"$f":"VLOOKUP(J97,sum!$A$14:$E$113,5)","v":4.8176520596149288},"exp","",""]
[93,{"$f":"IF(sum!A106=\"\",\"\",sum!A106)","v":345},{"$f":"IF(sum!B106=\"\",\"\",sum!B106)","v":186.52},{"$f":"IF(sum!D106=\"\",\"\",sum!D106)","v":35.520000000000003},"",85,"put credit _/'' b165p+s172.5p",165,3.26,172.5,6.85,null,null,null,null,391,359,168.91,null,0.45661794992973237,0.91815854429262045,0.41924767220536374,391,0.9181585677749361,3,4,null,null,null,1,7,"",186.52,-141.56,328.08000000000004,1,1,null,null,null,-6.6299999999999955,-1.7700000000000031,null,{"$f":"IF(sum!A106=\"\",0,PB(\"C\",sum!$C$2,sum!A106,(sum!$D$2-NOW())/365,sum!$C$6,sum!$D$6,sum!$B$6))","v":0},{"$f":"IF(sum!A106=\"\",0,PB(\"P\",sum!$C$2,sum!A106,(sum!$D$2-NOW())/365,sum!$C$6,sum!$D$6,sum!$B$6))","v":177.07528906394259},{"$f":"IF(OR(sum!B106=0,sum!A106=\"\"),0,V(\"C\",sum!$C$2,sum!A106,(sum!$D$2-NOW())/365,$F$2,$G$2,sum!B106))","v":1.999969482421875},{"$f":"IF(OR(sum!D106=0,sum!A106=\"\"),0,V(\"P\",sum!$C$2,sum!A106,(sum!$D$2-NOW())/365,$F$2,$G$2,sum!D106))","v":3.0517578125E-5},{"$f":"IF(sum!A106=\"\",\"\",D(\"C\",sum!$C$2,sum!A106,(sum!$D$2-NOW())/365,sum!$C$6,sum!$D$6,sum!$B$6))","v":0},{"$f":"IF(sum!A106=\"\",\"\",D(\"P\",sum!$C$2,sum!A106,(sum!$D$2-NOW())/365,sum!$C$6,sum!$D$6,sum!$B$6))","v":-1},186.52,-141.56,null,{"$f":"VLOOKUP(H98,sum!$A$14:$E$113,5)","v":2.33994988513588},{"$f":"VLOOKUP(J98,sum!$A$14:$E$113,5)","v":6.4544764363941738},"exp","",""]
[94,{"$f":"IF(sum!A107=\"\",\"\",sum!A107)","v":350},{"$f":"IF(sum!B107=\"\",\"\",sum!B107)","v":188.15},{"$f":"IF(sum!D107=\"\",\"\",sum!D107)","v":38.75},"",86,"put credit _/'' b167.5p+s170p",167.5,4.25,170,5.45,null,null,null,null,130,120.00000000000001,168.8,null,0.46140964346193136,0.92307685207101142,0.42591656120204735,130,0.92307692307692324,3,4,null,null,null,1,7,"",188.15,-143.33000000000001,331.48,1,1,null,null,null,-4.5499999999999829,-6.5499999999999972,null,{"$f":"IF(sum!A107=\"\",0,PB(\"C\",sum!$C$2,sum!A107,(sum!$D$2-NOW())/365,sum!$C$6,sum!$D$6,sum!$B$6))","v":0},{"$f":"IF(sum!A107=\"\",0,PB(\"P\",sum!$C$2,sum!A107,(sum!$D$2-NOW())/365,sum!$C$6,sum!$D$6,sum!$B$6))","v":182.07274138916645},{"$f":"IF(OR(sum!B107=0,sum!A107=\"\"),0,V(\"C\",sum!$C$2,sum!A107,(sum!$D$2-NOW())/365,$F$2,$G$2,sum!B107))","v":1.999969482421875},{"$f":"IF(OR(sum!D107=0,sum!A107=\"\"),0,V(\"P\",sum!$C$2,sum!A107,(sum!$D$2-NOW())/365,$F$2,$G$2,sum!D107))","v":3.0517578125E-5},{"$f":"IF(sum!A107=\"\",\"\",D(\"C\",sum!$C$2,sum!A107,(sum!$D$2-NOW())/365,sum!$C$6,sum!$D$6,sum!$B$6))","v":0},{"$f":"IF(sum!A107=\"\",\"\",D(\"P\",sum!$C$2,sum!A107,(sum!$D$2-NOW())/365,sum!$C$6,sum!$D$6,sum!$B$6))","v":-1},188.15,-143.33000000000001,null,{"$f":"VLOOKUP(H99,sum!$A$14:$E$113,5)","v":3.4417991640991801},{"$f":"VLOOKUP(J99,sum!$A$14:$E$113,5)","v":4.8176520596149288},"exp","",""]
[95,{"$f":"IF(sum!A108=\"\",\"\",sum!A108)","v":360},{"$f":"IF(sum!B108=\"\",\"\",sum!B108)","v":182.7},{"$f":"IF(sum!D108=\"\",\"\",sum!D108)","v":42.2},"",87,"put credit _/'' b167.5p+s172.5p",167.5,4.25,172.5,6.85,null,null,null,null,240.00000000000006,259.99999999999994,169.9,null,0.41399545919572989,1.0833332881944457,0.44849506210807955,240.00000000000006,1.0833333333333328,3,4,null,null,null,1,7,"",182.7,-149.88,332.58,1,1,null,null,null,-4.3000000000000114,-9.36,null,{"$f":"IF(sum!A108=\"\",0,PB(\"C\",sum!$C$2,sum!A108,(sum!$D$2-NOW())/365,sum!$C$6,sum!$D$6,sum!$B$6))","v":0},{"$f":"IF(sum!A108=\"\",0,PB(\"P\",sum!$C$2,sum!A108,(sum!$D$2-NOW())/365,sum!$C$6,sum!$D$6,sum!$B$6))","v":192.06764603989205},{"$f":"IF(OR(sum!B108=0,sum!A108=\"\"),0,V(\"C\",sum!$C$2,sum!A108,(sum!$D$2-NOW())/365,$F$2,$G$2,sum!B108))","v":1.999969482421875},{"$f":"IF(OR(sum!D108=0,sum!A108=\"\"),0,V(\"P\",sum!$C$2,sum!A108,(sum!$D$2-NOW())/365,$F$2,$G$2,sum!D108))","v":3.0517578125E-5},{"$f":"IF(sum!A108=\"\",\"\",D(\"C\",sum!$C$2,sum!A108,(sum!$D$2-NOW())/365,sum!$C$6,sum!$D$6,sum!$B$6))","v":0},{"$f":"IF(sum!A108=\"\",\"\",D(\"P\",sum!$C$2,sum!A108,(sum!$D$2-NOW())/365,sum!$C$6,sum!$D$6,sum!$B$6))","v":-1},182.7,-149.88,null,{"$f":"VLOOKUP(H100,sum!$A$14:$E$113,5)","v":3.4417991640991801},{"$f":"VLOOKUP(J100,sum!$A$14:$E$113,5)","v":6.4544764363941738},"exp","",""]
[96,{"$f":"IF(sum!A109=\"\",\"\",sum!A109)","v":370},{"$f":"IF(sum!B109=\"\",\"\",sum!B109)","v":177},{"$f":"IF(sum!D109=\"\",\"\",sum!D109)","v":42.84},"",88,"put credit _/'' b167.5p+s175p",167.5,4.25,175,8.6,null,null,null,null,315.00000000000006,434.99999999999994,170.65,null,0.38250013129409977,1.380952337112624,0.52821445025647262,315.00000000000006,1.3809523809523805,3,4,null,null,null,1,7,"",177,-159.24,336.24,1,1,null,null,null,-2.3400000000000034,-4.2000000000000028,null,{"$f":"IF(sum!A109=\"\",0,PB(\"C\",sum!$C$2,sum!A109,(sum!$D$2-NOW())/365,sum!$C$6,sum!$D$6,sum!$B$6))","v":0},{"$f":"IF(sum!A109=\"\",0,PB(\"P\",sum!$C$2,sum!A109,(sum!$D$2-NOW())/365,sum!$C$6,sum!$D$6,sum!$B$6))","v":202.06255069164226},{"$f":"IF(OR(sum!B109=0,sum!A109=\"\"),0,V(\"C\",sum!$C$2,sum!A109,(sum!$D$2-NOW())/365,$F$2,$G$2,sum!B109))","v":1.999969482421875},{"$f":"IF(OR(sum!D109=0,sum!A109=\"\"),0,V(\"P\",sum!$C$2,sum!A109,(sum!$D$2-NOW())/365,$F$2,$G$2,sum!D109))","v":3.0517578125E-5},{"$f":"IF(sum!A109=\"\",\"\",D(\"C\",sum!$C$2,sum!A109,(sum!$D$2-NOW())/365,sum!$C$6,sum!$D$6,sum!$B$6))","v":0},{"$f":"IF(sum!A109=\"\",\"\",D(\"P\",sum!$C$2,sum!A109,(sum!$D$2-NOW())/365,sum!$C$6,sum!$D$6,sum!$B$6))","v":-1},177,-159.24,null,{"$f":"VLOOKUP(H101,sum!$A$14:$E$113,5)","v":3.4417991640991801},{"$f":"VLOOKUP(J101,sum!$A$14:$E$113,5)","v":8.3224709171568918},"exp","",""]
[97,{"$f":"IF(sum!A110=\"\",\"\",sum!A110)","v":380},{"$f":"IF(sum!B110=\"\",\"\",sum!B110)","v":169.34},{"$f":"IF(sum!D110=\"\",\"\",sum!D110)","v":48.64},"",89,"put credit _/'' b170p+s172.5p",170,5.45,172.5,6.85,null,null,null,null,110.00000000000006,139.99999999999994,171.1,null,0.36401987828593696,1.2727271570248027,0.46329798479137524,110.00000000000006,1.2727272727272716,3,4,null,null,null,1,7,"",169.34,-163.44,332.78,{"$f":"IF(AI102=MIN($AI$6:$AI$105),\"X\",1)","v":1},1,null,null,null,-4.5600000000000023,-5.9200000000000017,null,{"$f":"IF(sum!A110=\"\",0,PB(\"C\",sum!$C$2,sum!A110,(sum!$D$2-NOW())/365,sum!$C$6,sum!$D$6,sum!$B$6))","v":0},{"$f":"IF(sum!A110=\"\",0,PB(\"P\",sum!$C$2,sum!A110,(sum!$D$2-NOW())/365,sum!$C$6,sum!$D$6,sum!$B$6))","v":212.05745534227705},{"$f":"IF(OR(sum!B110=0,sum!A110=\"\"),0,V(\"C\",sum!$C$2,sum!A110,(sum!$D$2-NOW())/365,$F$2,$G$2,sum!B110))","v":1.999969482421875},{"$f":"IF(OR(sum!D110=0,sum!A110=\"\"),0,V(\"P\",sum!$C$2,sum!A110,(sum!$D$2-NOW())/365,$F$2,$G$2,sum!D110))","v":3.0517578125E-5},{"$f":"IF(sum!A110=\"\",\"\",D(\"C\",sum!$C$2,sum!A110,(sum!$D$2-NOW())/365,sum!$C$6,sum!$D$6,sum!$B$6))","v":0},{"$f":"IF(sum!A110=\"\",\"\",D(\"P\",sum!$C$2,sum!A110,(sum!$D$2-NOW())/365,sum!$C$6,sum!$D$6,sum!$B$6))","v":-1},169.34,-163.44,null,{"$f":"VLOOKUP(H102,sum!$A$14:$E$113,5)","v":4.8176520596149288},{"$f":"VLOOKUP(J102,sum!$A$14:$E$113,5)","v":6.4544764363941738},"","",""]
[98,{"$f":"IF(sum!A111=\"\",\"\",sum!A111)","v":390},{"$f":"IF(sum!B111=\"\",\"\",sum!B111)","v":163.9},{"$f":"IF(sum!D111=\"\",\"\",sum!D111)","v":52.72},"",90,"put credit _/'' b170p+s175p",170,5.45,175,8.6,null,null,null,null,185.00000000000006,314.99999999999994,171.85,null,0.33403256816423132,1.7027026106647229,0.56875812586027874,185.00000000000006,1.702702702702702,3,4,null,null,null,1,7,"",163.9,-169.36,333.26,{"$f":"IF(AI103=MIN($AI$6:$AI$105),\"X\",1)","v":1},1,null,null,null,-3.0999999999999943,-5.8699999999999974,null,{"$f":"IF(sum!A111=\"\",0,PB(\"C\",sum!$C$2,sum!A111,(sum!$D$2-NOW())/365,sum!$C$6,sum!$D$6,sum!$B$6))","v":0},{"$f":"IF(sum!A111=\"\",0,PB(\"P\",sum!$C$2,sum!A111,(sum!$D$2-NOW())/365,sum!$C$6,sum!$D$6,sum!$B$6))","v":222.05235999237712},{"$f":"IF(OR(sum!B111=0,sum!A111=\"\"),0,V(\"C\",sum!$C$2,sum!A111,(sum!$D$2-NOW())/365,$F$2,$G$2,sum!B111))","v":1.999969482421875},{"$f":"IF(OR(sum!D111=0,sum!A111=\"\"),0,V(\"P\",sum!$C$2,sum!A111,(sum!$D$2-NOW())/365,$F$2,$G$2,sum!D111))","v":3.0517578125E-5},{"$f":"IF(sum!A111=\"\",\"\",D(\"C\",sum!$C$2,sum!A111,(sum!$D$2-NOW())/365,sum!$C$6,sum!$D$6,sum!$B$6))","v":0},{"$f":"IF(sum!A111=\"\",\"\",D(\"P\",sum!$C$2,sum!A111,(sum!$D$2-NOW())/365,sum!$C$6,sum!$D$6,sum!$B$6))","v":-1},163.9,-169.36,null,{"$f":"VLOOKUP(H103,sum!$A$14:$E$113,5)","v":4.8176520596149288},{"$f":"VLOOKUP(J103,sum!$A$14:$E$113,5)","v":8.3224709171568918},"","",""]
[99,{"$f":"IF(sum!A112=\"\",\"\",sum!A112)","v":400},{"$f":"IF(sum!B112=\"\",\"\",sum!B112)","v":157},{"$f":"IF(sum!D112=\"\",\"\",sum!D112)","v":56.85},"",91,"put credit _/'' b170p+s177.5p",170,5.45,177.5,11,null,null,null,null,195,555,171.95,null,0.33011787748074362,2.8461537001972461,0.93956621849307964,195,2.8461538461538463,3,4,null,null,null,1,7,"",157,-175.23000000000002,332.23,{"$f":"IF(AI104=MIN($AI$6:$AI$105),\"X\",1)","v":1},1,null,null,null,-3.4399999999999977,-6.1000000000000014,null,{"$f":"IF(sum!A112=\"\",0,PB(\"C\",sum!$C$2,sum!A112,(sum!$D$2-NOW())/365,sum!$C$6,sum!$D$6,sum!$B$6))","v":0},{"$f":"IF(sum!A112=\"\",0,PB(\"P\",sum!$C$2,sum!A112,(sum!$D$2-NOW())/365,sum!$C$6,sum!$D$6,sum!$B$6))","v":232.04726464297596},{"$f":"IF(OR(sum!B112=0,sum!A112=\"\"),0,V(\"C\",sum!$C$2,sum!A112,(sum!$D$2-NOW())/365,$F$2,$G$2,sum!B112))","v":1.999969482421875},{"$f":"IF(OR(sum!D112=0,sum!A112=\"\"),0,V(\"P\",sum!$C$2,sum!A112,(sum!$D$2-NOW())/365,$F$2,$G$2,sum!D112))","v":3.0517578125E-5},{"$f":"IF(sum!A112=\"\",\"\",D(\"C\",sum!$C$2,sum!A112,(sum!$D$2-NOW())/365,sum!$C$6,sum!$D$6,sum!$B$6))","v":0},{"$f":"IF(sum!A112=\"\",\"\",D(\"P\",sum!$C$2,sum!A112,(sum!$D$2-NOW())/365,sum!$C$6,sum!$D$6,sum!$B$6))","v":-1},157,-175.23000000000002,null,{"$f":"VLOOKUP(H104,sum!$A$14:$E$113,5)","v":4.8176520596149288},{"$f":"VLOOKUP(J104,sum!$A$14:$E$113,5)","v":10.381597438811696},"","",""]
[100,{"$f":"IF(sum!A113=\"\",\"\",sum!A113)","v":410},{"$f":"IF(sum!B113=\"\",\"\",sum!B113)","v":150.44},{"$f":"IF(sum!D113=\"\",\"\",sum!D113)","v":60.75},"",92,"put credit _/'' b172.5p+s175p",172.5,6.85,175,8.6,null,null,null,null,75,175,173.25,null,0.28122886398595859,2.3333330222222637,0.65620059514049067,75,2.3333333333333335,3,4,null,null,null,1,7,"",{"$f":"IF(OR(C105=0,C105=\"\"),\"\",IF(B105>=$C$3,C105,C105-($C$3-B105)))","v":150.44},{"$f":"IF(OR(D105=0,D105=\"\"),\"\",IF(B105<=$C$3,D105,D105-(B105-$C$3)))","v":-181.33},{"$f":"IF(OR(C105=\"\",D105=\"\",C105=0,D105=0),\"\",AG105-AH105)","v":331.77},{"$f":"IF(AI105=MIN($AI$6:$AI$105),\"X\",1)","v":1},1,null,null,null,-9999,-9999,null,{"$f":"IF(sum!A113=\"\",0,PB(\"C\",sum!$C$2,sum!A113,(sum!$D$2-NOW())/365,sum!$C$6,sum!$D$6,sum!$B$6))","v":0},{"$f":"IF(sum!A113=\"\",0,PB(\"P\",sum!$C$2,sum!A113,(sum!$D$2-NOW())/365,sum!$C$6,sum!$D$6,sum!$B$6))","v":242.04216929445369},{"$f":"IF(OR(sum!B113=0,sum!A113=\"\"),0,V(\"C\",sum!$C$2,sum!A113,(sum!$D$2-NOW())/365,$F$2,$G$2,sum!B113))","v":1.999969482421875},{"$f":"IF(OR(sum!D113=0,sum!A113=\"\"),0,V(\"P\",sum!$C$2,sum!A113,(sum!$D$2-NOW())/365,$F$2,$G$2,sum!D113))","v":3.0517578125E-5},{"$f":"IF(sum!A113=\"\",\"\",D(\"C\",sum!$C$2,sum!A113,(sum!$D$2-NOW())/365,sum!$C$6,sum!$D$6,sum!$B$6))","v":0},{"$f":"IF(sum!A113=\"\",\"\",D(\"P\",sum!$C$2,sum!A113,(sum!$D$2-NOW())/365,sum!$C$6,sum!$D$6,sum!$B$6))","v":-1},150.44,-181.33,null,{"$f":"VLOOKUP(H105,sum!$A$14:$E$113,5)","v":6.4544764363941738},{"$f":"VLOOKUP(J105,sum!$A$14:$E$113,5)","v":8.3224709171568918},"","",""]
[101,null,null,null,"",93,"put credit _/'' b172.5p+s177.5p",172.5,6.85,177.5,11,null,null,null,null,84.999999999999943,415.00000000000006,173.35,null,0.27763206589020517,4.8823523667820785,1.3554975739936412,84.999999999999943,4.8823529411764746,3,4,null,null,null,1,7,"",null,null,null,null,null,null,null,null,null,null,null,null,null,null,null,null,null,null,null,null,{"$f":"VLOOKUP(H106,sum!$A$14:$E$113,5)","v":6.4544764363941738},{"$f":"VLOOKUP(J106,sum!$A$14:$E$113,5)","v":10.381597438811696},"","",""]
[102,null,null,null,"",94,"put credit _/'' b172.5p+s180p",172.5,6.85,180,13.05,null,null,null,null,129.99999999999989,620.00000000000011,173.8,null,0.26175497351958299,4.7692304023668974,1.2483697776803373,129.99999999999989,4.7692307692307745,3,4,null,null,null,1,7,"",null,null,null,null,null,null,null,null,null,null,null,null,null,null,null,null,null,null,null,null,{"$f":"VLOOKUP(H107,sum!$A$14:$E$113,5)","v":6.4544764363941738},{"$f":"VLOOKUP(J107,sum!$A$14:$E$113,5)","v":12.588610165225987},"","",""]
[103,null,null,null,"",95,"put credit _/'' b175p+s177.5p",175,8.6,177.5,11,null,null,null,null,9.9999999999999716,240.00000000000003,175.1,null,0.21885356331575734,23.999976000024073,5.2524802670979254,9.9999999999999716,24.000000000000071,3,4,null,null,null,1,7,"",null,null,null,null,null,null,null,null,null,null,null,null,null,null,null,null,null,null,null,null,{"$f":"VLOOKUP(H108,sum!$A$14:$E$113,5)","v":8.3224709171568918},{"$f":"VLOOKUP(J108,sum!$A$14:$E$113,5)","v":10.381597438811696},"","",{"$f":"IF(OR(AND(BD108=\"exp\",BC108=\"\"),AND(BD108=\"\",BC108=\"cheap\")),\"X\",\"\")","v":""}]
[104,null,null,null,"",96,"put credit _/'' b175p+s180p",175,8.6,180,13.05,null,null,null,null,54.999999999999886,445.00000000000011,175.55,null,0.20507061052292819,8.0909076198349972,1.6592073652841746,54.999999999999886,8.0909090909091095,3,4,null,null,null,1,7,"",null,{"$f":"VLOOKUP(2,$AH$112:$AI$114,-1)","v":{"$error":"#VALUE!"}},null,null,null,null,null,null,null,null,null,null,null,null,null,null,null,null,null,null,{"$f":"VLOOKUP(H109,sum!$A$14:$E$113,5)","v":8.3224709171568918},{"$f":"VLOOKUP(J109,sum!$A$14:$E$113,5)","v":12.588610165225987},"","",""]
[105,null,null,null,"",97,"put credit _/'' b175p+s182.5p",175,8.6,182.5,15.05,null,null,null,null,104.99999999999989,645.00000000000011,176.05,null,0.19041647548545593,6.1428565578231922,1.1697010951534121,104.99999999999989,6.1428571428571503,3,4,null,null,null,1,7,"",null,null,null,null,null,null,null,null,null,null,null,null,null,null,null,null,null,null,null,null,{"$f":"VLOOKUP(H110,sum!$A$14:$E$113,5)","v":8.3224709171568918},{"$f":"VLOOKUP(J110,sum!$A$14:$E$113,5)","v":14.902999144444635},"","",""]
[106,{"$f":"IF(sum!A119=\"\",\"\",sum!A119)","v":50},{"$f":"IF(sum!B119=\"\",\"\",sum!B119)","v":119.7},{"$f":"IF(sum!D119=\"\",\"\",sum!D119)","v":0.01},"",98,"put credit _/'' b177.5p+s180p",177.5,11,180,13.05,null,null,null,null,44.999999999999943,205.00000000000006,177.95,null,0.14111293971556238,4.5555545432101079,0.64284769362696426,44.999999999999943,4.5555555555555625,3,4,null,null,null,1,7,"",null,null,null,null,null,null,null,null,null,null,null,null,null,null,null,null,null,null,null,null,{"$f":"VLOOKUP(H111,sum!$A$14:$E$113,5)","v":10.381597438811696},{"$f":"VLOOKUP(J111,sum!$A$14:$E$113,5)","v":12.588610165225987},"","",""]
[107,{"$f":"IF(sum!A120=\"\",\"\",sum!A120)","v":60},{"$f":"IF(sum!B120=\"\",\"\",sum!B120)","v":106.75},{"$f":"IF(sum!D120=\"\",\"\",sum!D120)","v":0.01},"",99,"put credit _/'' b180p+s182.5p",180,13.05,182.5,15.05,null,null,null,null,50,200,180.5,null,9.0275916230782127E-2,3.9999992000001598,0.36110359270240994,50,4,3,4,null,null,null,1,7,"",null,1,"A",null,null,null,null,null,null,null,null,null,null,null,null,null,null,null,null,null,{"$f":"VLOOKUP(H112,sum!$A$14:$E$113,5)","v":12.588610165225987},{"$f":"VLOOKUP(J112,sum!$A$14:$E$113,5)","v":14.902999144444635},"","",""]
[108,{"$f":"IF(sum!A121=\"\",\"\",sum!A121)","v":70},{"$f":"IF(sum!B121=\"\",\"\",sum!B121)","v":102.95},{"$f":"IF(sum!D121=\"\",\"\",sum!D121)","v":0.01},"",100,"put credit _/'' b182.5p+s185p",182.5,15.05,185,17.45,null,null,null,null,10.000000000000142,239.99999999999986,182.6,null,6.0156535388137922E-2,23.999976000023647,1.4437554055598834,10.000000000000142,23.999999999999645,3,4,null,null,null,1,7,"",null,2,"B",null,null,null,null,null,null,null,null,null,null,null,null,null,null,null,null,null,{"$f":"VLOOKUP(H113,sum!$A$14:$E$113,5)","v":14.902999144444635},{"$f":"VLOOKUP(J113,sum!$A$14:$E$113,5)","v":17.290744993426728},"","",""]
[109,{"$f":"IF(sum!A122=\"\",\"\",sum!A122)","v":75},{"$f":"IF(sum!B122=\"\",\"\",sum!B122)","v":97.15},{"$f":"IF(sum!D122=\"\",\"\",sum!D122)","v":0.01},"",101,"put credit _/'' b185p+s187.5p",185,17.45,187.5,20.85,null,null,null,null,-90.000000000000227,340.00000000000023,184.1,null,1,-3.7777781975309042,-3.7777781975309042,-90.000000000000227,-3.7777777777777706,3,4,null,null,null,1,7,"",null,3,"C",null,null,null,null,null,null,null,null,null,null,null,null,null,null,null,null,null,{"$f":"VLOOKUP(H114,sum!$A$14:$E$113,5)","v":17.290744993426728},{"$f":"VLOOKUP(J114,sum!$A$14:$E$113,5)","v":19.725764937686222},"","",""]
[110,{"$f":"IF(sum!A123=\"\",\"\",sum!A123)","v":80},{"$f":"IF(sum!B123=\"\",\"\",sum!B123)","v":91.1},{"$f":"IF(sum!D123=\"\",\"\",sum!D123)","v":0.02},"",102,"put credit _/'' b187.5p+s190p",187.5,20.85,190,22.91,null,null,null,null,44.000000000000114,205.99999999999989,187.94,null,1.8410593163369127E-2,4.6818171177688219,8.6195030220539218E-2,44.000000000000114,4.6818181818181674,3,4,null,null,null,1,7,"",null,null,null,null,null,null,null,null,null,null,null,null,null,null,null,null,null,null,null,null,{"$f":"VLOOKUP(H115,sum!$A$14:$E$113,5)","v":19.725764937686222},{"$f":"VLOOKUP(J115,sum!$A$14:$E$113,5)","v":22.189591148520748},"","",""]
[111,{"$f":"IF(sum!A124=\"\",\"\",sum!A124)","v":85},{"$f":"IF(sum!B124=\"\",\"\",sum!B124)","v":84.15},{"$f":"IF(sum!D124=\"\",\"\",sum!D124)","v":0.03},"",103,"put credit _/'' b190p+s192.5p",190,22.91,192.5,25.45,null,null,null,null,-3.9999999999999147,253.99999999999991,189.96,null,1,-63.500158750398207,-63.500158750398207,-3.9999999999999147,-63.500000000001336,3,4,null,null,null,1,7,"",null,null,null,null,null,null,null,null,null,null,null,null,null,null,null,null,null,null,null,null,{"$f":"VLOOKUP(H116,sum!$A$14:$E$113,5)","v":22.189591148520748},{"$f":"VLOOKUP(J116,sum!$A$14:$E$113,5)","v":24.670051587226055},"","",""]
[112,{"$f":"IF(sum!A125=\"\",\"\",sum!A125)","v":90},{"$f":"IF(sum!B125=\"\",\"\",sum!B125)","v":79.900000000000006},{"$f":"IF(sum!D125=\"\",\"\",sum!D125)","v":0.03},"",104,"put credit _/'' b192.5p+s195p",192.5,25.45,195,27.8,null,null,null,null,14.999999999999858,235.00000000000014,192.65,null,5.4398965569274482E-3,15.666656222229344,8.5224989241871385E-2,14.999999999999858,15.666666666666824,3,4,null,null,null,1,7,"",null,null,null,null,null,null,null,null,null,null,null,null,null,null,null,null,null,null,null,null,{"$f":"VLOOKUP(H117,sum!$A$14:$E$113,5)","v":24.670051587226055},{"$f":"VLOOKUP(J117,sum!$A$14:$E$113,5)","v":27.159634125648296},"","",""]
[113,{"$f":"IF(sum!A126=\"\",\"\",sum!A126)","v":95},{"$f":"IF(sum!B126=\"\",\"\",sum!B126)","v":72.95},{"$f":"IF(sum!D126=\"\",\"\",sum!D126)","v":0.06},"",105,"put credit _/'' b195p+s197.5p",195,27.8,197.5,30.3,null,null,null,null,0,250,195,null,{"$f":"IF(OR(Q118=\"\",Q118<=0),\"\",IF(P118<1,1,1-(NORMSDIST(LN(ABS(R118)/$C$3)/($E$3*SQRT(($D$3-NOW())/365))))))","v":1},24999999.999999996,24999999.999999996,0,{"$error":"#DIV/0!"},3,4,null,null,null,1,7,"",null,null,null,null,null,null,null,null,null,null,null,null,null,null,null,null,null,null,null,null,{"$f":"VLOOKUP(H118,sum!$A$14:$E$113,5)","v":27.159634125648296},{"$f":"VLOOKUP(J118,sum!$A$14:$E$113,5)","v":29.653977004576944},"","",""]
[114,{"$f":"IF(sum!A127=\"\",\"\",sum!A127)","v":100},{"$f":"IF(sum!B127=\"\",\"\",sum!B127)","v":69.75},{"$f":"IF(sum!D127=\"\",\"\",sum!D127)","v":0.08},"",106,{"$f":"CONCATENATE(\"call credit '''\\_ b\",H119,\"c+s\",J119,\"c\")","v":"call credit '''\\_ b157.5c+s155c"},{"$f":"J14","v":157.5},{"$f":"K14","v":11.45},{"$f":"H14","v":155},{"$f":"I14","v":13.49},null,null,null,null,{"$f":"Q14","v":45.999999999999915},{"$f":"P14","v":204.00000000000009},{"$f":"J119+(K119-I119)","v":157.04},null,{"$f":"IF(OR(Q119=\"\",Q119<=0),\"\",IF(P119<0,1,(NORMSDIST(LN(ABS(R119)/$C$3)/($E$3*SQRT(($D$3-NOW())/365))))))","v":0.10718544264868035},4.4347816446126958,{"$f":"IF(T119=\"\",\"\",T119*U119)","v":0.47534403362805444},45.999999999999915,4.4347826086956621,1,2,null,null,null,2,7,"",null,null,null,null,null,null,null,null,null,null,null,null,null,null,null,null,null,null,null,null,{"$f":"VLOOKUP(H119,sum!$A$14:$E$113,3)","v":10.843538736465916},{"$f":"VLOOKUP(J119,sum!$A$14:$E$113,3)","v":13.09787729197069},"","",""]
[115,{"$f":"IF(sum!A128=\"\",\"\",sum!A128)","v":105},{"$f":"IF(sum!B128=\"\",\"\",sum!B128)","v":63.5},{"$f":"IF(sum!D128=\"\",\"\",sum!D128)","v":0.11},"",107,{"$f":"CONCATENATE(\"call credit '''\\_ b\",H120,\"c+s\",J120,\"c\")","v":"call credit '''\\_ b160c+s155c"},{"$f":"J15","v":160},{"$f":"K15","v":9.75},{"$f":"H15","v":155},{"$f":"I15","v":13.49},null,null,null,null,{"$f":"Q15","v":126},{"$f":"P15","v":374},158.74,null,{"$f":"IF(OR(Q120=\"\",Q120<=0),\"\",IF(P120<0,1,(NORMSDIST(LN(ABS(R120)/$C$3)/($E$3*SQRT(($D$3-NOW())/365))))))","v":0.14869119542536852},2.9682537326782752,{"$f":"IF(T120=\"\",\"\",T120*U120)","v":0.44135319583774496},126,2.9682539682539684,1,2,null,null,null,2,7,"",null,null,null,null,null,null,null,null,null,null,null,null,null,null,null,null,null,null,null,null,{"$f":"VLOOKUP(H120,sum!$A$14:$E$113,3)","v":8.7405758489679783},{"$f":"VLOOKUP(J120,sum!$A$14:$E$113,3)","v":13.09787729197069},"","",""]
[116,{"$f":"IF(sum!A129=\"\",\"\",sum!A129)","v":110},{"$f":"IF(sum!B129=\"\",\"\",sum!B129)","v":59.35},{"$f":"IF(sum!D129=\"\",\"\",sum!D129)","v":0.16},"",108,"call credit '''\\_ b162.5c+s155c",162.5,7.9,155,13.49,null,null,null,null,191,559,160.59,null,0.20403492436291071,2.9267014174501873,0.59714930234227248,191,2.9267015706806281,1,2,null,null,null,2,7,"",null,null,null,null,null,null,null,null,null,null,null,null,null,null,null,null,null,null,null,null,{"$f":"VLOOKUP(H121,sum!$A$14:$E$113,3)","v":6.8366814360047243},{"$f":"VLOOKUP(J121,sum!$A$14:$E$113,3)","v":13.09787729197069},"","",""]
[117,{"$f":"IF(sum!A130=\"\",\"\",sum!A130)","v":115},{"$f":"IF(sum!B130=\"\",\"\",sum!B130)","v":53.45},{"$f":"IF(sum!D130=\"\",\"\",sum!D130)","v":0.2},"",109,"call credit '''\\_ b160c+s157.5c",160,9.75,157.5,11.45,null,null,null,null,80.000000000000057,169.99999999999994,159.19999999999999,null,0.16147142613306462,2.1249997343750309,0.34312673764191975,80.000000000000057,2.1249999999999978,1,2,null,null,null,2,7,"",null,null,null,null,null,null,null,null,null,null,null,null,null,null,null,null,null,null,null,null,{"$f":"VLOOKUP(H122,sum!$A$14:$E$113,3)","v":8.7405758489679783},{"$f":"VLOOKUP(J122,sum!$A$14:$E$113,3)","v":10.843538736465916},"","",""]
[118,{"$f":"IF(sum!A131=\"\",\"\",sum!A131)","v":120},{"$f":"IF(sum!B131=\"\",\"\",sum!B131)","v":49.05},{"$f":"IF(sum!D131=\"\",\"\",sum!D131)","v":0.3},"",110,"call credit '''\\_ b162.5c+s157.5c",162.5,7.9,157.5,11.45,null,null,null,null,145.00000000000011,354.99999999999989,161.05000000000001,null,0.21938340282986565,2.4482756932223633,0.53711105264477033,145.00000000000011,2.4482758620689626,1,2,null,null,null,2,7,"",null,null,null,null,null,null,null,null,null,null,null,null,null,null,null,null,null,null,null,null,{"$f":"VLOOKUP(H123,sum!$A$14:$E$113,3)","v":6.8366814360047243},{"$f":"VLOOKUP(J123,sum!$A$14:$E$113,3)","v":10.843538736465916},"","",""]
[119,{"$f":"IF(sum!A132=\"\",\"\",sum!A132)","v":125},{"$f":"IF(sum!B132=\"\",\"\",sum!B132)","v":45.13},{"$f":"IF(sum!D132=\"\",\"\",sum!D132)","v":0.42},"",111,"call credit '''\\_ b165c+s157.5c",165,6.13,157.5,11.45,null,null,null,null,218.00000000000011,531.99999999999989,162.82,null,0.28377035787061256,2.4403668605336284,0.69250377734921098,218.00000000000011,2.4403669724770625,1,2,null,null,null,2,7,"",null,null,null,null,null,null,null,null,null,null,null,null,null,null,null,null,null,null,null,null,{"$f":"VLOOKUP(H124,sum!$A$14:$E$113,3)","v":5.1729445158851775},{"$f":"VLOOKUP(J124,sum!$A$14:$E$113,3)","v":10.843538736465916},"","",""]
[120,{"$f":"IF(sum!A133=\"\",\"\",sum!A133)","v":130},{"$f":"IF(sum!B133=\"\",\"\",sum!B133)","v":38.299999999999997},{"$f":"IF(sum!D133=\"\",\"\",sum!D133)","v":0.6},"",112,"call credit '''\\_ b162.5c+s160c",162.5,7.9,160,9.75,null,null,null,null,65.000000000000028,184.99999999999997,161.85,null,0.24748282660018822,2.8461534082840894,0.70437409041990595,65.000000000000028,2.8461538461538445,1,2,null,null,null,2,7,"",null,null,null,null,null,null,null,null,null,null,null,null,null,null,null,null,null,null,null,null,{"$f":"VLOOKUP(H125,sum!$A$14:$E$113,3)","v":6.8366814360047243},{"$f":"VLOOKUP(J125,sum!$A$14:$E$113,3)","v":8.7405758489679783},"","",""]
[121,{"$f":"IF(sum!A134=\"\",\"\",sum!A134)","v":135},{"$f":"IF(sum!B134=\"\",\"\",sum!B134)","v":33.090000000000003},{"$f":"IF(sum!D134=\"\",\"\",sum!D134)","v":0.83},"",113,"call credit '''\\_ b165c+s160c",165,6.13,160,9.75,null,null,null,null,138,362,163.62,null,0.3153193416343113,2.6231882157109987,0.82714198116087589,138,2.6231884057971016,1,2,null,null,null,2,7,"",null,null,null,null,null,null,null,null,null,null,null,null,null,null,null,null,null,null,null,null,{"$f":"VLOOKUP(H126,sum!$A$14:$E$113,3)","v":5.1729445158851775},{"$f":"VLOOKUP(J126,sum!$A$14:$E$113,3)","v":8.7405758489679783},"","",""]
[122,{"$f":"IF(sum!A135=\"\",\"\",sum!A135)","v":140},{"$f":"IF(sum!B135=\"\",\"\",sum!B135)","v":29.3},{"$f":"IF(sum!D135=\"\",\"\",sum!D135)","v":1.1599999999999999},"",114,"call credit '''\\_ b167.5c+s160c",167.5,4.5999999999999996,160,9.75,null,null,null,null,235,515,165.15,null,0.37892333398139005,2.1914892684472651,0.83040641998447517,235,2.1914893617021276,1,2,null,null,null,2,7,"",null,null,null,null,null,null,null,null,null,null,null,null,null,null,null,null,null,null,null,null,{"$f":"VLOOKUP(H127,sum!$A$14:$E$113,3)","v":3.7760676776467079},{"$f":"VLOOKUP(J127,sum!$A$14:$E$113,3)","v":8.7405758489679783},"exp","",""]
[123,{"$f":"IF(sum!A136=\"\",\"\",sum!A136)","v":145},{"$f":"IF(sum!B136=\"\",\"\",sum!B136)","v":23.85},{"$f":"IF(sum!D136=\"\",\"\",sum!D136)","v":1.64},"",115,"call credit '''\\_ b165c+s162.5c",165,6.13,162.5,7.9,null,null,null,null,72.999999999999943,177.00000000000006,164.27,null,0.3418792523079961,2.4246572021017556,0.82893999135774599,72.999999999999943,2.4246575342465779,1,2,null,null,null,2,7,"",null,null,null,null,null,null,null,null,null,null,null,null,null,null,null,null,null,null,null,null,{"$f":"VLOOKUP(H128,sum!$A$14:$E$113,3)","v":5.1729445158851775},{"$f":"VLOOKUP(J128,sum!$A$14:$E$113,3)","v":6.8366814360047243},"","",""]
[124,{"$f":"IF(sum!A137=\"\",\"\",sum!A137)","v":150},{"$f":"IF(sum!B137=\"\",\"\",sum!B137)","v":20},{"$f":"IF(sum!D137=\"\",\"\",sum!D137)","v":2.4500000000000002},"",116,"call credit '''\\_ b167.5c+s162.5c",167.5,4.5999999999999996,162.5,7.9,null,null,null,null,169.99999999999994,330.00000000000006,165.8,null,0.40691002098544293,1.9411763564013917,0.78988411191973595,169.99999999999994,1.9411764705882362,1,2,null,null,null,2,7,"",null,null,null,null,null,null,null,null,null,null,null,null,null,null,null,null,null,null,null,null,{"$f":"VLOOKUP(H129,sum!$A$14:$E$113,3)","v":3.7760676776467079},{"$f":"VLOOKUP(J129,sum!$A$14:$E$113,3)","v":6.8366814360047243},"exp","",""]
[125,{"$f":"IF(sum!A138=\"\",\"\",sum!A138)","v":155},{"$f":"IF(sum!B138=\"\",\"\",sum!B138)","v":15.6},{"$f":"IF(sum!D138=\"\",\"\",sum!D138)","v":3.43},"",117,"call credit '''\\_ b170c+s162.5c",170,3.3,162.5,7.9,null,null,null,null,289.99999999999994,460.00000000000006,167.1,null,0.46385140549053611,1.5862068418549371,0.73576427299311709,289.99999999999994,1.5862068965517246,1,2,null,null,null,2,7,"",null,null,null,null,null,null,null,null,null,null,null,null,null,null,null,null,null,null,null,null,{"$f":"VLOOKUP(H130,sum!$A$14:$E$113,3)","v":2.6531942972793985},{"$f":"VLOOKUP(J130,sum!$A$14:$E$113,3)","v":6.8366814360047243},"exp","",""]
[126,{"$f":"IF(sum!A139=\"\",\"\",sum!A139)","v":160},{"$f":"IF(sum!B139=\"\",\"\",sum!B139)","v":11.85},{"$f":"IF(sum!D139=\"\",\"\",sum!D139)","v":4.55},"",118,"call credit '''\\_ b167.5c+s165c",167.5,4.5999999999999996,165,6.13,null,null,null,null,96.999999999999972,153.00000000000003,166.53,null,0.43877713487048137,1.5773194250186167,0.69209169808522364,96.999999999999972,1.5773195876288668,1,2,null,null,null,2,7,"",null,null,null,null,null,null,null,null,null,null,null,null,null,null,null,null,null,null,null,null,{"$f":"VLOOKUP(H131,sum!$A$14:$E$113,3)","v":3.7760676776467079},{"$f":"VLOOKUP(J131,sum!$A$14:$E$113,3)","v":5.1729445158851775},"exp","",""]
[127,{"$f":"IF(sum!A140=\"\",\"\",sum!A140)","v":165},{"$f":"IF(sum!B140=\"\",\"\",sum!B140)","v":8.9},{"$f":"IF(sum!D140=\"\",\"\",sum!D140)","v":6.25},"",119,"call credit '''\\_ b170c+s165c",170,3.3,165,6.13,null,null,null,null,217,283,167.83,null,0.49603573778056737,1.3041474053388293,0.64690372038185884,217,1.304147465437788,1,2,null,null,null,2,7,"",null,null,null,null,null,null,null,null,null,null,null,null,null,null,null,null,null,null,null,null,{"$f":"VLOOKUP(H132,sum!$A$14:$E$113,3)","v":2.6531942972793985},{"$f":"VLOOKUP(J132,sum!$A$14:$E$113,3)","v":5.1729445158851775},"exp","",""]
[128,{"$f":"IF(sum!A141=\"\",\"\",sum!A141)","v":170},{"$f":"IF(sum!B141=\"\",\"\",sum!B141)","v":6.08},{"$f":"IF(sum!D141=\"\",\"\",sum!D141)","v":8.6},"",120,"call credit '''\\_ b172.5c+s165c",172.5,2.21,165,6.13,null,null,null,null,358,392,168.92,null,0.5438172019131764,1.0949720364532951,0.59546462903720354,358,1.0949720670391061,1,2,null,null,null,2,7,"",null,null,null,null,null,null,null,null,null,null,null,null,null,null,null,null,null,null,null,null,{"$f":"VLOOKUP(H133,sum!$A$14:$E$113,3)","v":1.7912926031122538},{"$f":"VLOOKUP(J133,sum!$A$14:$E$113,3)","v":5.1729445158851775},"exp","",""]
[129,{"$f":"IF(sum!A142=\"\",\"\",sum!A142)","v":175},{"$f":"IF(sum!B142=\"\",\"\",sum!B142)","v":3.75},{"$f":"IF(sum!D142=\"\",\"\",sum!D142)","v":11.6},"",121,"call credit '''\\_ b170c+s167.5c",170,3.3,167.5,4.5999999999999996,null,null,null,null,120.00000000000003,129.99999999999997,168.8,null,0.53859035653806864,1.0833332430555627,0.58347283762683766,120.00000000000003,1.0833333333333328,1,2,null,null,null,2,7,"",null,null,null,null,null,null,null,null,null,null,null,null,null,null,null,null,null,null,null,null,{"$f":"VLOOKUP(H134,sum!$A$14:$E$113,3)","v":2.6531942972793985},{"$f":"VLOOKUP(J134,sum!$A$14:$E$113,3)","v":3.7760676776467079},"exp","exp",""]
[130,{"$f":"IF(sum!A143=\"\",\"\",sum!A143)","v":180},{"$f":"IF(sum!B143=\"\",\"\",sum!B143)","v":2.2799999999999998},{"$f":"IF(sum!D143=\"\",\"\",sum!D143)","v":14.97},"",122,"call credit '''\\_ b172.5c+s167.5c",172.5,2.21,167.5,4.5999999999999996,null,null,null,null,261,238.99999999999997,169.89,null,0.58557940051713764,0.91570877717590893,0.53622019678694988,261,0.91570881226053624,1,2,null,null,null,2,7,"",null,null,null,null,null,null,null,null,null,null,null,null,null,null,null,null,null,null,null,null,{"$f":"VLOOKUP(H135,sum!$A$14:$E$113,3)","v":1.7912926031122538},{"$f":"VLOOKUP(J135,sum!$A$14:$E$113,3)","v":3.7760676776467079},"exp","exp",""]
[131,{"$f":"IF(sum!A144=\"\",\"\",sum!A144)","v":185},{"$f":"IF(sum!B144=\"\",\"\",sum!B144)","v":1.22},{"$f":"IF(sum!D144=\"\",\"\",sum!D144)","v":19.03},"",123,"call credit '''\\_ b175c+s167.5c",175,1.4,167.5,4.5999999999999996,null,null,null,null,430,320,170.7,null,0.61956979861556305,0.74418602920497612,0.46107518824704258,430,0.7441860465116279,1,2,null,null,null,2,7,"",null,null,null,null,null,null,null,null,null,null,null,null,null,null,null,null,null,null,null,null,{"$f":"VLOOKUP(H136,sum!$A$14:$E$113,3)","v":1.1605609180556016},{"$f":"VLOOKUP(J136,sum!$A$14:$E$113,3)","v":3.7760676776467079},"exp","exp",""]
[132,{"$f":"IF(sum!A145=\"\",\"\",sum!A145)","v":190},{"$f":"IF(sum!B145=\"\",\"\",sum!B145)","v":0.67},{"$f":"IF(sum!D145=\"\",\"\",sum!D145)","v":23.27},"",124,"call credit '''\\_ b172.5c+s170c",172.5,2.21,170,3.3,null,null,null,null,141,108.99999999999999,171.09,null,0.63557321001618239,0.77304959056385869,0.49132960977636719,141,0.77304964539007082,1,2,null,null,null,2,7,"",null,null,null,null,null,null,null,null,null,null,null,null,null,null,null,null,null,null,null,null,{"$f":"VLOOKUP(H137,sum!$A$14:$E$113,3)","v":1.7912926031122538},{"$f":"VLOOKUP(J137,sum!$A$14:$E$113,3)","v":2.6531942972793985},"exp","exp",""]
[133,{"$f":"IF(sum!A146=\"\",\"\",sum!A146)","v":195},{"$f":"IF(sum!B146=\"\",\"\",sum!B146)","v":0.36},{"$f":"IF(sum!D146=\"\",\"\",sum!D146)","v":27.65},"",125,"call credit '''\\_ b175c+s170c",175,1.4,170,3.3,null,null,null,null,310,190,171.9,null,0.6679273528123667,0.61290320603538051,0.40937481593742425,310,0.61290322580645162,1,2,null,null,null,2,7,"",null,null,null,null,null,null,null,null,null,null,null,null,null,null,null,null,null,null,null,null,{"$f":"VLOOKUP(H138,sum!$A$14:$E$113,3)","v":1.1605609180556016},{"$f":"VLOOKUP(J138,sum!$A$14:$E$113,3)","v":2.6531942972793985},"exp","exp",""]
[134,{"$f":"IF(sum!A147=\"\",\"\",sum!A147)","v":200},{"$f":"IF(sum!B147=\"\",\"\",sum!B147)","v":0.19},{"$f":"IF(sum!D147=\"\",\"\",sum!D147)","v":31.79},"",126,"call credit '''\\_ b177.5c+s170c",177.5,0.84,170,3.3,null,null,null,null,504,246,172.46,null,0.68951711014782391,0.48809522841080899,0.33655001137076307,504,0.48809523809523808,1,2,null,null,null,2,7,"",null,null,null,null,null,null,null,null,null,null,null,null,null,null,null,null,null,null,null,null,{"$f":"VLOOKUP(H139,sum!$A$14:$E$113,3)","v":0.72096128615324773},{"$f":"VLOOKUP(J139,sum!$A$14:$E$113,3)","v":2.6531942972793985},"","exp","X"]
[135,{"$f":"IF(sum!A148=\"\",\"\",sum!A148)","v":205},{"$f":"IF(sum!B148=\"\",\"\",sum!B148)","v":0.13},{"$f":"IF(sum!D148=\"\",\"\",sum!D148)","v":37.619999999999997},"",127,"call credit '''\\_ b175c+s172.5c",175,1.4,172.5,2.21,null,null,null,null,169,81,173.31,null,0.72093216330982113,0.47928991246805253,0.34553551344816791,169,0.47928994082840237,1,2,null,null,null,2,7,"",null,null,null,null,null,null,null,null,null,null,null,null,null,null,null,null,null,null,null,null,{"$f":"VLOOKUP(H140,sum!$A$14:$E$113,3)","v":1.1605609180556016},{"$f":"VLOOKUP(J140,sum!$A$14:$E$113,3)","v":1.7912926031122538},"exp","exp",""]
[136,{"$f":"IF(sum!A149=\"\",\"\",sum!A149)","v":210},{"$f":"IF(sum!B149=\"\",\"\",sum!B149)","v":0.09},{"$f":"IF(sum!D149=\"\",\"\",sum!D149)","v":40.799999999999997},"",128,"call credit '''\\_ b177.5c+s172.5c",177.5,0.84,172.5,2.21,null,null,null,null,363,137,173.87,null,0.74066863926581838,0.37741045792257694,0.27953609031420446,363,0.37741046831955921,1,2,null,null,null,2,7,"",null,null,null,null,null,null,null,null,null,null,null,null,null,null,null,null,null,null,null,null,{"$f":"VLOOKUP(H141,sum!$A$14:$E$113,3)","v":0.72096128615324773},{"$f":"VLOOKUP(J141,sum!$A$14:$E$113,3)","v":1.7912926031122538},"","exp","X"]
[137,{"$f":"IF(sum!A150=\"\",\"\",sum!A150)","v":215},{"$f":"IF(sum!B150=\"\",\"\",sum!B150)","v":0.05},{"$f":"IF(sum!D150=\"\",\"\",sum!D150)","v":42.9},"",129,"call credit '''\\_ b180c+s172.5c",180,0.49,172.5,2.21,null,null,null,null,578,172,174.22,null,0.75259624280666682,0.29757784952287458,0.22395597149340307,578,0.29757785467128028,1,2,null,null,null,2,7,"",null,null,null,null,null,null,null,null,null,null,null,null,null,null,null,null,null,null,null,null,{"$f":"VLOOKUP(H142,sum!$A$14:$E$113,3)","v":0.42924785852553882},{"$f":"VLOOKUP(J142,sum!$A$14:$E$113,3)","v":1.7912926031122538},"","exp","X"]
[138,{"$f":"IF(sum!A151=\"\",\"\",sum!A151)","v":220},{"$f":"IF(sum!B151=\"\",\"\",sum!B151)","v":0.04},{"$f":"IF(sum!D151=\"\",\"\",sum!D151)","v":52.2},{"$f":"IF(AF143=\"\",\"\",RANK(AF143,$AF$14:$AF$493,1))","v":""},130,"call credit '''\\_ b177.5c+s175c",177.5,0.84,175,1.4,null,null,null,null,194,55.999999999999993,175.56,null,0.79522930581139584,{"$f":"IF(T143=\"\",\"\",Q143/(P143+0.00001))","v":0.28865977893506289},0.22955071561820103,194,{"$f":"IF(P143=\"\",\"\",Q143/W143)","v":0.28865979381443296},1,2,null,null,null,2,7,{"$f":"IF($AF$13=12,IF($AF$9=2,IF(BE143=\"X\",F143,\"\"),F143),IF($AF$13<=4,IF(AD143=$AF$13,IF($AF$9=2,IF(BE143=\"X\",F143,\"\"),F143),\"\"),IF(AE143=$AF$13,IF($AF$9=2,IF(BE143=\"X\",F143,\"\"),F143),\"\")))","v":""},null,null,null,null,null,null,null,null,null,null,null,null,null,null,null,null,null,null,null,null,{"$f":"VLOOKUP(H143,sum!$A$14:$E$113,3)","v":0.72096128615324773},{"$f":"VLOOKUP(J143,sum!$A$14:$E$113,3)","v":1.1605609180556016},{"$f":"IF(I143>BA143*$BC$12,\"exp\",IF(I143<BA143*$BD$12,\"cheap\",\"\"))","v":""},{"$f":"IF(K143>BB143*$BC$12,\"exp\",IF(K143<BB143*$BD$12,\"cheap\",\"\"))","v":"exp"},"X"]
[139,{"$f":"IF(sum!A152=\"\",\"\",sum!A152)","v":225},{"$f":"IF(sum!B152=\"\",\"\",sum!B152)","v":0.03},{"$f":"IF(sum!D152=\"\",\"\",sum!D152)","v":55.55},"",131,"call credit '''\\_ b180c+s175c",180,0.49,175,1.4,null,null,null,null,409,90.999999999999986,175.91,null,0.80555079058397094,0.2224938820906141,0.17923012261819102,409,0.22249388753056232,1,2,null,null,null,2,7,"",null,null,null,null,null,null,null,null,null,null,null,null,null,null,null,null,null,null,null,null,{"$f":"VLOOKUP(H144,sum!$A$14:$E$113,3)","v":0.42924785852553882},{"$f":"VLOOKUP(J144,sum!$A$14:$E$113,3)","v":1.1605609180556016},"","exp","X"]
[140,{"$f":"IF(sum!A153=\"\",\"\",sum!A153)","v":230},{"$f":"IF(sum!B153=\"\",\"\",sum!B153)","v":0.02},{"$f":"IF(sum!D153=\"\",\"\",sum!D153)","v":60.55},"",132,"call credit '''\\_ b182.5c+s175c",182.5,0.28000000000000003,175,1.4,null,null,null,null,638,111.99999999999999,176.12,null,0.81157930038253823,0.17554858659014752,0.14247159908797535,638,0.17554858934169276,1,2,null,null,null,2,7,"",null,null,null,null,null,null,null,null,null,null,null,null,null,null,null,null,null,null,null,null,{"$f":"VLOOKUP(H145,sum!$A$14:$E$113,3)","v":0.24491065469218576},{"$f":"VLOOKUP(J145,sum!$A$14:$E$113,3)","v":1.1605609180556016},"","exp","X"]
[141,{"$f":"IF(sum!A154=\"\",\"\",sum!A154)","v":235},{"$f":"IF(sum!B154=\"\",\"\",sum!B154)","v":0.05},{"$f":"IF(sum!D154=\"\",\"\",sum!D154)","v":93.1},"",133,"call credit '''\\_ b180c+s177.5c",180,0.49,177.5,0.84,null,null,null,null,215,35,177.85,null,0.85654246259674438,0.1627906901027586,0.13943713858844031,215,0.16279069767441862,1,2,null,null,null,2,7,"",null,null,null,null,null,null,null,null,null,null,null,null,null,null,null,null,null,null,null,null,{"$f":"VLOOKUP(H146,sum!$A$14:$E$113,3)","v":0.42924785852553882},{"$f":"VLOOKUP(J146,sum!$A$14:$E$113,3)","v":0.72096128615324773},"","",""]
[142,{"$f":"IF(sum!A155=\"\",\"\",sum!A155)","v":240},{"$f":"IF(sum!B155=\"\",\"\",sum!B155)","v":0.01},{"$f":"IF(sum!D155=\"\",\"\",sum!D155)","v":72.599999999999994},"",134,"call credit '''\\_ b182.5c+s180c",182.5,0.28000000000000003,180,0.49,null,null,null,null,229,20.999999999999996,180.21,null,0.90477583562514052,9.1703052764058809E-2,8.2970706193977659E-2,229,9.170305676855893E-2,1,2,null,null,null,2,7,"",null,null,null,null,null,null,null,null,null,null,null,null,null,null,null,null,null,null,null,null,{"$f":"VLOOKUP(H147,sum!$A$14:$E$113,3)","v":0.24491065469218576},{"$f":"VLOOKUP(J147,sum!$A$14:$E$113,3)","v":0.42924785852553882},"","",""]
[143,{"$f":"IF(sum!A156=\"\",\"\",sum!A156)","v":245},{"$f":"IF(sum!B156=\"\",\"\",sum!B156)","v":0.01},{"$f":"IF(sum!D156=\"\",\"\",sum!D156)","v":77.95},"",135,"call credit '''\\_ b185c+s182.5c",185,0.15,182.5,0.28000000000000003,null,null,null,null,237,13.000000000000004,182.63,null,0.94020607633912523,5.4852318360661685E-2,5.1572483023982284E-2,237,5.4852320675105502E-2,1,2,null,null,null,2,7,"",null,null,null,null,null,null,null,null,null,null,null,null,null,null,null,null,null,null,null,null,{"$f":"VLOOKUP(H148,sum!$A$14:$E$113,3)","v":0.13393034202680809},{"$f":"VLOOKUP(J148,sum!$A$14:$E$113,3)","v":0.24491065469218576},"","",""]
[144,{"$f":"IF(sum!A157=\"\",\"\",sum!A157)","v":250},{"$f":"IF(sum!B157=\"\",\"\",sum!B157)","v":0.01},{"$f":"IF(sum!D157=\"\",\"\",sum!D157)","v":86.95},"",136,"call credit '''\\_ b187.5c+s185c",187.5,0.1,185,0.15,null,null,null,null,245,4.9999999999999991,185.05,null,0.96410936923216228,2.0408162432319896E-2,1.9675700609811445E-2,{"$f":"P149","v":245},2.0408163265306117E-2,1,2,null,null,null,2,7,"",null,null,null,null,null,null,null,null,null,null,null,null,null,null,null,null,null,null,null,null,{"$f":"VLOOKUP(H149,sum!$A$14:$E$113,3)","v":7.0224132615857915E-2},{"$f":"VLOOKUP(J149,sum!$A$14:$E$113,3)","v":0.13393034202680809},"exp","",""]
[145,{"$f":"IF(sum!A158=\"\",\"\",sum!A158)","v":255},{"$f":"IF(sum!B158=\"\",\"\",sum!B158)","v":0.01},{"$f":"IF(sum!D158=\"\",\"\",sum!D158)","v":102.3},"",137,"call credit '''\\_ b190c+s187.5c",190,7.0000000000000007E-2,187.5,0.1,null,null,null,null,247,3,187.53,null,0.97968377160710807,1.2145748496123543E-2,1.1898992695673674E-2,{"$f":"P150","v":247},1.2145748987854251E-2,1,2,null,null,null,2,7,"",null,null,null,null,null,null,null,null,null,null,null,null,null,null,null,null,null,null,null,null,{"$f":"VLOOKUP(H150,sum!$A$14:$E$113,3)","v":3.532416713605202E-2},{"$f":"VLOOKUP(J150,sum!$A$14:$E$113,3)","v":7.0224132615857915E-2},"exp","exp",""]
[146,{"$f":"IF(sum!A159=\"\",\"\",sum!A159)","v":260},{"$f":"IF(sum!B159=\"\",\"\",sum!B159)","v":0.01},{"$f":"IF(sum!D159=\"\",\"\",sum!D159)","v":87.8},"",138,"call credit '''\\_ b192.5c+s190c",192.5,0.05,190,7.0000000000000007E-2,null,null,null,null,248,2.0000000000000004,190.02,null,0.98904004374356247,8.0645158038501717E-3,7.9761290634106242E-3,{"$f":"P151","v":248},8.0645161290322596E-3,1,2,null,null,null,2,7,"",null,null,null,null,null,null,null,null,null,null,null,null,null,null,null,null,null,null,null,null,{"$f":"VLOOKUP(H151,sum!$A$14:$E$113,3)","v":1.7058454232202869E-2},{"$f":"VLOOKUP(J151,sum!$A$14:$E$113,3)","v":3.532416713605202E-2},"exp","exp",""]
[147,{"$f":"IF(sum!A160=\"\",\"\",sum!A160)","v":265},{"$f":"IF(sum!B160=\"\",\"\",sum!B160)","v":0.01},{"$f":"IF(sum!D160=\"\",\"\",sum!D160)","v":97.5},"",139,"call credit '''\\_ b195c+s192.5c",195,0.04,192.5,0.05,null,null,null,null,249,1.0000000000000002,192.51,null,0.99434644376106418,4.0160640957403989E-3,3.9933590515159592E-3,{"$f":"P152","v":249},4.0160642570281129E-3,1,2,null,null,null,2,7,"",null,null,null,null,null,null,null,null,null,null,null,null,null,null,null,null,null,null,null,null,{"$f":"VLOOKUP(H152,sum!$A$14:$E$113,3)","v":7.9148220244192324E-3},{"$f":"VLOOKUP(J152,sum!$A$14:$E$113,3)","v":1.7058454232202869E-2},"exp","exp",""]
[148,{"$f":"IF(sum!A161=\"\",\"\",sum!A161)","v":270},{"$f":"IF(sum!B161=\"\",\"\",sum!B161)","v":0.01},{"$f":"IF(sum!D161=\"\",\"\",sum!D161)","v":102.85},"",140,"call credit '''\\_ b197.5c+s195c",197.5,0.04,195,0.04,null,null,null,null,250,0,195,null,"","","",{"$f":"P153","v":250},0,1,2,null,null,null,2,7,"",null,null,null,null,null,null,null,null,null,null,null,null,null,null,null,null,null,null,null,null,{"$f":"VLOOKUP(H153,sum!$A$14:$E$113,3)","v":3.5315442936487695E-3},{"$f":"VLOOKUP(J153,sum!$A$14:$E$113,3)","v":7.9148220244192324E-3},"exp","exp",""]
[149,{"$f":"IF(sum!A162=\"\",\"\",sum!A162)","v":280},{"$f":"IF(sum!B162=\"\",\"\",sum!B162)","v":0.01},{"$f":"IF(sum!D162=\"\",\"\",sum!D162)","v":107.8},"",141,{"$f":"CONCATENATE(\"synth long ---- (b\",H154,\"c+s\",J154,\"p+su)\")","v":"synth long ---- (b47.5c+s47.5p+su)"},{"$f":"AJ5","v":47.5},{"$f":"VLOOKUP(H154,$B$6:$D$105,2)","v":119.2},{"$f":"H154","v":47.5},{"$f":"VLOOKUP(J154,$B$6:$D$105,3)","v":0.01},null,null,null,null,{"$f":"-Q154","v":-122.99999999999847},{"$f":"-$AJ$4*sum!$J$2","v":122.99999999999847},null,null,{"$f":"IF(Q154>0,1,0)","v":1},-1.0000000813008196,-1.0000000813008196,{"$f":"$C$3*sum!$J$2","v":16792},7.3249166269651299E-3,1,4,6,null,null,4,5,"",null,null,null,null,null,null,null,null,null,null,null,null,null,null,null,null,null,null,null,null,null,null,"exp","exp"]
[150,{"$f":"IF(sum!A163=\"\",\"\",sum!A163)","v":290},{"$f":"IF(sum!B163=\"\",\"\",sum!B163)","v":0.01},{"$f":"IF(sum!D163=\"\",\"\",sum!D163)","v":116.75},"",142,{"$f":"CONCATENATE(\"synth short ---- (b\",H155,\"p+s\",J155,\"c+bu)\")","v":"synth short ---- (b47.5p+s47.5c+bu)"},{"$f":"J154","v":47.5},{"$f":"K154","v":0.01},{"$f":"H154","v":47.5},{"$f":"I154","v":119.2},null,null,null,null,122.99999999999847,{"$f":"-Q154","v":-122.99999999999847},null,null,0,-0.99999991869919358,0,{"$f":"$C$3*sum!$J$2","v":16792},-7.3249166269651299E-3,3,2,5,null,null,4,5,"",null,null,null,null,null,null,null,null,null,null,null,null,null,null,null,null,null,null,null,null,null,null,"exp","exp"]
[151,{"$f":"IF(sum!A164=\"\",\"\",sum!A164)","v":300},{"$f":"IF(sum!B164=\"\",\"\",sum!B164)","v":0.01},{"$f":"IF(sum!D164=\"\",\"\",sum!D164)","v":130.35},"",143,{"$f":"CONCATENATE(\"synth long ---- (b\",H156,\"c+s\",J156,\"p+su)\")","v":"synth long ---- (b315c+s315p+su)"},{"$f":"AK5","v":315},{"$f":"VLOOKUP($H$156,$B$6:$D$105,2)","v":219.4},{"$f":"H156","v":315},{"$f":"VLOOKUP($H$156,$B$6:$D$105,3)","v":27.92},null,null,null,null,33856,{"$f":"-$AK$4*sum!$J$2","v":-33856},null,null,0,-0.99999999970463127,{"$f":"IF(T156=\"\",\"\",T156*U156)","v":0},{"$f":"$C$3*sum!$J$2","v":16792},-2.0161981896141019,1,4,6,null,null,4,5,"",null,null,null,null,null,null,null,null,null,null,null,null,null,null,null,null,null,null,null,null,null,null,"exp","exp"]
[152,{"$f":"IF(sum!A165=\"\",\"\",sum!A165)","v":""},{"$f":"IF(sum!B165=\"\",\"\",sum!B165)","v":""},{"$f":"IF(sum!D165=\"\",\"\",sum!D165)","v":""},"",144,{"$f":"CONCATENATE(\"synth short ---- (b\",H157,\"p+s\",J157,\"c+bu)\")","v":"synth short ---- (b315p+s315c+bu)"},{"$f":"J156","v":315},{"$f":"K156","v":27.92},{"$f":"H156","v":315},{"$f":"I156","v":219.4},null,null,null,null,-33856,{"$f":"-Q156","v":33856},null,null,1,-1.0000000002953686,{"$f":"IF(T157=\"\",\"\",T157*U157)","v":-1.0000000002953686},{"$f":"$C$3*sum!$J$2","v":16792},2.0161981896141019,3,2,5,null,null,4,5,"",null,null,null,null,null,null,null,null,null,null,null,null,null,null,null,null,null,null,null,null,null,null,"exp","exp"]
[153,{"$f":"IF(sum!A166=\"\",\"\",sum!A166)","v":""},{"$f":"IF(sum!B166=\"\",\"\",sum!B166)","v":""},{"$f":"IF(sum!D166=\"\",\"\",sum!D166)","v":""},"",145,{"$f":"CONCATENATE(\"synth long ---- (b\",H158,\"c+s\",J158,\"p+su)\")","v":"synth long ---- (b170c+s170p+su)"},{"$f":"AL5","v":170},{"$f":"VLOOKUP($H$158,$B$6:$D$105,2)","v":3.3},{"$f":"H158","v":170},{"$f":"VLOOKUP($H$158,$B$6:$D$105,3)","v":5.45},null,null,null,null,0,{"$f":"-$AM$8*sum!$J$2","v":0},null,null,0,0,{"$f":"IF(T158=\"\",\"\",T158*U158)","v":0},{"$f":"$C$3*sum!$J$2","v":16792},0,1,4,6,null,null,4,5,"",null,null,null,null,null,null,null,null,null,null,null,null,null,null,null,null,null,null,null,null,null,null,"exp","exp"]
[154,{"$f":"IF(sum!A167=\"\",\"\",sum!A167)","v":""},{"$f":"IF(sum!B167=\"\",\"\",sum!B167)","v":""},{"$f":"IF(sum!D167=\"\",\"\",sum!D167)","v":""},"",146,{"$f":"CONCATENATE(\"synth short ---- (b\",H159,\"p+s\",J159,\"c+bu)\")","v":"synth short ---- (b170p+s170c+bu)"},{"$f":"J158","v":170},{"$f":"K158","v":5.45},{"$f":"H158","v":170},{"$f":"I158","v":3.3},null,null,null,null,0,{"$f":"-Q158","v":0},null,null,0,0,{"$f":"IF(T159=\"\",\"\",T159*U159)","v":0},{"$f":"$C$3*sum!$J$2","v":16792},0,3,2,5,null,null,4,5,"",null,null,null,null,null,null,null,null,null,null,null,null,null,null,null,null,null,null,null,null,null,null,"exp","exp"]
[155,{"$f":"IF(sum!A168=\"\",\"\",sum!A168)","v":""},{"$f":"IF(sum!B168=\"\",\"\",sum!B168)","v":""},{"$f":"IF(sum!D168=\"\",\"\",sum!D168)","v":""},1,147,{"$f":"CONCATENATE(\"strangle otm /\\ (s\",H160,\"c+s\",J160,\"p) \")","v":"strangle otm /\\ (s170c+s170p) "},{"$f":"VLOOKUP($C$4,$A$6:$D$105,2)","v":170},{"$f":"VLOOKUP($C$4,$A$6:$D$105,3)","v":3.3},{"$f":"H160","v":170},{"$f":"VLOOKUP($C$4,$A$6:$D$105,4)","v":5.45},null,null,null,null,"unlim risk",{"$f":"IF(OR(AND(H160<=$C$3,J160<=$C$3),AND(H160>$C$3,J160>$C$3)),(I160+K160)*sum!$J$2,(IF(H160>=$C$3,I160,I160-($C$3-H160))+IF(J160<=$C$3,K160,K160-(J160-$C$3)))*sum!$J$2)","v":875},{"$f":"J160-(I160+K160)","v":161.25},{"$f":"H160+I160+K160","v":178.75},{"$f":"1-((NORMSDIST(LN(ABS(R160)/$C$3)/($E$3*SQRT(($D$3-NOW())/365))))+(1-(NORMSDIST(LN(ABS(S160)/$C$3)/($E$3*SQRT(($D$3-NOW())/365))))))","v":0.6504207056109067},"unlim risk","unlim risk",{"$f":"$C$3*sum!$J$2","v":16792},5.2108146736541211E-2,2,4,null,null,null,3,8,147,null,null,null,null,null,null,null,null,null,null,null,null,null,null,null,null,null,null,null,null,{"$f":"VLOOKUP(H160,sum!$A$14:$E$113,3)","v":2.6531942972793985},{"$f":"VLOOKUP(J160,sum!$A$14:$E$113,5)","v":4.8176520596149288},"exp","",{"$f":"IF(AND(BD160=\"exp\",BC160=\"exp\"),\"X\",\"\")","v":""}]
[156,{"$f":"IF(sum!A169=\"\",\"\",sum!A169)","v":""},{"$f":"IF(sum!B169=\"\",\"\",sum!B169)","v":""},{"$f":"IF(sum!D169=\"\",\"\",sum!D169)","v":""},2,148,{"$f":"CONCATENATE(\"strangle otm /\\ (s\",H161,\"c+s\",J161,\"p) \")","v":"strangle otm /\\ (s172.5c+s167.5p) "},{"$f":"VLOOKUP($C$4+1,$A$6:$D$105,2)","v":172.5},{"$f":"VLOOKUP($C$4+1,$A$6:$D$105,3)","v":2.21},{"$f":"VLOOKUP($C$4-1,$A$6:$D$105,2)","v":167.5},{"$f":"VLOOKUP($C$4-1,$A$6:$D$105,4)","v":4.25},null,null,null,null,"unlim risk",{"$f":"IF(OR(AND(H161<=$C$3,J161<=$C$3),AND(H161>$C$3,J161>$C$3)),(I161+K161)*sum!$J$2,(IF(H161>=$C$3,I161,I161-($C$3-H161))+IF(J161<=$C$3,K161,K161-(J161-$C$3)))*sum!$J$2)","v":646},161.04,178.96,{"$f":"1-((NORMSDIST(LN(ABS(R161)/$C$3)/($E$3*SQRT(($D$3-NOW())/365))))+(1-(NORMSDIST(LN(ABS(S161)/$C$3)/($E$3*SQRT(($D$3-NOW())/365))))))","v":0.66200383406761276},"unlim risk","unlim risk",{"$f":"$C$3*sum!$J$2","v":16792},3.847070033349214E-2,2,4,null,null,null,3,8,148,null,null,null,null,null,null,null,null,null,null,null,null,null,null,null,null,null,null,null,null,{"$f":"VLOOKUP(H161,sum!$A$14:$E$113,3)","v":1.7912926031122538},{"$f":"VLOOKUP(J161,sum!$A$14:$E$113,5)","v":3.4417991640991801},"exp","exp",{"$f":"IF(AND(BD161=\"exp\",BC161=\"exp\"),\"X\",\"\")","v":"X"}]
[157,{"$f":"IF(sum!A170=\"\",\"\",sum!A170)","v":""},{"$f":"IF(sum!B170=\"\",\"\",sum!B170)","v":""},{"$f":"IF(sum!D170=\"\",\"\",sum!D170)","v":""},3,149,"strangle otm /\\ (s175c+s165p) ",{"$f":"VLOOKUP($C$4+2,$A$6:$D$105,2)","v":175},{"$f":"VLOOKUP($C$4+2,$A$6:$D$105,3)","v":1.4},{"$f":"VLOOKUP($C$4-2,$A$6:$D$105,2)","v":165},{"$f":"VLOOKUP($C$4-2,$A$6:$D$105,4)","v":3.26},null,null,null,null,"unlim risk",{"$f":"IF(OR(AND(H162<=$C$3,J162<=$C$3),AND(H162>$C$3,J162>$C$3)),(I162+K162)*sum!$J$2,(IF(H162>=$C$3,I162,I162-($C$3-H162))+IF(J162<=$C$3,K162,K162-(J162-$C$3)))*sum!$J$2)","v":466},160.34,179.66,{"$f":"1-((NORMSDIST(LN(ABS(R162)/$C$3)/($E$3*SQRT(($D$3-NOW())/365))))+(1-(NORMSDIST(LN(ABS(S162)/$C$3)/($E$3*SQRT(($D$3-NOW())/365))))))","v":0.69887275767738011},"unlim risk","unlim risk",{"$f":"$C$3*sum!$J$2","v":16792},2.7751310147689376E-2,2,4,null,null,null,3,8,149,null,null,null,null,null,null,null,null,null,null,null,null,null,null,null,null,null,null,null,null,{"$f":"VLOOKUP(H162,sum!$A$14:$E$113,3)","v":1.1605609180556016},{"$f":"VLOOKUP(J162,sum!$A$14:$E$113,5)","v":2.33994988513588},"exp","exp","X"]
[158,{"$f":"IF(sum!A171=\"\",\"\",sum!A171)","v":""},{"$f":"IF(sum!B171=\"\",\"\",sum!B171)","v":""},{"$f":"IF(sum!D171=\"\",\"\",sum!D171)","v":""},4,150,"strangle otm /\\ (s177.5c+s162.5p) ",{"$f":"VLOOKUP($C$4+3,$A$6:$D$105,2)","v":177.5},{"$f":"VLOOKUP($C$4+3,$A$6:$D$105,3)","v":0.84},{"$f":"VLOOKUP($C$4-3,$A$6:$D$105,2)","v":162.5},{"$f":"VLOOKUP($C$4-3,$A$6:$D$105,4)","v":2.4500000000000002},null,null,null,null,"unlim risk",{"$f":"IF(OR(AND(H163<=$C$3,J163<=$C$3),AND(H163>$C$3,J163>$C$3)),(I163+K163)*sum!$J$2,(IF(H163>=$C$3,I163,I163-($C$3-H163))+IF(J163<=$C$3,K163,K163-(J163-$C$3)))*sum!$J$2)","v":329},159.21,180.79,{"$f":"1-((NORMSDIST(LN(ABS(R163)/$C$3)/($E$3*SQRT(($D$3-NOW())/365))))+(1-(NORMSDIST(LN(ABS(S163)/$C$3)/($E$3*SQRT(($D$3-NOW())/365))))))","v":0.75271471050760641},"unlim risk","unlim risk",{"$f":"$C$3*sum!$J$2","v":16792},1.9592663172939496E-2,2,4,null,null,null,3,8,150,null,null,null,null,null,null,null,null,null,null,null,null,null,null,null,null,null,null,null,null,{"$f":"VLOOKUP(H163,sum!$A$14:$E$113,3)","v":0.72096128615324773},{"$f":"VLOOKUP(J163,sum!$A$14:$E$113,5)","v":1.5049606005843685},"","exp",""]
[159,{"$f":"IF(sum!A172=\"\",\"\",sum!A172)","v":""},{"$f":"IF(sum!B172=\"\",\"\",sum!B172)","v":""},{"$f":"IF(sum!D172=\"\",\"\",sum!D172)","v":""},5,151,"strangle otm /\\ (s180c+s160p) ",{"$f":"VLOOKUP($C$4+4,$A$6:$D$105,2)","v":180},{"$f":"VLOOKUP($C$4+4,$A$6:$D$105,3)","v":0.49},{"$f":"VLOOKUP($C$4-4,$A$6:$D$105,2)","v":160},{"$f":"VLOOKUP($C$4-4,$A$6:$D$105,4)","v":1.85},null,null,null,null,"unlim risk",{"$f":"IF(OR(AND(H164<=$C$3,J164<=$C$3),AND(H164>$C$3,J164>$C$3)),(I164+K164)*sum!$J$2,(IF(H164>=$C$3,I164,I164-($C$3-H164))+IF(J164<=$C$3,K164,K164-(J164-$C$3)))*sum!$J$2)","v":234},157.66,182.34,{"$f":"1-((NORMSDIST(LN(ABS(R164)/$C$3)/($E$3*SQRT(($D$3-NOW())/365))))+(1-(NORMSDIST(LN(ABS(S164)/$C$3)/($E$3*SQRT(($D$3-NOW())/365))))))","v":0.81534357257874412},"unlim risk","unlim risk",{"$f":"$C$3*sum!$J$2","v":16792},1.3935207241543592E-2,2,4,null,null,null,3,8,151,null,null,null,null,null,null,null,null,null,null,null,null,null,null,null,null,null,null,null,null,{"$f":"VLOOKUP(H164,sum!$A$14:$E$113,3)","v":0.42924785852553882},{"$f":"VLOOKUP(J164,sum!$A$14:$E$113,5)","v":0.91012887232689366},"","exp",""]
[160,{"$f":"IF(sum!A173=\"\",\"\",sum!A173)","v":""},{"$f":"IF(sum!B173=\"\",\"\",sum!B173)","v":""},{"$f":"IF(sum!D173=\"\",\"\",sum!D173)","v":""},6,152,"strangle otm /\\ (s182.5c+s157.5p) ",{"$f":"VLOOKUP($C$4+5,$A$6:$D$105,2)","v":182.5},{"$f":"VLOOKUP($C$4+5,$A$6:$D$105,3)","v":0.28000000000000003},{"$f":"VLOOKUP($C$4-5,$A$6:$D$105,2)","v":157.5},{"$f":"VLOOKUP($C$4-5,$A$6:$D$105,4)","v":1.36},null,null,null,null,"unlim risk",{"$f":"IF(OR(AND(H165<=$C$3,J165<=$C$3),AND(H165>$C$3,J165>$C$3)),(I165+K165)*sum!$J$2,(IF(H165>=$C$3,I165,I165-($C$3-H165))+IF(J165<=$C$3,K165,K165-(J165-$C$3)))*sum!$J$2)","v":164},155.86000000000001,184.14000000000001,{"$f":"1-((NORMSDIST(LN(ABS(R165)/$C$3)/($E$3*SQRT(($D$3-NOW())/365))))+(1-(NORMSDIST(LN(ABS(S165)/$C$3)/($E$3*SQRT(($D$3-NOW())/365))))))","v":0.87271415676598263},"unlim risk","unlim risk",{"$f":"$C$3*sum!$J$2","v":16792},9.7665555026202958E-3,2,4,null,null,null,3,8,152,null,null,null,null,null,null,null,null,null,null,null,null,null,null,null,null,null,null,null,null,{"$f":"VLOOKUP(H165,sum!$A$14:$E$113,3)","v":0.24491065469218576},{"$f":"VLOOKUP(J165,sum!$A$14:$E$113,5)","v":0.51436556584883419},"","exp",""]
[161,{"$f":"IF(sum!A174=\"\",\"\",sum!A174)","v":""},{"$f":"IF(sum!B174=\"\",\"\",sum!B174)","v":""},{"$f":"IF(sum!D174=\"\",\"\",sum!D174)","v":""},7,153,"strangle otm /\\ (s185c+s155p) ",{"$f":"VLOOKUP($C$4+6,$A$6:$D$105,2)","v":185},{"$f":"VLOOKUP($C$4+6,$A$6:$D$105,3)","v":0.15},{"$f":"VLOOKUP($C$4-6,$A$6:$D$105,2)","v":155},{"$f":"VLOOKUP($C$4-6,$A$6:$D$105,4)","v":1.01},null,null,null,null,"unlim risk",{"$f":"IF(OR(AND(H166<=$C$3,J166<=$C$3),AND(H166>$C$3,J166>$C$3)),(I166+K166)*sum!$J$2,(IF(H166>=$C$3,I166,I166-($C$3-H166))+IF(J166<=$C$3,K166,K166-(J166-$C$3)))*sum!$J$2)","v":115.99999999999999},153.84,186.16,0.91975065970440983,"unlim risk","unlim risk",{"$f":"$C$3*sum!$J$2","v":16792},6.908051453072891E-3,2,4,null,null,null,3,8,153,null,null,null,null,null,null,null,null,null,null,null,null,null,null,null,null,null,null,null,null,{"$f":"VLOOKUP(H166,sum!$A$14:$E$113,3)","v":0.13393034202680809},{"$f":"VLOOKUP(J166,sum!$A$14:$E$113,5)","v":0.26997798933985173},"","exp",""]
[162,{"$f":"IF(sum!A175=\"\",\"\",sum!A175)","v":""},{"$f":"IF(sum!B175=\"\",\"\",sum!B175)","v":""},{"$f":"IF(sum!D175=\"\",\"\",sum!D175)","v":""},8,154,"strangle otm /\\ (s187.5c+s152.5p) ",{"$f":"VLOOKUP($C$4+7,$A$6:$D$105,2)","v":187.5},{"$f":"VLOOKUP($C$4+7,$A$6:$D$105,3)","v":0.1},{"$f":"VLOOKUP($C$4-7,$A$6:$D$105,2)","v":152.5},{"$f":"VLOOKUP($C$4-7,$A$6:$D$105,4)","v":0.8},null,null,null,null,"unlim risk",{"$f":"IF(OR(AND(H167<=$C$3,J167<=$C$3),AND(H167>$C$3,J167>$C$3)),(I167+K167)*sum!$J$2,(IF(H167>=$C$3,I167,I167-($C$3-H167))+IF(J167<=$C$3,K167,K167-(J167-$C$3)))*sum!$J$2)","v":90},151.6,188.4,0.95450052652822426,"unlim risk","unlim risk",{"$f":"$C$3*sum!$J$2","v":16792},5.3596950929013813E-3,2,4,null,null,null,3,8,154,null,null,null,null,null,null,null,null,null,null,null,null,null,null,null,null,null,null,null,null,{"$f":"VLOOKUP(H167,sum!$A$14:$E$113,3)","v":7.0224132615857915E-2},{"$f":"VLOOKUP(J167,sum!$A$14:$E$113,5)","v":0.13077584266326259},"exp","exp","X"]
[163,{"$f":"IF(sum!A176=\"\",\"\",sum!A176)","v":""},{"$f":"IF(sum!B176=\"\",\"\",sum!B176)","v":""},{"$f":"IF(sum!D176=\"\",\"\",sum!D176)","v":""},9,155,"strangle otm /\\ (s190c+s150p) ",{"$f":"VLOOKUP($C$4+8,$A$6:$D$105,2)","v":190},{"$f":"VLOOKUP($C$4+8,$A$6:$D$105,3)","v":7.0000000000000007E-2},{"$f":"VLOOKUP($C$4-8,$A$6:$D$105,2)","v":150},{"$f":"VLOOKUP($C$4-8,$A$6:$D$105,4)","v":0.56999999999999995},null,null,null,null,"unlim risk",{"$f":"IF(OR(AND(H168<=$C$3,J168<=$C$3),AND(H168>$C$3,J168>$C$3)),(I168+K168)*sum!$J$2,(IF(H168>=$C$3,I168,I168-($C$3-H168))+IF(J168<=$C$3,K168,K168-(J168-$C$3)))*sum!$J$2)","v":63.999999999999993},149.36000000000001,190.64,0.97570219393017033,"unlim risk","unlim risk",{"$f":"$C$3*sum!$J$2","v":16792},3.8113387327298708E-3,2,4,null,null,null,3,8,155,null,null,null,null,null,null,null,null,null,null,null,null,null,null,null,null,null,null,null,null,{"$f":"VLOOKUP(H168,sum!$A$14:$E$113,3)","v":3.532416713605202E-2},{"$f":"VLOOKUP(J168,sum!$A$14:$E$113,5)","v":5.8086851101639247E-2},"exp","exp","X"]
[164,{"$f":"IF(sum!A177=\"\",\"\",sum!A177)","v":""},{"$f":"IF(sum!B177=\"\",\"\",sum!B177)","v":""},{"$f":"IF(sum!D177=\"\",\"\",sum!D177)","v":""},10,156,"strangle otm /\\ (s192.5c+s145p) ",{"$f":"VLOOKUP($C$4+9,$A$6:$D$105,2)","v":192.5},{"$f":"VLOOKUP($C$4+9,$A$6:$D$105,3)","v":0.05},{"$f":"VLOOKUP($C$4-9,$A$6:$D$105,2)","v":145},{"$f":"VLOOKUP($C$4-9,$A$6:$D$105,4)","v":0.33},null,null,null,null,"unlim risk",{"$f":"IF(OR(AND(H169<=$C$3,J169<=$C$3),AND(H169>$C$3,J169>$C$3)),(I169+K169)*sum!$J$2,(IF(H169>=$C$3,I169,I169-($C$3-H169))+IF(J169<=$C$3,K169,K169-(J169-$C$3)))*sum!$J$2)","v":38},144.62,192.88000000000002,0.99208199618973059,"unlim risk","unlim risk",{"$f":"$C$3*sum!$J$2","v":16792},2.2629823725583611E-3,2,4,null,null,null,3,8,156,null,null,null,null,null,null,null,null,null,null,null,null,null,null,null,null,null,null,null,null,{"$f":"VLOOKUP(H169,sum!$A$14:$E$113,3)","v":1.7058454232202869E-2},{"$f":"VLOOKUP(J169,sum!$A$14:$E$113,5)","v":8.6055952123089696E-3},"exp","exp","X"]
[165,{"$f":"IF(sum!A178=\"\",\"\",sum!A178)","v":""},{"$f":"IF(sum!B178=\"\",\"\",sum!B178)","v":""},{"$f":"IF(sum!D178=\"\",\"\",sum!D178)","v":""},11,157,"strangle otm /\\ (s195c+s140p) ",{"$f":"VLOOKUP($C$4+10,$A$6:$D$105,2)","v":195},{"$f":"VLOOKUP($C$4+10,$A$6:$D$105,3)","v":0.04},{"$f":"VLOOKUP($C$4-10,$A$6:$D$105,2)","v":140},{"$f":"VLOOKUP($C$4-10,$A$6:$D$105,4)","v":0.2},null,null,null,null,"unlim risk",{"$f":"IF(OR(AND(H170<=$C$3,J170<=$C$3),AND(H170>$C$3,J170>$C$3)),(I170+K170)*sum!$J$2,(IF(H170>=$C$3,I170,I170-($C$3-H170))+IF(J170<=$C$3,K170,K170-(J170-$C$3)))*sum!$J$2)","v":24.000000000000004},139.76,195.23999999999998,0.99706351853512354,"unlim risk","unlim risk",{"$f":"$C$3*sum!$J$2","v":16792},1.429252024773702E-3,2,4,null,null,null,3,8,157,null,null,null,null,null,null,null,null,null,null,null,null,null,null,null,null,null,null,null,null,{"$f":"VLOOKUP(H170,sum!$A$14:$E$113,3)","v":7.9148220244192324E-3},{"$f":"VLOOKUP(J170,sum!$A$14:$E$113,5)","v":8.3138051006095837E-4},"exp","exp","X"]
[166,{"$f":"IF(sum!A179=\"\",\"\",sum!A179)","v":""},{"$f":"IF(sum!B179=\"\",\"\",sum!B179)","v":""},{"$f":"IF(sum!D179=\"\",\"\",sum!D179)","v":""},12,158,{"$f":"CONCATENATE(\"strangle itm /\\ (s\",H171,\"c+s\",J171,\"p)\")","v":"strangle itm /\\ (s167.5c+s172.5p)"},{"$f":"VLOOKUP($C$4-1,$A$6:$D$105,2)","v":167.5},{"$f":"VLOOKUP($C$4-1,$A$6:$D$105,3)","v":4.5999999999999996},{"$f":"VLOOKUP($C$4+1,$A$6:$D$105,2)","v":172.5},{"$f":"VLOOKUP($C$4+1,$A$6:$D$105,4)","v":6.85},null,null,null,null,"unlim risk",{"$f":"IF(OR(AND(H171<=$C$3,J171<=$C$3),AND(H171>$C$3,J171>$C$3)),(I171+K171)*sum!$J$2,(IF(H171>=$C$3,I171,I171-($C$3-H171))+IF(J171<=$C$3,K171,K171-(J171-$C$3)))*sum!$J$2)","v":644.99999999999989},161.05000000000001,178.95,{"$f":"1-((NORMSDIST(LN(ABS(R171)/$C$3)/($E$3*SQRT(($D$3-NOW())/365))))+(1-(NORMSDIST(LN(ABS(S171)/$C$3)/($E$3*SQRT(($D$3-NOW())/365))))))","v":0.66145770354295674},"unlim risk","unlim risk",{"$f":"$C$3*sum!$J$2","v":16792},3.8411148165793225E-2,2,4,null,null,null,3,8,158,null,null,null,null,null,null,null,null,null,null,null,null,null,null,null,null,null,null,null,null,{"$f":"VLOOKUP(H171,sum!$A$14:$E$113,3)","v":3.7760676776467079},{"$f":"VLOOKUP(J171,sum!$A$14:$E$113,5)","v":6.4544764363941738},"exp","",""]
[167,{"$f":"IF(sum!A180=\"\",\"\",sum!A180)","v":""},{"$f":"IF(sum!B180=\"\",\"\",sum!B180)","v":""},{"$f":"IF(sum!D180=\"\",\"\",sum!D180)","v":""},13,159,{"$f":"CONCATENATE(\"strangle itm /\\ (s\",H172,\"c+s\",J172,\"p)\")","v":"strangle itm /\\ (s165c+s175p)"},{"$f":"VLOOKUP($C$4-2,$A$6:$D$105,2)","v":165},{"$f":"VLOOKUP($C$4-2,$A$6:$D$105,3)","v":6.13},{"$f":"VLOOKUP($C$4+2,$A$6:$D$105,2)","v":175},{"$f":"VLOOKUP($C$4+2,$A$6:$D$105,4)","v":8.6},null,null,null,null,"unlim risk",{"$f":"IF(OR(AND(H172<=$C$3,J172<=$C$3),AND(H172>$C$3,J172>$C$3)),(I172+K172)*sum!$J$2,(IF(H172>=$C$3,I172,I172-($C$3-H172))+IF(J172<=$C$3,K172,K172-(J172-$C$3)))*sum!$J$2)","v":472.99999999999994},160.27000000000001,179.73,{"$f":"1-((NORMSDIST(LN(ABS(R172)/$C$3)/($E$3*SQRT(($D$3-NOW())/365))))+(1-(NORMSDIST(LN(ABS(S172)/$C$3)/($E$3*SQRT(($D$3-NOW())/365))))))","v":0.70241173466849727},"unlim risk","unlim risk",{"$f":"$C$3*sum!$J$2","v":16792},2.8168175321581702E-2,2,4,null,null,null,3,8,159,null,null,null,null,null,null,null,null,null,null,null,null,null,null,null,null,null,null,null,null,{"$f":"VLOOKUP(H172,sum!$A$14:$E$113,3)","v":5.1729445158851775},{"$f":"VLOOKUP(J172,sum!$A$14:$E$113,5)","v":8.3224709171568918},"","",""]
[168,{"$f":"IF(sum!A181=\"\",\"\",sum!A181)","v":""},{"$f":"IF(sum!B181=\"\",\"\",sum!B181)","v":""},{"$f":"IF(sum!D181=\"\",\"\",sum!D181)","v":""},14,160,"strangle itm /\\ (s162.5c+s177.5p)",{"$f":"VLOOKUP($C$4-3,$A$6:$D$105,2)","v":162.5},{"$f":"VLOOKUP($C$4-3,$A$6:$D$105,3)","v":7.9},{"$f":"VLOOKUP($C$4+3,$A$6:$D$105,2)","v":177.5},{"$f":"VLOOKUP($C$4+3,$A$6:$D$105,4)","v":11},null,null,null,null,"unlim risk",{"$f":"IF(OR(AND(H173<=$C$3,J173<=$C$3),AND(H173>$C$3,J173>$C$3)),(I173+K173)*sum!$J$2,(IF(H173>=$C$3,I173,I173-($C$3-H173))+IF(J173<=$C$3,K173,K173-(J173-$C$3)))*sum!$J$2)","v":390.00000000000006},158.6,181.4,{"$f":"1-((NORMSDIST(LN(ABS(R173)/$C$3)/($E$3*SQRT(($D$3-NOW())/365))))+(1-(NORMSDIST(LN(ABS(S173)/$C$3)/($E$3*SQRT(($D$3-NOW())/365))))))","v":0.77888798519583791},"unlim risk","unlim risk",{"$f":"$C$3*sum!$J$2","v":16792},2.3225345402572657E-2,2,4,null,null,null,3,8,160,null,null,null,null,null,null,null,null,null,null,null,null,null,null,null,null,null,null,null,null,{"$f":"VLOOKUP(H173,sum!$A$14:$E$113,3)","v":6.8366814360047243},{"$f":"VLOOKUP(J173,sum!$A$14:$E$113,5)","v":10.381597438811696},"","",""]
[169,{"$f":"IF(sum!A182=\"\",\"\",sum!A182)","v":""},{"$f":"IF(sum!B182=\"\",\"\",sum!B182)","v":""},{"$f":"IF(sum!D182=\"\",\"\",sum!D182)","v":""},15,161,"strangle itm /\\ (s160c+s180p)",{"$f":"VLOOKUP($C$4-4,$A$6:$D$105,2)","v":160},{"$f":"VLOOKUP($C$4-4,$A$6:$D$105,3)","v":9.75},{"$f":"VLOOKUP($C$4+4,$A$6:$D$105,2)","v":180},{"$f":"VLOOKUP($C$4+4,$A$6:$D$105,4)","v":13.05},null,null,null,null,"unlim risk",{"$f":"IF(OR(AND(H174<=$C$3,J174<=$C$3),AND(H174>$C$3,J174>$C$3)),(I174+K174)*sum!$J$2,(IF(H174>=$C$3,I174,I174-($C$3-H174))+IF(J174<=$C$3,K174,K174-(J174-$C$3)))*sum!$J$2)","v":280.00000000000006},157.19999999999999,182.8,0.83151751550716602,"unlim risk","unlim risk",{"$f":"$C$3*sum!$J$2","v":16792},1.6674606955693189E-2,2,4,null,null,null,3,8,161,null,null,null,null,null,null,null,null,null,null,null,null,null,null,null,null,null,null,null,null,{"$f":"VLOOKUP(H174,sum!$A$14:$E$113,3)","v":8.7405758489679783},{"$f":"VLOOKUP(J174,sum!$A$14:$E$113,5)","v":12.588610165225987},"","",""]
[170,{"$f":"IF(sum!A183=\"\",\"\",sum!A183)","v":""},{"$f":"IF(sum!B183=\"\",\"\",sum!B183)","v":""},{"$f":"IF(sum!D183=\"\",\"\",sum!D183)","v":""},16,162,"strangle itm /\\ (s157.5c+s182.5p)",{"$f":"VLOOKUP($C$4-5,$A$6:$D$105,2)","v":157.5},{"$f":"VLOOKUP($C$4-5,$A$6:$D$105,3)","v":11.45},{"$f":"VLOOKUP($C$4+5,$A$6:$D$105,2)","v":182.5},{"$f":"VLOOKUP($C$4+5,$A$6:$D$105,4)","v":15.05},null,null,null,null,"unlim risk",{"$f":"IF(OR(AND(H175<=$C$3,J175<=$C$3),AND(H175>$C$3,J175>$C$3)),(I175+K175)*sum!$J$2,(IF(H175>=$C$3,I175,I175-($C$3-H175))+IF(J175<=$C$3,K175,K175-(J175-$C$3)))*sum!$J$2)","v":150},156,184,0.86880654209993913,"unlim risk","unlim risk",{"$f":"$C$3*sum!$J$2","v":16792},8.9328251548356358E-3,2,4,null,null,null,3,8,162,null,null,null,null,null,null,null,null,null,null,null,null,null,null,null,null,null,null,null,null,{"$f":"VLOOKUP(H175,sum!$A$14:$E$113,3)","v":10.843538736465916},{"$f":"VLOOKUP(J175,sum!$A$14:$E$113,5)","v":14.902999144444635},"","",""]
[171,{"$f":"IF(sum!A184=\"\",\"\",sum!A184)","v":""},{"$f":"IF(sum!B184=\"\",\"\",sum!B184)","v":""},{"$f":"IF(sum!D184=\"\",\"\",sum!D184)","v":""},17,163,"strangle itm /\\ (s155c+s185p)",{"$f":"VLOOKUP($C$4-6,$A$6:$D$105,2)","v":155},{"$f":"VLOOKUP($C$4-6,$A$6:$D$105,3)","v":13.49},{"$f":"VLOOKUP($C$4+6,$A$6:$D$105,2)","v":185},{"$f":"VLOOKUP($C$4+6,$A$6:$D$105,4)","v":17.45},null,null,null,null,"unlim risk",{"$f":"IF(OR(AND(H176<=$C$3,J176<=$C$3),AND(H176>$C$3,J176>$C$3)),(I176+K176)*sum!$J$2,(IF(H176>=$C$3,I176,I176-($C$3-H176))+IF(J176<=$C$3,K176,K176-(J176-$C$3)))*sum!$J$2)","v":93.999999999999943},154.06,185.94,0.915422057633418,"unlim risk","unlim risk",{"$f":"$C$3*sum!$J$2","v":16792},5.597903763696995E-3,2,4,null,null,null,3,8,163,null,null,null,null,null,null,null,null,null,null,null,null,null,null,null,null,null,null,null,null,{"$f":"VLOOKUP(H176,sum!$A$14:$E$113,3)","v":13.09787729197069},{"$f":"VLOOKUP(J176,sum!$A$14:$E$113,5)","v":17.290744993426728},"","",""]
[172,{"$f":"IF(sum!A185=\"\",\"\",sum!A185)","v":""},{"$f":"IF(sum!B185=\"\",\"\",sum!B185)","v":""},{"$f":"IF(sum!D185=\"\",\"\",sum!D185)","v":""},18,164,"strangle itm /\\ (s152.5c+s187.5p)",{"$f":"VLOOKUP($C$4-7,$A$6:$D$105,2)","v":152.5},{"$f":"VLOOKUP($C$4-7,$A$6:$D$105,3)","v":15.8},{"$f":"VLOOKUP($C$4+7,$A$6:$D$105,2)","v":187.5},{"$f":"VLOOKUP($C$4+7,$A$6:$D$105,4)","v":20.85},null,null,null,null,"unlim risk",{"$f":"IF(OR(AND(H177<=$C$3,J177<=$C$3),AND(H177>$C$3,J177>$C$3)),(I177+K177)*sum!$J$2,(IF(H177>=$C$3,I177,I177-($C$3-H177))+IF(J177<=$C$3,K177,K177-(J177-$C$3)))*sum!$J$2)","v":165.00000000000023},150.85,189.15,0.96287280588358615,"unlim risk","unlim risk",{"$f":"$C$3*sum!$J$2","v":16792},9.8261076703192139E-3,2,4,null,null,null,3,8,164,null,null,null,null,null,null,null,null,null,null,null,null,null,null,null,null,null,null,null,null,{"$f":"VLOOKUP(H177,sum!$A$14:$E$113,3)","v":15.457401310147787},{"$f":"VLOOKUP(J177,sum!$A$14:$E$113,5)","v":19.725764937686222},"","",""]
[173,{"$f":"IF(sum!A186=\"\",\"\",sum!A186)","v":""},{"$f":"IF(sum!B186=\"\",\"\",sum!B186)","v":""},{"$f":"IF(sum!D186=\"\",\"\",sum!D186)","v":""},19,165,"strangle itm /\\ (s150c+s190p)",{"$f":"VLOOKUP($C$4-8,$A$6:$D$105,2)","v":150},{"$f":"VLOOKUP($C$4-8,$A$6:$D$105,3)","v":18.3},{"$f":"VLOOKUP($C$4+8,$A$6:$D$105,2)","v":190},{"$f":"VLOOKUP($C$4+8,$A$6:$D$105,4)","v":22.91},null,null,null,null,"unlim risk",{"$f":"IF(OR(AND(H178<=$C$3,J178<=$C$3),AND(H178>$C$3,J178>$C$3)),(I178+K178)*sum!$J$2,(IF(H178>=$C$3,I178,I178-($C$3-H178))+IF(J178<=$C$3,K178,K178-(J178-$C$3)))*sum!$J$2)","v":121.00000000000009},148.79,191.21,0.97948413826062353,"unlim risk","unlim risk",{"$f":"$C$3*sum!$J$2","v":16792},7.2058122915674185E-3,2,4,null,null,null,3,8,165,null,null,null,null,null,null,null,null,null,null,null,null,null,null,null,null,null,null,null,null,{"$f":"VLOOKUP(H178,sum!$A$14:$E$113,3)","v":17.88343847114308},{"$f":"VLOOKUP(J178,sum!$A$14:$E$113,5)","v":22.189591148520748},"","",""]
[174,{"$f":"IF(sum!A187=\"\",\"\",sum!A187)","v":""},{"$f":"IF(sum!B187=\"\",\"\",sum!B187)","v":""},{"$f":"IF(sum!D187=\"\",\"\",sum!D187)","v":""},20,166,"strangle itm /\\ (s145c+s192.5p)",{"$f":"VLOOKUP($C$4-9,$A$6:$D$105,2)","v":145},{"$f":"VLOOKUP($C$4-9,$A$6:$D$105,3)","v":22.79},{"$f":"VLOOKUP($C$4+9,$A$6:$D$105,2)","v":192.5},{"$f":"VLOOKUP($C$4+9,$A$6:$D$105,4)","v":25.45},null,null,null,null,"unlim risk",{"$f":"IF(OR(AND(H179<=$C$3,J179<=$C$3),AND(H179>$C$3,J179>$C$3)),(I179+K179)*sum!$J$2,(IF(H179>=$C$3,I179,I179-($C$3-H179))+IF(J179<=$C$3,K179,K179-(J179-$C$3)))*sum!$J$2)","v":73.999999999999844},144.26,193.23999999999998,0.99294333284543246,"unlim risk","unlim risk",{"$f":"$C$3*sum!$J$2","v":16792},4.4068604097189041E-3,2,4,null,null,null,3,8,166,null,null,null,null,null,null,null,null,null,null,null,null,null,null,null,null,null,null,null,null,{"$f":"VLOOKUP(H179,sum!$A$14:$E$113,3)","v":22.831409550203546},{"$f":"VLOOKUP(J179,sum!$A$14:$E$113,5)","v":24.670051587226055},"","",""]
[175,{"$f":"IF(sum!A188=\"\",\"\",sum!A188)","v":""},{"$f":"IF(sum!B188=\"\",\"\",sum!B188)","v":""},{"$f":"IF(sum!D188=\"\",\"\",sum!D188)","v":""},21,167,"strangle itm /\\ (s140c+s195p)",{"$f":"VLOOKUP($C$4-10,$A$6:$D$105,2)","v":140},{"$f":"VLOOKUP($C$4-10,$A$6:$D$105,3)","v":28},{"$f":"VLOOKUP($C$4+10,$A$6:$D$105,2)","v":195},{"$f":"VLOOKUP($C$4+10,$A$6:$D$105,4)","v":27.8},null,null,null,null,"unlim risk",{"$f":"IF(OR(AND(H180<=$C$3,J180<=$C$3),AND(H180>$C$3,J180>$C$3)),(I180+K180)*sum!$J$2,(IF(H180>=$C$3,I180,I180-($C$3-H180))+IF(J180<=$C$3,K180,K180-(J180-$C$3)))*sum!$J$2)","v":80.000000000000071},139.19999999999999,195.8,0.99754069903543152,"unlim risk","unlim risk",{"$f":"$C$3*sum!$J$2","v":16792},4.7641734159123436E-3,2,4,null,null,null,3,8,167,null,null,null,null,null,null,null,null,null,null,null,null,null,null,null,null,null,null,null,null,{"$f":"VLOOKUP(H180,sum!$A$14:$E$113,3)","v":27.821087657177117},{"$f":"VLOOKUP(J180,sum!$A$14:$E$113,5)","v":27.159634125648296},"","",""]
[176,{"$f":"IF(sum!A189=\"\",\"\",sum!A189)","v":""},{"$f":"IF(sum!B189=\"\",\"\",sum!B189)","v":""},{"$f":"IF(sum!D189=\"\",\"\",sum!D189)","v":""},"",168,{"$f":"CONCATENATE(\"straddle otm V (s\",H181,\"c+s\",J181,\"p)\")","v":"straddle otm V (s170c+s170p)"},{"$f":"H160","v":170},3.3,170,5.45,null,null,null,null,{"$f":"Q160","v":875},"unlim reward",{"$f":"R160","v":161.25},178.75,{"$f":"1-T160","v":0.3495792943890933},"unlim reward","unlim reward",{"$f":"(I181+K181)*sum!$J$2","v":875},"unlim reward",1,3,null,null,null,4,8,"",null,null,null,null,null,null,null,null,null,null,null,null,null,null,null,null,null,null,null,null,{"$f":"VLOOKUP(H181,sum!$A$14:$E$113,3)","v":2.6531942972793985},{"$f":"VLOOKUP(J181,sum!$A$14:$E$113,5)","v":4.8176520596149288},"exp","",{"$f":"IF(AND(BD181=\"cheap\",BC181=\"cheap\"),\"X\",\"\")","v":""}]
[177,{"$f":"IF(sum!A190=\"\",\"\",sum!A190)","v":""},{"$f":"IF(sum!B190=\"\",\"\",sum!B190)","v":""},{"$f":"IF(sum!D190=\"\",\"\",sum!D190)","v":""},"",169,{"$f":"CONCATENATE(\"straddle otm V (s\",H182,\"c+s\",J182,\"p)\")","v":"straddle otm V (s172.5c+s167.5p)"},172.5,2.21,167.5,4.25,null,null,null,null,{"$f":"Q161","v":646},"unlim reward",161.04,178.96,{"$f":"1-T161","v":0.33799616593238724},"unlim reward","unlim reward",{"$f":"(I182+K182)*sum!$J$2","v":646},"unlim reward",1,3,null,null,null,4,8,"",null,null,null,null,null,null,null,null,null,null,null,null,null,null,null,null,null,null,null,null,{"$f":"VLOOKUP(H182,sum!$A$14:$E$113,3)","v":1.7912926031122538},{"$f":"VLOOKUP(J182,sum!$A$14:$E$113,5)","v":3.4417991640991801},"exp","exp",{"$f":"IF(AND(BD182=\"cheap\",BC182=\"cheap\"),\"X\",\"\")","v":""}]
[178,{"$f":"IF(sum!A191=\"\",\"\",sum!A191)","v":""},{"$f":"IF(sum!B191=\"\",\"\",sum!B191)","v":""},{"$f":"IF(sum!D191=\"\",\"\",sum!D191)","v":""},"",170,"straddle otm V (s175c+s165p)",175,1.4,165,3.26,null,null,null,null,466,"unlim reward",160.34,179.66,0.30112724232261989,"unlim reward","unlim reward",{"$f":"(I183+K183)*sum!$J$2","v":466},"unlim reward",1,3,null,null,null,4,8,"",null,null,null,null,null,null,null,null,null,null,null,null,null,null,null,null,null,null,null,null,{"$f":"VLOOKUP(H183,sum!$A$14:$E$113,3)","v":1.1605609180556016},{"$f":"VLOOKUP(J183,sum!$A$14:$E$113,5)","v":2.33994988513588},"exp","exp",""]
[179,{"$f":"IF(sum!A192=\"\",\"\",sum!A192)","v":""},{"$f":"IF(sum!B192=\"\",\"\",sum!B192)","v":""},{"$f":"IF(sum!D192=\"\",\"\",sum!D192)","v":""},"",171,"straddle otm V (s177.5c+s162.5p)",177.5,0.84,162.5,2.4500000000000002,null,null,null,null,329,"unlim reward",159.21,180.79,0.24728528949239359,"unlim reward","unlim reward",{"$f":"(I184+K184)*sum!$J$2","v":329},"unlim reward",1,3,null,null,null,4,8,"",null,null,null,null,null,null,null,null,null,null,null,null,null,null,null,null,null,null,null,null,{"$f":"VLOOKUP(H184,sum!$A$14:$E$113,3)","v":0.72096128615324773},{"$f":"VLOOKUP(J184,sum!$A$14:$E$113,5)","v":1.5049606005843685},"","exp",""]
[180,{"$f":"IF(sum!A193=\"\",\"\",sum!A193)","v":""},{"$f":"IF(sum!B193=\"\",\"\",sum!B193)","v":""},{"$f":"IF(sum!D193=\"\",\"\",sum!D193)","v":""},"",172,"straddle otm V (s180c+s160p)",180,0.49,160,1.85,null,null,null,null,234,"unlim reward",157.66,182.34,0.18465642742125588,"unlim reward","unlim reward",{"$f":"(I185+K185)*sum!$J$2","v":234},"unlim reward",1,3,null,null,null,4,8,"",null,null,null,null,null,null,null,null,null,null,null,null,null,null,null,null,null,null,null,null,{"$f":"VLOOKUP(H185,sum!$A$14:$E$113,3)","v":0.42924785852553882},{"$f":"VLOOKUP(J185,sum!$A$14:$E$113,5)","v":0.91012887232689366},"","exp",""]
[181,{"$f":"IF(sum!A194=\"\",\"\",sum!A194)","v":""},{"$f":"IF(sum!B194=\"\",\"\",sum!B194)","v":""},{"$f":"IF(sum!D194=\"\",\"\",sum!D194)","v":""},"",173,"straddle otm V (s182.5c+s157.5p)",182.5,0.28000000000000003,157.5,1.36,null,null,null,null,164,"unlim reward",155.86000000000001,184.14000000000001,0.12728584323401737,"unlim reward","unlim reward",{"$f":"(I186+K186)*sum!$J$2","v":164},"unlim reward",1,3,null,null,null,4,8,"",null,null,null,null,null,null,null,null,null,null,null,null,null,null,null,null,null,null,null,null,{"$f":"VLOOKUP(H186,sum!$A$14:$E$113,3)","v":0.24491065469218576},{"$f":"VLOOKUP(J186,sum!$A$14:$E$113,5)","v":0.51436556584883419},"","exp",""]
[182,{"$f":"IF(sum!A195=\"\",\"\",sum!A195)","v":""},{"$f":"IF(sum!B195=\"\",\"\",sum!B195)","v":""},{"$f":"IF(sum!D195=\"\",\"\",sum!D195)","v":""},"",174,"straddle otm V (s185c+s155p)",185,0.15,155,1.01,null,null,null,null,115.99999999999999,"unlim reward",153.84,186.16,8.0249340295590166E-2,"unlim reward","unlim reward",{"$f":"(I187+K187)*sum!$J$2","v":115.99999999999999},"unlim reward",1,3,null,null,null,4,8,"",null,null,null,null,null,null,null,null,null,null,null,null,null,null,null,null,null,null,null,null,{"$f":"VLOOKUP(H187,sum!$A$14:$E$113,3)","v":0.13393034202680809},{"$f":"VLOOKUP(J187,sum!$A$14:$E$113,5)","v":0.26997798933985173},"","exp",""]
[183,{"$f":"IF(sum!A196=\"\",\"\",sum!A196)","v":""},{"$f":"IF(sum!B196=\"\",\"\",sum!B196)","v":""},{"$f":"IF(sum!D196=\"\",\"\",sum!D196)","v":""},"",175,"straddle otm V (s187.5c+s152.5p)",187.5,0.1,152.5,0.8,null,null,null,null,90,"unlim reward",151.6,188.4,4.5499473471775742E-2,"unlim reward","unlim reward",{"$f":"(I188+K188)*sum!$J$2","v":90},"unlim reward",1,3,null,null,null,4,8,"",null,null,null,null,null,null,null,null,null,null,null,null,null,null,null,null,null,null,null,null,{"$f":"VLOOKUP(H188,sum!$A$14:$E$113,3)","v":7.0224132615857915E-2},{"$f":"VLOOKUP(J188,sum!$A$14:$E$113,5)","v":0.13077584266326259},"exp","exp",""]
[184,{"$f":"IF(sum!A197=\"\",\"\",sum!A197)","v":""},{"$f":"IF(sum!B197=\"\",\"\",sum!B197)","v":""},{"$f":"IF(sum!D197=\"\",\"\",sum!D197)","v":""},"",176,"straddle otm V (s190c+s150p)",190,7.0000000000000007E-2,150,0.56999999999999995,null,null,null,null,63.999999999999993,"unlim reward",149.36000000000001,190.64,2.4297806069829675E-2,"unlim reward","unlim reward",{"$f":"(I189+K189)*sum!$J$2","v":63.999999999999993},"unlim reward",1,3,null,null,null,4,8,"",null,null,null,null,null,null,null,null,null,null,null,null,null,null,null,null,null,null,null,null,{"$f":"VLOOKUP(H189,sum!$A$14:$E$113,3)","v":3.532416713605202E-2},{"$f":"VLOOKUP(J189,sum!$A$14:$E$113,5)","v":5.8086851101639247E-2},"exp","exp",""]
[185,{"$f":"IF(sum!A198=\"\",\"\",sum!A198)","v":""},{"$f":"IF(sum!B198=\"\",\"\",sum!B198)","v":""},{"$f":"IF(sum!D198=\"\",\"\",sum!D198)","v":""},"",177,"straddle otm V (s192.5c+s145p)",192.5,0.05,145,0.33,null,null,null,null,38,"unlim reward",144.62,192.88000000000002,7.9180038102694139E-3,"unlim reward","unlim reward",{"$f":"(I190+K190)*sum!$J$2","v":38},"unlim reward",1,3,null,null,null,4,8,"",null,null,null,null,null,null,null,null,null,null,null,null,null,null,null,null,null,null,null,null,{"$f":"VLOOKUP(H190,sum!$A$14:$E$113,3)","v":1.7058454232202869E-2},{"$f":"VLOOKUP(J190,sum!$A$14:$E$113,5)","v":8.6055952123089696E-3},"exp","exp",""]
[186,{"$f":"IF(sum!A199=\"\",\"\",sum!A199)","v":""},{"$f":"IF(sum!B199=\"\",\"\",sum!B199)","v":""},{"$f":"IF(sum!D199=\"\",\"\",sum!D199)","v":""},"",178,"straddle otm V (s195c+s140p)",195,0.04,140,0.2,null,null,null,null,24.000000000000004,"unlim reward",139.76,195.23999999999998,2.9364814648764614E-3,"unlim reward","unlim reward",{"$f":"(I191+K191)*sum!$J$2","v":24.000000000000004},"unlim reward",1,3,null,null,null,4,8,"",null,null,null,null,null,null,null,null,null,null,null,null,null,null,null,null,null,null,null,null,{"$f":"VLOOKUP(H191,sum!$A$14:$E$113,3)","v":7.9148220244192324E-3},{"$f":"VLOOKUP(J191,sum!$A$14:$E$113,5)","v":8.3138051006095837E-4},"exp","exp",""]
[187,{"$f":"IF(sum!A200=\"\",\"\",sum!A200)","v":""},{"$f":"IF(sum!B200=\"\",\"\",sum!B200)","v":""},{"$f":"IF(sum!D200=\"\",\"\",sum!D200)","v":""},"",179,{"$f":"CONCATENATE(\"straddle itm V (s\",H192,\"c+s\",J192,\"p)\")","v":"straddle itm V (s167.5c+s172.5p)"},167.5,4.5999999999999996,172.5,6.85,null,null,null,null,644.99999999999989,"unlim reward",161.05000000000001,178.95,0.33854229645704326,"unlim reward","unlim reward",{"$f":"(I192+K192)*sum!$J$2","v":1145},"unlim reward",1,3,null,null,null,4,8,"",null,null,null,null,null,null,null,null,null,null,null,null,null,null,null,null,null,null,null,null,{"$f":"VLOOKUP(H192,sum!$A$14:$E$113,3)","v":3.7760676776467079},{"$f":"VLOOKUP(J192,sum!$A$14:$E$113,5)","v":6.4544764363941738},"exp","",""]
[188,{"$f":"IF(sum!A201=\"\",\"\",sum!A201)","v":""},{"$f":"IF(sum!B201=\"\",\"\",sum!B201)","v":""},{"$f":"IF(sum!D201=\"\",\"\",sum!D201)","v":""},"",180,{"$f":"CONCATENATE(\"straddle itm V (s\",H193,\"c+s\",J193,\"p)\")","v":"straddle itm V (s165c+s175p)"},165,6.13,175,8.6,null,null,null,null,472.99999999999994,"unlim reward",160.27000000000001,179.73,0.29758826533150273,"unlim reward","unlim reward",{"$f":"(I193+K193)*sum!$J$2","v":1473},"unlim reward",1,3,null,null,null,4,8,"",null,null,null,null,null,null,null,null,null,null,null,null,null,null,null,null,null,null,null,null,{"$f":"VLOOKUP(H193,sum!$A$14:$E$113,3)","v":5.1729445158851775},{"$f":"VLOOKUP(J193,sum!$A$14:$E$113,5)","v":8.3224709171568918},"","",""]
[189,{"$f":"IF(sum!A202=\"\",\"\",sum!A202)","v":""},{"$f":"IF(sum!B202=\"\",\"\",sum!B202)","v":""},{"$f":"IF(sum!D202=\"\",\"\",sum!D202)","v":""},"",181,"straddle itm V (s162.5c+s177.5p)",162.5,7.9,177.5,11,null,null,null,null,390.00000000000006,"unlim reward",158.6,181.4,0.22111201480416209,"unlim reward","unlim reward",{"$f":"(I194+K194)*sum!$J$2","v":1889.9999999999998},"unlim reward",1,3,null,null,null,4,8,"",null,null,null,null,null,null,null,null,null,null,null,null,null,null,null,null,null,null,null,null,{"$f":"VLOOKUP(H194,sum!$A$14:$E$113,3)","v":6.8366814360047243},{"$f":"VLOOKUP(J194,sum!$A$14:$E$113,5)","v":10.381597438811696},"","",""]
[190,{"$f":"IF(sum!A203=\"\",\"\",sum!A203)","v":""},{"$f":"IF(sum!B203=\"\",\"\",sum!B203)","v":""},{"$f":"IF(sum!D203=\"\",\"\",sum!D203)","v":""},"",182,"straddle itm V (s160c+s180p)",160,9.75,180,13.05,null,null,null,null,280.00000000000006,"unlim reward",157.19999999999999,182.8,0.16848248449283398,"unlim reward","unlim reward",{"$f":"(I195+K195)*sum!$J$2","v":2280},"unlim reward",1,3,null,null,null,4,8,"",null,null,null,null,null,null,null,null,null,null,null,null,null,null,null,null,null,null,null,null,{"$f":"VLOOKUP(H195,sum!$A$14:$E$113,3)","v":8.7405758489679783},{"$f":"VLOOKUP(J195,sum!$A$14:$E$113,5)","v":12.588610165225987},"","",""]
[191,{"$f":"IF(sum!A204=\"\",\"\",sum!A204)","v":""},{"$f":"IF(sum!B204=\"\",\"\",sum!B204)","v":""},{"$f":"IF(sum!D204=\"\",\"\",sum!D204)","v":""},"",183,"straddle itm V (s157.5c+s182.5p)",157.5,11.45,182.5,15.05,null,null,null,null,150,"unlim reward",156,184,0.13119345790006087,"unlim reward","unlim reward",{"$f":"(I196+K196)*sum!$J$2","v":2650},"unlim reward",1,3,null,null,null,4,8,"",null,null,null,null,null,null,null,null,null,null,null,null,null,null,null,null,null,null,null,null,{"$f":"VLOOKUP(H196,sum!$A$14:$E$113,3)","v":10.843538736465916},{"$f":"VLOOKUP(J196,sum!$A$14:$E$113,5)","v":14.902999144444635},"","",""]
[192,{"$f":"IF(sum!A205=\"\",\"\",sum!A205)","v":""},{"$f":"IF(sum!B205=\"\",\"\",sum!B205)","v":""},{"$f":"IF(sum!D205=\"\",\"\",sum!D205)","v":""},"",184,"straddle itm V (s155c+s185p)",155,13.49,185,17.45,null,null,null,null,93.999999999999943,"unlim reward",154.06,185.94,8.4577942366582004E-2,"unlim reward","unlim reward",{"$f":"(I197+K197)*sum!$J$2","v":3094},"unlim reward",1,3,null,null,null,4,8,"",null,null,null,null,null,null,null,null,null,null,null,null,null,null,null,null,null,null,null,null,{"$f":"VLOOKUP(H197,sum!$A$14:$E$113,3)","v":13.09787729197069},{"$f":"VLOOKUP(J197,sum!$A$14:$E$113,5)","v":17.290744993426728},"","",""]
[193,{"$f":"IF(sum!A206=\"\",\"\",sum!A206)","v":""},{"$f":"IF(sum!B206=\"\",\"\",sum!B206)","v":""},{"$f":"IF(sum!D206=\"\",\"\",sum!D206)","v":""},"",185,"straddle itm V (s152.5c+s187.5p)",152.5,15.8,187.5,20.85,null,null,null,null,165.00000000000023,"unlim reward",150.85,189.15,3.7127194116413853E-2,"unlim reward","unlim reward",{"$f":"(I198+K198)*sum!$J$2","v":3665.0000000000005},"unlim reward",1,3,null,null,null,4,8,"",null,null,null,null,null,null,null,null,null,null,null,null,null,null,null,null,null,null,null,null,{"$f":"VLOOKUP(H198,sum!$A$14:$E$113,3)","v":15.457401310147787},{"$f":"VLOOKUP(J198,sum!$A$14:$E$113,5)","v":19.725764937686222},"","",""]
[194,{"$f":"IF(sum!A207=\"\",\"\",sum!A207)","v":""},{"$f":"IF(sum!B207=\"\",\"\",sum!B207)","v":""},{"$f":"IF(sum!D207=\"\",\"\",sum!D207)","v":""},"",186,"straddle itm V (s150c+s190p)",150,18.3,190,22.91,null,null,null,null,121.00000000000009,"unlim reward",148.79,191.21,2.0515861739376473E-2,"unlim reward","unlim reward",{"$f":"(I199+K199)*sum!$J$2","v":4121},"unlim reward",1,3,null,null,null,4,8,"",null,null,null,null,null,null,null,null,null,null,null,null,null,null,null,null,null,null,null,null,{"$f":"VLOOKUP(H199,sum!$A$14:$E$113,3)","v":17.88343847114308},{"$f":"VLOOKUP(J199,sum!$A$14:$E$113,5)","v":22.189591148520748},"","",""]
[195,{"$f":"IF(sum!A208=\"\",\"\",sum!A208)","v":""},{"$f":"IF(sum!B208=\"\",\"\",sum!B208)","v":""},{"$f":"IF(sum!D208=\"\",\"\",sum!D208)","v":""},"",187,"straddle itm V (s145c+s192.5p)",{"$f":"H179","v":145},22.79,192.5,25.45,null,null,null,null,73.999999999999844,"unlim reward",144.26,193.23999999999998,7.0566671545675419E-3,"unlim reward","unlim reward",{"$f":"(I200+K200)*sum!$J$2","v":4823.9999999999991},"unlim reward",1,3,null,null,null,4,8,"",null,null,null,null,null,null,null,null,null,null,null,null,null,null,null,null,null,null,null,null,{"$f":"VLOOKUP(H200,sum!$A$14:$E$113,3)","v":22.831409550203546},{"$f":"VLOOKUP(J200,sum!$A$14:$E$113,5)","v":24.670051587226055},"","",""]
[196,{"$f":"IF(sum!A209=\"\",\"\",sum!A209)","v":""},{"$f":"IF(sum!B209=\"\",\"\",sum!B209)","v":""},{"$f":"IF(sum!D209=\"\",\"\",sum!D209)","v":""},"",188,"straddle itm V (s140c+s195p)",140,28,195,27.8,null,null,null,null,80.000000000000071,"unlim reward",139.19999999999999,195.8,2.4593009645684782E-3,"unlim reward","unlim reward",{"$f":"(I201+K201)*sum!$J$2","v":5580},"unlim reward",1,3,null,null,null,4,8,"",null,null,null,null,null,null,null,null,null,null,null,null,null,null,null,null,null,null,null,null,{"$f":"VLOOKUP(H201,sum!$A$14:$E$113,3)","v":27.821087657177117},{"$f":"VLOOKUP(J201,sum!$A$14:$E$113,5)","v":27.159634125648296},"","",""]
[197,{"$f":"IF(sum!A210=\"\",\"\",sum!A210)","v":""},{"$f":"IF(sum!B210=\"\",\"\",sum!B210)","v":""},{"$f":"IF(sum!D210=\"\",\"\",sum!D210)","v":""},"",189,{"$f":"CONCATENATE(\"naked put otm /'' (s\",H202,\"p)\")","v":"naked put otm /'' (s140p)"},{"$f":"VLOOKUP($C$4-10,$A$6:$D$105,2)","v":140},{"$f":"VLOOKUP($C$4-10,$A$6:$D$105,4)","v":0.2},null,null,null,null,null,null,"unlim risk",{"$f":"I202*sum!$J$2","v":20},{"$f":"H202-I202","v":139.80000000000001},null,{"$f":"IF(OR(Q202=\"\",Q202<=0),\"\",1-(NORMSDIST(LN(ABS(R202)/$C$3)/($E$3*SQRT(($D$3-NOW())/365)))))","v":0.99965945521707256},"unlim risk","unlim risk",{"$f":"$C$3*sum!$J$2","v":16792},{"$f":"IF(P202=\"\",\"\",Q202/W202)","v":1.1910433539780848E-3},4,null,null,null,null,1,11,"",null,null,null,null,null,null,null,null,null,null,null,null,null,null,null,null,null,null,null,null,{"$f":"VLOOKUP(H202,sum!$A$14:$E$113,5)","v":8.3138051006095837E-4},null,"exp","",{"$f":"IF(BC202=\"exp\",\"X\",\"\")","v":"X"}]
[198,{"$f":"IF(sum!A211=\"\",\"\",sum!A211)","v":""},{"$f":"IF(sum!B211=\"\",\"\",sum!B211)","v":""},{"$f":"IF(sum!D211=\"\",\"\",sum!D211)","v":""},"",190,{"$f":"CONCATENATE(\"naked put otm /'' (s\",H203,\"p)\")","v":"naked put otm /'' (s145p)"},{"$f":"VLOOKUP($C$4-9,$A$6:$D$105,2)","v":145},{"$f":"VLOOKUP($C$4-9,$A$6:$D$105,4)","v":0.33},null,null,null,null,null,null,"unlim risk",{"$f":"I203*sum!$J$2","v":33},144.66999999999999,null,{"$f":"IF(OR(Q203=\"\",Q203<=0),\"\",1-(NORMSDIST(LN(ABS(R203)/$C$3)/($E$3*SQRT(($D$3-NOW())/365)))))","v":0.99713092880534804},"unlim risk","unlim risk",{"$f":"$C$3*sum!$J$2","v":16792},1.9652215340638401E-3,4,null,null,null,null,1,11,"",null,null,null,null,null,null,null,null,null,null,null,null,null,null,null,null,null,null,null,null,{"$f":"VLOOKUP(H203,sum!$A$14:$E$113,5)","v":8.6055952123089696E-3},null,"exp","",{"$f":"IF(BC203=\"exp\",\"X\",\"\")","v":"X"}]
[199,{"$f":"IF(sum!A212=\"\",\"\",sum!A212)","v":""},{"$f":"IF(sum!B212=\"\",\"\",sum!B212)","v":""},{"$f":"IF(sum!D212=\"\",\"\",sum!D212)","v":""},"",191,"naked put otm /'' (s150p)",{"$f":"VLOOKUP($C$4-8,$A$6:$D$105,2)","v":150},{"$f":"VLOOKUP($C$4-8,$A$6:$D$105,4)","v":0.56999999999999995},null,null,null,null,null,null,"unlim risk",{"$f":"I204*sum!$J$2","v":56.999999999999993},149.43,null,0.98470392156631192,"unlim risk","unlim risk",{"$f":"$C$3*sum!$J$2","v":16792},3.3944735588375412E-3,4,null,null,null,null,1,11,"",null,null,null,null,null,null,null,null,null,null,null,null,null,null,null,null,null,null,null,null,{"$f":"VLOOKUP(H204,sum!$A$14:$E$113,5)","v":5.8086851101639247E-2},null,"exp","",{"$f":"IF(BC204=\"exp\",\"X\",\"\")","v":"X"}]
[200,{"$f":"IF(sum!A213=\"\",\"\",sum!A213)","v":""},{"$f":"IF(sum!B213=\"\",\"\",sum!B213)","v":""},{"$f":"IF(sum!D213=\"\",\"\",sum!D213)","v":""},"",192,"naked put otm /'' (s152.5p)",{"$f":"VLOOKUP($C$4-7,$A$6:$D$105,2)","v":152.5},{"$f":"VLOOKUP($C$4-7,$A$6:$D$105,4)","v":0.8},null,null,null,null,null,null,"unlim risk",{"$f":"I205*sum!$J$2","v":80},151.69999999999999,null,0.97014181661652776,"unlim risk","unlim risk",{"$f":"$C$3*sum!$J$2","v":16792},4.7641734159123393E-3,4,null,null,null,null,1,11,"",null,null,null,null,null,null,null,null,null,null,null,null,null,null,null,null,null,null,null,null,{"$f":"VLOOKUP(H205,sum!$A$14:$E$113,5)","v":0.13077584266326259},null,"exp","","X"]
[201,{"$f":"IF(sum!A214=\"\",\"\",sum!A214)","v":""},{"$f":"IF(sum!B214=\"\",\"\",sum!B214)","v":""},{"$f":"IF(sum!D214=\"\",\"\",sum!D214)","v":""},"",193,"naked put otm /'' (s155p)",{"$f":"VLOOKUP($C$4-6,$A$6:$D$105,2)","v":155},{"$f":"VLOOKUP($C$4-6,$A$6:$D$105,4)","v":1.01},null,null,null,null,null,null,"unlim risk",{"$f":"I206*sum!$J$2","v":101},153.99,null,0.94577174837608169,"unlim risk","unlim risk",{"$f":"$C$3*sum!$J$2","v":16792},6.0147689375893284E-3,4,null,null,null,null,1,11,"",null,null,null,null,null,null,null,null,null,null,null,null,null,null,null,null,null,null,null,null,{"$f":"VLOOKUP(H206,sum!$A$14:$E$113,5)","v":0.26997798933985173},null,"exp","","X"]
[202,{"$f":"IF(sum!A215=\"\",\"\",sum!A215)","v":""},{"$f":"IF(sum!B215=\"\",\"\",sum!B215)","v":""},{"$f":"IF(sum!D215=\"\",\"\",sum!D215)","v":""},{"$f":"IF(AF207=\"\",\"\",RANK(AF207,$AF$14:$AF$493,1))","v":""},194,"naked put otm /'' (s157.5p)",{"$f":"VLOOKUP($C$4-5,$A$6:$D$105,2)","v":157.5},{"$f":"VLOOKUP($C$4-5,$A$6:$D$105,4)","v":1.36},null,null,null,null,null,null,"unlim risk",{"$f":"I207*sum!$J$2","v":136},156.13999999999999,null,0.91119792720699111,"unlim risk","unlim risk",{"$f":"$C$3*sum!$J$2","v":16792},8.0990948070509775E-3,4,null,null,null,null,1,11,{"$f":"IF($AF$13=12,IF($AF$9=2,IF(BE207=\"X\",F207,\"\"),F207),IF($AF$13<=4,IF(AD207=$AF$13,IF($AF$9=2,IF(BE207=\"X\",F207,\"\"),F207),\"\"),IF(AE207=$AF$13,IF($AF$9=2,IF(BE207=\"X\",F207,\"\"),F207),\"\")))","v":""},null,null,null,null,null,null,null,null,null,null,null,null,null,null,null,null,null,null,null,null,{"$f":"VLOOKUP(H207,sum!$A$14:$E$113,5)","v":0.51436556584883419},null,{"$f":"IF(I207>BA207*$BC$12,\"exp\",IF(I207<BA207*$BD$12,\"cheap\",\"\"))","v":"exp"},{"$f":"IF(K207>BB207*$BC$12,\"exp\",IF(K207<BB207*$BD$12,\"cheap\",\"\"))","v":""},"X"]
[203,{"$f":"IF(sum!A216=\"\",\"\",sum!A216)","v":""},{"$f":"IF(sum!B216=\"\",\"\",sum!B216)","v":""},{"$f":"IF(sum!D216=\"\",\"\",sum!D216)","v":""},"",195,"naked put otm /'' (s160p)",{"$f":"VLOOKUP($C$4-4,$A$6:$D$105,2)","v":160},{"$f":"VLOOKUP($C$4-4,$A$6:$D$105,4)","v":1.85},null,null,null,null,null,null,"unlim risk",{"$f":"I208*sum!$J$2","v":185},158.15,null,0.86673379281379859,"unlim risk","unlim risk",{"$f":"$C$3*sum!$J$2","v":16792},1.1017151024297284E-2,4,null,null,null,null,1,11,"",null,null,null,null,null,null,null,null,null,null,null,null,null,null,null,null,null,null,null,null,{"$f":"VLOOKUP(H208,sum!$A$14:$E$113,5)","v":0.91012887232689366},null,"exp","","X"]
[204,{"$f":"IF(sum!A217=\"\",\"\",sum!A217)","v":""},{"$f":"IF(sum!B217=\"\",\"\",sum!B217)","v":""},{"$f":"IF(sum!D217=\"\",\"\",sum!D217)","v":""},"",196,"naked put otm /'' (s162.5p)",{"$f":"VLOOKUP($C$4-3,$A$6:$D$105,2)","v":162.5},{"$f":"VLOOKUP($C$4-3,$A$6:$D$105,4)","v":2.4500000000000002},null,null,null,null,null,null,"unlim risk",{"$f":"I209*sum!$J$2","v":245.00000000000003},160.05000000000001,null,0.81319385129458488,"unlim risk","unlim risk",{"$f":"$C$3*sum!$J$2","v":16792},1.4590281086231541E-2,4,null,null,null,null,1,11,"",null,null,null,null,null,null,null,null,null,null,null,null,null,null,null,null,null,null,null,null,{"$f":"VLOOKUP(H209,sum!$A$14:$E$113,5)","v":1.5049606005843685},null,"exp","","X"]
[205,null,null,null,"",197,"naked put otm /'' (s165p)",{"$f":"VLOOKUP($C$4-2,$A$6:$D$105,2)","v":165},{"$f":"VLOOKUP($C$4-2,$A$6:$D$105,4)","v":3.26},null,null,null,null,null,null,"unlim risk",{"$f":"I210*sum!$J$2","v":326},161.74,null,0.75648300803594637,"unlim risk","unlim risk",{"$f":"$C$3*sum!$J$2","v":16792},1.9414006669842783E-2,4,null,null,null,null,1,11,"",null,null,null,null,null,null,null,null,null,null,null,null,null,null,null,null,null,null,null,null,{"$f":"VLOOKUP(H210,sum!$A$14:$E$113,5)","v":2.33994988513588},null,"exp","","X"]
[206,null,null,null,"",198,"naked put otm /'' (s167.5p)",{"$f":"VLOOKUP($C$4-1,$A$6:$D$105,2)","v":167.5},{"$f":"VLOOKUP($C$4-1,$A$6:$D$105,4)","v":4.25},null,null,null,null,null,null,"unlim risk",{"$f":"I211*sum!$J$2","v":425},163.25,null,0.69943995397934255,"unlim risk","unlim risk",{"$f":"$C$3*sum!$J$2","v":16792},2.5309671272034304E-2,4,null,null,null,null,1,11,"",null,null,null,null,null,null,null,null,null,null,null,null,null,null,null,null,null,null,null,null,{"$f":"VLOOKUP(H211,sum!$A$14:$E$113,5)","v":3.4417991640991801},null,"exp","","X"]
[207,null,null,null,"",199,"naked put otm /'' (s170p)",{"$f":"VLOOKUP($C$4,$A$6:$D$105,2)","v":170},{"$f":"VLOOKUP($C$4,$A$6:$D$105,4)","v":5.45},null,null,null,null,null,null,"unlim risk",{"$f":"I212*sum!$J$2","v":545},164.55,null,0.64645707132429109,"unlim risk","unlim risk",{"$f":"$C$3*sum!$J$2","v":16792},3.2455931395902811E-2,4,null,null,null,null,1,11,"",null,null,null,null,null,null,null,null,null,null,null,null,null,null,null,null,null,null,null,null,{"$f":"VLOOKUP(H212,sum!$A$14:$E$113,5)","v":4.8176520596149288},null,"","",""]
[208,null,null,null,"",200,{"$f":"CONCATENATE(\"naked put itm /'' (s\",H213,\"p)\")","v":"naked put itm /'' (s172.5p)"},{"$f":"VLOOKUP($C$4+1,$A$6:$D$105,2)","v":172.5},{"$f":"VLOOKUP($C$4+1,$A$6:$D$105,4)","v":6.85},null,null,null,null,null,null,"unlim risk",{"$f":"I213*sum!$J$2","v":685},165.65,null,0.59958671415589226,"unlim risk","unlim risk",{"$f":"$C$3*sum!$J$2","v":16792},4.0793234873749404E-2,4,null,null,null,null,1,11,"",null,null,null,null,null,null,null,null,null,null,null,null,null,null,null,null,null,null,null,null,{"$f":"VLOOKUP(H213,sum!$A$14:$E$113,5)","v":6.4544764363941738},null,"","",""]
[209,null,null,null,"",201,{"$f":"CONCATENATE(\"naked put itm /'' (s\",H214,\"p)\")","v":"naked put itm /'' (s175p)"},{"$f":"VLOOKUP($C$4+2,$A$6:$D$105,2)","v":175},{"$f":"VLOOKUP($C$4+2,$A$6:$D$105,4)","v":8.6},null,null,null,null,null,null,"unlim risk",{"$f":"I214*sum!$J$2","v":860},166.4,null,0.56692292671923106,"unlim risk","unlim risk",{"$f":"$C$3*sum!$J$2","v":16792},5.1214864221057643E-2,4,null,null,null,null,1,11,"",null,null,null,null,null,null,null,null,null,null,null,null,null,null,null,null,null,null,null,null,{"$f":"VLOOKUP(H214,sum!$A$14:$E$113,5)","v":8.3224709171568918},null,"","",""]
[null,null,null,null,"",202,"naked put itm /'' (s177.5p)",{"$f":"VLOOKUP($C$4+3,$A$6:$D$105,2)","v":177.5},{"$f":"VLOOKUP($C$4+3,$A$6:$D$105,4)","v":11},null,null,null,null,null,null,"unlim risk",{"$f":"I215*sum!$J$2","v":1100},166.5,null,0.56253904069937499,"unlim risk","unlim risk",{"$f":"$C$3*sum!$J$2","v":16792},6.5507384468794658E-2,4,null,null,null,null,1,11,"",null,null,null,null,null,null,null,null,null,null,null,null,null,null,null,null,null,null,null,null,{"$f":"VLOOKUP(H215,sum!$A$14:$E$113,5)","v":10.381597438811696},null,"","",""]
[null,null,null,null,"",203,"naked put itm /'' (s180p)",{"$f":"VLOOKUP($C$4+4,$A$6:$D$105,2)","v":180},{"$f":"VLOOKUP($C$4+4,$A$6:$D$105,4)","v":13.05},null,null,null,null,null,null,"unlim risk",{"$f":"I216*sum!$J$2","v":1305},166.95,null,0.54275685408401653,"unlim risk","unlim risk",{"$f":"$C$3*sum!$J$2","v":16792},7.7715578847070033E-2,4,null,null,null,null,1,11,"",null,null,null,null,null,null,null,null,null,null,null,null,null,null,null,null,null,null,null,null,{"$f":"VLOOKUP(H216,sum!$A$14:$E$113,5)","v":12.588610165225987},null,"","",""]
[null,null,null,null,"",204,"naked put itm /'' (s182.5p)",{"$f":"VLOOKUP($C$4+5,$A$6:$D$105,2)","v":182.5},{"$f":"VLOOKUP($C$4+5,$A$6:$D$105,4)","v":15.05},null,null,null,null,null,null,"unlim risk",{"$f":"I217*sum!$J$2","v":1505},167.45,null,{"$f":"IF(OR(Q217=\"\",Q217<=0),\"\",1-(NORMSDIST(LN(ABS(R217)/$C$3)/($E$3*SQRT(($D$3-NOW())/365)))))","v":0.52071674993977446},"unlim risk","unlim risk",{"$f":"$C$3*sum!$J$2","v":16792},8.9626012386850876E-2,4,null,null,null,null,1,11,"",null,null,null,null,null,null,null,null,null,null,null,null,null,null,null,null,null,null,null,null,{"$f":"VLOOKUP(H217,sum!$A$14:$E$113,5)","v":14.902999144444635},null,"","",""]
[null,null,null,null,"",205,"naked put itm /'' (s185p)",{"$f":"VLOOKUP($C$4+6,$A$6:$D$105,2)","v":185},{"$f":"VLOOKUP($C$4+6,$A$6:$D$105,4)","v":17.45},null,null,null,null,null,null,"unlim risk",{"$f":"I218*sum!$J$2","v":1745},167.55,null,0.51630685631927986,"unlim risk","unlim risk",{"$f":"$C$3*sum!$J$2","v":16792},0.1039185326345879,4,null,null,null,null,1,11,"",null,null,null,null,null,null,null,null,null,null,null,null,null,null,null,null,null,null,null,null,{"$f":"VLOOKUP(H218,sum!$A$14:$E$113,5)","v":17.290744993426728},null,"","",""]
[null,null,null,null,"",206,"naked put itm /'' (s187.5p)",{"$f":"VLOOKUP($C$4+7,$A$6:$D$105,2)","v":187.5},{"$f":"VLOOKUP($C$4+7,$A$6:$D$105,4)","v":20.85},null,null,null,null,null,null,"unlim risk",{"$f":"I219*sum!$J$2","v":2085},166.65,null,0.55595390814806089,"unlim risk","unlim risk",{"$f":"$C$3*sum!$J$2","v":16792},0.12416626965221535,4,null,null,null,null,1,11,"",null,null,null,null,null,null,null,null,null,null,null,null,null,null,null,null,null,null,null,null,{"$f":"VLOOKUP(H219,sum!$A$14:$E$113,5)","v":19.725764937686222},null,"","",""]
[null,null,null,null,"",207,"naked put itm /'' (s190p)",{"$f":"VLOOKUP($C$4+8,$A$6:$D$105,2)","v":190},{"$f":"VLOOKUP($C$4+8,$A$6:$D$105,4)","v":22.91},null,null,null,null,null,null,"unlim risk",{"$f":"I220*sum!$J$2","v":2291},167.09,null,0.53658929128364208,"unlim risk","unlim risk",{"$f":"$C$3*sum!$J$2","v":16792},0.13643401619818962,4,null,null,null,null,1,11,"",null,null,null,null,null,null,null,null,null,null,null,null,null,null,null,null,null,null,null,null,{"$f":"VLOOKUP(H220,sum!$A$14:$E$113,5)","v":22.189591148520748},null,"","",""]
[null,null,null,null,"",208,"naked put itm /'' (s192.5p)",{"$f":"VLOOKUP($C$4+9,$A$6:$D$105,2)","v":192.5},{"$f":"VLOOKUP($C$4+9,$A$6:$D$105,4)","v":25.45},null,null,null,null,null,null,"unlim risk",{"$f":"I221*sum!$J$2","v":2545},167.05,null,0.53835188770560116,"unlim risk","unlim risk",{"$f":"$C$3*sum!$J$2","v":16792},0.15156026679371129,4,null,null,null,null,1,11,"",null,null,null,null,null,null,null,null,null,null,null,null,null,null,null,null,null,null,null,null,{"$f":"VLOOKUP(H221,sum!$A$14:$E$113,5)","v":24.670051587226055},null,"","",""]
[null,null,null,null,"",209,"naked put itm /'' (s195p)",{"$f":"VLOOKUP($C$4+10,$A$6:$D$105,2)","v":195},{"$f":"VLOOKUP($C$4+10,$A$6:$D$105,4)","v":27.8},null,null,null,null,null,null,"unlim risk",{"$f":"I222*sum!$J$2","v":2780},167.2,null,0.53174072725973642,"unlim risk","unlim risk",{"$f":"$C$3*sum!$J$2","v":16792},0.16555502620295379,4,null,null,null,null,1,11,"",null,null,null,null,null,null,null,null,null,null,null,null,null,null,null,null,null,null,null,null,{"$f":"VLOOKUP(H222,sum!$A$14:$E$113,5)","v":27.159634125648296},null,"","",""]
[null,null,null,null,"",210,{"$f":"CONCATENATE(\"buy put otm \\_ (b\",H223,\"p)\")","v":"buy put otm \\_ (b140p)"},{"$f":"H202","v":140},0.2,null,null,null,null,null,null,{"$f":"Q202","v":20},"unlim reward",{"$f":"R202","v":139.80000000000001},null,{"$f":"1-T202","v":3.4054478292744328E-4},"unlim reward","unlim reward",{"$f":"I223*sum!$J$2","v":20},"unlim reward",3,null,null,null,null,2,11,"",null,null,null,null,null,null,null,null,null,null,null,null,null,null,null,null,null,null,null,null,{"$f":"VLOOKUP(H223,sum!$A$14:$E$113,5)","v":8.3138051006095837E-4},null,"exp","",{"$f":"IF(BC223=\"cheap\",\"X\",\"\")","v":""}]
[null,null,null,null,"",211,{"$f":"CONCATENATE(\"buy put otm \\_ (b\",H224,\"p)\")","v":"buy put otm \\_ (b145p)"},145,0.33,null,null,null,null,null,null,{"$f":"Q203","v":33},"unlim reward",{"$f":"R203","v":144.66999999999999},null,{"$f":"1-T203","v":2.869071194651962E-3},"unlim reward","unlim reward",{"$f":"I224*sum!$J$2","v":33},"unlim reward",3,null,null,null,null,2,11,"",null,null,null,null,null,null,null,null,null,null,null,null,null,null,null,null,null,null,null,null,{"$f":"VLOOKUP(H224,sum!$A$14:$E$113,5)","v":8.6055952123089696E-3},null,"exp","",{"$f":"IF(BC224=\"cheap\",\"X\",\"\")","v":""}]
[null,null,null,null,"",212,"buy put otm \\_ (b150p)",150,0.56999999999999995,null,null,null,null,null,null,56.999999999999993,"unlim reward",149.43,null,1.5296078433688076E-2,"unlim reward","unlim reward",{"$f":"I225*sum!$J$2","v":56.999999999999993},"unlim reward",3,null,null,null,null,2,11,"",null,null,null,null,null,null,null,null,null,null,null,null,null,null,null,null,null,null,null,null,{"$f":"VLOOKUP(H225,sum!$A$14:$E$113,5)","v":5.8086851101639247E-2},null,"exp","",""]
[null,null,null,null,"",213,"buy put otm \\_ (b152.5p)",152.5,0.8,null,null,null,null,null,null,80,"unlim reward",151.69999999999999,null,2.9858183383472237E-2,"unlim reward","unlim reward",{"$f":"I226*sum!$J$2","v":80},"unlim reward",3,null,null,null,null,2,11,"",null,null,null,null,null,null,null,null,null,null,null,null,null,null,null,null,null,null,null,null,{"$f":"VLOOKUP(H226,sum!$A$14:$E$113,5)","v":0.13077584266326259},null,"exp","",""]
[null,null,null,null,"",214,"buy put otm \\_ (b155p)",155,1.01,null,null,null,null,null,null,101,"unlim reward",153.99,null,5.4228251623918311E-2,"unlim reward","unlim reward",{"$f":"I227*sum!$J$2","v":101},"unlim reward",3,null,null,null,null,2,11,"",null,null,null,null,null,null,null,null,null,null,null,null,null,null,null,null,null,null,null,null,{"$f":"VLOOKUP(H227,sum!$A$14:$E$113,5)","v":0.26997798933985173},null,"exp","",""]
[null,null,null,null,"",215,"buy put otm \\_ (b157.5p)",157.5,1.36,null,null,null,null,null,null,136,"unlim reward",156.13999999999999,null,8.880207279300889E-2,"unlim reward","unlim reward",{"$f":"I228*sum!$J$2","v":136},"unlim reward",3,null,null,null,null,2,11,"",null,null,null,null,null,null,null,null,null,null,null,null,null,null,null,null,null,null,null,null,{"$f":"VLOOKUP(H228,sum!$A$14:$E$113,5)","v":0.51436556584883419},null,"exp","",""]
[null,null,null,null,"",216,"buy put otm \\_ (b160p)",160,1.85,null,null,null,null,null,null,185,"unlim reward",158.15,null,0.13326620718620141,"unlim reward","unlim reward",{"$f":"I229*sum!$J$2","v":185},"unlim reward",3,null,null,null,null,2,11,"",null,null,null,null,null,null,null,null,null,null,null,null,null,null,null,null,null,null,null,null,{"$f":"VLOOKUP(H229,sum!$A$14:$E$113,5)","v":0.91012887232689366},null,"exp","",""]
[null,null,null,null,"",217,"buy put otm \\_ (b162.5p)",162.5,2.4500000000000002,null,null,null,null,null,null,245.00000000000003,"unlim reward",160.05000000000001,null,0.18680614870541512,"unlim reward","unlim reward",{"$f":"I230*sum!$J$2","v":245.00000000000003},"unlim reward",3,null,null,null,null,2,11,"",null,null,null,null,null,null,null,null,null,null,null,null,null,null,null,null,null,null,null,null,{"$f":"VLOOKUP(H230,sum!$A$14:$E$113,5)","v":1.5049606005843685},null,"exp","",""]
[null,null,null,null,"",218,"buy put otm \\_ (b165p)",165,3.26,null,null,null,null,null,null,326,"unlim reward",161.74,null,0.24351699196405363,"unlim reward","unlim reward",{"$f":"I231*sum!$J$2","v":326},"unlim reward",3,null,null,null,null,2,11,"",null,null,null,null,null,null,null,null,null,null,null,null,null,null,null,null,null,null,null,null,{"$f":"VLOOKUP(H231,sum!$A$14:$E$113,5)","v":2.33994988513588},null,"exp","",""]
[null,null,null,null,"",219,"buy put otm \\_ (b167.5p)",167.5,4.25,null,null,null,null,null,null,425,"unlim reward",163.25,null,0.30056004602065745,"unlim reward","unlim reward",{"$f":"I232*sum!$J$2","v":425},"unlim reward",3,null,null,null,null,2,11,"",null,null,null,null,null,null,null,null,null,null,null,null,null,null,null,null,null,null,null,null,{"$f":"VLOOKUP(H232,sum!$A$14:$E$113,5)","v":3.4417991640991801},null,"exp","",""]
[null,null,null,null,"",220,"buy put otm \\_ (b170p)",170,5.45,null,null,null,null,null,null,545,"unlim reward",164.55,null,0.35354292867570891,"unlim reward","unlim reward",{"$f":"I233*sum!$J$2","v":545},"unlim reward",3,null,null,null,null,2,11,"",null,null,null,null,null,null,null,null,null,null,null,null,null,null,null,null,null,null,null,null,{"$f":"VLOOKUP(H233,sum!$A$14:$E$113,5)","v":4.8176520596149288},null,"","",""]
[null,null,null,null,"",221,{"$f":"CONCATENATE(\"buy put itm \\_ (b\",H234,\"p)\")","v":"buy put itm \\_ (b172.5p)"},172.5,6.85,null,null,null,null,null,null,685,"unlim reward",165.65,null,0.40041328584410774,"unlim reward","unlim reward",{"$f":"I234*sum!$J$2","v":685},"unlim reward",3,null,null,null,null,2,11,"",null,null,null,null,null,null,null,null,null,null,null,null,null,null,null,null,null,null,null,null,{"$f":"VLOOKUP(H234,sum!$A$14:$E$113,5)","v":6.4544764363941738},null,"","",""]
[null,null,null,null,"",222,{"$f":"CONCATENATE(\"buy put itm \\_ (b\",H235,\"p)\")","v":"buy put itm \\_ (b175p)"},175,8.6,null,null,null,null,null,null,860,"unlim reward",166.4,null,0.43307707328076894,"unlim reward","unlim reward",{"$f":"I235*sum!$J$2","v":860},"unlim reward",3,null,null,null,null,2,11,"",null,null,null,null,null,null,null,null,null,null,null,null,null,null,null,null,null,null,null,null,{"$f":"VLOOKUP(H235,sum!$A$14:$E$113,5)","v":8.3224709171568918},null,"","",""]
[null,null,null,null,"",223,"buy put itm \\_ (b177.5p)",177.5,11,null,null,null,null,null,null,1100,"unlim reward",166.5,null,0.43746095930062501,"unlim reward","unlim reward",{"$f":"I236*sum!$J$2","v":1100},"unlim reward",3,null,null,null,null,2,11,"",null,null,null,null,null,null,null,null,null,null,null,null,null,null,null,null,null,null,null,null,{"$f":"VLOOKUP(H236,sum!$A$14:$E$113,5)","v":10.381597438811696},null,"","",""]
[null,null,null,null,"",224,"buy put itm \\_ (b180p)",180,13.05,null,null,null,null,null,null,1305,"unlim reward",166.95,null,0.45724314591598347,"unlim reward","unlim reward",{"$f":"I237*sum!$J$2","v":1305},"unlim reward",3,null,null,null,null,2,11,"",null,null,null,null,null,null,null,null,null,null,null,null,null,null,null,null,null,null,null,null,{"$f":"VLOOKUP(H237,sum!$A$14:$E$113,5)","v":12.588610165225987},null,"","",""]
[null,null,null,null,"",225,"buy put itm \\_ (b182.5p)",182.5,15.05,null,null,null,null,null,null,1505,"unlim reward",167.45,null,0.47928325006022554,"unlim reward","unlim reward",{"$f":"I238*sum!$J$2","v":1505},"unlim reward",3,null,null,null,null,2,11,"",null,null,null,null,null,null,null,null,null,null,null,null,null,null,null,null,null,null,null,null,{"$f":"VLOOKUP(H238,sum!$A$14:$E$113,5)","v":14.902999144444635},null,"","",""]
[null,null,null,null,"",226,"buy put itm \\_ (b185p)",185,17.45,null,null,null,null,null,null,1745,"unlim reward",167.55,null,0.48369314368072014,"unlim reward","unlim reward",{"$f":"I239*sum!$J$2","v":1745},"unlim reward",3,null,null,null,null,2,11,"",null,null,null,null,null,null,null,null,null,null,null,null,null,null,null,null,null,null,null,null,{"$f":"VLOOKUP(H239,sum!$A$14:$E$113,5)","v":17.290744993426728},null,"","",""]
[null,null,null,null,"",227,"buy put itm \\_ (b187.5p)",187.5,20.85,null,null,null,null,null,null,2085,"unlim reward",166.65,null,0.44404609185193911,"unlim reward","unlim reward",{"$f":"I240*sum!$J$2","v":2085},"unlim reward",3,null,null,null,null,2,11,"",null,null,null,null,null,null,null,null,null,null,null,null,null,null,null,null,null,null,null,null,{"$f":"VLOOKUP(H240,sum!$A$14:$E$113,5)","v":19.725764937686222},null,"","",""]
[null,null,null,null,"",228,"buy put itm \\_ (b190p)",190,22.91,null,null,null,null,null,null,2291,"unlim reward",167.09,null,0.46341070871635792,"unlim reward","unlim reward",{"$f":"I241*sum!$J$2","v":2291},"unlim reward",3,null,null,null,null,2,11,"",null,null,null,null,null,null,null,null,null,null,null,null,null,null,null,null,null,null,null,null,{"$f":"VLOOKUP(H241,sum!$A$14:$E$113,5)","v":22.189591148520748},null,"","",""]
[null,null,null,null,"",229,"buy put itm \\_ (b192.5p)",192.5,25.45,null,null,null,null,null,null,2545,"unlim reward",167.05,null,0.46164811229439884,"unlim reward","unlim reward",{"$f":"I242*sum!$J$2","v":2545},"unlim reward",3,null,null,null,null,2,11,"",null,null,null,null,null,null,null,null,null,null,null,null,null,null,null,null,null,null,null,null,{"$f":"VLOOKUP(H242,sum!$A$14:$E$113,5)","v":24.670051587226055},null,"","",""]
[null,null,null,null,"",230,"buy put itm \\_ (b195p)",195,27.8,null,null,null,null,null,null,2780,"unlim reward",167.2,null,0.46825927274026358,"unlim reward","unlim reward",{"$f":"I243*sum!$J$2","v":2780},"unlim reward",3,null,null,null,null,2,11,"",null,null,null,null,null,null,null,null,null,null,null,null,null,null,null,null,null,null,null,null,{"$f":"VLOOKUP(H243,sum!$A$14:$E$113,5)","v":27.159634125648296},null,"","",""]
[null,null,null,null,"",231,{"$f":"CONCATENATE(\"naked call otm'''\\ (s\",H244,\"c)\")","v":"naked call otm'''\\ (s195c)"},{"$f":"H243","v":195},{"$f":"VLOOKUP(H244,$B$6:$D$105,2)","v":0.04},null,null,null,null,null,null,"unlim risk",{"$f":"I244*sum!$J$2","v":4},{"$f":"H244+I244","v":195.04},null,{"$f":"IF(OR(Q244=\"\",Q244<=0),\"\",(NORMSDIST(LN(ABS(R244)/$C$3)/($E$3*SQRT(($D$3-NOW())/365)))))","v":0.99724051438706507},"unlim risk","unlim risk",{"$f":"$C$3*sum!$J$2","v":16792},{"$f":"IF(P244=\"\",\"\",Q244/W244)","v":2.3820867079561695E-4},2,null,null,null,null,2,11,"",null,null,null,null,null,null,null,null,null,null,null,null,null,null,null,null,null,null,null,null,{"$f":"VLOOKUP(H244,sum!$A$14:$E$113,3)","v":7.9148220244192324E-3},null,"exp","",{"$f":"IF(BC244=\"exp\",\"X\",\"\")","v":"X"}]
[null,null,null,null,"",232,{"$f":"CONCATENATE(\"naked call otm'''\\ (s\",H245,\"c)\")","v":"naked call otm'''\\ (s192.5c)"},{"$f":"H242","v":192.5},{"$f":"VLOOKUP(H245,$B$6:$D$105,2)","v":0.05},null,null,null,null,null,null,"unlim risk",{"$f":"I245*sum!$J$2","v":5},192.55,null,{"$f":"IF(OR(Q245=\"\",Q245<=0),\"\",(NORMSDIST(LN(ABS(R245)/$C$3)/($E$3*SQRT(($D$3-NOW())/365)))))","v":0.99440825300533708},"unlim risk","unlim risk",{"$f":"$C$3*sum!$J$2","v":16792},2.9776083849452121E-4,2,null,null,null,null,2,11,"",null,null,null,null,null,null,null,null,null,null,null,null,null,null,null,null,null,null,null,null,{"$f":"VLOOKUP(H245,sum!$A$14:$E$113,3)","v":1.7058454232202869E-2},null,"exp","","X"]
[null,null,null,null,"",233,"naked call otm'''\\ (s190c)",{"$f":"H241","v":190},7.0000000000000007E-2,null,null,null,null,null,null,"unlim risk",{"$f":"I246*sum!$J$2","v":7.0000000000000009},190.07,null,0.98918003940725396,"unlim risk","unlim risk",{"$f":"$C$3*sum!$J$2","v":16792},4.1686517389232972E-4,2,null,null,null,null,2,11,"",null,null,null,null,null,null,null,null,null,null,null,null,null,null,null,null,null,null,null,null,{"$f":"VLOOKUP(H246,sum!$A$14:$E$113,3)","v":3.532416713605202E-2},null,"exp","","X"]
[null,null,null,null,"",234,"naked call otm'''\\ (s187.5c)",{"$f":"H240","v":187.5},0.1,null,null,null,null,null,null,"unlim risk",{"$f":"I247*sum!$J$2","v":10},187.6,null,0.98002079479560766,"unlim risk","unlim risk",{"$f":"$C$3*sum!$J$2","v":16792},5.9552167698904241E-4,2,null,null,null,null,2,11,"",null,null,null,null,null,null,null,null,null,null,null,null,null,null,null,null,null,null,null,null,{"$f":"VLOOKUP(H247,sum!$A$14:$E$113,3)","v":7.0224132615857915E-2},null,"exp","","X"]
[null,null,null,null,"",235,"naked call otm'''\\ (s185c)",{"$f":"H239","v":185},0.15,null,null,null,null,null,null,"unlim risk",{"$f":"I248*sum!$J$2","v":15},185.15,null,0.96489214953463787,"unlim risk","unlim risk",{"$f":"$C$3*sum!$J$2","v":16792},8.9328251548356362E-4,2,null,null,null,null,2,11,"",null,null,null,null,null,null,null,null,null,null,null,null,null,null,null,null,null,null,null,null,{"$f":"VLOOKUP(H248,sum!$A$14:$E$113,3)","v":0.13393034202680809},null,"","",""]
[null,null,null,null,"",236,"naked call otm'''\\ (s182.5c)",{"$f":"H238","v":182.5},0.28000000000000003,null,null,null,null,null,null,"unlim risk",{"$f":"I249*sum!$J$2","v":28.000000000000004},182.78,null,0.94199264238832403,"unlim risk","unlim risk",{"$f":"$C$3*sum!$J$2","v":16792},1.6674606955693189E-3,2,null,null,null,null,2,11,"",null,null,null,null,null,null,null,null,null,null,null,null,null,null,null,null,null,null,null,null,{"$f":"VLOOKUP(H249,sum!$A$14:$E$113,3)","v":0.24491065469218576},null,"","",""]
[null,null,null,null,"",237,"naked call otm'''\\ (s180c)",{"$f":"H237","v":180},0.49,null,null,null,null,null,null,"unlim risk",{"$f":"I250*sum!$J$2","v":49},180.49,null,0.90955682653724101,"unlim risk","unlim risk",{"$f":"$C$3*sum!$J$2","v":16792},2.9180562172463078E-3,2,null,null,null,null,2,11,"",null,null,null,null,null,null,null,null,null,null,null,null,null,null,null,null,null,null,null,null,{"$f":"VLOOKUP(H250,sum!$A$14:$E$113,3)","v":0.42924785852553882},null,"","",""]
[null,null,null,null,"",238,"naked call otm'''\\ (s177.5c)",{"$f":"H236","v":177.5},0.84,null,null,null,null,null,null,"unlim risk",{"$f":"I251*sum!$J$2","v":84},178.34,null,0.86776985119845285,"unlim risk","unlim risk",{"$f":"$C$3*sum!$J$2","v":16792},5.0023820867079564E-3,2,null,null,null,null,2,11,"",null,null,null,null,null,null,null,null,null,null,null,null,null,null,null,null,null,null,null,null,{"$f":"VLOOKUP(H251,sum!$A$14:$E$113,3)","v":0.72096128615324773},null,"","",""]
[null,null,null,null,"",239,"naked call otm'''\\ (s175c)",{"$f":"H235","v":175},1.4,null,null,null,null,null,null,"unlim risk",{"$f":"I252*sum!$J$2","v":140},176.4,null,0.81942495295840323,"unlim risk","unlim risk",{"$f":"$C$3*sum!$J$2","v":16792},8.3373034778465929E-3,2,null,null,null,null,2,11,"",null,null,null,null,null,null,null,null,null,null,null,null,null,null,null,null,null,null,null,null,{"$f":"VLOOKUP(H252,sum!$A$14:$E$113,3)","v":1.1605609180556016},null,"exp","","X"]
[null,null,null,null,"",240,"naked call otm'''\\ (s172.5c)",{"$f":"H234","v":172.5},2.21,null,null,null,null,null,null,"unlim risk",{"$f":"I253*sum!$J$2","v":221},174.71,null,0.76875134234112774,"unlim risk","unlim risk",{"$f":"$C$3*sum!$J$2","v":16792},1.3161029061457837E-2,2,null,null,null,null,2,11,"",null,null,null,null,null,null,null,null,null,null,null,null,null,null,null,null,null,null,null,null,{"$f":"VLOOKUP(H253,sum!$A$14:$E$113,3)","v":1.7912926031122538},null,"exp","","X"]
[null,null,null,null,"",241,"naked call otm'''\\ (s170c)",{"$f":"H233","v":170},3.3,null,null,null,null,null,null,"unlim risk",{"$f":"I254*sum!$J$2","v":330},173.3,null,0.72057260539621337,"unlim risk","unlim risk",{"$f":"$C$3*sum!$J$2","v":16792},1.96522153406384E-2,2,null,null,null,null,2,11,"",null,null,null,null,null,null,null,null,null,null,null,null,null,null,null,null,null,null,null,null,{"$f":"VLOOKUP(H254,sum!$A$14:$E$113,3)","v":2.6531942972793985},null,"exp","","X"]
[null,null,null,null,"",242,{"$f":"CONCATENATE(\"naked call itm'''\\ (s\",H255,\"c)\")","v":"naked call itm'''\\ (s167.5c)"},{"$f":"H232","v":167.5},4.5999999999999996,null,null,null,null,null,null,"unlim risk",{"$f":"I255*sum!$J$2","v":459.99999999999994},172.1,null,0.67571511016078101,"unlim risk","unlim risk",{"$f":"$C$3*sum!$J$2","v":16792},2.7393997141495947E-2,2,null,null,null,null,2,11,"",null,null,null,null,null,null,null,null,null,null,null,null,null,null,null,null,null,null,null,null,{"$f":"VLOOKUP(H255,sum!$A$14:$E$113,3)","v":3.7760676776467079},null,"exp","","X"]
[null,null,null,null,"",243,{"$f":"CONCATENATE(\"naked call itm'''\\ (s\",H256,\"c)\")","v":"naked call itm'''\\ (s165c)"},{"$f":"H231","v":165},6.13,null,null,null,null,null,null,"unlim risk",{"$f":"I256*sum!$J$2","v":613},171.13,null,0.63719979307611585,"unlim risk","unlim risk",{"$f":"$C$3*sum!$J$2","v":16792},3.6505478799428302E-2,2,null,null,null,null,2,11,"",null,null,null,null,null,null,null,null,null,null,null,null,null,null,null,null,null,null,null,null,{"$f":"VLOOKUP(H256,sum!$A$14:$E$113,3)","v":5.1729445158851775},null,"","",""]
[null,null,null,null,"",244,"naked call itm'''\\ (s162.5c)",{"$f":"H230","v":162.5},7.9,null,null,null,null,null,null,"unlim risk",{"$f":"I257*sum!$J$2","v":790},170.4,null,0.6070917166832297,"unlim risk","unlim risk",{"$f":"$C$3*sum!$J$2","v":16792},4.704621248213435E-2,2,null,null,null,null,2,11,"",null,null,null,null,null,null,null,null,null,null,null,null,null,null,null,null,null,null,null,null,{"$f":"VLOOKUP(H257,sum!$A$14:$E$113,3)","v":6.8366814360047243},null,"","",""]
[null,null,null,null,"",245,"naked call itm'''\\ (s160c)",{"$f":"H229","v":160},9.75,null,null,null,null,null,null,"unlim risk",{"$f":"I258*sum!$J$2","v":975},169.75,null,0.57961448891444056,"unlim risk","unlim risk",{"$f":"$C$3*sum!$J$2","v":16792},5.8063363506431633E-2,2,null,null,null,null,2,11,"",null,null,null,null,null,null,null,null,null,null,null,null,null,null,null,null,null,null,null,null,{"$f":"VLOOKUP(H258,sum!$A$14:$E$113,3)","v":8.7405758489679783},null,"","",""]
[null,null,null,null,"",246,"naked call itm'''\\ (s157.5c)",{"$f":"H228","v":157.5},11.45,null,null,null,null,null,null,"unlim risk",{"$f":"I259*sum!$J$2","v":1145},168.95,null,0.54512218559935044,"unlim risk","unlim risk",{"$f":"$C$3*sum!$J$2","v":16792},6.8187232015245361E-2,2,null,null,null,null,2,11,"",null,null,null,null,null,null,null,null,null,null,null,null,null,null,null,null,null,null,null,null,{"$f":"VLOOKUP(H259,sum!$A$14:$E$113,3)","v":10.843538736465916},null,"","",""]
[null,null,null,null,"",247,"naked call itm'''\\ (s155c)",{"$f":"H227","v":155},13.49,null,null,null,null,null,null,"unlim risk",{"$f":"I260*sum!$J$2","v":1349},168.49,null,0.52504170542046102,"unlim risk","unlim risk",{"$f":"$C$3*sum!$J$2","v":16792},8.0335874225821821E-2,2,null,null,null,null,2,11,"",null,null,null,null,null,null,null,null,null,null,null,null,null,null,null,null,null,null,null,null,{"$f":"VLOOKUP(H260,sum!$A$14:$E$113,3)","v":13.09787729197069},null,"","",""]
[null,null,null,null,"",248,"naked call itm'''\\ (s152.5c)",{"$f":"H226","v":152.5},15.8,null,null,null,null,null,null,"unlim risk",{"$f":"I261*sum!$J$2","v":1580},168.3,null,0.51670999084434421,"unlim risk","unlim risk",{"$f":"$C$3*sum!$J$2","v":16792},9.4092424964268701E-2,2,null,null,null,null,2,11,"",null,null,null,null,null,null,null,null,null,null,null,null,null,null,null,null,null,null,null,null,{"$f":"VLOOKUP(H261,sum!$A$14:$E$113,3)","v":15.457401310147787},null,"","",""]
[null,null,null,null,"",249,"naked call itm'''\\ (s150c)",{"$f":"H225","v":150},18.3,null,null,null,null,null,null,"unlim risk",{"$f":"I262*sum!$J$2","v":1830},168.3,null,0.51670999084434421,"unlim risk","unlim risk",{"$f":"$C$3*sum!$J$2","v":16792},0.10898046688899476,2,null,null,null,null,2,11,"",null,null,null,null,null,null,null,null,null,null,null,null,null,null,null,null,null,null,null,null,{"$f":"VLOOKUP(H262,sum!$A$14:$E$113,3)","v":17.88343847114308},null,"","",""]
[null,null,null,null,"",250,"naked call itm'''\\ (s145c)",{"$f":"H224","v":145},22.79,null,null,null,null,null,null,"unlim risk",{"$f":"I263*sum!$J$2","v":2279},167.79,null,0.49427326347679801,"unlim risk","unlim risk",{"$f":"$C$3*sum!$J$2","v":16792},0.13571939018580276,2,null,null,null,null,2,11,"",null,null,null,null,null,null,null,null,null,null,null,null,null,null,null,null,null,null,null,null,{"$f":"VLOOKUP(H263,sum!$A$14:$E$113,3)","v":22.831409550203546},null,"","",""]
[null,null,null,null,"",251,"naked call itm'''\\ (s140c)",{"$f":"H223","v":140},28,null,null,null,null,null,null,"unlim risk",{"$f":"I264*sum!$J$2","v":2800},168,null,0.50352201753936421,"unlim risk","unlim risk",{"$f":"$C$3*sum!$J$2","v":16792},0.16674606955693186,2,null,null,null,null,2,11,"",null,null,null,null,null,null,null,null,null,null,null,null,null,null,null,null,null,null,null,null,{"$f":"VLOOKUP(H264,sum!$A$14:$E$113,3)","v":27.821087657177117},null,"","",""]
[null,null,null,null,"",252,{"$f":"CONCATENATE(\"buy call otm _/ (b\",H265,\"c)\")","v":"buy call otm _/ (b195c)"},{"$f":"H244","v":195},0.04,null,null,null,null,null,null,{"$f":"Q244","v":4},"unlim reward",{"$f":"R244","v":195.04},null,{"$f":"1-T244","v":2.759485612934931E-3},"unlim reward","unlim reward",null,"unlim reward",1,null,null,null,null,1,11,"",null,null,null,null,null,null,null,null,null,null,null,null,null,null,null,null,null,null,null,null,{"$f":"VLOOKUP(H265,sum!$A$14:$E$113,3)","v":7.9148220244192324E-3},null,"exp","",{"$f":"IF(BC265=\"cheap\",\"X\",\"\")","v":""}]
[null,null,null,null,"",253,{"$f":"CONCATENATE(\"buy call otm _/ (b\",H266,\"c)\")","v":"buy call otm _/ (b192.5c)"},192.5,0.05,null,null,null,null,null,null,{"$f":"Q245","v":5},"unlim reward",{"$f":"R245","v":192.55},null,{"$f":"1-T245","v":5.5917469946629161E-3},"unlim reward","unlim reward",null,"unlim reward",1,null,null,null,null,1,11,"",null,null,null,null,null,null,null,null,null,null,null,null,null,null,null,null,null,null,null,null,{"$f":"VLOOKUP(H266,sum!$A$14:$E$113,3)","v":1.7058454232202869E-2},null,"exp","",""]
[null,null,null,null,"",254,"buy call otm _/ (b190c)",190,7.0000000000000007E-2,null,null,null,null,null,null,7.0000000000000009,"unlim reward",190.07,null,1.0819960592746036E-2,"unlim reward","unlim reward",null,"unlim reward",1,null,null,null,null,1,11,"",null,null,null,null,null,null,null,null,null,null,null,null,null,null,null,null,null,null,null,null,{"$f":"VLOOKUP(H267,sum!$A$14:$E$113,3)","v":3.532416713605202E-2},null,"exp","",""]
[null,null,null,null,"",255,"buy call otm _/ (b187.5c)",187.5,0.1,null,null,null,null,null,null,10,"unlim reward",187.6,null,1.9979205204392336E-2,"unlim reward","unlim reward",null,"unlim reward",1,null,null,null,null,1,11,"",null,null,null,null,null,null,null,null,null,null,null,null,null,null,null,null,null,null,null,null,{"$f":"VLOOKUP(H268,sum!$A$14:$E$113,3)","v":7.0224132615857915E-2},null,"exp","",""]
[null,null,null,null,"",256,"buy call otm _/ (b185c)",185,0.15,null,null,null,null,null,null,15,"unlim reward",185.15,null,3.5107850465362134E-2,"unlim reward","unlim reward",null,"unlim reward",1,null,null,null,null,1,11,"",null,null,null,null,null,null,null,null,null,null,null,null,null,null,null,null,null,null,null,null,{"$f":"VLOOKUP(H269,sum!$A$14:$E$113,3)","v":0.13393034202680809},null,"","",""]
[null,null,null,null,"",257,"buy call otm _/ (b182.5c)",182.5,0.28000000000000003,null,null,null,null,null,null,28.000000000000004,"unlim reward",182.78,null,5.8007357611675969E-2,"unlim reward","unlim reward",null,"unlim reward",1,null,null,null,null,1,11,"",null,null,null,null,null,null,null,null,null,null,null,null,null,null,null,null,null,null,null,null,{"$f":"VLOOKUP(H270,sum!$A$14:$E$113,3)","v":0.24491065469218576},null,"","",""]
[null,null,null,null,{"$f":"IF(AF271=\"\",\"\",RANK(AF271,$AF$14:$AF$493,1))","v":""},258,"buy call otm _/ (b180c)",180,0.49,null,null,null,null,null,null,49,"unlim reward",180.49,null,9.0443173462758986E-2,"unlim reward","unlim reward",null,"unlim reward",1,null,null,null,null,1,11,{"$f":"IF($AF$13=12,IF($AF$9=2,IF(BE271=\"X\",F271,\"\"),F271),IF($AF$13<=4,IF(AD271=$AF$13,IF($AF$9=2,IF(BE271=\"X\",F271,\"\"),F271),\"\"),IF(AE271=$AF$13,IF($AF$9=2,IF(BE271=\"X\",F271,\"\"),F271),\"\")))","v":""},null,null,null,null,null,null,null,null,null,null,null,null,null,null,null,null,null,null,null,null,{"$f":"VLOOKUP(H271,sum!$A$14:$E$113,3)","v":0.42924785852553882},null,{"$f":"IF(I271>BA271*$BC$12,\"exp\",IF(I271<BA271*$BD$12,\"cheap\",\"\"))","v":""},{"$f":"IF(K271>BB271*$BC$12,\"exp\",IF(K271<BB271*$BD$12,\"cheap\",\"\"))","v":""},""]
[null,null,null,null,"",259,"buy call otm _/ (b177.5c)",177.5,0.84,null,null,null,null,null,null,84,"unlim reward",178.34,null,0.13223014880154715,"unlim reward","unlim reward",null,"unlim reward",1,null,null,null,null,1,11,"",null,null,null,null,null,null,null,null,null,null,null,null,null,null,null,null,null,null,null,null,{"$f":"VLOOKUP(H272,sum!$A$14:$E$113,3)","v":0.72096128615324773},null,"","",""]
[null,null,null,null,"",260,"buy call otm _/ (b175c)",175,1.4,null,null,null,null,null,null,140,"unlim reward",176.4,null,0.18057504704159677,"unlim reward","unlim reward",null,"unlim reward",1,null,null,null,null,1,11,"",null,null,null,null,null,null,null,null,null,null,null,null,null,null,null,null,null,null,null,null,{"$f":"VLOOKUP(H273,sum!$A$14:$E$113,3)","v":1.1605609180556016},null,"exp","",""]
[null,null,null,null,"",261,"buy call otm _/ (b172.5c)",172.5,2.21,null,null,null,null,null,null,221,"unlim reward",174.71,null,0.23124865765887226,"unlim reward","unlim reward",null,"unlim reward",1,null,null,null,null,1,11,"",null,null,null,null,null,null,null,null,null,null,null,null,null,null,null,null,null,null,null,null,{"$f":"VLOOKUP(H274,sum!$A$14:$E$113,3)","v":1.7912926031122538},null,"exp","",""]
[null,null,null,null,"",262,{"$f":"CONCATENATE(\"buy call itm _/ (b\",H275,\"c)\")","v":"buy call itm _/ (b170c)"},170,3.3,null,null,null,null,null,null,330,"unlim reward",173.3,null,0.27942739460378663,"unlim reward","unlim reward",null,"unlim reward",1,null,null,null,null,1,11,"",null,null,null,null,null,null,null,null,null,null,null,null,null,null,null,null,null,null,null,null,{"$f":"VLOOKUP(H275,sum!$A$14:$E$113,3)","v":2.6531942972793985},null,"exp","",""]
[null,null,null,null,"",263,{"$f":"CONCATENATE(\"buy call itm _/ (b\",H276,\"c)\")","v":"buy call itm _/ (b167.5c)"},167.5,4.5999999999999996,null,null,null,null,null,null,459.99999999999994,"unlim reward",172.1,null,0.32428488983921899,"unlim reward","unlim reward",null,"unlim reward",1,null,null,null,null,1,11,"",null,null,null,null,null,null,null,null,null,null,null,null,null,null,null,null,null,null,null,null,{"$f":"VLOOKUP(H276,sum!$A$14:$E$113,3)","v":3.7760676776467079},null,"exp","",""]
[null,null,null,null,"",264,"buy call itm _/ (b165c)",165,6.13,null,null,null,null,null,null,613,"unlim reward",171.13,null,0.36280020692388415,"unlim reward","unlim reward",null,"unlim reward",1,null,null,null,null,1,11,"",null,null,null,null,null,null,null,null,null,null,null,null,null,null,null,null,null,null,null,null,{"$f":"VLOOKUP(H277,sum!$A$14:$E$113,3)","v":5.1729445158851775},null,"","",""]
[null,null,null,null,"",265,"buy call itm _/ (b162.5c)",162.5,7.9,null,null,null,null,null,null,790,"unlim reward",170.4,null,0.3929082833167703,"unlim reward","unlim reward",null,"unlim reward",1,null,null,null,null,1,11,"",null,null,null,null,null,null,null,null,null,null,null,null,null,null,null,null,null,null,null,null,{"$f":"VLOOKUP(H278,sum!$A$14:$E$113,3)","v":6.8366814360047243},null,"","",""]
[null,null,null,null,"",266,"buy call itm _/ (b160c)",160,9.75,null,null,null,null,null,null,975,"unlim reward",169.75,null,0.42038551108555944,"unlim reward","unlim reward",null,"unlim reward",1,null,null,null,null,1,11,"",null,null,null,null,null,null,null,null,null,null,null,null,null,null,null,null,null,null,null,null,{"$f":"VLOOKUP(H279,sum!$A$14:$E$113,3)","v":8.7405758489679783},null,"","",""]
[null,null,null,null,"",267,"buy call itm _/ (b157.5c)",157.5,11.45,null,null,null,null,null,null,1145,"unlim reward",168.95,null,0.45487781440064956,"unlim reward","unlim reward",null,"unlim reward",1,null,null,null,null,1,11,"",null,null,null,null,null,null,null,null,null,null,null,null,null,null,null,null,null,null,null,null,{"$f":"VLOOKUP(H280,sum!$A$14:$E$113,3)","v":10.843538736465916},null,"","",""]
[null,null,null,null,"",268,"buy call itm _/ (b155c)",155,13.49,null,null,null,null,null,null,1349,"unlim reward",168.49,null,0.47495829457953898,"unlim reward","unlim reward",null,"unlim reward",1,null,null,null,null,1,11,"",null,null,null,null,null,null,null,null,null,null,null,null,null,null,null,null,null,null,null,null,{"$f":"VLOOKUP(H281,sum!$A$14:$E$113,3)","v":13.09787729197069},null,"","",""]
[null,null,null,null,"",269,"buy call itm _/ (b152.5c)",152.5,15.8,null,null,null,null,null,null,1580,"unlim reward",168.3,null,0.48329000915565579,"unlim reward","unlim reward",null,"unlim reward",1,null,null,null,null,1,11,"",null,null,null,null,null,null,null,null,null,null,null,null,null,null,null,null,null,null,null,null,{"$f":"VLOOKUP(H282,sum!$A$14:$E$113,3)","v":15.457401310147787},null,"","",""]
[null,null,null,null,"",270,"buy call itm _/ (b150c)",150,18.3,null,null,null,null,null,null,1830,"unlim reward",168.3,null,0.48329000915565579,"unlim reward","unlim reward",null,"unlim reward",1,null,null,null,null,1,11,"",null,null,null,null,null,null,null,null,null,null,null,null,null,null,null,null,null,null,null,null,{"$f":"VLOOKUP(H283,sum!$A$14:$E$113,3)","v":17.88343847114308},null,"","",""]
[null,null,null,null,"",271,"buy call itm _/ (b145c)",145,22.79,null,null,null,null,null,null,2279,"unlim reward",167.79,null,0.50572673652320199,"unlim reward","unlim reward",null,"unlim reward",1,null,null,null,null,1,11,"",null,null,null,null,null,null,null,null,null,null,null,null,null,null,null,null,null,null,null,null,{"$f":"VLOOKUP(H284,sum!$A$14:$E$113,3)","v":22.831409550203546},null,"","",""]
[null,null,null,null,"",272,"buy call itm _/ (b140c)",{"$f":"H264","v":140},28,null,null,null,null,null,null,2800,"unlim reward",168,null,0.49647798246063579,"unlim reward","unlim reward",null,"unlim reward",1,null,null,null,null,1,11,"",null,null,null,null,null,null,null,null,null,null,null,null,null,null,null,null,null,null,null,null,{"$f":"VLOOKUP(H285,sum!$A$14:$E$113,3)","v":27.821087657177117},null,"","",""]
[null,null,null,null,"",273,{"$f":"CONCATENATE(\"covered call otm /'' (bu+s\",H286,\"c)\")","v":"covered call otm /'' (bu+s195c)"},195,0.04,null,null,null,null,null,null,"unlim risk",{"$f":"IF(H286>C3,(H286-$C$3+I286)*sum!$J$2,(I286-($C$3-H286))*sum!$J$2)","v":2712.0000000000014},{"$f":"($C$3-I286)","v":167.88},null,{"$f":"IF(OR(Q286=\"\",Q286<=0),\"\",1-(NORMSDIST(LN(ABS(R286)/$C$3)/($E$3*SQRT(($D$3-NOW())/365)))))","v":0.50176165521018601},"unlim risk","unlim risk",{"$f":"($C$3-I286)*sum!$J$2","v":16788},{"$f":"IF(P286=\"\",\"\",Q286/W286)","v":0.16154395997140822},2,5,null,null,null,1,11,"",null,null,null,null,null,null,null,null,null,null,null,null,null,null,null,null,null,null,null,null,{"$f":"VLOOKUP(H286,sum!$A$14:$E$113,3)","v":7.9148220244192324E-3},null,"exp","",{"$f":"BE244","v":"X"}]
[null,null,null,null,"",274,{"$f":"CONCATENATE(\"covered call otm /'' (bu+s\",H287,\"c)\")","v":"covered call otm /'' (bu+s192.5c)"},192.5,0.05,null,null,null,null,null,null,"unlim risk",{"$f":"IF(H287>C4,(H287-$C$3+I287)*sum!$J$2,(I287-($C$3-H287))*sum!$J$2)","v":2463.0000000000014},167.86999999999998,null,0.50220213057101537,"unlim risk","unlim risk",{"$f":"($C$3-I287)*sum!$J$2","v":16786.999999999996},0.14672067671412414,2,5,null,null,null,1,11,"",null,null,null,null,null,null,null,null,null,null,null,null,null,null,null,null,null,null,null,null,{"$f":"VLOOKUP(H287,sum!$A$14:$E$113,3)","v":1.7058454232202869E-2},null,"exp","",{"$f":"BE245","v":"X"}]
[null,null,null,null,"",275,"covered call otm /'' (bu+s190c)",190,7.0000000000000007E-2,null,null,null,null,null,null,"unlim risk",{"$f":"IF(H288>C5,(H288-$C$3+I288)*sum!$J$2,(I288-($C$3-H288))*sum!$J$2)","v":2215.0000000000014},167.85,null,0.50308315142337323,"unlim risk","unlim risk",{"$f":"($C$3-I288)*sum!$J$2","v":16785},0.1319630622579685,2,5,null,null,null,1,11,"",null,null,null,null,null,null,null,null,null,null,null,null,null,null,null,null,null,null,null,null,{"$f":"VLOOKUP(H288,sum!$A$14:$E$113,3)","v":3.532416713605202E-2},null,"exp","","X"]
[null,null,null,null,"",276,"covered call otm /'' (bu+s187.5c)",187.5,0.1,null,null,null,null,null,null,"unlim risk",{"$f":"IF(H289>C6,(H289-$C$3+I289)*sum!$J$2,(I289-($C$3-H289))*sum!$J$2)","v":1968.0000000000014},167.82,null,0.50440485000922108,"unlim risk","unlim risk",{"$f":"($C$3-I289)*sum!$J$2","v":16782},0.11726850196639264,2,5,null,null,null,1,11,"",null,null,null,null,null,null,null,null,null,null,null,null,null,null,null,null,null,null,null,null,{"$f":"VLOOKUP(H289,sum!$A$14:$E$113,3)","v":7.0224132615857915E-2},null,"exp","","X"]
[null,null,null,null,"",277,"covered call otm /'' (bu+s185c)",185,0.15,null,null,null,null,null,null,"unlim risk",{"$f":"IF(H290>C7,(H290-$C$3+I290)*sum!$J$2,(I290-($C$3-H290))*sum!$J$2)","v":1723.0000000000011},167.76999999999998,null,0.5066080914642842,"unlim risk","unlim risk",{"$f":"($C$3-I290)*sum!$J$2","v":16777},0.10270012517136563,2,5,null,null,null,1,11,"",null,null,null,null,null,null,null,null,null,null,null,null,null,null,null,null,null,null,null,null,{"$f":"VLOOKUP(H290,sum!$A$14:$E$113,3)","v":0.13393034202680809},null,"","",""]
[null,null,null,null,"",278,"covered call otm /'' (bu+s182.5c)",182.5,0.28000000000000003,null,null,null,null,null,null,"unlim risk",{"$f":"IF(H291>C8,(H291-$C$3+I291)*sum!$J$2,(I291-($C$3-H291))*sum!$J$2)","v":1486.0000000000011},167.64,null,0.51233848150684358,"unlim risk","unlim risk",{"$f":"($C$3-I291)*sum!$J$2","v":16764},8.8642328799809184E-2,2,5,null,null,null,1,11,"",null,null,null,null,null,null,null,null,null,null,null,null,null,null,null,null,null,null,null,null,{"$f":"VLOOKUP(H291,sum!$A$14:$E$113,3)","v":0.24491065469218576},null,"","",""]
[null,null,null,null,"",279,"covered call otm /'' (bu+s180c)",180,0.49,null,null,null,null,null,null,"unlim risk",{"$f":"IF(H292>C9,(H292-$C$3+I292)*sum!$J$2,(I292-($C$3-H292))*sum!$J$2)","v":1257.0000000000014},167.42999999999998,null,0.52159875764935748,"unlim risk","unlim risk",{"$f":"($C$3-I292)*sum!$J$2","v":16742.999999999996},7.5076151227378707E-2,2,5,null,null,null,1,11,"",null,null,null,null,null,null,null,null,null,null,null,null,null,null,null,null,null,null,null,null,{"$f":"VLOOKUP(H292,sum!$A$14:$E$113,3)","v":0.42924785852553882},null,"","",""]
[null,null,null,null,"",280,"covered call otm /'' (bu+s177.5c)",177.5,0.84,null,null,null,null,null,null,"unlim risk",{"$f":"IF(H293>C10,(H293-$C$3+I293)*sum!$J$2,(I293-($C$3-H293))*sum!$J$2)","v":1042.0000000000011},167.07999999999998,null,0.53702996953299875,"unlim risk","unlim risk",{"$f":"($C$3-I293)*sum!$J$2","v":16708},6.2365333971750127E-2,2,5,null,null,null,1,11,"",null,null,null,null,null,null,null,null,null,null,null,null,null,null,null,null,null,null,null,null,{"$f":"VLOOKUP(H293,sum!$A$14:$E$113,3)","v":0.72096128615324773},null,"","",""]
[null,null,null,null,"",281,"covered call otm /'' (bu+s175c)",175,1.4,null,null,null,null,null,null,"unlim risk",{"$f":"IF(H294>C11,(H294-$C$3+I294)*sum!$J$2,(I294-($C$3-H294))*sum!$J$2)","v":848.00000000000125},166.51999999999998,null,0.56166163993936946,"unlim risk","unlim risk",{"$f":"($C$3-I294)*sum!$J$2","v":16652},5.0924813836175913E-2,2,5,null,null,null,1,11,"",null,null,null,null,null,null,null,null,null,null,null,null,null,null,null,null,null,null,null,null,{"$f":"VLOOKUP(H294,sum!$A$14:$E$113,3)","v":1.1605609180556016},null,"exp","","X"]
[null,null,null,null,"",282,"covered call otm /'' (bu+s172.5c)",172.5,2.21,null,null,null,null,null,null,"unlim risk",{"$f":"IF(H295>C12,(H295-$C$3+I295)*sum!$J$2,(I295-($C$3-H295))*sum!$J$2)","v":679.00000000000125},165.70999999999998,null,0.59699051144720072,"unlim risk","unlim risk",{"$f":"($C$3-I295)*sum!$J$2","v":16570.999999999996},4.0975197634421666E-2,2,5,null,null,null,1,11,"",null,null,null,null,null,null,null,null,null,null,null,null,null,null,null,null,null,null,null,null,{"$f":"VLOOKUP(H295,sum!$A$14:$E$113,3)","v":1.7912926031122538},null,"exp","","X"]
[null,null,null,null,"",283,{"$f":"CONCATENATE(\"covered call itm /'' (bu+s\",H296,\"c)\")","v":"covered call itm /'' (bu+s170c)"},170,3.3,null,null,null,null,null,null,"unlim risk",{"$f":"IF(H296>C13,(H296-$C$3+I296)*sum!$J$2,(I296-($C$3-H296))*sum!$J$2)","v":538.00000000000125},164.61999999999998,null,0.64352214343262382,"unlim risk","unlim risk",{"$f":"($C$3-I296)*sum!$J$2","v":16461.999999999996},3.2681326691775078E-2,2,5,null,null,null,1,11,"",null,null,null,null,null,null,null,null,null,null,null,null,null,null,null,null,null,null,null,null,{"$f":"VLOOKUP(H296,sum!$A$14:$E$113,3)","v":2.6531942972793985},null,"exp","","X"]
[null,null,null,null,"",284,{"$f":"CONCATENATE(\"covered call itm /'' (bu+s\",H297,\"c)\")","v":"covered call itm /'' (bu+s167.5c)"},167.5,4.5999999999999996,null,null,null,null,null,null,"unlim risk",{"$f":"IF(H297>C14,(H297-$C$3+I297)*sum!$J$2,(I297-($C$3-H297))*sum!$J$2)","v":418.00000000000119},163.32,null,0.696669097038219,"unlim risk","unlim risk",{"$f":"($C$3-I297)*sum!$J$2","v":16332},2.5593926034778423E-2,2,5,null,null,null,1,11,"",null,null,null,null,null,null,null,null,null,null,null,null,null,null,null,null,null,null,null,null,{"$f":"VLOOKUP(H297,sum!$A$14:$E$113,3)","v":3.7760676776467079},null,"exp","","X"]
[null,null,null,null,"",285,"covered call itm /'' (bu+s165c)",165,6.13,null,null,null,null,null,null,"unlim risk",{"$f":"IF(H298>C15,(H298-$C$3+I298)*sum!$J$2,(I298-($C$3-H298))*sum!$J$2)","v":321.00000000000125},161.79,null,0.75468428939968013,"unlim risk","unlim risk",{"$f":"($C$3-I298)*sum!$J$2","v":16179},1.9840534025588802E-2,2,5,null,null,null,1,11,"",null,null,null,null,null,null,null,null,null,null,null,null,null,null,null,null,null,null,null,null,{"$f":"VLOOKUP(H298,sum!$A$14:$E$113,3)","v":5.1729445158851775},null,"","",""]
[null,null,null,null,"",286,"covered call itm /'' (bu+s162.5c)",162.5,7.9,null,null,null,null,null,null,"unlim risk",{"$f":"IF(H299>C16,(H299-$C$3+I299)*sum!$J$2,(I299-($C$3-H299))*sum!$J$2)","v":248.00000000000128},160.01999999999998,null,0.81412549603556972,"unlim risk","unlim risk",{"$f":"($C$3-I299)*sum!$J$2","v":16001.999999999998},1.5498062742157311E-2,2,5,null,null,null,1,11,"",null,null,null,null,null,null,null,null,null,null,null,null,null,null,null,null,null,null,null,null,{"$f":"VLOOKUP(H299,sum!$A$14:$E$113,3)","v":6.8366814360047243},null,"","",""]
[null,null,null,null,"",287,"covered call itm /'' (bu+s160c)",160,9.75,null,null,null,null,null,null,"unlim risk",{"$f":"IF(H300>C17,(H300-$C$3+I300)*sum!$J$2,(I300-($C$3-H300))*sum!$J$2)","v":183.00000000000125},158.16999999999999,null,0.86622873404781697,"unlim risk","unlim risk",{"$f":"($C$3-I300)*sum!$J$2","v":15816.999999999998},1.1569829929822424E-2,2,5,null,null,null,1,11,"",null,null,null,null,null,null,null,null,null,null,null,null,null,null,null,null,null,null,null,null,{"$f":"VLOOKUP(H300,sum!$A$14:$E$113,3)","v":8.7405758489679783},null,"","",""]
[null,null,null,null,"",288,"covered call itm /'' (bu+s157.5c)",157.5,11.45,null,null,null,null,null,null,"unlim risk",{"$f":"IF(H301>C18,(H301-$C$3+I301)*sum!$J$2,(I301-($C$3-H301))*sum!$J$2)","v":103.00000000000118},156.47,null,0.90473884633643031,"unlim risk","unlim risk",{"$f":"($C$3-I301)*sum!$J$2","v":15647},6.5827315140283239E-3,2,5,null,null,null,1,11,"",null,null,null,null,null,null,null,null,null,null,null,null,null,null,null,null,null,null,null,null,{"$f":"VLOOKUP(H301,sum!$A$14:$E$113,3)","v":10.843538736465916},null,"","",""]
[null,null,null,null,"",289,"covered call itm /'' (bu+s155c)",155,13.49,null,null,null,null,null,null,"unlim risk",{"$f":"IF(H302>C19,(H302-$C$3+I302)*sum!$J$2,(I302-($C$3-H302))*sum!$J$2)","v":57.000000000001272},154.42999999999998,null,0.93970276137004249,"unlim risk","unlim risk",{"$f":"($C$3-I302)*sum!$J$2","v":15442.999999999998},3.6909926827689747E-3,2,5,null,null,null,1,11,"",null,null,null,null,null,null,null,null,null,null,null,null,null,null,null,null,null,null,null,null,{"$f":"VLOOKUP(H302,sum!$A$14:$E$113,3)","v":13.09787729197069},null,"","",""]
[null,null,null,null,"",290,"covered call itm /'' (bu+s152.5c)",152.5,15.8,null,null,null,null,null,null,"unlim risk",{"$f":"IF(H303>C20,(H303-$C$3+I303)*sum!$J$2,(I303-($C$3-H303))*sum!$J$2)","v":38.000000000001322},152.11999999999998,null,0.96649710763087171,"unlim risk","unlim risk",{"$f":"($C$3-I303)*sum!$J$2","v":15211.999999999998},2.4980278727321408E-3,2,5,null,null,null,1,11,"",null,null,null,null,null,null,null,null,null,null,null,null,null,null,null,null,null,null,null,null,{"$f":"VLOOKUP(H303,sum!$A$14:$E$113,3)","v":15.457401310147787},null,"","",""]
[null,null,null,null,"",291,"covered call itm /'' (bu+s150c)",150,18.3,null,null,null,null,null,null,"unlim risk",{"$f":"IF(H304>C21,(H304-$C$3+I304)*sum!$J$2,(I304-($C$3-H304))*sum!$J$2)","v":38.000000000001322},149.61999999999998,null,0.98377345239948044,"unlim risk","unlim risk",{"$f":"($C$3-I304)*sum!$J$2","v":14961.999999999998},2.5397674107740494E-3,2,5,null,null,null,1,11,"",null,null,null,null,null,null,null,null,null,null,null,null,null,null,null,null,null,null,null,null,{"$f":"VLOOKUP(H304,sum!$A$14:$E$113,3)","v":17.88343847114308},null,"","",""]
[null,null,null,null,"",292,"covered call itm /'' (bu+s145c)",{"$f":"H284","v":145},{"$f":"I284","v":22.79},null,null,null,null,null,null,"unlim risk",{"$f":"IF(H305>C22,(H305-$C$3+I305)*sum!$J$2,(I305-($C$3-H305))*sum!$J$2)","v":-12.999999999998835},145.13,null,"","unlim risk","unlim risk",{"$f":"($C$3-I305)*sum!$J$2","v":14513},-8.9574863915102565E-4,2,5,null,null,null,1,11,"",null,null,null,null,null,null,null,null,null,null,null,null,null,null,null,null,null,null,null,null,{"$f":"VLOOKUP(H305,sum!$A$14:$E$113,3)","v":22.831409550203546},null,"","",""]
[null,null,null,null,"",293,"covered call itm /'' (bu+s140c)",{"$f":"H285","v":140},{"$f":"I285","v":28},null,null,null,null,null,null,"unlim risk",{"$f":"IF(H306>C23,(H306-$C$3+I306)*sum!$J$2,(I306-($C$3-H306))*sum!$J$2)","v":8.0000000000012506},139.91999999999999,null,0.99963911977510633,"unlim risk","unlim risk",{"$f":"($C$3-I306)*sum!$J$2","v":13991.999999999998},5.7175528873651025E-4,2,5,null,null,null,1,11,"",null,null,null,null,null,null,null,null,null,null,null,null,null,null,null,null,null,null,null,null,{"$f":"VLOOKUP(H306,sum!$A$14:$E$113,3)","v":27.821087657177117},null,"","",""]
[null,null,null,null,"",294,{"$f":"CONCATENATE(\"covered put otm ''\\ (su+s\",H307,\"p)\")","v":"covered put otm ''\\ (su+s140p)"},{"$f":"H223","v":140},0.2,null,null,null,null,null,null,"unlim risk",{"$f":"IF(H307<$C$3,($C$3-H307+I307)*sum!$J$2,(I307-(H307-$C$3))*sum!$J$2)","v":2811.9999999999986},{"$f":"($C$3+I307)","v":168.11999999999998},null,{"$f":"IF(OR(Q307=\"\",Q307<=0),\"\",(NORMSDIST(LN(ABS(R307)/$C$3)/($E$3*SQRT(($D$3-NOW())/365)))))","v":0.50880130070360896},"unlim risk","unlim risk",{"$f":"($C$3-I307)*sum!$J$2","v":16772},0.16766038635821598,4,6,null,null,null,2,11,"",null,null,null,null,null,null,null,null,null,null,null,null,null,null,null,null,null,null,null,null,{"$f":"VLOOKUP(H307,sum!$A$14:$E$113,5)","v":8.3138051006095837E-4},null,"exp","",{"$f":"BE202","v":"X"}]
[null,null,null,null,"",295,{"$f":"CONCATENATE(\"covered put otm ''\\ (su+s\",H308,\"p)\")","v":"covered put otm ''\\ (su+s145p)"},145,0.33,null,null,null,null,null,null,"unlim risk",{"$f":"IF(H308<$C$3,($C$3-H308+I308)*sum!$J$2,(I308-(H308-$C$3))*sum!$J$2)","v":2324.9999999999986},168.25,null,0.51451450744121274,"unlim risk","unlim risk",{"$f":"($C$3-I308)*sum!$J$2","v":16758.999999999996},0.13873142788949216,4,6,null,null,null,2,11,"",null,null,null,null,null,null,null,null,null,null,null,null,null,null,null,null,null,null,null,null,{"$f":"VLOOKUP(H308,sum!$A$14:$E$113,5)","v":8.6055952123089696E-3},null,"exp","",{"$f":"BE203","v":"X"}]
[null,null,null,null,"",296,"covered put otm ''\\ (su+s150p)",150,0.56999999999999995,null,null,null,null,null,null,"unlim risk",{"$f":"IF(H309<$C$3,($C$3-H309+I309)*sum!$J$2,(I309-(H309-$C$3))*sum!$J$2)","v":1848.9999999999989},168.48999999999998,null,0.52504170542046102,"unlim risk","unlim risk",{"$f":"($C$3-I309)*sum!$J$2","v":16735},0.11048700328652518,4,6,null,null,null,2,11,"",null,null,null,null,null,null,null,null,null,null,null,null,null,null,null,null,null,null,null,null,{"$f":"VLOOKUP(H309,sum!$A$14:$E$113,5)","v":5.8086851101639247E-2},null,"exp","","X"]
[null,null,null,null,"",297,"covered put otm ''\\ (su+s152.5p)",152.5,0.8,null,null,null,null,null,null,"unlim risk",{"$f":"IF(H310<$C$3,($C$3-H310+I310)*sum!$J$2,(I310-(H310-$C$3))*sum!$J$2)","v":1621.9999999999989},168.72,null,0.53509996161992657,"unlim risk","unlim risk",{"$f":"($C$3-I310)*sum!$J$2","v":16711.999999999996},9.7056007659167012E-2,4,6,null,null,null,2,11,"",null,null,null,null,null,null,null,null,null,null,null,null,null,null,null,null,null,null,null,null,{"$f":"VLOOKUP(H310,sum!$A$14:$E$113,5)","v":0.13077584266326259},null,"exp","","X"]
[null,null,null,null,"",298,"covered put otm ''\\ (su+s155p)",155,1.01,null,null,null,null,null,null,"unlim risk",{"$f":"IF(H311<$C$3,($C$3-H311+I311)*sum!$J$2,(I311-(H311-$C$3))*sum!$J$2)","v":1392.9999999999986},168.92999999999998,null,0.54425227545225363,"unlim risk","unlim risk",{"$f":"($C$3-I311)*sum!$J$2","v":16691},8.3458151099394806E-2,4,6,null,null,null,2,11,"",null,null,null,null,null,null,null,null,null,null,null,null,null,null,null,null,null,null,null,null,{"$f":"VLOOKUP(H311,sum!$A$14:$E$113,5)","v":0.26997798933985173},null,"exp","","X"]
[null,null,null,null,"",299,"covered put otm ''\\ (su+s157.5p)",157.5,1.36,null,null,null,null,null,null,"unlim risk",{"$f":"IF(H312<$C$3,($C$3-H312+I312)*sum!$J$2,(I312-(H312-$C$3))*sum!$J$2)","v":1177.9999999999986},169.28,null,0.55942661946964556,"unlim risk","unlim risk",{"$f":"($C$3-I312)*sum!$J$2","v":16655.999999999996},7.0725264169068131E-2,4,6,null,null,null,2,11,"",null,null,null,null,null,null,null,null,null,null,null,null,null,null,null,null,null,null,null,null,{"$f":"VLOOKUP(H312,sum!$A$14:$E$113,5)","v":0.51436556584883419},null,"exp","","X"]
[null,null,null,null,"",300,"covered put otm ''\\ (su+s160p)",160,1.85,null,null,null,null,null,null,"unlim risk",{"$f":"IF(H313<$C$3,($C$3-H313+I313)*sum!$J$2,(I313-(H313-$C$3))*sum!$J$2)","v":976.99999999999875},169.76999999999998,null,0.58046807468551409,"unlim risk","unlim risk",{"$f":"($C$3-I313)*sum!$J$2","v":16607},5.8830613596676025E-2,4,6,null,null,null,2,11,"",null,null,null,null,null,null,null,null,null,null,null,null,null,null,null,null,null,null,null,null,{"$f":"VLOOKUP(H313,sum!$A$14:$E$113,5)","v":0.91012887232689366},null,"exp","","X"]
[null,null,null,null,"",301,"covered put otm ''\\ (su+s162.5p)",162.5,2.4500000000000002,null,null,null,null,null,null,"unlim risk",{"$f":"IF(H314<$C$3,($C$3-H314+I314)*sum!$J$2,(I314-(H314-$C$3))*sum!$J$2)","v":786.99999999999875},170.36999999999998,null,0.60583638294929587,"unlim risk","unlim risk",{"$f":"($C$3-I314)*sum!$J$2","v":16547},4.7561491509034798E-2,4,6,null,null,null,2,11,"",null,null,null,null,null,null,null,null,null,null,null,null,null,null,null,null,null,null,null,null,{"$f":"VLOOKUP(H314,sum!$A$14:$E$113,5)","v":1.5049606005843685},null,"exp","","X"]
[null,null,null,null,"",302,"covered put otm ''\\ (su+s165p)",165,3.26,null,null,null,null,null,null,"unlim risk",{"$f":"IF(H315<$C$3,($C$3-H315+I315)*sum!$J$2,(I315-(H315-$C$3))*sum!$J$2)","v":617.99999999999875},171.17999999999998,null,0.63922900960351381,"unlim risk","unlim risk",{"$f":"($C$3-I315)*sum!$J$2","v":16466},3.7531883881938462E-2,4,6,null,null,null,2,11,"",null,null,null,null,null,null,null,null,null,null,null,null,null,null,null,null,null,null,null,null,{"$f":"VLOOKUP(H315,sum!$A$14:$E$113,5)","v":2.33994988513588},null,"exp","","X"]
[null,null,null,null,"",303,"covered put otm ''\\ (su+s167.5p)",167.5,4.25,null,null,null,null,null,null,"unlim risk",{"$f":"IF(H316<$C$3,($C$3-H316+I316)*sum!$J$2,(I316-(H316-$C$3))*sum!$J$2)","v":466.99999999999875},172.17,null,0.67842086728305684,"unlim risk","unlim risk",{"$f":"($C$3-I316)*sum!$J$2","v":16366.999999999998},2.853302376733664E-2,4,6,null,null,null,2,11,"",null,null,null,null,null,null,null,null,null,null,null,null,null,null,null,null,null,null,null,null,{"$f":"VLOOKUP(H316,sum!$A$14:$E$113,5)","v":3.4417991640991801},null,"exp","","X"]
[null,null,null,null,"",304,"covered put otm ''\\ (su+s170p)",170,5.45,null,null,null,null,null,null,"unlim risk",{"$f":"IF(H317<$C$3,($C$3-H317+I317)*sum!$J$2,(I317-(H317-$C$3))*sum!$J$2)","v":336.99999999999875},173.36999999999998,null,0.72308433981848541,"unlim risk","unlim risk",{"$f":"($C$3-I317)*sum!$J$2","v":16247},2.0742290884470903E-2,4,6,null,null,null,2,11,"",null,null,null,null,null,null,null,null,null,null,null,null,null,null,null,null,null,null,null,null,{"$f":"VLOOKUP(H317,sum!$A$14:$E$113,5)","v":4.8176520596149288},null,"","",""]
[null,null,null,null,"",305,{"$f":"CONCATENATE(\"covered put itm ''\\ (su+s\",H318,\"p)\")","v":"covered put itm ''\\ (su+s172.5p)"},172.5,6.85,null,null,null,null,null,null,"unlim risk",{"$f":"IF(H318<$C$3,($C$3-H318+I318)*sum!$J$2,(I318-(H318-$C$3))*sum!$J$2)","v":226.99999999999872},174.76999999999998,null,0.77068521696458503,"unlim risk","unlim risk",{"$f":"($C$3-I318)*sum!$J$2","v":16107},1.4093251381386895E-2,4,6,null,null,null,2,11,"",null,null,null,null,null,null,null,null,null,null,null,null,null,null,null,null,null,null,null,null,{"$f":"VLOOKUP(H318,sum!$A$14:$E$113,5)","v":6.4544764363941738},null,"","",""]
[null,null,null,null,"",306,{"$f":"CONCATENATE(\"covered put itm ''\\ (su+s\",H319,\"p)\")","v":"covered put itm ''\\ (su+s175p)"},175,8.6,null,null,null,null,null,null,"unlim risk",{"$f":"IF(H319<$C$3,($C$3-H319+I319)*sum!$J$2,(I319-(H319-$C$3))*sum!$J$2)","v":151.99999999999872},176.51999999999998,null,0.82272000716951554,"unlim risk","unlim risk",{"$f":"($C$3-I319)*sum!$J$2","v":15932},9.5405473261359983E-3,4,6,null,null,null,2,11,"",null,null,null,null,null,null,null,null,null,null,null,null,null,null,null,null,null,null,null,null,{"$f":"VLOOKUP(H319,sum!$A$14:$E$113,5)","v":8.3224709171568918},null,"","",""]
[null,null,null,null,"",307,"covered put itm ''\\ (su+s177.5p)",177.5,11,null,null,null,null,null,null,"unlim risk",{"$f":"IF(H320<$C$3,($C$3-H320+I320)*sum!$J$2,(I320-(H320-$C$3))*sum!$J$2)","v":141.99999999999875},178.92,null,0.88022139807811617,"unlim risk","unlim risk",{"$f":"($C$3-I320)*sum!$J$2","v":15691.999999999998},9.0491970430791966E-3,4,6,null,null,null,2,11,"",null,null,null,null,null,null,null,null,null,null,null,null,null,null,null,null,null,null,null,null,{"$f":"VLOOKUP(H320,sum!$A$14:$E$113,5)","v":10.381597438811696},null,"","",""]
[null,null,null,null,"",308,"covered put itm ''\\ (su+s180p)",180,13.05,null,null,null,null,null,null,"unlim risk",{"$f":"IF(H321<$C$3,($C$3-H321+I321)*sum!$J$2,(I321-(H321-$C$3))*sum!$J$2)","v":96.99999999999882},180.97,null,0.917318627408517,"unlim risk","unlim risk",{"$f":"($C$3-I321)*sum!$J$2","v":15486.999999999998},6.2633176212306338E-3,4,6,null,null,null,2,11,"",null,null,null,null,null,null,null,null,null,null,null,null,null,null,null,null,null,null,null,null,{"$f":"VLOOKUP(H321,sum!$A$14:$E$113,5)","v":12.588610165225987},null,"","",""]
[null,null,null,null,"",309,"covered put itm ''\\ (su+s182.5p)",182.5,15.05,null,null,null,null,null,null,"unlim risk",{"$f":"IF(H322<$C$3,($C$3-H322+I322)*sum!$J$2,(I322-(H322-$C$3))*sum!$J$2)","v":46.99999999999882},182.97,null,0.94419307348796566,"unlim risk","unlim risk",{"$f":"($C$3-I322)*sum!$J$2","v":15286.999999999998},3.0745077516843608E-3,4,6,null,null,null,2,11,"",null,null,null,null,null,null,null,null,null,null,null,null,null,null,null,null,null,null,null,null,{"$f":"VLOOKUP(H322,sum!$A$14:$E$113,5)","v":14.902999144444635},null,"","",""]
[null,null,null,null,"",310,"covered put itm ''\\ (su+s185p)",185,17.45,null,null,null,null,null,null,"unlim risk",{"$f":"IF(H323<$C$3,($C$3-H323+I323)*sum!$J$2,(I323-(H323-$C$3))*sum!$J$2)","v":36.999999999998678},185.36999999999998,null,0.96656359480093257,"unlim risk","unlim risk",{"$f":"($C$3-I323)*sum!$J$2","v":15047},2.458961919319378E-3,4,6,null,null,null,2,11,"",null,null,null,null,null,null,null,null,null,null,null,null,null,null,null,null,null,null,null,null,{"$f":"VLOOKUP(H323,sum!$A$14:$E$113,5)","v":17.290744993426728},null,"","",""]
[null,null,null,null,"",311,"covered put itm ''\\ (su+s187.5p)",187.5,20.85,null,null,null,null,null,null,"unlim risk",{"$f":"IF(H324<$C$3,($C$3-H324+I324)*sum!$J$2,(I324-(H324-$C$3))*sum!$J$2)","v":126.99999999999889},188.76999999999998,null,0.98497456013920193,"unlim risk","unlim risk",{"$f":"($C$3-I324)*sum!$J$2","v":14707},8.6353437138776707E-3,4,6,null,null,null,2,11,"",null,null,null,null,null,null,null,null,null,null,null,null,null,null,null,null,null,null,null,null,{"$f":"VLOOKUP(H324,sum!$A$14:$E$113,5)","v":19.725764937686222},null,"","",""]
[null,null,null,null,"",312,"covered put itm ''\\ (su+s190p)",190,22.91,null,null,null,null,null,null,"unlim risk",{"$f":"IF(H325<$C$3,($C$3-H325+I325)*sum!$J$2,(I325-(H325-$C$3))*sum!$J$2)","v":82.999999999998764},190.82999999999998,null,0.9911202859081879,"unlim risk","unlim risk",{"$f":"($C$3-I325)*sum!$J$2","v":14501},5.7237431901247336E-3,4,6,null,null,null,2,11,"",null,null,null,null,null,null,null,null,null,null,null,null,null,null,null,null,null,null,null,null,{"$f":"VLOOKUP(H325,sum!$A$14:$E$113,5)","v":22.189591148520748},null,"","",""]
[null,null,null,null,"",313,"covered put itm ''\\ (su+s192.5p)",192.5,25.45,null,null,null,null,null,null,"unlim risk",{"$f":"IF(H326<$C$3,($C$3-H326+I326)*sum!$J$2,(I326-(H326-$C$3))*sum!$J$2)","v":86.999999999998678},193.36999999999998,null,0.99554750730647312,"unlim risk","unlim risk",{"$f":"($C$3-I326)*sum!$J$2","v":14247},6.1065487471045612E-3,4,6,null,null,null,2,11,"",null,null,null,null,null,null,null,null,null,null,null,null,null,null,null,null,null,null,null,null,{"$f":"VLOOKUP(H326,sum!$A$14:$E$113,5)","v":24.670051587226055},null,"","",""]
[null,null,null,null,"",314,"covered put itm ''\\ (su+s195p)",195,27.8,null,null,null,null,null,null,"unlim risk",{"$f":"IF(H327<$C$3,($C$3-H327+I327)*sum!$J$2,(I327-(H327-$C$3))*sum!$J$2)","v":71.99999999999882},195.72,null,0.99774136191369056,"unlim risk","unlim risk",{"$f":"($C$3-I327)*sum!$J$2","v":14011.999999999998},5.1384527547815324E-3,4,6,null,null,null,2,11,"",null,null,null,null,null,null,null,null,null,null,null,null,null,null,null,null,null,null,null,null,{"$f":"VLOOKUP(H327,sum!$A$14:$E$113,5)","v":27.159634125648296},null,"","",""]
[null,null,null,null,22,315,{"$f":"CONCATENATE(\"ratio call --^\\  itm-b (b\",H328,\"c+2s\",J328,\"c) (neutral)\")","v":"ratio call --^\\  itm-b (b160c+2s172.5c) (neutral)"},{"$f":"H300","v":160},{"$f":"I300","v":9.75},{"$f":"H295","v":172.5},{"$f":"I295","v":2.21},null,null,null,null,"unlim risk",{"$f":"(J328-H328-I328+K328*2)*sum!$J$2","v":717},{"$f":"IF(2*K328>=I328,0.0001,$C$3-K328*2+(I328-($C$3-H328)))","v":165.33},{"$f":"J328*2+K328*2-$C$3-(I328-($C$3-H328))","v":179.67000000000002},{"$f":"1-((NORMSDIST(LN(ABS(R328)/$C$3)/($E$3*SQRT(($D$3-NOW())/365))))+(1-(NORMSDIST(LN(ABS(S328)/$C$3)/($E$3*SQRT(($D$3-NOW())/365))))))","v":0.50838359711782266},"unlim risk","unlim risk",{"$f":"(I328*1+K328*2)*sum!$J$2","v":1417},0.50599858856739588,1,2,null,null,"x",3,9,315,null,null,null,null,null,null,null,null,null,null,null,null,null,null,null,null,null,null,null,null,{"$f":"VLOOKUP(H328,sum!$A$14:$E$113,3)","v":8.7405758489679783},{"$f":"VLOOKUP(J328,sum!$A$14:$E$113,3)","v":1.7912926031122538},"","exp",{"$f":"IF(AND(BC328<>\"exp\",BD328=\"exp\"),\"X\",\"\")","v":"X"}]
[null,null,null,null,23,316,{"$f":"CONCATENATE(\"ratio call --^\\  itm-b (b\",H329,\"c+2s\",J329,\"c) (neutral)\")","v":"ratio call --^\\  itm-b (b160c+2s175c) (neutral)"},{"$f":"H328","v":160},{"$f":"I328","v":9.75},{"$f":"H294","v":175},{"$f":"I294","v":1.4},null,null,null,null,"unlim risk",{"$f":"(J329-H329-I329+K329*2)*sum!$J$2","v":805.00000000000011},166.95,183.05,0.48785582639263003,"unlim risk","unlim risk",{"$f":"(I329*1+K329*2)*sum!$J$2","v":1255},0.64143426294820727,1,2,null,null,"x",3,9,316,null,null,null,null,null,null,null,null,null,null,null,null,null,null,null,null,null,null,null,null,{"$f":"VLOOKUP(H329,sum!$A$14:$E$113,3)","v":8.7405758489679783},{"$f":"VLOOKUP(J329,sum!$A$14:$E$113,3)","v":1.1605609180556016},"","exp",{"$f":"IF(AND(BC329<>\"exp\",BD329=\"exp\"),\"X\",\"\")","v":"X"}]
[null,null,null,null,24,317,{"$f":"CONCATENATE(\"ratio call --^\\  itm-b (b\",H330,\"c+2s\",J330,\"c) (neutral)\")","v":"ratio call --^\\  itm-b (b160c+2s177.5c) (neutral)"},{"$f":"H328","v":160},{"$f":"I328","v":9.75},{"$f":"H293","v":177.5},{"$f":"I293","v":0.84},null,null,null,null,"unlim risk",{"$f":"(J330-H330-I330+K330*2)*sum!$J$2","v":943},168.07,186.93,0.46998433554605645,"unlim risk","unlim risk",{"$f":"(I330*1+K330*2)*sum!$J$2","v":1143},0.82502187226596679,1,2,null,null,"x",3,9,317,null,null,null,null,null,null,null,null,null,null,null,null,null,null,null,null,null,null,null,null,{"$f":"VLOOKUP(H330,sum!$A$14:$E$113,3)","v":8.7405758489679783},{"$f":"VLOOKUP(J330,sum!$A$14:$E$113,3)","v":0.72096128615324773},"","",""]
[null,null,null,null,"",318,{"$f":"CONCATENATE(\"ratio call --^\\  itm-b (b\",H331,\"c+2s\",J331,\"c) (bull)\")","v":"ratio call --^\\  itm-b (b160c+2s180c) (bull)"},{"$f":"H328","v":160},{"$f":"I328","v":9.75},{"$f":"H292","v":180},{"$f":"I292","v":0.49},null,null,null,null,"unlim risk",{"$f":"(J331-H331-I331+K331*2)*sum!$J$2","v":1123},168.77,191.23000000000002,0.45472879457463156,"unlim risk","unlim risk",{"$f":"(I331*1+K331*2)*sum!$J$2","v":1073},1.0465983224603914,1,2,null,null,"x",1,9,"",null,null,null,null,null,null,null,null,null,null,null,null,null,null,null,null,null,null,null,null,{"$f":"VLOOKUP(H331,sum!$A$14:$E$113,3)","v":8.7405758489679783},{"$f":"VLOOKUP(J331,sum!$A$14:$E$113,3)","v":0.42924785852553882},"","",""]
[null,null,null,null,"",319,{"$f":"CONCATENATE(\"ratio call --^\\  itm-b (b\",H332,\"c+2s\",J332,\"c) (bull)\")","v":"ratio call --^\\  itm-b (b160c+2s182.5c) (bull)"},{"$f":"H328","v":160},{"$f":"I328","v":9.75},{"$f":"H291","v":182.5},{"$f":"I291","v":0.28000000000000003},null,null,null,null,"unlim risk",{"$f":"(J332-H332-I332+K332*2)*sum!$J$2","v":1331},169.19,195.81,0.44226590820074541,"unlim risk","unlim risk",{"$f":"(I332*1+K332*2)*sum!$J$2","v":1031},1.2909796314258002,1,2,null,null,"x",1,9,"",null,null,null,null,null,null,null,null,null,null,null,null,null,null,null,null,null,null,null,null,{"$f":"VLOOKUP(H332,sum!$A$14:$E$113,3)","v":8.7405758489679783},{"$f":"VLOOKUP(J332,sum!$A$14:$E$113,3)","v":0.24491065469218576},"","",""]
[null,null,null,null,"",320,{"$f":"CONCATENATE(\"ratio call --^\\  itm-b (b\",H333,\"c+2s\",J333,\"c) (bull)\")","v":"ratio call --^\\  itm-b (b160c+2s185c) (bull)"},{"$f":"H328","v":160},{"$f":"I328","v":9.75},{"$f":"H290","v":185},{"$f":"I290","v":0.15},null,null,null,null,"unlim risk",{"$f":"(J333-H333-I333+K333*2)*sum!$J$2","v":1555},169.45,200.55,0.43274584113990633,"unlim risk","unlim risk",{"$f":"(I333*1+K333*2)*sum!$J$2","v":1005.0000000000001},1.5472636815920395,1,2,null,null,"x",1,9,"",null,null,null,null,null,null,null,null,null,null,null,null,null,null,null,null,null,null,null,null,{"$f":"VLOOKUP(H333,sum!$A$14:$E$113,3)","v":8.7405758489679783},{"$f":"VLOOKUP(J333,sum!$A$14:$E$113,3)","v":0.13393034202680809},"","",""]
[null,null,null,null,25,321,{"$f":"CONCATENATE(\"ratio call --^\\  itm-b (b\",H334,\"c+2s\",J334,\"c) (neutral)\")","v":"ratio call --^\\  itm-b (b162.5c+2s172.5c) (neutral)"},{"$f":"H299","v":162.5},{"$f":"I299","v":7.9},{"$f":"J328","v":172.5},2.21,null,null,null,null,"unlim risk",{"$f":"(J334-H334-I334+K334*2)*sum!$J$2","v":652},165.98000000000002,179.02,{"$f":"1-((NORMSDIST(LN(ABS(R334)/$C$3)/($E$3*SQRT(($D$3-NOW())/365))))+(1-(NORMSDIST(LN(ABS(S334)/$C$3)/($E$3*SQRT(($D$3-NOW())/365))))))","v":0.46754578808748359},"unlim risk","unlim risk",{"$f":"(I334*1+K334*2)*sum!$J$2","v":1232},0.52922077922077926,1,2,null,null,"x",3,9,321,null,null,null,null,null,null,null,null,null,null,null,null,null,null,null,null,null,null,null,null,{"$f":"VLOOKUP(H334,sum!$A$14:$E$113,3)","v":6.8366814360047243},{"$f":"VLOOKUP(J334,sum!$A$14:$E$113,3)","v":1.7912926031122538},"","exp","X"]
[null,null,null,null,{"$f":"IF(AF335=\"\",\"\",RANK(AF335,$AF$14:$AF$493,1))","v":26},322,{"$f":"CONCATENATE(\"ratio call --^\\  itm-b (b\",H335,\"c+2s\",J335,\"c) (neutral)\")","v":"ratio call --^\\  itm-b (b162.5c+2s175c) (neutral)"},{"$f":"$H$334","v":162.5},{"$f":"$I$334","v":7.9},175,1.4,null,null,null,null,"unlim risk",{"$f":"(J335-H335-I335+K335*2)*sum!$J$2","v":740},167.6,182.4,0.45148242474400679,"unlim risk","unlim risk",{"$f":"(I335*1+K335*2)*sum!$J$2","v":1070},0.69158878504672894,1,2,null,null,"x",3,9,{"$f":"IF($AF$13=12,IF($AF$9=2,IF(BE335=\"X\",F335,\"\"),F335),IF($AF$13<=4,IF(AD335=$AF$13,IF($AF$9=2,IF(BE335=\"X\",F335,\"\"),F335),\"\"),IF(AE335=$AF$13,IF($AF$9=2,IF(BE335=\"X\",F335,\"\"),F335),\"\")))","v":322},null,null,null,null,null,null,null,null,null,null,null,null,null,null,null,null,null,null,null,null,{"$f":"VLOOKUP(H335,sum!$A$14:$E$113,3)","v":6.8366814360047243},{"$f":"VLOOKUP(J335,sum!$A$14:$E$113,3)","v":1.1605609180556016},{"$f":"IF(I335>BA335*$BC$12,\"exp\",IF(I335<BA335*$BD$12,\"cheap\",\"\"))","v":""},{"$f":"IF(K335>BB335*$BC$12,\"exp\",IF(K335<BB335*$BD$12,\"cheap\",\"\"))","v":"exp"},"X"]
[null,null,null,null,27,323,{"$f":"CONCATENATE(\"ratio call --^\\  itm-b (b\",H336,\"c+2s\",J336,\"c) (neutral)\")","v":"ratio call --^\\  itm-b (b162.5c+2s177.5c) (neutral)"},{"$f":"$H$334","v":162.5},{"$f":"$I$334","v":7.9},177.5,0.84,null,null,null,null,"unlim risk",{"$f":"(J336-H336-I336+K336*2)*sum!$J$2","v":877.99999999999989},168.72,186.28,0.4376786972115716,"unlim risk","unlim risk",{"$f":"(I336*1+K336*2)*sum!$J$2","v":958},0.91649269311064707,1,2,null,null,"x",3,9,323,null,null,null,null,null,null,null,null,null,null,null,null,null,null,null,null,null,null,null,null,{"$f":"VLOOKUP(H336,sum!$A$14:$E$113,3)","v":6.8366814360047243},{"$f":"VLOOKUP(J336,sum!$A$14:$E$113,3)","v":0.72096128615324773},"","",""]
[null,null,null,null,"",324,{"$f":"CONCATENATE(\"ratio call --^\\  itm-b (b\",H337,\"c+2s\",J337,\"c) (bull)\")","v":"ratio call --^\\  itm-b (b162.5c+2s180c) (bull)"},{"$f":"$H$334","v":162.5},{"$f":"$I$334","v":7.9},180,0.49,null,null,null,null,"unlim risk",{"$f":"(J337-H337-I337+K337*2)*sum!$J$2","v":1058},169.42000000000002,190.58,0.42505497913911483,"unlim risk","unlim risk",{"$f":"(I337*1+K337*2)*sum!$J$2","v":888.00000000000011},1.1914414414414414,1,2,null,null,"x",1,9,"",null,null,null,null,null,null,null,null,null,null,null,null,null,null,null,null,null,null,null,null,{"$f":"VLOOKUP(H337,sum!$A$14:$E$113,3)","v":6.8366814360047243},{"$f":"VLOOKUP(J337,sum!$A$14:$E$113,3)","v":0.42924785852553882},"","",""]
[null,null,null,null,"",325,{"$f":"CONCATENATE(\"ratio call --^\\  itm-b (b\",H338,\"c+2s\",J338,\"c) (bull)\")","v":"ratio call --^\\  itm-b (b162.5c+2s182.5c) (bull)"},{"$f":"$H$334","v":162.5},{"$f":"$I$334","v":7.9},182.5,0.28000000000000003,null,null,null,null,"unlim risk",{"$f":"(J338-H338-I338+K338*2)*sum!$J$2","v":1266},169.84,195.16,0.41388390430899524,"unlim risk","unlim risk",{"$f":"(I338*1+K338*2)*sum!$J$2","v":846.00000000000011},1.4964539007092197,1,2,null,null,"x",1,9,"",null,null,null,null,null,null,null,null,null,null,null,null,null,null,null,null,null,null,null,null,{"$f":"VLOOKUP(H338,sum!$A$14:$E$113,3)","v":6.8366814360047243},{"$f":"VLOOKUP(J338,sum!$A$14:$E$113,3)","v":0.24491065469218576},"","",""]
[null,null,null,null,"",326,{"$f":"CONCATENATE(\"ratio call --^\\  itm-b (b\",H339,\"c+2s\",J339,\"c) (bull)\")","v":"ratio call --^\\  itm-b (b162.5c+2s185c) (bull)"},{"$f":"$H$334","v":162.5},{"$f":"$I$334","v":7.9},185,0.15,null,null,null,null,"unlim risk",{"$f":"(J339-H339-I339+K339*2)*sum!$J$2","v":1490},170.1,199.9,0.40490348238050666,"unlim risk","unlim risk",{"$f":"(I339*1+K339*2)*sum!$J$2","v":820.00000000000011},1.8170731707317072,1,2,null,null,"x",1,9,"",null,null,null,null,null,null,null,null,null,null,null,null,null,null,null,null,null,null,null,null,{"$f":"VLOOKUP(H339,sum!$A$14:$E$113,3)","v":6.8366814360047243},{"$f":"VLOOKUP(J339,sum!$A$14:$E$113,3)","v":0.13393034202680809},"","",""]
[null,null,null,null,28,327,{"$f":"CONCATENATE(\"ratio call --^\\  itm-b (b\",H340,\"c+2s\",J340,\"c) (neutral)\")","v":"ratio call --^\\  itm-b (b165c+2s172.5c) (neutral)"},{"$f":"$H$298","v":165},{"$f":"$I$298","v":6.13},{"$f":"J328","v":172.5},2.21,null,null,null,null,"unlim risk",{"$f":"(J340-H340-I340+K340*2)*sum!$J$2","v":579},166.71,178.29000000000002,{"$f":"1-((NORMSDIST(LN(ABS(R340)/$C$3)/($E$3*SQRT(($D$3-NOW())/365))))+(1-(NORMSDIST(LN(ABS(S340)/$C$3)/($E$3*SQRT(($D$3-NOW())/365))))))","v":0.41997122848994195},"unlim risk","unlim risk",{"$f":"(I340*1+K340*2)*sum!$J$2","v":1055},0.54881516587677726,1,2,null,null,"x",3,9,327,null,null,null,null,null,null,null,null,null,null,null,null,null,null,null,null,null,null,null,null,{"$f":"VLOOKUP(H340,sum!$A$14:$E$113,3)","v":5.1729445158851775},{"$f":"VLOOKUP(J340,sum!$A$14:$E$113,3)","v":1.7912926031122538},"","exp","X"]
[null,null,null,null,29,328,{"$f":"CONCATENATE(\"ratio call --^\\  itm-b (b\",H341,\"c+2s\",J341,\"c) (neutral)\")","v":"ratio call --^\\  itm-b (b165c+2s175c) (neutral)"},165,6.13,175,1.4,null,null,null,null,"unlim risk",{"$f":"(J341-H341-I341+K341*2)*sum!$J$2","v":667},168.32999999999998,181.67000000000002,0.40966550113131273,"unlim risk","unlim risk",{"$f":"(I341*1+K341*2)*sum!$J$2","v":893},0.74692049272116456,1,2,null,null,"x",3,9,328,null,null,null,null,null,null,null,null,null,null,null,null,null,null,null,null,null,null,null,null,{"$f":"VLOOKUP(H341,sum!$A$14:$E$113,3)","v":5.1729445158851775},{"$f":"VLOOKUP(J341,sum!$A$14:$E$113,3)","v":1.1605609180556016},"","exp","X"]
[null,null,null,null,30,329,{"$f":"CONCATENATE(\"ratio call --^\\  itm-b (b\",H342,\"c+2s\",J342,\"c) (neutral)\")","v":"ratio call --^\\  itm-b (b165c+2s177.5c) (neutral)"},165,6.13,177.5,0.84,null,null,null,null,"unlim risk",{"$f":"(J342-H342-I342+K342*2)*sum!$J$2","v":805.00000000000011},169.45,185.55,0.40112471735255706,"unlim risk","unlim risk",{"$f":"(I342*1+K342*2)*sum!$J$2","v":781},1.0307298335467352,1,2,null,null,"x",3,9,329,null,null,null,null,null,null,null,null,null,null,null,null,null,null,null,null,null,null,null,null,{"$f":"VLOOKUP(H342,sum!$A$14:$E$113,3)","v":5.1729445158851775},{"$f":"VLOOKUP(J342,sum!$A$14:$E$113,3)","v":0.72096128615324773},"","",""]
[null,null,null,null,"",330,{"$f":"CONCATENATE(\"ratio call --^\\  itm-b (b\",H343,\"c+2s\",J343,\"c) (bull)\")","v":"ratio call --^\\  itm-b (b165c+2s180c) (bull)"},165,6.13,180,0.49,null,null,null,null,"unlim risk",{"$f":"(J343-H343-I343+K343*2)*sum!$J$2","v":985.00000000000011},170.15,189.85000000000002,0.39196093787463004,"unlim risk","unlim risk",{"$f":"(I343*1+K343*2)*sum!$J$2","v":711},1.3853727144866388,1,2,null,null,"x",1,9,"",null,null,null,null,null,null,null,null,null,null,null,null,null,null,null,null,null,null,null,null,{"$f":"VLOOKUP(H343,sum!$A$14:$E$113,3)","v":5.1729445158851775},{"$f":"VLOOKUP(J343,sum!$A$14:$E$113,3)","v":0.42924785852553882},"","",""]
[null,null,null,null,"",331,{"$f":"CONCATENATE(\"ratio call --^\\  itm-b (b\",H344,\"c+2s\",J344,\"c) (bull)\")","v":"ratio call --^\\  itm-b (b165c+2s182.5c) (bull)"},165,6.13,182.5,0.28000000000000003,null,null,null,null,"unlim risk",{"$f":"(J344-H344-I344+K344*2)*sum!$J$2","v":1193.0000000000002},170.57,194.43,0.38252651590970532,"unlim risk","unlim risk",{"$f":"(I344*1+K344*2)*sum!$J$2","v":669},1.7832585949177882,1,2,null,null,"x",1,9,"",null,null,null,null,null,null,null,null,null,null,null,null,null,null,null,null,null,null,null,null,{"$f":"VLOOKUP(H344,sum!$A$14:$E$113,3)","v":5.1729445158851775},{"$f":"VLOOKUP(J344,sum!$A$14:$E$113,3)","v":0.24491065469218576},"","",""]
[null,null,null,null,"",332,{"$f":"CONCATENATE(\"ratio call --^\\  itm-b (b\",H345,\"c+2s\",J345,\"c) (bull)\")","v":"ratio call --^\\  itm-b (b165c+2s185c) (bull)"},165,6.13,185,0.15,null,null,null,null,"unlim risk",{"$f":"(J345-H345-I345+K345*2)*sum!$J$2","v":1417.0000000000002},170.82999999999998,199.17000000000002,0.37428781967171487,"unlim risk","unlim risk",{"$f":"(I345*1+K345*2)*sum!$J$2","v":643},2.2037325038880251,1,2,null,null,"x",1,9,"",null,null,null,null,null,null,null,null,null,null,null,null,null,null,null,null,null,null,null,null,{"$f":"VLOOKUP(H345,sum!$A$14:$E$113,3)","v":5.1729445158851775},{"$f":"VLOOKUP(J345,sum!$A$14:$E$113,3)","v":0.13393034202680809},"","",""]
[null,null,null,null,31,333,{"$f":"CONCATENATE(\"ratio call --^\\  itm-b (b\",H346,\"c+2s\",J346,\"c) (neutral)\")","v":"ratio call --^\\  itm-b (b167.5c+2s172.5c) (neutral)"},{"$f":"H297","v":167.5},{"$f":"I297","v":4.5999999999999996},{"$f":"J328","v":172.5},2.21,null,null,null,null,"unlim risk",{"$f":"(J346-H346-I346+K346*2)*sum!$J$2","v":482},167.68,177.32000000000002,{"$f":"1-((NORMSDIST(LN(ABS(R346)/$C$3)/($E$3*SQRT(($D$3-NOW())/365))))+(1-(NORMSDIST(LN(ABS(S346)/$C$3)/($E$3*SQRT(($D$3-NOW())/365))))))","v":0.35423026933353974},"unlim risk","unlim risk",{"$f":"(I346*1+K346*2)*sum!$J$2","v":902},0.53436807095343686,1,2,null,null,"x",3,9,333,null,null,null,null,null,null,null,null,null,null,null,null,null,null,null,null,null,null,null,null,{"$f":"VLOOKUP(H346,sum!$A$14:$E$113,3)","v":3.7760676776467079},{"$f":"VLOOKUP(J346,sum!$A$14:$E$113,3)","v":1.7912926031122538},"exp","exp",""]
[null,null,null,null,32,334,{"$f":"CONCATENATE(\"ratio call --^\\  itm-b (b\",H347,\"c+2s\",J347,\"c) (neutral)\")","v":"ratio call --^\\  itm-b (b167.5c+2s175c) (neutral)"},{"$f":"$H$346","v":167.5},{"$f":"$I$346","v":4.5999999999999996},175,1.4,null,null,null,null,"unlim risk",{"$f":"(J347-H347-I347+K347*2)*sum!$J$2","v":570},169.29999999999998,180.70000000000002,0.3527288947128876,"unlim risk","unlim risk",{"$f":"(I347*1+K347*2)*sum!$J$2","v":740},0.77027027027027029,1,2,null,null,"x",3,9,334,null,null,null,null,null,null,null,null,null,null,null,null,null,null,null,null,null,null,null,null,{"$f":"VLOOKUP(H347,sum!$A$14:$E$113,3)","v":3.7760676776467079},{"$f":"VLOOKUP(J347,sum!$A$14:$E$113,3)","v":1.1605609180556016},"exp","exp",""]
[null,null,null,null,33,335,{"$f":"CONCATENATE(\"ratio call --^\\  itm-b (b\",H348,\"c+2s\",J348,\"c) (neutral)\")","v":"ratio call --^\\  itm-b (b167.5c+2s177.5c) (neutral)"},{"$f":"$H$346","v":167.5},{"$f":"$I$346","v":4.5999999999999996},177.5,0.84,null,null,null,null,"unlim risk",{"$f":"(J348-H348-I348+K348*2)*sum!$J$2","v":708},170.42,184.58,0.35230250890652659,"unlim risk","unlim risk",{"$f":"(I348*1+K348*2)*sum!$J$2","v":627.99999999999989},1.1273885350318473,1,2,null,null,"x",3,9,335,null,null,null,null,null,null,null,null,null,null,null,null,null,null,null,null,null,null,null,null,{"$f":"VLOOKUP(H348,sum!$A$14:$E$113,3)","v":3.7760676776467079},{"$f":"VLOOKUP(J348,sum!$A$14:$E$113,3)","v":0.72096128615324773},"exp","",""]
[null,null,null,null,"",336,{"$f":"CONCATENATE(\"ratio call --^\\  itm-b (b\",H349,\"c+2s\",J349,\"c) (bull)\")","v":"ratio call --^\\  itm-b (b167.5c+2s180c) (bull)"},{"$f":"$H$346","v":167.5},{"$f":"$I$346","v":4.5999999999999996},180,0.49,null,null,null,null,"unlim risk",{"$f":"(J349-H349-I349+K349*2)*sum!$J$2","v":888.00000000000011},171.12,188.88000000000002,0.3485858936800067,"unlim risk","unlim risk",{"$f":"(I349*1+K349*2)*sum!$J$2","v":558},1.5913978494623657,1,2,null,null,"x",1,9,"",null,null,null,null,null,null,null,null,null,null,null,null,null,null,null,null,null,null,null,null,{"$f":"VLOOKUP(H349,sum!$A$14:$E$113,3)","v":3.7760676776467079},{"$f":"VLOOKUP(J349,sum!$A$14:$E$113,3)","v":0.42924785852553882},"exp","",""]
[null,null,null,null,"",337,{"$f":"CONCATENATE(\"ratio call --^\\  itm-b (b\",H350,\"c+2s\",J350,\"c) (bull)\")","v":"ratio call --^\\  itm-b (b167.5c+2s182.5c) (bull)"},{"$f":"$H$346","v":167.5},{"$f":"$I$346","v":4.5999999999999996},182.5,0.28000000000000003,null,null,null,null,"unlim risk",{"$f":"(J350-H350-I350+K350*2)*sum!$J$2","v":1096},171.54,193.46,0.34195515796670606,"unlim risk","unlim risk",{"$f":"(I350*1+K350*2)*sum!$J$2","v":516},{"$f":"IF(P350=\"\",\"\",Q350/W350)","v":2.1240310077519382},1,2,null,null,"x",1,9,"",null,null,null,null,null,null,null,null,null,null,null,null,null,null,null,null,null,null,null,null,{"$f":"VLOOKUP(H350,sum!$A$14:$E$113,3)","v":3.7760676776467079},{"$f":"VLOOKUP(J350,sum!$A$14:$E$113,3)","v":0.24491065469218576},"exp","",""]
[null,null,null,null,"",338,{"$f":"CONCATENATE(\"ratio call --^\\  itm-b (b\",H351,\"c+2s\",J351,\"c) (bull)\")","v":"ratio call --^\\  itm-b (b167.5c+2s185c) (bull)"},{"$f":"$H$346","v":167.5},{"$f":"$I$346","v":4.5999999999999996},185,0.15,null,null,null,null,"unlim risk",{"$f":"(J351-H351-I351+K351*2)*sum!$J$2","v":1320},171.79999999999998,198.20000000000002,0.33493790471031548,"unlim risk","unlim risk",{"$f":"(I351*1+K351*2)*sum!$J$2","v":489.99999999999994},2.6938775510204085,1,2,null,null,"x",1,9,"",null,null,null,null,null,null,null,null,null,null,null,null,null,null,null,null,null,null,null,null,{"$f":"VLOOKUP(H351,sum!$A$14:$E$113,3)","v":3.7760676776467079},{"$f":"VLOOKUP(J351,sum!$A$14:$E$113,3)","v":0.13393034202680809},"exp","",""]
[null,null,null,null,34,339,{"$f":"CONCATENATE(\"ratio call --^\\  itm-b (b\",H352,\"c+2s\",J352,\"c) (neutral)\")","v":"ratio call --^\\  itm-b (b170c+2s172.5c) (neutral)"},{"$f":"$H$296","v":170},{"$f":"$I$296","v":3.3},{"$f":"J328","v":172.5},{"$f":"K328","v":2.21},null,null,null,null,"unlim risk",{"$f":"(J352-H352-I352+K352*2)*sum!$J$2","v":362},1E-4,176.12,0.81157930038253823,"unlim risk","unlim risk",{"$f":"(I352*1+K352*2)*sum!$J$2","v":772},0.4689119170984456,1,2,null,null,"x",3,9,339,null,null,null,null,null,null,null,null,null,null,null,null,null,null,null,null,null,null,null,null,{"$f":"VLOOKUP(H352,sum!$A$14:$E$113,3)","v":2.6531942972793985},{"$f":"VLOOKUP(J352,sum!$A$14:$E$113,3)","v":1.7912926031122538},"exp","exp",""]
[null,null,null,null,35,340,{"$f":"CONCATENATE(\"ratio call --^\\  itm-b (b\",H353,\"c+2s\",J353,\"c) (neutral)\")","v":"ratio call --^\\  itm-b (b170c+2s175c) (neutral)"},170,3.3,{"$f":"J347","v":175},1.4,null,null,null,null,"unlim risk",{"$f":"(J353-H353-I353+K353*2)*sum!$J$2","v":450},170.5,179.5,0.28051966430604713,"unlim risk","unlim risk",{"$f":"(I353*1+K353*2)*sum!$J$2","v":610},0.73770491803278693,1,2,null,null,"x",3,9,340,null,null,null,null,null,null,null,null,null,null,null,null,null,null,null,null,null,null,null,null,{"$f":"VLOOKUP(H353,sum!$A$14:$E$113,3)","v":2.6531942972793985},{"$f":"VLOOKUP(J353,sum!$A$14:$E$113,3)","v":1.1605609180556016},"exp","exp",""]
[null,null,null,null,36,341,{"$f":"CONCATENATE(\"ratio call --^\\  itm-b (b\",H354,\"c+2s\",J354,\"c) (neutral)\")","v":"ratio call --^\\  itm-b (b170c+2s177.5c) (neutral)"},170,3.3,177.5,0.84,null,null,null,null,"unlim risk",{"$f":"(J354-H354-I354+K354*2)*sum!$J$2","v":588},171.62,183.38,0.29182297011989899,"unlim risk","unlim risk",{"$f":"(I354*1+K354*2)*sum!$J$2","v":497.99999999999994},1.1807228915662651,1,2,null,null,"x",3,9,341,null,null,null,null,null,null,null,null,null,null,null,null,null,null,null,null,null,null,null,null,{"$f":"VLOOKUP(H354,sum!$A$14:$E$113,3)","v":2.6531942972793985},{"$f":"VLOOKUP(J354,sum!$A$14:$E$113,3)","v":0.72096128615324773},"exp","",""]
[null,null,null,null,"",342,{"$f":"CONCATENATE(\"ratio call --^\\  itm-b (b\",H355,\"c+2s\",J355,\"c) (bull)\")","v":"ratio call --^\\  itm-b (b170c+2s180c) (bull)"},170,3.3,180,0.49,null,null,null,null,"unlim risk",{"$f":"(J355-H355-I355+K355*2)*sum!$J$2","v":768},172.32000000000002,187.68,0.29621665885284909,"unlim risk","unlim risk",{"$f":"(I355*1+K355*2)*sum!$J$2","v":427.99999999999994},1.7943925233644862,1,2,null,null,"x",1,9,"",null,null,null,null,null,null,null,null,null,null,null,null,null,null,null,null,null,null,null,null,{"$f":"VLOOKUP(H355,sum!$A$14:$E$113,3)","v":2.6531942972793985},{"$f":"VLOOKUP(J355,sum!$A$14:$E$113,3)","v":0.42924785852553882},"exp","",""]
[null,null,null,null,"",343,{"$f":"CONCATENATE(\"ratio call --^\\  itm-b (b\",H356,\"c+2s\",J356,\"c) (bull)\")","v":"ratio call --^\\  itm-b (b170c+2s182.5c) (bull)"},170,3.3,182.5,0.28000000000000003,null,null,null,null,"unlim risk",{"$f":"(J356-H356-I356+K356*2)*sum!$J$2","v":976},172.74,192.26,0.29389352803974189,"unlim risk","unlim risk",{"$f":"(I356*1+K356*2)*sum!$J$2","v":386},2.528497409326425,1,2,null,null,"x",1,9,"",null,null,null,null,null,null,null,null,null,null,null,null,null,null,null,null,null,null,null,null,{"$f":"VLOOKUP(H356,sum!$A$14:$E$113,3)","v":2.6531942972793985},{"$f":"VLOOKUP(J356,sum!$A$14:$E$113,3)","v":0.24491065469218576},"exp","",""]
[null,null,null,null,"",344,{"$f":"CONCATENATE(\"ratio call --^\\  itm-b (b\",H357,\"c+2s\",J357,\"c) (bull)\")","v":"ratio call --^\\  itm-b (b170c+2s185c) (bull)"},170,3.3,185,0.15,null,null,null,null,"unlim risk",{"$f":"(J357-H357-I357+K357*2)*sum!$J$2","v":1200},173,197,0.28879113081399599,"unlim risk","unlim risk",{"$f":"(I357*1+K357*2)*sum!$J$2","v":359.99999999999994},3.3333333333333339,1,2,null,null,"x",1,9,"",null,null,null,null,null,null,null,null,null,null,null,null,null,null,null,null,null,null,null,null,{"$f":"VLOOKUP(H357,sum!$A$14:$E$113,3)","v":2.6531942972793985},{"$f":"VLOOKUP(J357,sum!$A$14:$E$113,3)","v":0.13393034202680809},"exp","",""]
[null,null,null,null,"",345,{"$f":"CONCATENATE(\"ratio call --^\\  otm-b (b\",H358,\"c+2s\",J358,\"c) (bull)\")","v":"ratio call --^\\  otm-b (b172.5c+2s175c) (bull)"},{"$f":"$H$295","v":172.5},{"$f":"$I$295","v":2.21},{"$f":"J329","v":175},1.4,null,null,null,null,"unlim risk",{"$f":"(J358-H358-I358+K358*2)*sum!$J$2","v":309},1E-4,178.09,{"$f":"1-((NORMSDIST(LN(ABS(R358)/$C$3)/($E$3*SQRT(($D$3-NOW())/365))))+(1-(NORMSDIST(LN(ABS(S358)/$C$3)/($E$3*SQRT(($D$3-NOW())/365))))))","v":0.86212345588857464},"unlim risk","unlim risk",{"$f":"(I358*1+K358*2)*sum!$J$2","v":501},0.61676646706586824,1,2,null,null,"x",1,9,"",null,null,null,null,null,null,null,null,null,null,null,null,null,null,null,null,null,null,null,null,{"$f":"VLOOKUP(H358,sum!$A$14:$E$113,3)","v":1.7912926031122538},{"$f":"VLOOKUP(J358,sum!$A$14:$E$113,3)","v":1.1605609180556016},"exp","exp",""]
[null,null,null,null,"",346,{"$f":"CONCATENATE(\"ratio call --^\\  otm-b (b\",H359,\"c+2s\",J359,\"c) (bull)\")","v":"ratio call --^\\  otm-b (b172.5c+2s177.5c) (bull)"},{"$f":"$H$295","v":172.5},{"$f":"$I$295","v":2.21},177.5,0.84,null,null,null,null,"unlim risk",{"$f":"(J359-H359-I359+K359*2)*sum!$J$2","v":447},173.03,181.97,0.22103649893724331,"unlim risk","unlim risk",{"$f":"(I359*1+K359*2)*sum!$J$2","v":388.99999999999994},1.1491002570694089,1,2,null,null,"x",1,9,"",null,null,null,null,null,null,null,null,null,null,null,null,null,null,null,null,null,null,null,null,{"$f":"VLOOKUP(H359,sum!$A$14:$E$113,3)","v":1.7912926031122538},{"$f":"VLOOKUP(J359,sum!$A$14:$E$113,3)","v":0.72096128615324773},"exp","",""]
[null,null,null,null,"",347,"ratio call --^\\  otm-b (b172.5c+2s180c) (bull)",{"$f":"$H$295","v":172.5},{"$f":"$I$295","v":2.21},180,0.49,null,null,null,null,"unlim risk",{"$f":"(J360-H360-I360+K360*2)*sum!$J$2","v":627},{"$f":"IF(2*K360>=I360,0.0001,$C$3-K360*2+(I360-($C$3-H360)))","v":173.73000000000002},{"$f":"J360*2+K360*2-$C$3-(I360-($C$3-H360))","v":186.27},0.23690728877557377,"unlim risk","unlim risk",{"$f":"(I360*1+K360*2)*sum!$J$2","v":319},1.9655172413793103,1,2,null,null,"x",1,9,"",null,null,null,null,null,null,null,null,null,null,null,null,null,null,null,null,null,null,null,null,{"$f":"VLOOKUP(H360,sum!$A$14:$E$113,3)","v":1.7912926031122538},{"$f":"VLOOKUP(J360,sum!$A$14:$E$113,3)","v":0.42924785852553882},"exp","",""]
[null,null,null,null,"",348,"ratio call --^\\  otm-b (b172.5c+2s182.5c) (bull)",{"$f":"$H$295","v":172.5},{"$f":"$I$295","v":2.21},182.5,0.28000000000000003,null,null,null,null,"unlim risk",{"$f":"(J361-H361-I361+K361*2)*sum!$J$2","v":835},174.15,190.85,0.24093052399048354,"unlim risk","unlim risk",{"$f":"(I361*1+K361*2)*sum!$J$2","v":277},3.0144404332129966,1,2,null,null,"x",1,9,"",null,null,null,null,null,null,null,null,null,null,null,null,null,null,null,null,null,null,null,null,{"$f":"VLOOKUP(H361,sum!$A$14:$E$113,3)","v":1.7912926031122538},{"$f":"VLOOKUP(J361,sum!$A$14:$E$113,3)","v":0.24491065469218576},"exp","",""]
[null,null,null,null,"",349,"ratio call --^\\  otm-b (b172.5c+2s185c) (bull)",{"$f":"$H$295","v":172.5},{"$f":"$I$295","v":2.21},185,0.15,null,null,null,null,"unlim risk",{"$f":"(J362-H362-I362+K362*2)*sum!$J$2","v":1059},174.41,195.59,0.23871611259474812,"unlim risk","unlim risk",{"$f":"(I362*1+K362*2)*sum!$J$2","v":250.99999999999997},4.2191235059760963,1,2,null,null,"x",1,9,"",null,null,null,null,null,null,null,null,null,null,null,null,null,null,null,null,null,null,null,null,{"$f":"VLOOKUP(H362,sum!$A$14:$E$113,3)","v":1.7912926031122538},{"$f":"VLOOKUP(J362,sum!$A$14:$E$113,3)","v":0.13393034202680809},"exp","",""]
[null,null,null,null,"",350,"ratio call --^\\  otm-b (b175c+2s177.5c) (bull)",{"$f":"J358","v":175},{"$f":"K358","v":1.4},{"$f":"J359","v":177.5},0.84,null,null,null,null,"unlim risk",{"$f":"(J363-H363-I363+K363*2)*sum!$J$2","v":278},1E-4,180.28,0.90598888118876408,"unlim risk","unlim risk",{"$f":"(I363*1+K363*2)*sum!$J$2","v":308},0.90259740259740262,1,2,null,null,"x",1,9,"",null,null,null,null,null,null,null,null,null,null,null,null,null,null,null,null,null,null,null,null,{"$f":"VLOOKUP(H363,sum!$A$14:$E$113,3)","v":1.1605609180556016},{"$f":"VLOOKUP(J363,sum!$A$14:$E$113,3)","v":0.72096128615324773},"exp","",""]
[null,null,null,null,"",351,"ratio call --^\\  otm-b (b175c+2s180c) (bull)",{"$f":"$H$363","v":175},{"$f":"$I$363","v":1.4},180,0.49,null,null,null,null,"unlim risk",{"$f":"(J364-H364-I364+K364*2)*sum!$J$2","v":458},175.42000000000002,184.58,0.1692251755432066,"unlim risk","unlim risk",{"$f":"(I364*1+K364*2)*sum!$J$2","v":238},1.9243697478991597,1,2,null,null,"x",1,9,"",null,null,null,null,null,null,null,null,null,null,null,null,null,null,null,null,null,null,null,null,{"$f":"VLOOKUP(H364,sum!$A$14:$E$113,3)","v":1.1605609180556016},{"$f":"VLOOKUP(J364,sum!$A$14:$E$113,3)","v":0.42924785852553882},"exp","",""]
[null,null,null,null,"",352,"ratio call --^\\  otm-b (b175c+2s182.5c) (bull)",{"$f":"$H$363","v":175},{"$f":"$I$363","v":1.4},182.5,0.28000000000000003,null,null,null,null,"unlim risk",{"$f":"(J365-H365-I365+K365*2)*sum!$J$2","v":666},175.84,189.16,0.18285264063788731,"unlim risk","unlim risk",{"$f":"(I365*1+K365*2)*sum!$J$2","v":196},3.3979591836734695,1,2,null,null,"x",1,9,"",null,null,null,null,null,null,null,null,null,null,null,null,null,null,null,null,null,null,null,null,{"$f":"VLOOKUP(H365,sum!$A$14:$E$113,3)","v":1.1605609180556016},{"$f":"VLOOKUP(J365,sum!$A$14:$E$113,3)","v":0.24491065469218576},"exp","",""]
[null,null,null,null,"",353,"ratio call --^\\  otm-b (b175c+2s185c) (bull)",{"$f":"$H$363","v":175},{"$f":"$I$363","v":1.4},185,0.15,null,null,null,null,"unlim risk",{"$f":"(J366-H366-I366+K366*2)*sum!$J$2","v":890},176.1,193.9,0.18515625872028729,"unlim risk","unlim risk",{"$f":"(I366*1+K366*2)*sum!$J$2","v":170},5.2352941176470589,1,2,null,null,"x",1,9,"",null,null,null,null,null,null,null,null,null,null,null,null,null,null,null,null,null,null,null,null,{"$f":"VLOOKUP(H366,sum!$A$14:$E$113,3)","v":1.1605609180556016},{"$f":"VLOOKUP(J366,sum!$A$14:$E$113,3)","v":0.13393034202680809},"exp","",""]
[null,null,null,null,"",354,"ratio call --^\\  otm-b (b177.5c+2s180c) (bull)",{"$f":"J354","v":177.5},{"$f":"K354","v":0.84},{"$f":"J364","v":180},0.49,null,null,null,null,"unlim risk",{"$f":"(J367-H367-I367+K367*2)*sum!$J$2","v":264},1E-4,182.64000000000001,0.94032655248273223,"unlim risk","unlim risk",{"$f":"(I367*1+K367*2)*sum!$J$2","v":181.99999999999997},1.4505494505494507,1,2,null,null,"x",1,9,"",null,null,null,null,null,null,null,null,null,null,null,null,null,null,null,null,null,null,null,null,{"$f":"VLOOKUP(H367,sum!$A$14:$E$113,3)","v":0.72096128615324773},{"$f":"VLOOKUP(J367,sum!$A$14:$E$113,3)","v":0.42924785852553882},"","",""]
[null,null,null,null,"",355,"ratio call --^\\  otm-b (b177.5c+2s182.5c) (bull)",{"$f":"$H$367","v":177.5},{"$f":"$I$367","v":0.84},182.5,0.28000000000000003,null,null,null,null,"unlim risk",{"$f":"(J368-H368-I368+K368*2)*sum!$J$2","v":472.00000000000006},177.78,187.22,0.12324623485434782,"unlim risk","unlim risk",{"$f":"(I368*1+K368*2)*sum!$J$2","v":140},3.3714285714285719,1,2,null,null,"x",1,9,"",null,null,null,null,null,null,null,null,null,null,null,null,null,null,null,null,null,null,null,null,{"$f":"VLOOKUP(H368,sum!$A$14:$E$113,3)","v":0.72096128615324773},{"$f":"VLOOKUP(J368,sum!$A$14:$E$113,3)","v":0.24491065469218576},"","",""]
[null,null,null,null,"",356,"ratio call --^\\  otm-b (b177.5c+2s185c) (bull)",{"$f":"$H$367","v":177.5},{"$f":"$I$367","v":0.84},185,0.15,null,null,null,null,"unlim risk",{"$f":"(J369-H369-I369+K369*2)*sum!$J$2","v":696},178.04,191.96,0.13245767961666521,"unlim risk","unlim risk",{"$f":"(I369*1+K369*2)*sum!$J$2","v":113.99999999999999},6.1052631578947372,1,2,null,null,"x",1,9,"",null,null,null,null,null,null,null,null,null,null,null,null,null,null,null,null,null,null,null,null,{"$f":"VLOOKUP(H369,sum!$A$14:$E$113,3)","v":0.72096128615324773},{"$f":"VLOOKUP(J369,sum!$A$14:$E$113,3)","v":0.13393034202680809},"","",""]
[null,null,null,null,"",357,"ratio call --^\\  otm-b (b180c+2s182.5c) (bull)",{"$f":"J364","v":180},{"$f":"K364","v":0.49},{"$f":"J368","v":182.5},{"$f":"K368","v":0.28000000000000003},null,null,null,null,"unlim risk",{"$f":"(J370-H370-I370+K370*2)*sum!$J$2","v":257},1E-4,185.07,0.96426709292887525,"unlim risk","unlim risk",{"$f":"(I370*1+K370*2)*sum!$J$2","v":105},2.4476190476190478,1,2,null,null,"x",1,9,"",null,null,null,null,null,null,null,null,null,null,null,null,null,null,null,null,null,null,null,null,{"$f":"VLOOKUP(H370,sum!$A$14:$E$113,3)","v":0.42924785852553882},{"$f":"VLOOKUP(J370,sum!$A$14:$E$113,3)","v":0.24491065469218576},"","",""]
[null,null,null,null,"",358,"ratio call --^\\  otm-b (b180c+2s185c) (bull)",{"$f":"H370","v":180},{"$f":"I370","v":0.49},{"$f":"J369","v":185},{"$f":"K369","v":0.15},null,null,null,null,"unlim risk",{"$f":"(J371-H371-I371+K371*2)*sum!$J$2","v":480.99999999999994},180.19,189.81,8.4007233684012528E-2,"unlim risk","unlim risk",{"$f":"(I371*1+K371*2)*sum!$J$2","v":79},6.0886075949367084,1,2,null,null,"x",1,9,"",null,null,null,null,null,null,null,null,null,null,null,null,null,null,null,null,null,null,null,null,{"$f":"VLOOKUP(H371,sum!$A$14:$E$113,3)","v":0.42924785852553882},{"$f":"VLOOKUP(J371,sum!$A$14:$E$113,3)","v":0.13393034202680809},"","",""]
[null,null,null,null,"",359,"ratio call --^\\  otm-b (b182.5c+2s185c) (bull)",{"$f":"J370","v":182.5},{"$f":"K370","v":0.28000000000000003},{"$f":"J371","v":185},{"$f":"K371","v":0.15},null,null,null,null,"unlim risk",{"$f":"(J372-H372-I372+K372*2)*sum!$J$2","v":251.99999999999994},1E-4,187.52,0.97963522388848157,"unlim risk","unlim risk",{"$f":"(I372*1+K372*2)*sum!$J$2","v":58.000000000000007},4.344827586206895,1,2,null,null,"x",1,9,"",null,null,null,null,null,null,null,null,null,null,null,null,null,null,null,null,null,null,null,null,{"$f":"VLOOKUP(H372,sum!$A$14:$E$113,3)","v":0.24491065469218576},{"$f":"VLOOKUP(J372,sum!$A$14:$E$113,3)","v":0.13393034202680809},"","",""]
[null,null,null,null,"",360,{"$f":"CONCATENATE(\"ratio call --^\\  itm-b (b\",H373,\"c+2s\",J373,\"c) (bear)\")","v":"ratio call --^\\  itm-b (b160c+2s172.5c) (bear)"},{"$f":"H328","v":160},{"$f":"I328","v":9.75},{"$f":"H295","v":172.5},2.21,null,null,null,null,"unlim risk",{"$f":"(J373-H373-I373+K373*2)*sum!$J$2","v":717},165.33,179.67000000000002,{"$f":"1-((NORMSDIST(LN(ABS(R373)/$C$3)/($E$3*SQRT(($D$3-NOW())/365))))+(1-(NORMSDIST(LN(ABS(S373)/$C$3)/($E$3*SQRT(($D$3-NOW())/365))))))","v":0.50838359711782266},"unlim risk","unlim risk",{"$f":"(I373*1+K373*2)*sum!$J$2","v":1417},0.50599858856739588,1,2,null,null,"x",2,9,"",null,null,null,null,null,null,null,null,null,null,null,null,null,null,null,null,null,null,null,null,{"$f":"VLOOKUP(H373,sum!$A$14:$E$113,3)","v":8.7405758489679783},{"$f":"VLOOKUP(J373,sum!$A$14:$E$113,3)","v":1.7912926031122538},"","exp","X"]
[null,null,null,null,"",361,{"$f":"CONCATENATE(\"ratio call --^\\  itm-b (b\",H374,\"c+2s\",J374,\"c) (bear)\")","v":"ratio call --^\\  itm-b (b160c+2s170c) (bear)"},{"$f":"$H$373","v":160},{"$f":"$I$373","v":9.75},170,3.3,null,null,null,null,"unlim risk",{"$f":"(J374-H374-I374+K374*2)*sum!$J$2","v":685},163.15,176.85000000000002,0.53495340845860595,"unlim risk","unlim risk",{"$f":"(I374*1+K374*2)*sum!$J$2","v":1635.0000000000002},0.41896024464831799,1,2,null,null,"x",2,9,"",null,null,null,null,null,null,null,null,null,null,null,null,null,null,null,null,null,null,null,null,{"$f":"VLOOKUP(H374,sum!$A$14:$E$113,3)","v":8.7405758489679783},{"$f":"VLOOKUP(J374,sum!$A$14:$E$113,3)","v":2.6531942972793985},"","exp","X"]
[null,null,null,null,"",362,"ratio call --^\\  itm-b (b160c+2s167.5c) (bear)",{"$f":"$H$373","v":160},{"$f":"$I$373","v":9.75},167.5,4.5999999999999996,null,null,null,null,"unlim risk",{"$f":"(J375-H375-I375+K375*2)*sum!$J$2","v":694.99999999999989},160.55000000000001,174.45,0.55752991806594587,"unlim risk","unlim risk",{"$f":"(I375*1+K375*2)*sum!$J$2","v":1895},0.36675461741424797,1,2,null,null,"x",2,9,"",null,null,null,null,null,null,null,null,null,null,null,null,null,null,null,null,null,null,null,null,{"$f":"VLOOKUP(H375,sum!$A$14:$E$113,3)","v":8.7405758489679783},{"$f":"VLOOKUP(J375,sum!$A$14:$E$113,3)","v":3.7760676776467079},"","exp","X"]
[null,null,null,null,"",363,"ratio call --^\\  itm-b (b160c+2s165c) (bear)",{"$f":"$H$373","v":160},{"$f":"$I$373","v":9.75},165,6.13,null,null,null,null,"unlim risk",{"$f":"(J376-H376-I376+K376*2)*sum!$J$2","v":751},1E-4,172.51,0.69141144867352833,"unlim risk","unlim risk",{"$f":"(I376*1+K376*2)*sum!$J$2","v":2201},0.34120854157201275,1,2,null,null,"x",2,9,"",null,null,null,null,null,null,null,null,null,null,null,null,null,null,null,null,null,null,null,null,{"$f":"VLOOKUP(H376,sum!$A$14:$E$113,3)","v":8.7405758489679783},{"$f":"VLOOKUP(J376,sum!$A$14:$E$113,3)","v":5.1729445158851775},"","",""]
[null,null,null,null,"",364,"ratio call --^\\  itm-b (b160c+2s162.5c) (bear)",{"$f":"$H$373","v":160},{"$f":"$I$373","v":9.75},162.5,7.9,null,null,null,null,"unlim risk",{"$f":"(J377-H377-I377+K377*2)*sum!$J$2","v":855.00000000000011},1E-4,171.05,0.63394380075318613,"unlim risk","unlim risk",{"$f":"(I377*1+K377*2)*sum!$J$2","v":2555},0.33463796477495111,1,2,null,null,"x",2,9,"",null,null,null,null,null,null,null,null,null,null,null,null,null,null,null,null,null,null,null,null,{"$f":"VLOOKUP(H377,sum!$A$14:$E$113,3)","v":8.7405758489679783},{"$f":"VLOOKUP(J377,sum!$A$14:$E$113,3)","v":6.8366814360047243},"","",""]
[null,null,null,null,"",365,"ratio call --^\\  itm-b (b162.5c+2s172.5c) (bear)",{"$f":"H339","v":162.5},{"$f":"I339","v":7.9},{"$f":"J373","v":172.5},2.21,null,null,null,null,"unlim risk",{"$f":"(J378-H378-I378+K378*2)*sum!$J$2","v":652},165.98000000000002,179.02,0.46754578808748359,"unlim risk","unlim risk",{"$f":"(I378*1+K378*2)*sum!$J$2","v":1232},0.52922077922077926,1,2,null,null,"x",2,9,"",null,null,null,null,null,null,null,null,null,null,null,null,null,null,null,null,null,null,null,null,{"$f":"VLOOKUP(H378,sum!$A$14:$E$113,3)","v":6.8366814360047243},{"$f":"VLOOKUP(J378,sum!$A$14:$E$113,3)","v":1.7912926031122538},"","exp","X"]
[null,null,null,null,"",366,"ratio call --^\\  itm-b (b162.5c+2s170c) (bear)",{"$f":"$H$378","v":162.5},{"$f":"$I$378","v":7.9},170,3.3,null,null,null,null,"unlim risk",{"$f":"(J379-H379-I379+K379*2)*sum!$J$2","v":619.99999999999989},163.80000000000001,176.20000000000002,0.49124611740780444,"unlim risk","unlim risk",{"$f":"(I379*1+K379*2)*sum!$J$2","v":1450},0.42758620689655163,1,2,null,null,"x",2,9,"",null,null,null,null,null,null,null,null,null,null,null,null,null,null,null,null,null,null,null,null,{"$f":"VLOOKUP(H379,sum!$A$14:$E$113,3)","v":6.8366814360047243},{"$f":"VLOOKUP(J379,sum!$A$14:$E$113,3)","v":2.6531942972793985},"","exp","X"]
[null,null,null,null,"",367,"ratio call --^\\  itm-b (b162.5c+2s167.5c) (bear)",{"$f":"$H$378","v":162.5},{"$f":"$I$378","v":7.9},167.5,4.5999999999999996,null,null,null,null,"unlim risk",{"$f":"(J380-H380-I380+K380*2)*sum!$J$2","v":629.99999999999989},1E-4,173.79999999999998,0.73824502648041568,"unlim risk","unlim risk",{"$f":"(I380*1+K380*2)*sum!$J$2","v":1710.0000000000002},0.36842105263157882,1,2,null,null,"x",2,9,"",null,null,null,null,null,null,null,null,null,null,null,null,null,null,null,null,null,null,null,null,{"$f":"VLOOKUP(H380,sum!$A$14:$E$113,3)","v":6.8366814360047243},{"$f":"VLOOKUP(J380,sum!$A$14:$E$113,3)","v":3.7760676776467079},"","exp","X"]
[null,null,null,null,"",368,"ratio call --^\\  itm-b (b162.5c+2s165c) (bear)",{"$f":"$H$378","v":162.5},{"$f":"$I$378","v":7.9},165,6.13,null,null,null,null,"unlim risk",{"$f":"(J381-H381-I381+K381*2)*sum!$J$2","v":686},1E-4,171.85999999999999,{"$f":"1-((NORMSDIST(LN(ABS(R381)/$C$3)/($E$3*SQRT(($D$3-NOW())/365))))+(1-(NORMSDIST(LN(ABS(S381)/$C$3)/($E$3*SQRT(($D$3-NOW())/365))))))","v":0.66635982612011668},"unlim risk","unlim risk",{"$f":"(I381*1+K381*2)*sum!$J$2","v":2016},0.34027777777777779,1,2,null,null,"x",2,9,"",null,null,null,null,null,null,null,null,null,null,null,null,null,null,null,null,null,null,null,null,{"$f":"VLOOKUP(H381,sum!$A$14:$E$113,3)","v":6.8366814360047243},{"$f":"VLOOKUP(J381,sum!$A$14:$E$113,3)","v":5.1729445158851775},"","",""]
[null,null,null,null,"",369,"ratio call --^\\  itm-b (b165c+2s172.5c) (bear)",{"$f":"H340","v":165},{"$f":"I340","v":6.13},{"$f":"J378","v":172.5},2.21,null,null,null,null,"unlim risk",{"$f":"(J382-H382-I382+K382*2)*sum!$J$2","v":579},166.71,178.29000000000002,0.41997122848994195,"unlim risk","unlim risk",{"$f":"(I382*1+K382*2)*sum!$J$2","v":1055},0.54881516587677726,1,2,null,null,"x",2,9,"",null,null,null,null,null,null,null,null,null,null,null,null,null,null,null,null,null,null,null,null,{"$f":"VLOOKUP(H382,sum!$A$14:$E$113,3)","v":5.1729445158851775},{"$f":"VLOOKUP(J382,sum!$A$14:$E$113,3)","v":1.7912926031122538},"","exp","X"]
[null,null,null,null,"",370,"ratio call --^\\  itm-b (b165c+2s170c) (bear)",{"$f":"$H$382","v":165},{"$f":"$I$382","v":6.13},170,3.3,null,null,null,null,"unlim risk",{"$f":"(J383-H383-I383+K383*2)*sum!$J$2","v":547},1E-4,175.47000000000003,0.79252005482242938,"unlim risk","unlim risk",{"$f":"(I383*1+K383*2)*sum!$J$2","v":1273},0.42969363707776903,1,2,null,null,"x",2,9,"",null,null,null,null,null,null,null,null,null,null,null,null,null,null,null,null,null,null,null,null,{"$f":"VLOOKUP(H383,sum!$A$14:$E$113,3)","v":5.1729445158851775},{"$f":"VLOOKUP(J383,sum!$A$14:$E$113,3)","v":2.6531942972793985},"","exp","X"]
[null,null,null,null,"",371,"ratio call --^\\  itm-b (b165c+2s167.5c) (bear)",{"$f":"$H$382","v":165},{"$f":"$I$382","v":6.13},167.5,4.5999999999999996,null,null,null,null,"unlim risk",{"$f":"(J384-H384-I384+K384*2)*sum!$J$2","v":556.99999999999989},1E-4,173.07,0.71223545351819628,"unlim risk","unlim risk",{"$f":"(I384*1+K384*2)*sum!$J$2","v":1532.9999999999998},0.3633398564905414,1,2,null,null,"x",2,9,"",null,null,null,null,null,null,null,null,null,null,null,null,null,null,null,null,null,null,null,null,{"$f":"VLOOKUP(H384,sum!$A$14:$E$113,3)","v":5.1729445158851775},{"$f":"VLOOKUP(J384,sum!$A$14:$E$113,3)","v":3.7760676776467079},"","exp","X"]
[null,null,null,null,"",372,"ratio call --^\\  itm-b (b167.5c+2s172.5c) (bear)",{"$f":"H346","v":167.5},{"$f":"I346","v":4.5999999999999996},{"$f":"J382","v":172.5},{"$f":"K382","v":2.21},null,null,null,null,"unlim risk",{"$f":"(J385-H385-I385+K385*2)*sum!$J$2","v":482},167.68,177.32000000000002,0.35423026933353974,"unlim risk","unlim risk",{"$f":"(I385*1+K385*2)*sum!$J$2","v":902},0.53436807095343686,1,2,null,null,"x",2,9,"",null,null,null,null,null,null,null,null,null,null,null,null,null,null,null,null,null,null,null,null,{"$f":"VLOOKUP(H385,sum!$A$14:$E$113,3)","v":3.7760676776467079},{"$f":"VLOOKUP(J385,sum!$A$14:$E$113,3)","v":1.7912926031122538},"exp","exp",""]
[null,null,null,null,"",373,"ratio call --^\\  itm-b (b167.5c+2s170c) (bear)",{"$f":"H385","v":167.5},{"$f":"I385","v":4.5999999999999996},{"$f":"J383","v":170},{"$f":"K383","v":3.3},null,null,null,null,"unlim risk",{"$f":"(J386-H386-I386+K386*2)*sum!$J$2","v":450},1E-4,174.50000000000003,0.76190630976288654,"unlim risk","unlim risk",{"$f":"(I386*1+K386*2)*sum!$J$2","v":1120},0.4017857142857143,1,2,null,null,"x",2,9,"",null,null,null,null,null,null,null,null,null,null,null,null,null,null,null,null,null,null,null,null,{"$f":"VLOOKUP(H386,sum!$A$14:$E$113,3)","v":3.7760676776467079},{"$f":"VLOOKUP(J386,sum!$A$14:$E$113,3)","v":2.6531942972793985},"exp","exp",""]
[null,null,null,null,"",374,"ratio call --^\\  itm-b (b170c+2s172.5c) (bear)",{"$f":"H352","v":170},{"$f":"I352","v":3.3},{"$f":"J385","v":172.5},{"$f":"K385","v":2.21},null,null,null,null,"unlim risk",{"$f":"(J387-H387-I387+K387*2)*sum!$J$2","v":362},1E-4,176.12,0.81157930038253823,"unlim risk","unlim risk",{"$f":"(I387*1+K387*2)*sum!$J$2","v":772},0.4689119170984456,1,2,null,null,"x",2,9,"",null,null,null,null,null,null,null,null,null,null,null,null,null,null,null,null,null,null,null,null,{"$f":"VLOOKUP(H387,sum!$A$14:$E$113,3)","v":2.6531942972793985},{"$f":"VLOOKUP(J387,sum!$A$14:$E$113,3)","v":1.7912926031122538},"exp","exp",""]
[null,null,null,null,37,375,{"$f":"CONCATENATE(\"ratio put /`--  itm-b (b\",H388,\"p+2s\",J388,\"p) (neutral)\")","v":"ratio put /`--  itm-b (b185p+2s172.5p) (neutral)"},{"$f":"H323","v":185},{"$f":"$I$323","v":17.45},{"$f":"H318","v":172.5},{"$f":"I318","v":6.85},null,null,null,null,"unlim risk",{"$f":"(H388-J388-I388+K388*2)*sum!$J$2","v":875},{"$f":"J388*2-K388*2-$C$3+$C$3-(H388-I388)","v":163.75},{"$f":"IF(K388*2>=I388,$C$3*10,H388-I388+K388*2)","v":181.25},{"$f":"1-((NORMSDIST(LN(ABS(R388)/$C$3)/($E$3*SQRT(($D$3-NOW())/365))))+(1-(NORMSDIST(LN(ABS(S388)/$C$3)/($E$3*SQRT(($D$3-NOW())/365))))))","v":0.60103043444255455},"unlim risk","unlim risk",{"$f":"(I388*1+K388*2)*sum!$J$2","v":3115},0.2808988764044944,3,4,null,null,"x",3,9,375,null,null,null,null,null,null,null,null,null,null,null,null,null,null,null,null,null,null,null,null,{"$f":"VLOOKUP(H388,sum!$A$14:$E$113,5)","v":17.290744993426728},{"$f":"VLOOKUP(J388,sum!$A$14:$E$113,5)","v":6.4544764363941738},"","",""]
[null,null,null,null,38,376,{"$f":"CONCATENATE(\"ratio put /`--  itm-b (b\",H389,\"p+2s\",J389,\"p) (neutral)\")","v":"ratio put /`--  itm-b (b185p+2s170p) (neutral)"},{"$f":"$H$388","v":185},{"$f":"$I$388","v":17.45},{"$f":"H317","v":170},{"$f":"I317","v":5.45},null,null,null,null,"unlim risk",{"$f":"(H389-J389-I389+K389*2)*sum!$J$2","v":845.00000000000011},161.55000000000001,178.45000000000002,{"$f":"1-((NORMSDIST(LN(ABS(R389)/$C$3)/($E$3*SQRT(($D$3-NOW())/365))))+(1-(NORMSDIST(LN(ABS(S389)/$C$3)/($E$3*SQRT(($D$3-NOW())/365))))))","v":0.63345829721027613},"unlim risk","unlim risk",{"$f":"(I389*1+K389*2)*sum!$J$2","v":2835},0.29805996472663143,3,4,null,null,"x",3,9,376,null,null,null,null,null,null,null,null,null,null,null,null,null,null,null,null,null,null,null,null,{"$f":"VLOOKUP(H389,sum!$A$14:$E$113,5)","v":17.290744993426728},{"$f":"VLOOKUP(J389,sum!$A$14:$E$113,5)","v":4.8176520596149288},"","",{"$f":"IF(AND(BC389<>\"exp\",BD389=\"exp\"),\"X\",\"\")","v":""}]
[null,null,null,null,39,377,{"$f":"CONCATENATE(\"ratio put /`--  itm-b (b\",H390,\"p+2s\",J390,\"p) (neutral)\")","v":"ratio put /`--  itm-b (b185p+2s167.5p) (neutral)"},{"$f":"$H$388","v":185},{"$f":"$I$388","v":17.45},{"$f":"H316","v":167.5},{"$f":"I316","v":4.25},null,null,null,null,"unlim risk",{"$f":"(H390-J390-I390+K390*2)*sum!$J$2","v":855.00000000000011},158.94999999999999,176.05,0.65513961761585759,"unlim risk","unlim risk",{"$f":"(I390*1+K390*2)*sum!$J$2","v":2595},0.32947976878612723,3,4,null,null,"x",3,9,377,null,null,null,null,null,null,null,null,null,null,null,null,null,null,null,null,null,null,null,null,{"$f":"VLOOKUP(H390,sum!$A$14:$E$113,5)","v":17.290744993426728},{"$f":"VLOOKUP(J390,sum!$A$14:$E$113,5)","v":3.4417991640991801},"","exp","X"]
[null,null,null,null,"",378,{"$f":"CONCATENATE(\"ratio put /`--  itm-b (b\",H391,\"p+2s\",J391,\"p) (bear)\")","v":"ratio put /`--  itm-b (b185p+2s165p) (bear)"},{"$f":"$H$388","v":185},{"$f":"$I$388","v":17.45},{"$f":"H315","v":165},{"$f":"I315","v":3.26},null,null,null,null,"unlim risk",{"$f":"(H391-J391-I391+K391*2)*sum!$J$2","v":907},155.93,174.07000000000002,0.66266516108947138,"unlim risk","unlim risk",{"$f":"(I391*1+K391*2)*sum!$J$2","v":2397},0.37838965373383399,3,4,null,null,"x",2,9,"",null,null,null,null,null,null,null,null,null,null,null,null,null,null,null,null,null,null,null,null,{"$f":"VLOOKUP(H391,sum!$A$14:$E$113,5)","v":17.290744993426728},{"$f":"VLOOKUP(J391,sum!$A$14:$E$113,5)","v":2.33994988513588},"","exp","X"]
[null,null,null,null,"",379,{"$f":"CONCATENATE(\"ratio put /`--  itm-b (b\",H392,\"p+2s\",J392,\"p) (bear)\")","v":"ratio put /`--  itm-b (b185p+2s162.5p) (bear)"},{"$f":"$H$388","v":185},{"$f":"$I$388","v":17.45},{"$f":"H314","v":162.5},{"$f":"I314","v":2.4500000000000002},null,null,null,null,"unlim risk",{"$f":"(H392-J392-I392+K392*2)*sum!$J$2","v":995.00000000000011},152.55000000000001,172.45000000000002,0.65154348023928765,"unlim risk","unlim risk",{"$f":"(I392*1+K392*2)*sum!$J$2","v":2235},0.44519015659955263,3,4,null,null,"x",2,9,"",null,null,null,null,null,null,null,null,null,null,null,null,null,null,null,null,null,null,null,null,{"$f":"VLOOKUP(H392,sum!$A$14:$E$113,5)","v":17.290744993426728},{"$f":"VLOOKUP(J392,sum!$A$14:$E$113,5)","v":1.5049606005843685},"","exp","X"]
[null,null,null,null,"",380,{"$f":"CONCATENATE(\"ratio put /`--  itm-b (b\",H393,\"p+2s\",J393,\"p) (bear)\")","v":"ratio put /`--  itm-b (b185p+2s160p) (bear)"},{"$f":"$H$388","v":185},{"$f":"$I$388","v":17.45},{"$f":"H313","v":160},{"$f":"I313","v":1.85},null,null,null,null,"unlim risk",{"$f":"(H393-J393-I393+K393*2)*sum!$J$2","v":1125},148.75,171.25,0.62973842574343997,"unlim risk","unlim risk",{"$f":"(I393*1+K393*2)*sum!$J$2","v":2115},0.53191489361702127,3,4,null,null,"x",2,9,"",null,null,null,null,null,null,null,null,null,null,null,null,null,null,null,null,null,null,null,null,{"$f":"VLOOKUP(H393,sum!$A$14:$E$113,5)","v":17.290744993426728},{"$f":"VLOOKUP(J393,sum!$A$14:$E$113,5)","v":0.91012887232689366},"","exp","X"]
[null,null,null,null,40,381,{"$f":"CONCATENATE(\"ratio put /`--  itm-b (b\",H394,\"p+2s\",J394,\"p) (neutral)\")","v":"ratio put /`--  itm-b (b182.5p+2s172.5p) (neutral)"},{"$f":"H322","v":182.5},{"$f":"I322","v":15.05},{"$f":"J388","v":172.5},6.85,null,null,null,null,"unlim risk",{"$f":"(H394-J394-I394+K394*2)*sum!$J$2","v":864.99999999999989},163.85000000000002,181.14999999999998,0.59546158801224269,"unlim risk","unlim risk",{"$f":"(I394*1+K394*2)*sum!$J$2","v":2875},0.30086956521739128,3,4,null,null,"x",3,9,381,null,null,null,null,null,null,null,null,null,null,null,null,null,null,null,null,null,null,null,null,{"$f":"VLOOKUP(H394,sum!$A$14:$E$113,5)","v":14.902999144444635},{"$f":"VLOOKUP(J394,sum!$A$14:$E$113,5)","v":6.4544764363941738},"","",""]
[null,null,null,null,41,382,{"$f":"CONCATENATE(\"ratio put /`--  itm-b (b\",H395,\"p+2s\",J395,\"p) (neutral)\")","v":"ratio put /`--  itm-b (b182.5p+2s170p) (neutral)"},{"$f":"$H$394","v":182.5},{"$f":"$I$394","v":15.05},170,5.45,null,null,null,null,"unlim risk",{"$f":"(H395-J395-I395+K395*2)*sum!$J$2","v":835},161.65000000000003,178.35,0.62769623704331101,"unlim risk","unlim risk",{"$f":"(I395*1+K395*2)*sum!$J$2","v":2595.0000000000005},0.32177263969171477,3,4,null,null,"x",3,9,382,null,null,null,null,null,null,null,null,null,null,null,null,null,null,null,null,null,null,null,null,{"$f":"VLOOKUP(H395,sum!$A$14:$E$113,5)","v":14.902999144444635},{"$f":"VLOOKUP(J395,sum!$A$14:$E$113,5)","v":4.8176520596149288},"","",""]
[null,null,null,null,42,383,{"$f":"CONCATENATE(\"ratio put /`--  itm-b (b\",H396,\"p+2s\",J396,\"p) (neutral)\")","v":"ratio put /`--  itm-b (b182.5p+2s167.5p) (neutral)"},{"$f":"$H$394","v":182.5},{"$f":"$I$394","v":15.05},167.5,4.25,null,null,null,null,"unlim risk",{"$f":"(H396-J396-I396+K396*2)*sum!$J$2","v":844.99999999999989},159.05000000000001,175.95,0.6494770016777951,"unlim risk","unlim risk",{"$f":"(I396*1+K396*2)*sum!$J$2","v":2355},0.35881104033970274,3,4,null,null,"x",3,9,383,null,null,null,null,null,null,null,null,null,null,null,null,null,null,null,null,null,null,null,null,{"$f":"VLOOKUP(H396,sum!$A$14:$E$113,5)","v":14.902999144444635},{"$f":"VLOOKUP(J396,sum!$A$14:$E$113,5)","v":3.4417991640991801},"","exp","X"]
[null,null,null,null,"",384,{"$f":"CONCATENATE(\"ratio put /`--  itm-b (b\",H397,\"p+2s\",J397,\"p) (bear)\")","v":"ratio put /`--  itm-b (b182.5p+2s165p) (bear)"},{"$f":"$H$394","v":182.5},{"$f":"$I$394","v":15.05},165,3.26,null,null,null,null,"unlim risk",{"$f":"(H397-J397-I397+K397*2)*sum!$J$2","v":896.99999999999989},156.03000000000003,173.97,0.65738875584678147,"unlim risk","unlim risk",{"$f":"(I397*1+K397*2)*sum!$J$2","v":2157},0.41585535465924889,3,4,null,null,"x",2,9,"",null,null,null,null,null,null,null,null,null,null,null,null,null,null,null,null,null,null,null,null,{"$f":"VLOOKUP(H397,sum!$A$14:$E$113,5)","v":14.902999144444635},{"$f":"VLOOKUP(J397,sum!$A$14:$E$113,5)","v":2.33994988513588},"","exp","X"]
[null,null,null,null,"",385,{"$f":"CONCATENATE(\"ratio put /`--  itm-b (b\",H398,\"p+2s\",J398,\"p) (bear)\")","v":"ratio put /`--  itm-b (b182.5p+2s162.5p) (bear)"},{"$f":"$H$394","v":182.5},{"$f":"$I$394","v":15.05},162.5,2.4500000000000002,null,null,null,null,"unlim risk",{"$f":"(H398-J398-I398+K398*2)*sum!$J$2","v":985},152.65000000000003,172.35,0.64672991203194741,"unlim risk","unlim risk",{"$f":"(I398*1+K398*2)*sum!$J$2","v":1995.0000000000002},0.49373433583959891,3,4,null,null,"x",2,9,"",null,null,null,null,null,null,null,null,null,null,null,null,null,null,null,null,null,null,null,null,{"$f":"VLOOKUP(H398,sum!$A$14:$E$113,5)","v":14.902999144444635},{"$f":"VLOOKUP(J398,sum!$A$14:$E$113,5)","v":1.5049606005843685},"","exp","X"]
[null,null,null,null,{"$f":"IF(AF399=\"\",\"\",RANK(AF399,$AF$14:$AF$493,1))","v":""},386,{"$f":"CONCATENATE(\"ratio put /`--  itm-b (b\",H399,\"p+2s\",J399,\"p) (bear)\")","v":"ratio put /`--  itm-b (b182.5p+2s160p) (bear)"},{"$f":"$H$394","v":182.5},{"$f":"$I$394","v":15.05},160,1.85,null,null,null,null,"unlim risk",{"$f":"(H399-J399-I399+K399*2)*sum!$J$2","v":1114.9999999999998},148.85000000000002,171.14999999999998,0.62528433867300648,"unlim risk","unlim risk",{"$f":"(I399*1+K399*2)*sum!$J$2","v":1875},0.59466666666666657,3,4,null,null,"x",2,9,{"$f":"IF($AF$13=12,IF($AF$9=2,IF(BE399=\"X\",F399,\"\"),F399),IF($AF$13<=4,IF(AD399=$AF$13,IF($AF$9=2,IF(BE399=\"X\",F399,\"\"),F399),\"\"),IF(AE399=$AF$13,IF($AF$9=2,IF(BE399=\"X\",F399,\"\"),F399),\"\")))","v":""},null,null,null,null,null,null,null,null,null,null,null,null,null,null,null,null,null,null,null,null,{"$f":"VLOOKUP(H399,sum!$A$14:$E$113,5)","v":14.902999144444635},{"$f":"VLOOKUP(J399,sum!$A$14:$E$113,5)","v":0.91012887232689366},{"$f":"IF(I399>BA399*$BC$12,\"exp\",IF(I399<BA399*$BD$12,\"cheap\",\"\"))","v":""},{"$f":"IF(K399>BB399*$BC$12,\"exp\",IF(K399<BB399*$BD$12,\"cheap\",\"\"))","v":"exp"},"X"]
[null,null,null,null,43,387,{"$f":"CONCATENATE(\"ratio put /`--  itm-b (b\",H400,\"p+2s\",J400,\"p) (netural)\")","v":"ratio put /`--  itm-b (b180p+2s172.5p) (netural)"},{"$f":"H321","v":180},{"$f":"I321","v":13.05},{"$f":"J394","v":172.5},6.85,null,null,null,null,"unlim risk",{"$f":"(H400-J400-I400+K400*2)*sum!$J$2","v":814.99999999999989},164.35000000000002,1679.1999999999998,{"$f":"1-((NORMSDIST(LN(ABS(R400)/$C$3)/($E$3*SQRT(($D$3-NOW())/365))))+(1-(NORMSDIST(LN(ABS(S400)/$C$3)/($E$3*SQRT(($D$3-NOW())/365))))))","v":0.65480102865569345},"unlim risk","unlim risk",{"$f":"(I400*1+K400*2)*sum!$J$2","v":2675},0.30467289719626162,3,4,null,null,"x",3,9,387,null,null,null,null,null,null,null,null,null,null,null,null,null,null,null,null,null,null,null,null,{"$f":"VLOOKUP(H400,sum!$A$14:$E$113,5)","v":12.588610165225987},{"$f":"VLOOKUP(J400,sum!$A$14:$E$113,5)","v":6.4544764363941738},"","",""]
[null,null,null,null,44,388,{"$f":"CONCATENATE(\"ratio put /`--  itm-b (b\",H401,\"p+2s\",J401,\"p) (netural)\")","v":"ratio put /`--  itm-b (b180p+2s170p) (netural)"},{"$f":"$H$400","v":180},{"$f":"$I$400","v":13.05},170,5.45,null,null,null,null,"unlim risk",{"$f":"(H401-J401-I401+K401*2)*sum!$J$2","v":785},162.15000000000003,177.85,0.59808470935951297,"unlim risk","unlim risk",{"$f":"(I401*1+K401*2)*sum!$J$2","v":2395.0000000000005},0.32776617954070975,3,4,null,null,"x",3,9,388,null,null,null,null,null,null,null,null,null,null,null,null,null,null,null,null,null,null,null,null,{"$f":"VLOOKUP(H401,sum!$A$14:$E$113,5)","v":12.588610165225987},{"$f":"VLOOKUP(J401,sum!$A$14:$E$113,5)","v":4.8176520596149288},"","",""]
[null,null,null,null,45,389,{"$f":"CONCATENATE(\"ratio put /`--  itm-b (b\",H402,\"p+2s\",J402,\"p) (netural)\")","v":"ratio put /`--  itm-b (b180p+2s167.5p) (netural)"},{"$f":"$H$400","v":180},{"$f":"$I$400","v":13.05},167.5,4.25,null,null,null,null,"unlim risk",{"$f":"(H402-J402-I402+K402*2)*sum!$J$2","v":794.99999999999989},159.55000000000001,175.45,0.6202797418300402,"unlim risk","unlim risk",{"$f":"(I402*1+K402*2)*sum!$J$2","v":2155},0.36890951276102085,3,4,null,null,"x",3,9,389,null,null,null,null,null,null,null,null,null,null,null,null,null,null,null,null,null,null,null,null,{"$f":"VLOOKUP(H402,sum!$A$14:$E$113,5)","v":12.588610165225987},{"$f":"VLOOKUP(J402,sum!$A$14:$E$113,5)","v":3.4417991640991801},"","exp","X"]
[null,null,null,null,"",390,{"$f":"CONCATENATE(\"ratio put /`--  itm-b (b\",H403,\"p+2s\",J403,\"p) (bear)\")","v":"ratio put /`--  itm-b (b180p+2s165p) (bear)"},{"$f":"$H$400","v":180},{"$f":"$I$400","v":13.05},165,3.26,null,null,null,null,"unlim risk",{"$f":"(H403-J403-I403+K403*2)*sum!$J$2","v":846.99999999999989},156.53000000000003,173.47,0.63018122471091731,"unlim risk","unlim risk",{"$f":"(I403*1+K403*2)*sum!$J$2","v":1957},0.43280531425651503,3,4,null,null,"x",2,9,"",null,null,null,null,null,null,null,null,null,null,null,null,null,null,null,null,null,null,null,null,{"$f":"VLOOKUP(H403,sum!$A$14:$E$113,5)","v":12.588610165225987},{"$f":"VLOOKUP(J403,sum!$A$14:$E$113,5)","v":2.33994988513588},"","exp","X"]
[null,null,null,null,"",391,{"$f":"CONCATENATE(\"ratio put /`--  itm-b (b\",H404,\"p+2s\",J404,\"p) (bear)\")","v":"ratio put /`--  itm-b (b180p+2s162.5p) (bear)"},{"$f":"$H$400","v":180},{"$f":"$I$400","v":13.05},162.5,2.4500000000000002,null,null,null,null,"unlim risk",{"$f":"(H404-J404-I404+K404*2)*sum!$J$2","v":935},153.15000000000003,171.85,0.62201505990027484,"unlim risk","unlim risk",{"$f":"(I404*1+K404*2)*sum!$J$2","v":1795.0000000000002},0.52089136490250687,3,4,null,null,"x",2,9,"",null,null,null,null,null,null,null,null,null,null,null,null,null,null,null,null,null,null,null,null,{"$f":"VLOOKUP(H404,sum!$A$14:$E$113,5)","v":12.588610165225987},{"$f":"VLOOKUP(J404,sum!$A$14:$E$113,5)","v":1.5049606005843685},"","exp","X"]
[null,null,null,null,"",392,{"$f":"CONCATENATE(\"ratio put /`--  itm-b (b\",H405,\"p+2s\",J405,\"p) (bear)\")","v":"ratio put /`--  itm-b (b180p+2s160p) (bear)"},{"$f":"$H$400","v":180},{"$f":"$I$400","v":13.05},160,1.85,null,null,null,null,"unlim risk",{"$f":"(H405-J405-I405+K405*2)*sum!$J$2","v":1064.9999999999998},149.35000000000002,170.64999999999998,0.60258197656000723,"unlim risk","unlim risk",{"$f":"(I405*1+K405*2)*sum!$J$2","v":1675},0.63582089552238796,3,4,null,null,"x",2,9,"",null,null,null,null,null,null,null,null,null,null,null,null,null,null,null,null,null,null,null,null,{"$f":"VLOOKUP(H405,sum!$A$14:$E$113,5)","v":12.588610165225987},{"$f":"VLOOKUP(J405,sum!$A$14:$E$113,5)","v":0.91012887232689366},"","exp","X"]
[null,null,null,null,46,393,{"$f":"CONCATENATE(\"ratio put /`--  itm-b (b\",H406,\"p+2s\",J406,\"p) (neutral)\")","v":"ratio put /`--  itm-b (b177.5p+2s172.5p) (neutral)"},{"$f":"H320","v":177.5},{"$f":"I320","v":11},172.5,6.85,null,null,null,null,"unlim risk",{"$f":"(H406-J406-I406+K406*2)*sum!$J$2","v":769.99999999999989},164.8,1679.1999999999998,0.63594220343854158,"unlim risk","unlim risk",{"$f":"(I406*1+K406*2)*sum!$J$2","v":2470},0.31174089068825905,3,4,null,null,"x",3,9,393,null,null,null,null,null,null,null,null,null,null,null,null,null,null,null,null,null,null,null,null,{"$f":"VLOOKUP(H406,sum!$A$14:$E$113,5)","v":10.381597438811696},{"$f":"VLOOKUP(J406,sum!$A$14:$E$113,5)","v":6.4544764363941738},"","",""]
[null,null,null,null,47,394,{"$f":"CONCATENATE(\"ratio put /`--  itm-b (b\",H407,\"p+2s\",J407,\"p) (neutral)\")","v":"ratio put /`--  itm-b (b177.5p+2s170p) (neutral)"},{"$f":"$H$406","v":177.5},{"$f":"$I$406","v":11},170,5.45,null,null,null,null,"unlim risk",{"$f":"(H407-J407-I407+K407*2)*sum!$J$2","v":740},162.60000000000002,177.4,0.57030953986459709,"unlim risk","unlim risk",{"$f":"(I407*1+K407*2)*sum!$J$2","v":2190},0.33789954337899542,3,4,null,null,"x",3,9,394,null,null,null,null,null,null,null,null,null,null,null,null,null,null,null,null,null,null,null,null,{"$f":"VLOOKUP(H407,sum!$A$14:$E$113,5)","v":10.381597438811696},{"$f":"VLOOKUP(J407,sum!$A$14:$E$113,5)","v":4.8176520596149288},"","",""]
[null,null,null,null,48,395,{"$f":"CONCATENATE(\"ratio put /`--  itm-b (b\",H408,\"p+2s\",J408,\"p) (neutral)\")","v":"ratio put /`--  itm-b (b177.5p+2s167.5p) (neutral)"},{"$f":"$H$406","v":177.5},{"$f":"$I$406","v":11},167.5,4.25,null,null,null,null,"unlim risk",{"$f":"(H408-J408-I408+K408*2)*sum!$J$2","v":750},160,175,0.59275286647744341,"unlim risk","unlim risk",{"$f":"(I408*1+K408*2)*sum!$J$2","v":1950},0.38461538461538464,3,4,null,null,"x",3,9,395,null,null,null,null,null,null,null,null,null,null,null,null,null,null,null,null,null,null,null,null,{"$f":"VLOOKUP(H408,sum!$A$14:$E$113,5)","v":10.381597438811696},{"$f":"VLOOKUP(J408,sum!$A$14:$E$113,5)","v":3.4417991640991801},"","exp","X"]
[null,null,null,null,"",396,{"$f":"CONCATENATE(\"ratio put /`--  itm-b (b\",H409,\"p+2s\",J409,\"p) (bear)\")","v":"ratio put /`--  itm-b (b177.5p+2s165p) (bear)"},{"$f":"$H$406","v":177.5},{"$f":"$I$406","v":11},165,3.26,null,null,null,null,"unlim risk",{"$f":"(H409-J409-I409+K409*2)*sum!$J$2","v":802},156.98000000000002,173.02,0.6045222152778994,"unlim risk","unlim risk",{"$f":"(I409*1+K409*2)*sum!$J$2","v":1752},0.45776255707762559,3,4,null,null,"x",2,9,"",null,null,null,null,null,null,null,null,null,null,null,null,null,null,null,null,null,null,null,null,{"$f":"VLOOKUP(H409,sum!$A$14:$E$113,5)","v":10.381597438811696},{"$f":"VLOOKUP(J409,sum!$A$14:$E$113,5)","v":2.33994988513588},"","exp","X"]
[null,null,null,null,"",397,{"$f":"CONCATENATE(\"ratio put /`--  itm-b (b\",H410,\"p+2s\",J410,\"p) (bear)\")","v":"ratio put /`--  itm-b (b177.5p+2s162.5p) (bear)"},{"$f":"$H$406","v":177.5},{"$f":"$I$406","v":11},162.5,2.4500000000000002,null,null,null,null,"unlim risk",{"$f":"(H410-J410-I410+K410*2)*sum!$J$2","v":890},153.60000000000002,171.4,0.59885373005816267,"unlim risk","unlim risk",{"$f":"(I410*1+K410*2)*sum!$J$2","v":1590},0.55974842767295596,3,4,null,null,"x",2,9,"",null,null,null,null,null,null,null,null,null,null,null,null,null,null,null,null,null,null,null,null,{"$f":"VLOOKUP(H410,sum!$A$14:$E$113,5)","v":10.381597438811696},{"$f":"VLOOKUP(J410,sum!$A$14:$E$113,5)","v":1.5049606005843685},"","exp","X"]
[null,null,null,null,"",398,{"$f":"CONCATENATE(\"ratio put /`--  itm-b (b\",H411,\"p+2s\",J411,\"p) (bear)\")","v":"ratio put /`--  itm-b (b177.5p+2s160p) (bear)"},{"$f":"$H$406","v":177.5},{"$f":"$I$406","v":11},160,1.85,null,null,null,null,"unlim risk",{"$f":"(H411-J411-I411+K411*2)*sum!$J$2","v":1019.9999999999999},149.80000000000001,170.2,0.58154702118770496,"unlim risk","unlim risk",{"$f":"(I411*1+K411*2)*sum!$J$2","v":1470},0.69387755102040805,3,4,null,null,"x",2,9,"",null,null,null,null,null,null,null,null,null,null,null,null,null,null,null,null,null,null,null,null,{"$f":"VLOOKUP(H411,sum!$A$14:$E$113,5)","v":10.381597438811696},{"$f":"VLOOKUP(J411,sum!$A$14:$E$113,5)","v":0.91012887232689366},"","exp","X"]
[null,null,null,null,49,399,{"$f":"CONCATENATE(\"ratio put /`--  itm-b (b\",H412,\"p+2s\",J412,\"p) (neutral)\")","v":"ratio put /`--  itm-b (b175p+2s172.5p) (neutral)"},{"$f":"H319","v":175},{"$f":"I319","v":8.6},172.5,6.85,null,null,null,null,"unlim risk",{"$f":"(H412-J412-I412+K412*2)*sum!$J$2","v":760},164.9,1679.1999999999998,0.63171140859028863,"unlim risk","unlim risk",{"$f":"(I412*1+K412*2)*sum!$J$2","v":2229.9999999999995},0.34080717488789247,3,4,null,null,"x",3,9,399,null,null,null,null,null,null,null,null,null,null,null,null,null,null,null,null,null,null,null,null,{"$f":"VLOOKUP(H412,sum!$A$14:$E$113,5)","v":8.3224709171568918},{"$f":"VLOOKUP(J412,sum!$A$14:$E$113,5)","v":6.4544764363941738},"","",""]
[null,null,null,null,50,400,{"$f":"CONCATENATE(\"ratio put /`--  itm-b (b\",H413,\"p+2s\",J413,\"p) (neutral)\")","v":"ratio put /`--  itm-b (b175p+2s170p) (neutral)"},{"$f":"$H$412","v":175},{"$f":"$I$412","v":8.6},170,5.45,null,null,null,null,"unlim risk",{"$f":"(H413-J413-I413+K413*2)*sum!$J$2","v":730.00000000000011},162.70000000000002,1679.1999999999998,0.72084144618779844,"unlim risk","unlim risk",{"$f":"(I413*1+K413*2)*sum!$J$2","v":1950},0.37435897435897442,3,4,null,null,"x",3,9,400,null,null,null,null,null,null,null,null,null,null,null,null,null,null,null,null,null,null,null,null,{"$f":"VLOOKUP(H413,sum!$A$14:$E$113,5)","v":8.3224709171568918},{"$f":"VLOOKUP(J413,sum!$A$14:$E$113,5)","v":4.8176520596149288},"","",""]
[null,null,null,null,51,401,{"$f":"CONCATENATE(\"ratio put /`--  itm-b (b\",H414,\"p+2s\",J414,\"p) (neutral)\")","v":"ratio put /`--  itm-b (b175p+2s167.5p) (neutral)"},{"$f":"$H$412","v":175},{"$f":"$I$412","v":8.6},167.5,4.25,null,null,null,null,"unlim risk",{"$f":"(H414-J414-I414+K414*2)*sum!$J$2","v":740},160.1,174.9,0.58647685763026969,"unlim risk","unlim risk",{"$f":"(I414*1+K414*2)*sum!$J$2","v":1710.0000000000002},{"$f":"IF(P414=\"\",\"\",Q414/W414)","v":0.43274853801169583},3,4,null,null,"x",3,9,401,null,null,null,null,null,null,null,null,null,null,null,null,null,null,null,null,null,null,null,null,{"$f":"VLOOKUP(H414,sum!$A$14:$E$113,5)","v":8.3224709171568918},{"$f":"VLOOKUP(J414,sum!$A$14:$E$113,5)","v":3.4417991640991801},"","exp","X"]
[null,null,null,null,"",402,{"$f":"CONCATENATE(\"ratio put /`--  itm-b (b\",H415,\"p+2s\",J415,\"p) (bear)\")","v":"ratio put /`--  itm-b (b175p+2s165p) (bear)"},{"$f":"$H$412","v":175},{"$f":"$I$412","v":8.6},165,3.26,null,null,null,null,"unlim risk",{"$f":"(H415-J415-I415+K415*2)*sum!$J$2","v":792},157.08000000000001,172.92000000000002,0.59867031610036781,"unlim risk","unlim risk",{"$f":"(I415*1+K415*2)*sum!$J$2","v":1512},0.52380952380952384,3,4,null,null,"x",2,9,"",null,null,null,null,null,null,null,null,null,null,null,null,null,null,null,null,null,null,null,null,{"$f":"VLOOKUP(H415,sum!$A$14:$E$113,5)","v":8.3224709171568918},{"$f":"VLOOKUP(J415,sum!$A$14:$E$113,5)","v":2.33994988513588},"","exp","X"]
[null,null,null,null,"",403,{"$f":"CONCATENATE(\"ratio put /`--  itm-b (b\",H416,\"p+2s\",J416,\"p) (bear)\")","v":"ratio put /`--  itm-b (b175p+2s162.5p) (bear)"},{"$f":"$H$412","v":175},{"$f":"$I$412","v":8.6},162.5,2.4500000000000002,null,null,null,null,"unlim risk",{"$f":"(H416-J416-I416+K416*2)*sum!$J$2","v":880.00000000000011},153.70000000000002,171.3,0.59358942309288332,"unlim risk","unlim risk",{"$f":"(I416*1+K416*2)*sum!$J$2","v":1350},0.6518518518518519,3,4,null,null,"x",2,9,"",null,null,null,null,null,null,null,null,null,null,null,null,null,null,null,null,null,null,null,null,{"$f":"VLOOKUP(H416,sum!$A$14:$E$113,5)","v":8.3224709171568918},{"$f":"VLOOKUP(J416,sum!$A$14:$E$113,5)","v":1.5049606005843685},"","exp","X"]
[null,null,null,null,"",404,{"$f":"CONCATENATE(\"ratio put /`--  itm-b (b\",H417,\"p+2s\",J417,\"p) (bear)\")","v":"ratio put /`--  itm-b (b175p+2s160p) (bear)"},{"$f":"$H$412","v":175},{"$f":"$I$412","v":8.6},160,1.85,null,null,null,null,"unlim risk",{"$f":"(H417-J417-I417+K417*2)*sum!$J$2","v":1010.0000000000001},149.9,170.1,0.5767967647925426,"unlim risk","unlim risk",{"$f":"(I417*1+K417*2)*sum!$J$2","v":1230},0.82113821138211396,3,4,null,null,"x",2,9,"",null,null,null,null,null,null,null,null,null,null,null,null,null,null,null,null,null,null,null,null,{"$f":"VLOOKUP(H417,sum!$A$14:$E$113,5)","v":8.3224709171568918},{"$f":"VLOOKUP(J417,sum!$A$14:$E$113,5)","v":0.91012887232689366},"","exp","X"]
[null,null,null,null,52,405,{"$f":"CONCATENATE(\"ratio put /`--  itm-b (b\",H418,\"p+2s\",J418,\"p) (neutral)\")","v":"ratio put /`--  itm-b (b172.5p+2s170p) (neutral)"},{"$f":"H318","v":172.5},{"$f":"I318","v":6.85},{"$f":"J413","v":170},5.45,null,null,null,null,"unlim risk",{"$f":"(H418-J418-I418+K418*2)*sum!$J$2","v":655.00000000000011},163.45000000000002,1679.1999999999998,0.69149636225873912,"unlim risk","unlim risk",{"$f":"(I418*1+K418*2)*sum!$J$2","v":1775},0.36901408450704232,3,4,null,null,"x",3,9,405,null,null,null,null,null,null,null,null,null,null,null,null,null,null,null,null,null,null,null,null,{"$f":"VLOOKUP(H418,sum!$A$14:$E$113,5)","v":6.4544764363941738},{"$f":"VLOOKUP(J418,sum!$A$14:$E$113,5)","v":4.8176520596149288},"","",""]
[null,null,null,null,53,406,{"$f":"CONCATENATE(\"ratio put /`--  itm-b (b\",H419,\"p+2s\",J419,\"p) (neutral)\")","v":"ratio put /`--  itm-b (b172.5p+2s167.5p) (neutral)"},{"$f":"$H$418","v":172.5},{"$f":"$I$418","v":6.85},167.5,4.25,null,null,null,null,"unlim risk",{"$f":"(H419-J419-I419+K419*2)*sum!$J$2","v":665},160.85,1679.1999999999998,0.78736445885967954,"unlim risk","unlim risk",{"$f":"(I419*1+K419*2)*sum!$J$2","v":1535},0.43322475570032576,3,4,null,null,"x",3,9,406,null,null,null,null,null,null,null,null,null,null,null,null,null,null,null,null,null,null,null,null,{"$f":"VLOOKUP(H419,sum!$A$14:$E$113,5)","v":6.4544764363941738},{"$f":"VLOOKUP(J419,sum!$A$14:$E$113,5)","v":3.4417991640991801},"","exp","X"]
[null,null,null,null,54,407,{"$f":"CONCATENATE(\"ratio put /`--  itm-b (b\",H420,\"p+2s\",J420,\"p) (neutral)\")","v":"ratio put /`--  itm-b (b172.5p+2s165p) (neutral)"},{"$f":"$H$418","v":172.5},{"$f":"$I$418","v":6.85},165,3.26,null,null,null,null,"unlim risk",{"$f":"(H420-J420-I420+K420*2)*sum!$J$2","v":717},{"$f":"J420*2-K420*2-$C$3+$C$3-(H420-I420)","v":157.83000000000001},{"$f":"IF(K420*2>=I420,$C$3*10,H420-I420+K420*2)","v":172.17000000000002},0.55306575458340745,"unlim risk","unlim risk",{"$f":"(I420*1+K420*2)*sum!$J$2","v":1337},0.53627524308152585,3,4,null,null,"x",3,9,407,null,null,null,null,null,null,null,null,null,null,null,null,null,null,null,null,null,null,null,null,{"$f":"VLOOKUP(H420,sum!$A$14:$E$113,5)","v":6.4544764363941738},{"$f":"VLOOKUP(J420,sum!$A$14:$E$113,5)","v":2.33994988513588},"","exp","X"]
[null,null,null,null,"",408,{"$f":"CONCATENATE(\"ratio put /`--  itm-b (b\",H421,\"p+2s\",J421,\"p) (bear)\")","v":"ratio put /`--  itm-b (b172.5p+2s162.5p) (bear)"},{"$f":"$H$418","v":172.5},{"$f":"$I$418","v":6.85},162.5,2.4500000000000002,null,null,null,null,"unlim risk",{"$f":"(H421-J421-I421+K421*2)*sum!$J$2","v":805.00000000000011},154.45000000000002,170.55,0.55276333160662228,"unlim risk","unlim risk",{"$f":"(I421*1+K421*2)*sum!$J$2","v":1175},0.6851063829787235,3,4,null,null,"x",2,9,"",null,null,null,null,null,null,null,null,null,null,null,null,null,null,null,null,null,null,null,null,{"$f":"VLOOKUP(H421,sum!$A$14:$E$113,5)","v":6.4544764363941738},{"$f":"VLOOKUP(J421,sum!$A$14:$E$113,5)","v":1.5049606005843685},"","exp","X"]
[null,null,null,null,"",409,{"$f":"CONCATENATE(\"ratio put /`--  itm-b (b\",H422,\"p+2s\",J422,\"p) (bear)\")","v":"ratio put /`--  itm-b (b172.5p+2s160p) (bear)"},{"$f":"$H$418","v":172.5},{"$f":"$I$418","v":6.85},160,1.85,null,null,null,null,"unlim risk",{"$f":"(H422-J422-I422+K422*2)*sum!$J$2","v":935.00000000000011},150.65,169.35,0.54031812675431035,"unlim risk","unlim risk",{"$f":"(I422*1+K422*2)*sum!$J$2","v":1055},0.88625592417061627,3,4,null,null,"x",2,9,"",null,null,null,null,null,null,null,null,null,null,null,null,null,null,null,null,null,null,null,null,{"$f":"VLOOKUP(H422,sum!$A$14:$E$113,5)","v":6.4544764363941738},{"$f":"VLOOKUP(J422,sum!$A$14:$E$113,5)","v":0.91012887232689366},"","exp","X"]
[null,null,null,null,"",410,{"$f":"CONCATENATE(\"ratio put /`--  otm-b (b\",H423,\"p+2s\",J423,\"p) (bear)\")","v":"ratio put /`--  otm-b (b170p+2s167.5p) (bear)"},{"$f":"H317","v":170},{"$f":"I317","v":5.45},{"$f":"J419","v":167.5},4.25,null,null,null,null,"unlim risk",{"$f":"(H423-J423-I423+K423*2)*sum!$J$2","v":555},161.94999999999999,1679.1999999999998,{"$f":"1-((NORMSDIST(LN(ABS(R423)/$C$3)/($E$3*SQRT(($D$3-NOW())/365))))+(1-(NORMSDIST(LN(ABS(S423)/$C$3)/($E$3*SQRT(($D$3-NOW())/365))))))","v":0.74888450392383854},"unlim risk","unlim risk",{"$f":"(I423*1+K423*2)*sum!$J$2","v":1395},0.39784946236559138,3,4,null,null,"x",2,9,"",null,null,null,null,null,null,null,null,null,null,null,null,null,null,null,null,null,null,null,null,{"$f":"VLOOKUP(H423,sum!$A$14:$E$113,5)","v":4.8176520596149288},{"$f":"VLOOKUP(J423,sum!$A$14:$E$113,5)","v":3.4417991640991801},"","exp","X"]
[null,null,null,null,"",411,{"$f":"CONCATENATE(\"ratio put /`--  otm-b (b\",H424,\"p+2s\",J424,\"p) (bear)\")","v":"ratio put /`--  otm-b (b170p+2s165p) (bear)"},{"$f":"$H$423","v":170},{"$f":"$I$423","v":5.45},165,3.26,null,null,null,null,"unlim risk",{"$f":"(H424-J424-I424+K424*2)*sum!$J$2","v":606.99999999999989},158.93,1679.1999999999998,0.84610989495917344,"unlim risk","unlim risk",{"$f":"(I424*1+K424*2)*sum!$J$2","v":1197},0.50710108604845439,3,4,null,null,"x",2,9,"",null,null,null,null,null,null,null,null,null,null,null,null,null,null,null,null,null,null,null,null,{"$f":"VLOOKUP(H424,sum!$A$14:$E$113,5)","v":4.8176520596149288},{"$f":"VLOOKUP(J424,sum!$A$14:$E$113,5)","v":2.33994988513588},"","exp","X"]
[null,null,null,null,"",412,"ratio put /`--  otm-b (b170p+2s162.5p) (bear)",{"$f":"$H$423","v":170},{"$f":"$I$423","v":5.45},162.5,2.4500000000000002,null,null,null,null,"unlim risk",{"$f":"(H425-J425-I425+K425*2)*sum!$J$2","v":695},155.55000000000001,169.45000000000002,0.48871009770388796,"unlim risk","unlim risk",{"$f":"(I425*1+K425*2)*sum!$J$2","v":1035.0000000000002},0.67149758454106268,3,4,null,null,"x",2,9,"",null,null,null,null,null,null,null,null,null,null,null,null,null,null,null,null,null,null,null,null,{"$f":"VLOOKUP(H425,sum!$A$14:$E$113,5)","v":4.8176520596149288},{"$f":"VLOOKUP(J425,sum!$A$14:$E$113,5)","v":1.5049606005843685},"","exp","X"]
[null,null,null,null,"",413,"ratio put /`--  otm-b (b170p+2s160p) (bear)",{"$f":"$H$423","v":170},{"$f":"$I$423","v":5.45},160,1.85,null,null,null,null,"unlim risk",{"$f":"(H426-J426-I426+K426*2)*sum!$J$2","v":825},151.75,168.25,0.48423995068468551,"unlim risk","unlim risk",{"$f":"(I426*1+K426*2)*sum!$J$2","v":915},0.90163934426229508,3,4,null,null,"x",2,9,"",null,null,null,null,null,null,null,null,null,null,null,null,null,null,null,null,null,null,null,null,{"$f":"VLOOKUP(H426,sum!$A$14:$E$113,5)","v":4.8176520596149288},{"$f":"VLOOKUP(J426,sum!$A$14:$E$113,5)","v":0.91012887232689366},"","exp","X"]
[null,null,null,null,"",414,"ratio put /`--  otm-b (b167.5p+2s165p) (bear)",{"$f":"H316","v":167.5},{"$f":"I316","v":4.25},{"$f":"J424","v":165},3.26,null,null,null,null,"unlim risk",{"$f":"(H427-J427-I427+K427*2)*sum!$J$2","v":476.99999999999994},160.23000000000002,1679.1999999999998,0.80754723031114761,"unlim risk","unlim risk",{"$f":"(I427*1+K427*2)*sum!$J$2","v":1077},0.44289693593314761,3,4,null,null,"x",2,9,"",null,null,null,null,null,null,null,null,null,null,null,null,null,null,null,null,null,null,null,null,{"$f":"VLOOKUP(H427,sum!$A$14:$E$113,5)","v":3.4417991640991801},{"$f":"VLOOKUP(J427,sum!$A$14:$E$113,5)","v":2.33994988513588},"exp","exp",""]
[null,null,null,null,"",415,"ratio put /`--  otm-b (b167.5p+2s162.5p) (bear)",{"$f":"$H$427","v":167.5},{"$f":"$I$427","v":4.25},162.5,2.4500000000000002,null,null,null,null,"unlim risk",{"$f":"(H428-J428-I428+K428*2)*sum!$J$2","v":565},156.85000000000002,1679.1999999999998,0.89689850156978546,"unlim risk","unlim risk",{"$f":"(I428*1+K428*2)*sum!$J$2","v":915},0.61748633879781423,3,4,null,null,"x",2,9,"",null,null,null,null,null,null,null,null,null,null,null,null,null,null,null,null,null,null,null,null,{"$f":"VLOOKUP(H428,sum!$A$14:$E$113,5)","v":3.4417991640991801},{"$f":"VLOOKUP(J428,sum!$A$14:$E$113,5)","v":1.5049606005843685},"exp","exp",""]
[null,null,null,null,"",416,"ratio put /`--  otm-b (b167.5p+2s160p) (bear)",{"$f":"$H$427","v":167.5},{"$f":"$I$427","v":4.25},160,1.85,null,null,null,null,"unlim risk",{"$f":"(H429-J429-I429+K429*2)*sum!$J$2","v":695},153.05000000000001,166.95,0.41440518129288118,"unlim risk","unlim risk",{"$f":"(I429*1+K429*2)*sum!$J$2","v":795},0.87421383647798745,3,4,null,null,"x",2,9,"",null,null,null,null,null,null,null,null,null,null,null,null,null,null,null,null,null,null,null,null,{"$f":"VLOOKUP(H429,sum!$A$14:$E$113,5)","v":3.4417991640991801},{"$f":"VLOOKUP(J429,sum!$A$14:$E$113,5)","v":0.91012887232689366},"exp","exp",""]
[null,null,null,null,"",417,"ratio put /`--  otm-b (b165p+2s162.5p) (bear)",{"$f":"H315","v":165},{"$f":"I315","v":3.26},{"$f":"J428","v":162.5},{"$f":"K428","v":2.4500000000000002},null,null,null,null,"unlim risk",{"$f":"(H430-J430-I430+K430*2)*sum!$J$2","v":414.00000000000006},158.36000000000001,1679.1999999999998,0.86136830838110212,"unlim risk","unlim risk",{"$f":"(I430*1+K430*2)*sum!$J$2","v":816},0.50735294117647067,3,4,null,null,"x",2,9,"",null,null,null,null,null,null,null,null,null,null,null,null,null,null,null,null,null,null,null,null,{"$f":"VLOOKUP(H430,sum!$A$14:$E$113,5)","v":2.33994988513588},{"$f":"VLOOKUP(J430,sum!$A$14:$E$113,5)","v":1.5049606005843685},"exp","exp",""]
[null,null,null,null,"",418,{"$f":"CONCATENATE(\"ratio put /`--  itm-b (b\",H431,\"p+2s\",J431,\"p) (bear)\")","v":"ratio put /`--  itm-b (b185p+2s175p) (bear)"},{"$f":"H388","v":185},17.45,{"$f":"H319","v":175},8.6,null,null,null,null,"unlim risk",{"$f":"(H431-J431-I431+K431*2)*sum!$J$2","v":975},165.25,184.75,{"$f":"1-((NORMSDIST(LN(ABS(R431)/$C$3)/($E$3*SQRT(($D$3-NOW())/365))))+(1-(NORMSDIST(LN(ABS(S431)/$C$3)/($E$3*SQRT(($D$3-NOW())/365))))))","v":0.57847315912633956},"unlim risk","unlim risk",{"$f":"(I431*1+K431*2)*sum!$J$2","v":3465},0.2813852813852814,3,4,null,null,"x",2,9,"",null,null,null,null,null,null,null,null,null,null,null,null,null,null,null,null,null,null,null,null,{"$f":"VLOOKUP(H431,sum!$A$14:$E$113,5)","v":17.290744993426728},{"$f":"VLOOKUP(J431,sum!$A$14:$E$113,5)","v":8.3224709171568918},"","",""]
[null,null,null,null,"",419,{"$f":"CONCATENATE(\"ratio put /`--  itm-b (b\",H432,\"p+2s\",J432,\"p) (bear)\")","v":"ratio put /`--  itm-b (b185p+2s177.5p) (bear)"},185,17.45,177.5,11,null,null,null,null,"unlim risk",{"$f":"(H432-J432-I432+K432*2)*sum!$J$2","v":1205},165.45,1679.1999999999998,0.60821513708341002,"unlim risk","unlim risk",{"$f":"(I432*1+K432*2)*sum!$J$2","v":3945.0000000000005},0.30544993662864384,3,4,null,null,"x",2,9,"",null,null,null,null,null,null,null,null,null,null,null,null,null,null,null,null,null,null,null,null,{"$f":"VLOOKUP(H432,sum!$A$14:$E$113,5)","v":17.290744993426728},{"$f":"VLOOKUP(J432,sum!$A$14:$E$113,5)","v":10.381597438811696},"","",""]
[null,null,null,null,"",420,"ratio put /`--  itm-b (b185p+2s180p) (bear)",185,17.45,180,13.05,null,null,null,null,"unlim risk",{"$f":"(H433-J433-I433+K433*2)*sum!$J$2","v":1365.0000000000002},166.34999999999997,1679.1999999999998,0.56911280630797156,"unlim risk","unlim risk",{"$f":"(I433*1+K433*2)*sum!$J$2","v":4355},0.31343283582089559,3,4,null,null,"x",2,9,"",null,null,null,null,null,null,null,null,null,null,null,null,null,null,null,null,null,null,null,null,{"$f":"VLOOKUP(H433,sum!$A$14:$E$113,5)","v":17.290744993426728},{"$f":"VLOOKUP(J433,sum!$A$14:$E$113,5)","v":12.588610165225987},"","",""]
[null,null,null,null,"",421,"ratio put /`--  itm-b (b185p+2s182.5p) (bear)",185,17.45,182.5,15.05,null,null,null,null,"unlim risk",{"$f":"(H434-J434-I434+K434*2)*sum!$J$2","v":1515.0000000000002},167.34999999999997,1679.1999999999998,0.52512674101733947,"unlim risk","unlim risk",{"$f":"(I434*1+K434*2)*sum!$J$2","v":4755},0.31861198738170354,3,4,null,null,"x",2,9,"",null,null,null,null,null,null,null,null,null,null,null,null,null,null,null,null,null,null,null,null,{"$f":"VLOOKUP(H434,sum!$A$14:$E$113,5)","v":17.290744993426728},{"$f":"VLOOKUP(J434,sum!$A$14:$E$113,5)","v":14.902999144444635},"","",""]
[null,null,null,null,"",422,"ratio put /`--  itm-b (b182.5p+2s175p) (bear)",{"$f":"$H$394","v":182.5},{"$f":"$I$394","v":15.05},{"$f":"J431","v":175},8.6,null,null,null,null,"unlim risk",{"$f":"(H435-J435-I435+K435*2)*sum!$J$2","v":964.99999999999989},165.35000000000002,1679.1999999999998,0.6125136461605315,"unlim risk","unlim risk",{"$f":"(I435*1+K435*2)*sum!$J$2","v":3225},0.29922480620155034,3,4,null,null,"x",2,9,"",null,null,null,null,null,null,null,null,null,null,null,null,null,null,null,null,null,null,null,null,{"$f":"VLOOKUP(H435,sum!$A$14:$E$113,5)","v":14.902999144444635},{"$f":"VLOOKUP(J435,sum!$A$14:$E$113,5)","v":8.3224709171568918},"","",""]
[null,null,null,null,"",423,"ratio put /`--  itm-b (b182.5p+2s177.5p) (bear)",{"$f":"$H$394","v":182.5},{"$f":"$I$394","v":15.05},177.5,11,null,null,null,null,"unlim risk",{"$f":"(H436-J436-I436+K436*2)*sum!$J$2","v":1195},165.55,1679.1999999999998,0.60390598583321009,"unlim risk","unlim risk",{"$f":"(I436*1+K436*2)*sum!$J$2","v":3704.9999999999995},0.32253711201079627,3,4,null,null,"x",2,9,"",null,null,null,null,null,null,null,null,null,null,null,null,null,null,null,null,null,null,null,null,{"$f":"VLOOKUP(H436,sum!$A$14:$E$113,5)","v":14.902999144444635},{"$f":"VLOOKUP(J436,sum!$A$14:$E$113,5)","v":10.381597438811696},"","",""]
[null,null,null,null,"",424,"ratio put /`--  itm-b (b182.5p+2s180p) (bear)",{"$f":"$H$394","v":182.5},{"$f":"$I$394","v":15.05},180,13.05,null,null,null,null,"unlim risk",{"$f":"(H437-J437-I437+K437*2)*sum!$J$2","v":1355},166.45,1679.1999999999998,0.56473164901226269,"unlim risk","unlim risk",{"$f":"(I437*1+K437*2)*sum!$J$2","v":4115.0000000000009},0.32928311057108134,3,4,null,null,"x",2,9,"",null,null,null,null,null,null,null,null,null,null,null,null,null,null,null,null,null,null,null,null,{"$f":"VLOOKUP(H437,sum!$A$14:$E$113,5)","v":14.902999144444635},{"$f":"VLOOKUP(J437,sum!$A$14:$E$113,5)","v":12.588610165225987},"","",""]
[null,null,null,null,"",425,"ratio put /`--  itm-b (b180p+2s175p) (bear)",{"$f":"H321","v":180},{"$f":"I321","v":13.05},{"$f":"J435","v":175},{"$f":"K435","v":8.6},null,null,null,null,"unlim risk",{"$f":"(H438-J438-I438+K438*2)*sum!$J$2","v":914.99999999999989},165.85000000000002,1679.1999999999998,0.59091991033490843,"unlim risk","unlim risk",{"$f":"(I438*1+K438*2)*sum!$J$2","v":3025},0.30247933884297518,3,4,null,null,"x",2,9,"",null,null,null,null,null,null,null,null,null,null,null,null,null,null,null,null,null,null,null,null,{"$f":"VLOOKUP(H438,sum!$A$14:$E$113,5)","v":12.588610165225987},{"$f":"VLOOKUP(J438,sum!$A$14:$E$113,5)","v":8.3224709171568918},"","",""]
[null,null,null,null,"",426,"ratio put /`--  itm-b (b180p+2s177.5p) (bear)",{"$f":"H438","v":180},{"$f":"I438","v":13.05},{"$f":"J436","v":177.5},{"$f":"K436","v":11},null,null,null,null,"unlim risk",{"$f":"(H439-J439-I439+K439*2)*sum!$J$2","v":1145},166.05,1679.1999999999998,0.58221895213797636,"unlim risk","unlim risk",{"$f":"(I439*1+K439*2)*sum!$J$2","v":3504.9999999999995},0.32667617689015699,3,4,null,null,"x",2,9,"",null,null,null,null,null,null,null,null,null,null,null,null,null,null,null,null,null,null,null,null,{"$f":"VLOOKUP(H439,sum!$A$14:$E$113,5)","v":12.588610165225987},{"$f":"VLOOKUP(J439,sum!$A$14:$E$113,5)","v":10.381597438811696},"","",""]
[null,null,null,null,"",427,"ratio put /`--  itm-b (b177.5p+2s175p) (bear)",{"$f":"H406","v":177.5},{"$f":"I406","v":11},{"$f":"J438","v":175},{"$f":"K438","v":8.6},null,null,null,null,"unlim risk",{"$f":"(H440-J440-I440+K440*2)*sum!$J$2","v":869.99999999999989},166.3,1679.1999999999998,0.57130122033500086,"unlim risk","unlim risk",{"$f":"(I440*1+K440*2)*sum!$J$2","v":2820},0.30851063829787229,3,4,null,null,"x",2,9,"",null,null,null,null,null,null,null,null,null,null,null,null,null,null,null,null,null,null,null,null,{"$f":"VLOOKUP(H440,sum!$A$14:$E$113,5)","v":10.381597438811696},{"$f":"VLOOKUP(J440,sum!$A$14:$E$113,5)","v":8.3224709171568918},"","",""]
[null,null,null,null,55,428,{"$f":"CONCATENATE(\"butterfly call _/\\_ (2s\",J441,\"c+b\",H441,\"c+b\",L441,\"c)\")","v":"butterfly call _/\\_ (2s172.5c+b160c+b185c)"},{"$f":"H258","v":160},{"$f":"I258","v":9.75},{"$f":"VLOOKUP($C$4+1,$A$6:$D$105,2)","v":172.5},{"$f":"VLOOKUP($C$4+1,$A$6:$D$105,3)","v":2.21},{"$f":"H248","v":185},0.15,null,null,{"$f":"-(K441*2-(I441+M441))*sum!$J$2","v":548},{"$f":"(K441*2-(M441+I441-($C$3-H441)))*sum!$J$2","v":243.99999999999869},{"$f":"H441+I441-K441*2+M441","v":165.48000000000002},{"$f":"J441*2+K441*2-H441-I441-M441","v":179.52},0.49909289948729263,{"$f":"IF(T441=\"\",\"\",Q441/(P441+0.00001))","v":0.44525546632745261},{"$f":"IF(T441=\"\",\"\",T441*U441)","v":0.2222238417019349},{"$f":"(I441*1+K441*2)*sum!$J$2","v":1417},0.17219477769936392,1,2,1,null,"x",3,10,428,null,null,null,null,null,null,null,null,null,null,null,null,null,null,null,null,null,null,null,null,null,{"$f":"VLOOKUP(J441,sum!$A$14:$E$113,3)","v":1.7912926031122538},null,"exp",{"$f":"IF(BD441=\"exp\",\"X\",\"\")","v":"X"}]
[null,null,null,null,56,429,{"$f":"CONCATENATE(\"butterfly call _/\\_ (2s\",J442,\"c+b\",H442,\"c+b\",L442,\"c)\")","v":"butterfly call _/\\_ (2s172.5c+b162.5c+b182.5c)"},{"$f":"H257","v":162.5},{"$f":"I257","v":7.9},{"$f":"$J$441","v":172.5},{"$f":"$K$441","v":2.21},182.5,0.28000000000000003,null,null,{"$f":"-(K442*2-(I442+M442))*sum!$J$2","v":376},{"$f":"(K442*2-(M442+I442-($C$3-H442)))*sum!$J$2","v":165.99999999999878},{"$f":"H442+I442-K442*2+M442","v":166.26000000000002},{"$f":"J442*2+K442*2-H442-I442-M442","v":178.74},{"$f":"1-((NORMSDIST(LN(ABS(R442)/$C$3)/($E$3*SQRT(($D$3-NOW())/365))))+(1-(NORMSDIST(LN(ABS(S442)/$C$3)/($E$3*SQRT(($D$3-NOW())/365))))))","v":0.44950403434134567},{"$f":"IF(T442=\"\",\"\",Q442/(P442+0.00001))","v":0.44148934996038641},0.19845124392593191,{"$f":"(I442*1+K442*2)*sum!$J$2","v":1232},0.13474025974025874,1,2,1,null,"x",3,10,429,null,null,null,null,null,null,null,null,null,null,null,null,null,null,null,null,null,null,null,null,null,{"$f":"BB441","v":1.7912926031122538},null,"exp",{"$f":"IF(BD442=\"exp\",\"X\",\"\")","v":"X"}]
[null,null,null,null,57,430,{"$f":"CONCATENATE(\"butterfly call _/\\_ (2s\",J443,\"c+b\",H443,\"c+b\",L443,\"c)\")","v":"butterfly call _/\\_ (2s172.5c+b165c+b180c)"},{"$f":"H256","v":165},{"$f":"I256","v":6.13},{"$f":"$J$441","v":172.5},{"$f":"$K$441","v":2.21},180,0.49,null,null,{"$f":"-(K443*2-(I443+M443))*sum!$J$2","v":220.00000000000003},{"$f":"(K443*2-(M443+I443-($C$3-H443)))*sum!$J$2","v":71.999999999998735},{"$f":"H443+I443-K443*2+M443","v":167.20000000000002},{"$f":"J443*2+K443*2-H443-I443-M443","v":177.8},0.38710058365141231,0.32727271239668909,0.12668745798193914,{"$f":"(I443*1+K443*2)*sum!$J$2","v":1055},6.8246445497629135E-2,1,2,1,null,"x",3,10,430,null,null,null,null,null,null,null,null,null,null,null,null,null,null,null,null,null,null,null,null,null,{"$f":"BB442","v":1.7912926031122538},null,"exp","X"]
[null,null,null,null,58,431,{"$f":"CONCATENATE(\"butterfly call _/\\_ (2s\",J444,\"c+b\",H444,\"c+b\",L444,\"c)\")","v":"butterfly call _/\\_ (2s172.5c+b167.5c+b177.5c)"},{"$f":"H255","v":167.5},{"$f":"I255","v":4.5999999999999996},{"$f":"$J$441","v":172.5},{"$f":"$K$441","v":2.21},177.5,0.84,null,null,{"$f":"-(K444*2-(I444+M444))*sum!$J$2","v":101.99999999999996},{"$f":"(K444*2-(M444+I444-($C$3-H444)))*sum!$J$2","v":-60.000000000001208},{"$f":"H444+I444-K444*2+M444","v":168.52},{"$f":"J444*2+K444*2-H444-I444-M444","v":176.48000000000002},0.29527067362331461,-0.58823523644753795,-0.17368861451483428,{"$f":"(I444*1+K444*2)*sum!$J$2","v":902},-6.6518847006653226E-2,1,2,1,null,"x",3,10,431,null,null,null,null,null,null,null,null,null,null,null,null,null,null,null,null,null,null,null,null,null,{"$f":"BB443","v":1.7912926031122538},null,"exp","X"]
[null,null,null,null,59,432,{"$f":"CONCATENATE(\"butterfly call _/\\_ (2s\",J445,\"c+b\",H445,\"c+b\",L445,\"c)\")","v":"butterfly call _/\\_ (2s172.5c+b170c+b175c)"},{"$f":"H254","v":170},{"$f":"I254","v":3.3},{"$f":"$J$441","v":172.5},{"$f":"$K$441","v":2.21},175,1.4,null,null,{"$f":"-(K445*2-(I445+M445))*sum!$J$2","v":27.999999999999936},{"$f":"(K445*2-(M445+I445-($C$3-H445)))*sum!$J$2","v":-236.00000000000119},{"$f":"H445+I445-K445*2+M445","v":170.28000000000003},{"$f":"J445*2+K445*2-H445-I445-M445","v":174.72},0.16701183318283164,-8.4285684183684833,-1.4076706626586402,{"$f":"(I445*1+K445*2)*sum!$J$2","v":772},-0.3056994818652865,1,2,1,null,"x",3,10,432,null,null,null,null,null,null,null,null,null,null,null,null,null,null,null,null,null,null,null,null,null,{"$f":"BB444","v":1.7912926031122538},null,"exp","X"]
[null,null,null,null,60,433,{"$f":"CONCATENATE(\"butterfly put _/\\_ (2s\",J446,\"p+b\",H446,\"p+b\",L446,\"p)\")","v":"butterfly put _/\\_ (2s172.5p+b185p+b160p)"},{"$f":"H218","v":185},{"$f":"I218","v":17.45},{"$f":"H213","v":172.5},{"$f":"I213","v":6.85},{"$f":"H208","v":160},1.85,null,null,{"$f":"(H446-J446-I446-M446+K446*2)*sum!$J$2","v":690},{"$f":"-(K446*2-(I446+M446))*sum!$J$2","v":560.00000000000011},{"$f":"J446*2-K446*2-H446+I446+M446","v":165.6},{"$f":"H446-I446-M446+K446*2","v":179.4},0.49160193235645377,0.81159419113631626,0.39898127265188615,{"$f":"(I446*1+K446*2)*sum!$J$2","v":3115},0.17977528089887643,3,4,3,null,"x",3,10,433,null,null,null,null,null,null,null,null,null,null,null,null,null,null,null,null,null,null,null,null,null,{"$f":"VLOOKUP(J446,sum!$A$14:$E$113,5)","v":6.4544764363941738},null,"",""]
[null,null,null,null,61,434,{"$f":"CONCATENATE(\"butterfly put _/\\_ (2s\",J447,\"p+b\",H447,\"p+b\",L447,\"p)\")","v":"butterfly put _/\\_ (2s172.5p+b182.5p+b162.5p)"},{"$f":"H217","v":182.5},{"$f":"I217","v":15.05},{"$f":"$J$446","v":172.5},{"$f":"$K$446","v":6.85},162.5,2.4500000000000002,null,null,{"$f":"(H447-J447-I447-M447+K447*2)*sum!$J$2","v":619.99999999999989},{"$f":"-(K447*2-(I447+M447))*sum!$J$2","v":380.00000000000006},{"$f":"J447*2-K447*2-H447+I447+M447","v":166.3},{"$f":"H447-I447-M447+K447*2","v":178.7},0.44690534464590748,0.61290321592091612,0.27390972294572208,{"$f":"(I447*1+K447*2)*sum!$J$2","v":2875},0.13217391304347828,3,4,3,null,"x",3,10,434,null,null,null,null,null,null,null,null,null,null,null,null,null,null,null,null,null,null,null,null,null,{"$f":"BB446","v":6.4544764363941738},null,"",""]
[null,null,null,null,62,435,{"$f":"CONCATENATE(\"butterfly put _/\\_ (2s\",J448,\"p+b\",H448,\"p+b\",L448,\"p)\")","v":"butterfly put _/\\_ (2s172.5p+b180p+b165p)"},{"$f":"H216","v":180},{"$f":"I216","v":13.05},{"$f":"$J$446","v":172.5},{"$f":"$K$446","v":6.85},165,3.26,null,null,{"$f":"(H448-J448-I448-M448+K448*2)*sum!$J$2","v":488.99999999999989},{"$f":"-(K448*2-(I448+M448))*sum!$J$2","v":261.00000000000028},{"$f":"J448*2-K448*2-H448+I448+M448","v":167.61},{"$f":"H448-I448-M448+K448*2","v":177.39},0.35906316706919839,0.53374232037336844,0.19164720795212439,{"$f":"(I448*1+K448*2)*sum!$J$2","v":2675},9.7570093457944027E-2,3,4,3,null,"x",3,10,435,null,null,null,null,null,null,null,null,null,null,null,null,null,null,null,null,null,null,null,null,null,{"$f":"BB447","v":6.4544764363941738},null,"",""]
[null,null,null,null,63,436,{"$f":"CONCATENATE(\"butterfly put _/\\_ (2s\",J449,\"p+b\",H449,\"p+b\",L449,\"p)\")","v":"butterfly put _/\\_ (2s172.5p+b177.5p+b167.5p)"},{"$f":"H215","v":177.5},{"$f":"I215","v":11},{"$f":"$J$446","v":172.5},{"$f":"$K$446","v":6.85},167.5,4.25,null,null,{"$f":"(H449-J449-I449-M449+K449*2)*sum!$J$2","v":344.99999999999994},{"$f":"-(K449*2-(I449+M449))*sum!$J$2","v":155.00000000000006},{"$f":"J449*2-K449*2-H449+I449+M449","v":169.05},{"$f":"H449-I449-M449+K449*2","v":175.95},0.25724173316007271,0.44927534929636698,0.1155723695190945,{"$f":"(I449*1+K449*2)*sum!$J$2","v":2470},6.2753036437246987E-2,3,4,3,null,"x",3,10,436,null,null,null,null,null,null,null,null,null,null,null,null,null,null,null,null,null,null,null,null,null,{"$f":"BB448","v":6.4544764363941738},null,"",""]
[null,null,null,null,64,437,{"$f":"CONCATENATE(\"butterfly put _/\\_ (2s\",J450,\"p+b\",H450,\"p+b\",L450,\"p)\")","v":"butterfly put _/\\_ (2s172.5p+b175p+b170p)"},{"$f":"H214","v":175},{"$f":"I214","v":8.6},{"$f":"$J$446","v":172.5},{"$f":"$K$446","v":6.85},170,5.45,null,null,{"$f":"(H450-J450-I450-M450+K450*2)*sum!$J$2","v":214.99999999999986},{"$f":"-(K450*2-(I450+M450))*sum!$J$2","v":35.000000000000142},{"$f":"J450*2-K450*2-H450+I450+M450","v":170.35},{"$f":"H450-I450-M450+K450*2","v":174.65},0.16180897565509911,0.16279069010275937,2.6340994811714175E-2,{"$f":"(I450*1+K450*2)*sum!$J$2","v":2229.9999999999995},1.5695067264574057E-2,3,4,3,null,"x",3,10,437,null,null,null,null,null,null,null,null,null,null,null,null,null,null,null,null,null,null,null,null,null,{"$f":"BB449","v":6.4544764363941738},null,"",""]
[null,null,null,null,"",438,{"$f":"CONCATENATE(\"D vert strike arb call '''\\_ (s\",H451,\"c+b\",J451,\"c)\")","v":"D vert strike arb call '''\\_ (s47.5c+b46.25c)"},{"$f":"VLOOKUP($AP$1+1,$A$6:$D$105,2)","v":47.5},{"$f":"VLOOKUP($AP$1+1,$A$6:$D$105,3)","v":119.2},{"$f":"VLOOKUP($AP$1,$A$6:$D$105,2)","v":46.25},{"$f":"VLOOKUP($AP$1,$A$6:$D$105,3)","v":127.55},null,null,null,null,{"$f":"((H451-J451)-(K451-I451))*sum!$J$2","v":-709.99999999999943},{"$f":"(H451-J451)*sum!J2-P451","v":834.99999999999943},{"$f":"J451+(K451-I451)","v":54.599999999999994},null,{"$f":"IF(OR(Q451=\"\",Q451<=0),\"\",IF(P451<0,1,(NORMSDIST(LN(ABS(R451)/$C$3)/($E$3*SQRT(($D$3-NOW())/365))))))","v":1},-1.176056354592343,{"$f":"IF(T451=\"\",\"\",T451*U451)","v":-1.176056354592343},{"$f":"P451","v":-709.99999999999943},-1.1760563380281692,2,1,null,null,null,2,5,"",null,null,null,null,null,null,null,null,null,null,null,null,null,null,null,null,null,null,null,null,null,null,null,"exp","X"]
[null,null,null,null,"",439,{"$f":"CONCATENATE(\"D vert strike arb call _/'' (s\",H452,\"p+b\",J452,\"p)\")","v":"D vert strike arb call _/'' (s260p+b270p)"},{"$f":"VLOOKUP($AP$2,$A$6:$D$105,2)","v":260},{"$f":"VLOOKUP($AP$2,$A$6:$D$105,4)","v":85.85},{"$f":"VLOOKUP($AP$2+1,$A$6:$D$105,2)","v":270},{"$f":"VLOOKUP($AP$2+1,$A$6:$D$105,4)","v":102.55},null,null,null,null,{"$f":"((J452-H452)-(K452-I452))*sum!J2","v":-670.00000000000023},{"$f":"(J452-H452)*sum!J2-P452","v":1670.0000000000002},{"$f":"J452-(K452-I452)","v":253.3},null,{"$f":"IF(OR(Q452=\"\",Q452<=0),\"\",IF(P452<0,1,(NORMSDIST(LN(ABS(R452)/$C$3)/($E$3*SQRT(($D$3-NOW())/365))))))","v":1},-2.4925373506348851,{"$f":"IF(T452=\"\",\"\",T452*U452)","v":-2.4925373506348851},{"$f":"P452","v":-670.00000000000023},-2.4925373134328352,4,3,null,null,null,1,5,"",null,null,null,null,null,null,null,null,null,null,null,null,null,null,null,null,null,null,null,null,null,null,null,"exp","X"]
[null,null,{"$f":"#REF!","v":{"$error":"#REF!"}},{"$f":"AVERAGE(#REF!)","v":{"$error":"#REF!"}},65,440,{"$f":"CONCATENATE(\"calender call \",H453)","v":"calender call 170"},{"$f":"IF(OR('Y2'!$W$1=6,'Y2'!$W$1=7),#REF!,VLOOKUP(105+$D$4,$A$111:$D$214,2))","v":170},{"$f":"IF('Y2'!$W$1>=8,AVERAGE('Y2'!BA26:BB26),IF('Y2'!$W$1>=6,AVERAGE(#REF!),VLOOKUP(105+$D$4,$A$111:$D$214,3)))","v":6.08},{"$f":"VLOOKUP($C$4,$A$6:$D$105,2)","v":170},{"$f":"VLOOKUP($C$4,$A$6:$D$105,3)","v":3.3},null,null,null,null,{"$f":"(I453-K453)*sum!$J$2","v":278},null,null,null,null,null,null,{"$f":"(I453-K453)*sum!$J$2","v":278},null,1,2,null,null,"c",3,6,440,null,null,null,null,null,null,null,null,null,null,null,null,null,null,null,null,null,null,null,null,null,{"$f":"VLOOKUP(J453,sum!$A$14:$E$113,3)","v":2.6531942972793985},null,"exp",{"$f":"IF(BD453=\"exp\",\"X\",\"\")","v":"X"}]
[null,null,{"$f":"#REF!","v":{"$error":"#REF!"}},{"$f":"AVERAGE(#REF!)","v":{"$error":"#REF!"}},66,441,{"$f":"CONCATENATE(\"calender put \",H454)","v":"calender put 170"},{"$f":"H453","v":170},{"$f":"IF('Y2'!$W$1>=8,AVERAGE('Y2'!BC26:BD26),IF('Y2'!$W$1>=6,AVERAGE(#REF!),VLOOKUP(105+$D$4,$A$111:$D$214,4)))","v":8.6},{"$f":"J453","v":170},{"$f":"VLOOKUP($C$4,$A$6:$D$105,4)","v":5.45},null,null,null,null,{"$f":"(I454-K454)*sum!$J$2","v":314.99999999999994},null,null,null,null,null,null,{"$f":"(I454-K454)*sum!$J$2","v":314.99999999999994},null,3,4,null,null,"c",3,6,441,null,null,null,null,null,null,null,null,null,null,null,null,null,null,null,null,null,null,null,null,null,{"$f":"VLOOKUP(J454,sum!$A$14:$E$113,5)","v":4.8176520596149288},null,"",""]
[null,null,null,null,67,442,{"$f":"CONCATENATE(\"calender call \",H455)","v":"calender call 170"},{"$f":"IF(OR('Y2'!$W$1=6,'Y2'!$W$1=7),#REF!,VLOOKUP(105+$D$4,$A$111:$D$214,2))","v":170},{"$f":"IF('Y2'!$W$1>=8,AVERAGE('Y2'!BA25:BB25),IF('Y2'!$W$1>=6,AVERAGE(#REF!),VLOOKUP(105+$D$4-1,$A$111:$D$214,3)))","v":8.9},{"$f":"VLOOKUP($C$4-1,$A$6:$D$105,2)","v":167.5},{"$f":"VLOOKUP($C$4-1,$A$6:$D$105,3)","v":4.5999999999999996},null,null,null,null,{"$f":"(I455-K455)*sum!$J$2","v":430.00000000000006},null,null,null,null,null,null,{"$f":"(I455-K455)*sum!$J$2","v":430.00000000000006},null,1,2,null,null,"c",3,6,442,null,null,null,null,null,null,null,null,null,null,null,null,null,null,null,null,null,null,null,null,null,{"$f":"VLOOKUP(J455,sum!$A$14:$E$113,3)","v":3.7760676776467079},null,"exp","X"]
[null,null,null,null,68,443,{"$f":"CONCATENATE(\"calender put \",H456)","v":"calender put 170"},{"$f":"H455","v":170},{"$f":"IF('Y2'!$W$1>=8,AVERAGE('Y2'!BC25:BD25),IF('Y2'!$W$1>=6,AVERAGE(#REF!),VLOOKUP(105+$D$4-1,$A$111:$D$214,4)))","v":6.25},{"$f":"J455","v":167.5},{"$f":"VLOOKUP($C$4-1,$A$6:$D$105,4)","v":4.25},null,null,null,null,{"$f":"(I456-K456)*sum!$J$2","v":200},null,null,null,null,null,null,{"$f":"(I456-K456)*sum!$J$2","v":200},null,3,4,null,null,"c",3,6,443,null,null,null,null,null,null,null,null,null,null,null,null,null,null,null,null,null,null,null,null,null,{"$f":"VLOOKUP(J456,sum!$A$14:$E$113,5)","v":3.4417991640991801},null,"exp","X"]
[null,null,null,null,69,444,{"$f":"CONCATENATE(\"calender call \",H457)","v":"calender call 175"},{"$f":"IF(OR('Y2'!$W$1=6,'Y2'!$W$1=7),#REF!,VLOOKUP(105+$D$4+1,$A$111:$D$214,2))","v":175},{"$f":"IF('Y2'!$W$1>=8,AVERAGE('Y2'!BA27:BB27),IF('Y2'!$W$1>=6,AVERAGE(#REF!),VLOOKUP(105+$D$4+1,$A$111:$D$214,3)))","v":3.75},{"$f":"VLOOKUP($C$4+1,$A$6:$D$105,2)","v":172.5},{"$f":"VLOOKUP($C$4+1,$A$6:$D$105,3)","v":2.21},null,null,null,null,{"$f":"(I457-K457)*sum!$J$2","v":154},null,null,null,null,null,null,{"$f":"(I457-K457)*sum!$J$2","v":154},null,1,2,null,null,"c",3,6,444,null,null,null,null,null,null,null,null,null,null,null,null,null,null,null,null,null,null,null,null,null,{"$f":"VLOOKUP(J457,sum!$A$14:$E$113,3)","v":1.7912926031122538},null,"exp","X"]
[null,null,null,null,70,445,{"$f":"CONCATENATE(\"calender put \",H458)","v":"calender put 175"},{"$f":"H457","v":175},{"$f":"IF('Y2'!$W$1>=8,AVERAGE('Y2'!BC27:BD27),IF('Y2'!$W$1>=6,AVERAGE(#REF!),VLOOKUP(105+$D$4+1,$A$111:$D$214,4)))","v":11.6},{"$f":"J457","v":172.5},{"$f":"VLOOKUP($C$4+1,$A$6:$D$105,4)","v":6.85},null,null,null,null,{"$f":"(I458-K458)*sum!$J$2","v":475},null,null,null,null,null,null,{"$f":"(I458-K458)*sum!$J$2","v":475},null,3,4,null,null,"c",3,6,445,null,null,null,null,null,null,null,null,null,null,null,null,null,null,null,null,null,null,null,null,null,{"$f":"VLOOKUP(J458,sum!$A$14:$E$113,5)","v":6.4544764363941738},null,"",""]
[null,null,null,null,71,446,{"$f":"CONCATENATE(\"calender call \",H459)","v":"calender call 160"},{"$f":"IF(OR('Y2'!$W$1=6,'Y2'!$W$1=7),#REF!,VLOOKUP(105+$D$4-2,$A$111:$D$214,2))","v":160},{"$f":"IF('Y2'!$W$1>=8,AVERAGE('Y2'!BA24:BB24),IF('Y2'!$W$1>=6,AVERAGE(#REF!),VLOOKUP(105+$D$4-2,$A$111:$D$214,3)))","v":11.85},{"$f":"VLOOKUP($C$4-2,$A$6:$D$105,2)","v":165},{"$f":"VLOOKUP($C$4-2,$A$6:$D$105,3)","v":6.13},null,null,null,null,{"$f":"(I459-K459)*sum!$J$2","v":572},null,null,null,null,null,null,{"$f":"(I459-K459)*sum!$J$2","v":572},null,1,2,null,null,"c",3,6,446,null,null,null,null,null,null,null,null,null,null,null,null,null,null,null,null,null,null,null,null,null,{"$f":"VLOOKUP(J459,sum!$A$14:$E$113,3)","v":5.1729445158851775},null,"",""]
[null,null,null,null,72,447,{"$f":"CONCATENATE(\"calender put \",H460)","v":"calender put 160"},{"$f":"H459","v":160},{"$f":"IF('Y2'!$W$1>=8,AVERAGE('Y2'!BC24:BD24),IF('Y2'!$W$1>=6,AVERAGE(#REF!),VLOOKUP(105+$D$4-2,$A$111:$D$214,4)))","v":4.55},{"$f":"J459","v":165},{"$f":"VLOOKUP($C$4-2,$A$6:$D$105,4)","v":3.26},null,null,null,null,{"$f":"(I460-K460)*sum!$J$2","v":129},null,null,null,null,null,null,{"$f":"(I460-K460)*sum!$J$2","v":129},null,3,4,null,null,"c",3,6,447,null,null,null,null,null,null,null,null,null,null,null,null,null,null,null,null,null,null,null,null,null,{"$f":"VLOOKUP(J460,sum!$A$14:$E$113,5)","v":2.33994988513588},null,"exp","X"]
[null,null,null,null,73,448,{"$f":"CONCATENATE(\"calender call \",H461)","v":"calender call 160"},{"$f":"IF(OR('Y2'!$W$1=6,'Y2'!$W$1=7),#REF!,VLOOKUP(105+$D$4-2,$A$111:$D$214,2))","v":160},{"$f":"IF('Y2'!$W$1>=8,AVERAGE('Y2'!BA28:BB28),IF('Y2'!$W$1>=6,AVERAGE(#REF!),VLOOKUP(105+$D$4+2,$A$111:$D$214,3)))","v":2.2799999999999998},{"$f":"VLOOKUP($C$4+2,$A$6:$D$105,2)","v":175},{"$f":"VLOOKUP($C$4+2,$A$6:$D$105,3)","v":1.4},null,null,null,null,{"$f":"(I461-K461)*sum!$J$2","v":87.999999999999986},null,null,null,null,null,null,{"$f":"(I461-K461)*sum!$J$2","v":87.999999999999986},null,1,2,null,null,"c",3,6,448,null,null,null,null,null,null,null,null,null,null,null,null,null,null,null,null,null,null,null,null,null,{"$f":"VLOOKUP(J461,sum!$A$14:$E$113,3)","v":1.1605609180556016},null,"exp","X"]
[null,null,null,null,74,449,{"$f":"CONCATENATE(\"calender put \",H462)","v":"calender put 160"},{"$f":"H461","v":160},{"$f":"IF('Y2'!$W$1>=8,AVERAGE('Y2'!BC28:BD28),IF('Y2'!$W$1>=6,AVERAGE(#REF!),VLOOKUP(105+$D$4+2,$A$111:$D$214,4)))","v":14.97},{"$f":"J461","v":175},{"$f":"VLOOKUP($C$4+2,$A$6:$D$105,4)","v":8.6},null,null,null,null,{"$f":"(I462-K462)*sum!$J$2","v":637.00000000000011},null,null,null,null,null,null,{"$f":"(I462-K462)*sum!$J$2","v":637.00000000000011},null,3,4,null,null,"c",3,6,449,null,null,null,null,null,null,null,null,null,null,null,null,null,null,null,null,null,null,null,null,null,{"$f":"VLOOKUP(J462,sum!$A$14:$E$113,5)","v":8.3224709171568918},null,"",""]
[null,null,null,null,{"$f":"IF(AF463=\"\",\"\",RANK(AF463,$AF$14:$AF$493,1))","v":""},450,"ufb_lightning call (sac+sap+2bOc) /`/",{"$f":"H32","v":170},{"$f":"I32","v":3.3},{"$f":"J34","v":177.5},{"$f":"K34","v":0.84},{"$f":"H64","v":170},{"$f":"I64","v":5.45},null,null,null,null,null,null,null,null,null,{"$f":"(-I463+K463*2-M463)*sum!$J$2","v":-707},null,2,1,4,null,"x",1,9,{"$f":"IF($AF$13=12,IF($AF$9=2,IF(BE463=\"X\",F463,\"\"),F463),IF($AF$13<=4,IF(AD463=$AF$13,IF($AF$9=2,IF(BE463=\"X\",F463,\"\"),F463),\"\"),IF(AE463=$AF$13,IF($AF$9=2,IF(BE463=\"X\",F463,\"\"),F463),\"\")))","v":""}]
[null,null,null,null,"",451,"dfb_lightning put (sac+sap+2bOp)  \\/\\",{"$f":"H463","v":170},3.3,{"$f":"H55","v":162.5},{"$f":"I55","v":2.4500000000000002},{"$f":"L463","v":170},{"$f":"M463","v":5.45},null,null,null,null,null,null,null,null,null,{"$f":"(-I464+K464*2-M464)*sum!$J$2","v":-384.99999999999994},null,2,3,4,null,"x",2,9,""]
[null,null,null,null,75,452,"ueb_box turtle (sac+sIp+bOp) _/``\\_",170,3.3,{"$f":"J464","v":162.5},{"$f":"K464","v":2.4500000000000002},{"$f":"H69","v":177.5},{"$f":"I69","v":11},null,null,null,null,null,null,null,null,null,{"$f":"(-I465+K465-M465)*sum!$J$2","v":-1185},null,2,3,4,null,null,3,3,452]
[null,null,null,null,"",453,"deb_snake (sac+sIp+2bOp) \\/\\",170,3.3,{"$f":"J465","v":162.5},{"$f":"K465","v":2.4500000000000002},{"$f":"L465","v":177.5},{"$f":"M465","v":11},null,null,null,null,null,null,null,null,null,{"$f":"(K466*2-I466-M466)*sum!$J$2","v":-939.99999999999989},null,2,3,4,null,"x",2,9,""]
[null,null,null,null,76,454,"nec_delta neutral call (bu+2sac) /\\",null,null,{"$f":"H32","v":170},{"$f":"I32","v":3.3},null,null,null,null,null,null,null,null,null,null,null,{"$f":"(-K467*2+$C$3)*sum!$J$2","v":16132},null,5,2,null,null,"x",3,3,454,null,null,null,null,null,null,null,null,null,null,null,null,null,null,null,null,null,null,null,null,null,{"$f":"VLOOKUP(J467,sum!$A$14:$E$113,3)","v":2.6531942972793985},null,{"$f":"IF(K467>BB467*$BC$12,\"exp\",IF(K467<BB467*$BD$12,\"cheap\",\"\"))","v":"exp"},{"$f":"IF(BD467=\"exp\",\"X\",\"\")","v":"X"}]
[null,null,null,null,77,455,"nep_delta neutral put (su+2sap) /\\",null,null,{"$f":"H60","v":170},{"$f":"I60","v":5.45},null,null,null,null,null,null,null,null,null,null,null,{"$f":"(-K468*2+$C$3)*sum!$J$2","v":15701.999999999998},null,6,4,null,null,"x",3,3,455,null,null,null,null,null,null,null,null,null,null,null,null,null,null,null,null,null,null,null,null,null,{"$f":"VLOOKUP(J468,sum!$A$14:$E$113,5)","v":4.8176520596149288},null,{"$f":"IF(K468>BB468*$BC$12,\"exp\",IF(K468<BB468*$BD$12,\"cheap\",\"\"))","v":""},{"$f":"IF(BD468=\"exp\",\"X\",\"\")","v":""}]
[null,null,null,null,"",456,"dfb_downstairs (bap+bop+sic) \\",{"$f":"H60","v":170},{"$f":"I60","v":5.45},{"$f":"H23","v":162.5},{"$f":"I23","v":7.9},{"$f":"H53","v":162.5},{"$f":"I53","v":2.4500000000000002},null,null,null,null,null,null,null,null,null,{"$f":"(I469+K469-M469)*sum!$J$2","v":1090.0000000000002},null,3,2,3,null,null,2,9,""]
[null,null,null,null,"",457,"ufb_upstairs (bac+boc+sip) /",{"$f":"H32","v":170},{"$f":"I32","v":3.3},{"$f":"H66","v":175},{"$f":"I66","v":8.6},{"$f":"H38","v":175},{"$f":"I38","v":1.4},null,null,null,null,null,null,null,null,null,{"$f":"(I470+K470-M470)*sum!$J$2","v":1049.9999999999998},null,1,4,1,null,null,1,9,""]
[null,null,null,null,78,458,"nfc_christmas call (bic+soc+sOc) --'\\",{"$f":"H26","v":165},{"$f":"I26","v":6.13},{"$f":"H35","v":172.5},{"$f":"I35","v":2.21},{"$f":"H38","v":175},{"$f":"I38","v":1.4},null,null,null,null,null,null,null,null,null,{"$f":"(I471-K471-M471)*sum!$J$2","v":252},null,1,2,2,null,null,3,9,458]
[null,null,null,null,79,459,"nfp_christmas put (bip+sop+sOp) /`--",{"$f":"H66","v":175},{"$f":"I66","v":8.6},{"$f":"H56","v":165},{"$f":"I56","v":3.26},{"$f":"H94","v":162.5},{"$f":"I94","v":2.4500000000000002},null,null,null,null,null,null,null,null,null,{"$f":"(I472-K472-M472)*sum!$J$2","v":288.99999999999994},null,3,4,4,null,null,3,9,459]
[null,null,null,null,"",460,"dfb_tv collar (soc+bip+bu) z 1 '''\\_",{"$f":"H66","v":175},{"$f":"I66","v":8.6},{"$f":"H38","v":175},{"$f":"I38","v":1.4},null,null,null,null,null,null,null,null,null,null,null,{"$f":"(-I473+K473+C3)*sum!J2","v":16072},null,3,2,5,null,null,2,6,""]
[null,null,null,null,"",461,"nfb_twin peaks (bac+bap+2sOc+2sOp) M",{"$f":"H33","v":170},{"$f":"I33","v":3.3},{"$f":"H60","v":170},{"$f":"I60","v":5.45},{"$f":"H39","v":175},{"$f":"I39","v":1.4},{"$f":"H58","v":165},{"$f":"I58","v":3.26},null,null,null,null,null,null,null,{"$f":"(I474+K474-2*M474-2*O474)*sum!J2","v":-56.999999999999943},null,1,3,2,4,"m",4,10,"",null,null,null,null,null,null,null,null,null,null,null,null,null,null,null,null,null,null,null,null,{"$f":"VLOOKUP(L474,sum!$A$14:$E$113,3)","v":1.1605609180556016},{"$f":"VLOOKUP(N474,sum!$A$14:$E$113,5)","v":2.33994988513588},{"$f":"IF(M474>BA474*$BC$12,\"exp\",IF(M474<BA474*$BD$12,\"cheap\",\"\"))","v":"exp"},{"$f":"IF(O474>BB474*$BC$12,\"exp\",IF(O474<BB474*$BD$12,\"cheap\",\"\"))","v":"exp"},{"$f":"IF(AND(BC474=\"exp\",BD474=\"exp\"),\"X\",\"\")","v":"X"}]
[null,null,null,null,80,462,"nfb_cr iron condor2 (bOOc+sOc+sOp+bOOp) _/'''\\_",{"$f":"H42","v":180},{"$f":"I42","v":0.49},{"$f":"H38","v":175},{"$f":"I38","v":1.4},{"$f":"J61","v":165},{"$f":"K61","v":3.26},{"$f":"H52","v":160},{"$f":"I52","v":1.85},null,null,null,null,null,null,null,{"$f":"(I475-K475-M475+O475)+sum!$J$2","v":97.68},null,1,2,4,3,null,3,10,462,null,null,null,null,null,null,null,null,null,null,null,null,null,null,null,null,null,null,null,null,{"$f":"VLOOKUP(J475,sum!$A$14:$E$113,3)","v":1.1605609180556016},{"$f":"VLOOKUP(L475,sum!$A$14:$E$113,5)","v":2.33994988513588},{"$f":"IF(M475>BA475*$BC$12,\"exp\",IF(M475<BA475*$BD$12,\"cheap\",\"\"))","v":"exp"},{"$f":"IF(O475>BB475*$BC$12,\"exp\",IF(O475<BB475*$BD$12,\"cheap\",\"\"))","v":"cheap"},{"$f":"IF(AND(BC475=\"exp\",BD475=\"exp\"),\"X\",\"\")","v":""}]
[null,null,null,null,81,463,"nfb_cr iron condor (bOc+soc+sop+bOp)  _/'''\\_",{"$f":"J475","v":175},{"$f":"K475","v":1.4},{"$f":"H35","v":172.5},{"$f":"I35","v":2.21},{"$f":"H57","v":167.5},{"$f":"I57","v":4.25},{"$f":"L475","v":165},{"$f":"M475","v":3.26},null,null,null,null,null,null,null,{"$f":"(I476-K476-M476+O476)*sum!$J$2","v":-180.00000000000006},null,1,2,4,3,null,3,10,463,null,null,null,null,null,null,null,null,null,null,null,null,null,null,null,null,null,null,null,null,{"$f":"VLOOKUP(J476,sum!$A$14:$E$113,3)","v":1.7912926031122538},{"$f":"VLOOKUP(L476,sum!$A$14:$E$113,5)","v":3.4417991640991801},{"$f":"IF(M476>BA476*$BC$12,\"exp\",IF(M476<BA476*$BD$12,\"cheap\",\"\"))","v":"exp"},{"$f":"IF(O476>BB476*$BC$12,\"exp\",IF(O476<BB476*$BD$12,\"cheap\",\"\"))","v":""},{"$f":"IF(AND(BC476=\"exp\",BD476=\"exp\"),\"X\",\"\")","v":""}]
[null,null,null,null,"",464,{"$f":"CONCATENATE(\"box ---- (b\",H477,\"c+s\",J477,\"p + b\",L477,\"p+s\",N477,\"c)\")","v":"box ---- (b47.5c+s47.5p + b315p+s315c)"},{"$f":"H154","v":47.5},{"$f":"I154","v":119.2},{"$f":"J154","v":47.5},{"$f":"K154","v":0.01},{"$f":"H157","v":315},{"$f":"I157","v":27.92},{"$f":"J157","v":315},{"$f":"K157","v":219.4},{"$f":"P154+P157","v":-33979},null,null,null,null,null,null,{"$f":"-W478","v":-7228.9999999999991},null,1,4,3,2,null,4,5,""]
[null,null,null,null,"",465,{"$f":"CONCATENATE(\"box ---- (s\",H478,\"c+b\",J478,\"p + s\",L478,\"p+b\",N478,\"c)\")","v":"box ---- (s47.5c+b47.5p + s315p+b315c)"},{"$f":"H477","v":47.5},{"$f":"I477","v":119.2},47.5,0.01,315,27.92,315,219.4,{"$f":"-P477","v":33979},null,null,null,null,null,null,{"$f":"(-I478+K478-M478+O478)*sum!$J$2","v":7228.9999999999991},null,2,3,4,1,null,4,5,""]
[null,null,null,null,"",466,"bC \\_/ (tv min) + bp(1st)",{"$f":"VLOOKUP(AS1,$A$6:$D$110,2)","v":47.5},{"$f":"VLOOKUP(AS1,$A$6:$D$110,3)","v":119.2},{"$f":"B6","v":40},{"$f":"D6","v":0.01},null,null,null,null,null,null,null,null,null,null,null,{"$f":"(I479+K479)*sum!$J$2","v":11921},null,1,3,null,null,null,4,5,"",null,null,null,null,null,null,null,null,null,null,null,null,null,null,null,null,null,null,null,null,{"$f":"VLOOKUP(H479,sum!$A$14:$E$113,3)","v":120.27312432318703},{"$f":"VLOOKUP(J479,sum!$A$14:$E$113,5)","v":0},{"$f":"IF(I479>BA479*$BC$12,\"exp\",IF(I479<BA479*$BD$12,\"cheap\",\"\"))","v":""},{"$f":"IF(K479>BB479*$BC$12,\"exp\",IF(K479<BB479*$BD$12,\"cheap\",\"\"))","v":"exp"},{"$f":"IF(AND(BC479<>\"exp\",BD479<>\"exp\"),\"X\",\"\")","v":""}]
[null,null,null,null,"",467,"bP \\_/ (tv min) + bc(1st)",{"$f":"VLOOKUP(AS2,$A$6:$D$110,2)","v":410},{"$f":"VLOOKUP(AS2,$A$6:$D$110,4)","v":60.75},{"$f":"B6","v":40},{"$f":"C6","v":127},null,null,null,null,null,null,null,null,null,null,null,{"$f":"(I480+K480)*sum!$J$2","v":18775},null,3,1,null,null,null,4,5,"",null,null,null,null,null,null,null,null,null,null,null,null,null,null,null,null,null,null,null,null,{"$f":"VLOOKUP(H480,sum!$A$14:$E$113,5)","v":242.04216929445369},{"$f":"VLOOKUP(J480,sum!$A$14:$E$113,3)","v":127.76930281757714},{"$f":"IF(I480>BA480*$BC$12,\"exp\",IF(I480<BA480*$BD$12,\"cheap\",\"\"))","v":"cheap"},{"$f":"IF(K480>BB480*$BC$12,\"exp\",IF(K480<BB480*$BD$12,\"cheap\",\"\"))","v":""},{"$f":"IF(AND(BC480<>\"exp\",BD480<>\"exp\"),\"X\",\"\")","v":"X"}]
[null,null,null,null,"",468,"bC(tv min) + bP(tv min)",{"$f":"H479","v":47.5},{"$f":"I479","v":119.2},{"$f":"H480","v":410},{"$f":"I480","v":60.75},null,null,null,null,null,null,null,null,null,null,null,{"$f":"(I481+K481)*sum!$J$2","v":17995},null,1,3,null,null,null,4,5,""]
[null,null,null,null,82,469,"SC /\\ (tv max) + SP(tv max)",{"$f":"VLOOKUP($AT$1,$A$6:$D$110,2)","v":315},{"$f":"VLOOKUP($AT$1,$A$6:$D$110,3)","v":219.4},{"$f":"VLOOKUP($AT$2,$A$6:$D$110,2)","v":167.5},{"$f":"VLOOKUP($AT$2,$A$6:$D$110,4)","v":4.25},null,null,null,null,null,null,null,null,null,null,null,{"$f":"(-I482-K482)*sum!$J$2","v":-22365},null,2,4,null,null,null,3,5,469]
[null,null,null,null,"",470,"BC '''\\_ (tv min) + SC(tv max)",{"$f":"H481","v":47.5},{"$f":"I481","v":119.2},{"$f":"H482","v":315},{"$f":"I482","v":219.4},null,null,null,null,null,null,null,null,null,null,null,{"$f":"(I483-K483)*sum!$J$2","v":-10020},null,1,2,null,null,null,2,5,""]
[null,null,null,null,"",471,"BP '''\\_ (tv min) + SP(tv max)",{"$f":"H480","v":410},{"$f":"I480","v":60.75},{"$f":"J482","v":167.5},{"$f":"K482","v":4.25},null,null,null,null,null,null,null,null,null,null,null,{"$f":"(I484-K484)*sum!$J$2","v":5650},null,3,4,null,null,null,2,5,""]
[null,null,null,null,83,472,"nfb_cr iron condor3 (bOOc+sOc+sOp+bOOp) _/'''\\_",{"$f":"H44","v":185},{"$f":"I44","v":0.15},{"$f":"H42","v":180},{"$f":"I42","v":0.49},{"$f":"J55","v":160},{"$f":"K55","v":1.85},{"$f":"J51","v":155},{"$f":"K51","v":1.01},null,null,null,null,null,null,null,{"$f":"(I485-K485-M485+O485)+sum!$J$2","v":98.82},null,1,2,4,3,null,3,10,472]
[null,null,null,null,84,473,"nfb_cr iron condor4(bOOc+sOc+sOp+bOOp) _/'''\\_",{"$f":"H48","v":195},{"$f":"I48","v":0.04},{"$f":"H44","v":185},{"$f":"I44","v":0.15},{"$f":"L485","v":160},{"$f":"M485","v":1.85},{"$f":"N485","v":155},{"$f":"O485","v":1.01},null,null,null,null,null,null,null,{"$f":"(I486-K486-M486+O486)+sum!$J$2","v":99.05},null,1,2,4,3,null,3,10,473]
[null,null,null,null,85,474,{"$f":"CONCATENATE(\"butterfly call _/'''\\_  (b\",H487,\"c+s\",J487,\"c + s\",L487,\"c+b\",N487,\"c)\")","v":"butterfly call _/'''\\_  (b160c+s165c + s175c+b180c)"},{"$f":"H20","v":160},{"$f":"I20","v":9.75},{"$f":"J19","v":165},{"$f":"K19","v":6.13},{"$f":"H40","v":175},{"$f":"I40","v":1.4},{"$f":"J39","v":180},{"$f":"K39","v":0.49},null,null,null,null,null,null,null,{"$f":"(I487-K487-M487+O487)+sum!$J$2","v":102.71},null,1,2,2,1,null,3,10,474]
[null,null,null,null,86,475,{"$f":"CONCATENATE(\"butterfly put _/'''\\_  (s\",H488,\"p+b\",J488,\"p + b\",L488,\"p+s\",N488,\"p)\")","v":"butterfly put _/'''\\_  (s165p+b160p + b175p+s180p)"},{"$f":"H54","v":165},{"$f":"I54","v":3.26},{"$f":"J55","v":160},{"$f":"K55","v":1.85},{"$f":"J74","v":175},{"$f":"K74","v":8.6},{"$f":"H74","v":180},{"$f":"I74","v":13.05},null,null,null,null,null,null,null,{"$f":"(I488-K488-M488+O488)+sum!$J$2","v":105.86},null,4,3,4,3,null,3,10,475]
[null,null,null,null,"",476,{"$f":"CONCATENATE(\"jade lizard ) /``--  (b\",H489,\"c+s\",J489,\"c + s\",L489,\"p)\")","v":"jade lizard ) /``--  (b175c+s170c + s165p)"},{"$f":"J33","v":175},{"$f":"K33","v":1.4},{"$f":"H33","v":170},{"$f":"I33","v":3.3},{"$f":"J62","v":165},{"$f":"K62","v":3.26},null,null,null,null,null,null,null,null,null,{"$f":"(I489-K489-M489+O489)+sum!$J$2","v":94.84},null,1,2,4,null,null,1,9,{"$f":"IF($AF$13=12,IF($AF$9=2,IF(BE489=\"X\",F489,\"\"),F489),IF($AF$13<=4,IF(AD489=$AF$13,IF($AF$9=2,IF(BE489=\"X\",F489,\"\"),F489),\"\"),IF(AE489=$AF$13,IF($AF$9=2,IF(BE489=\"X\",F489,\"\"),F489),\"\")))","v":""}]
[null,null,null,null,"",477,{"$f":"CONCATENATE(\"twisted sister ) --``\\  (s\",H490,\"p+b\",J490,\"p + s\",L490,\"c)\")","v":"twisted sister ) --``\\  (s165p+b160p + s170c)"},{"$f":"H54","v":165},{"$f":"I54","v":3.26},{"$f":"J55","v":160},{"$f":"K55","v":1.85},{"$f":"J27","v":170},{"$f":"K27","v":3.3},null,null,null,null,null,null,null,null,null,{"$f":"(I490-K490-M490+O490)+sum!$J$2","v":98.11},null,4,3,2,null,null,2,9,""]
[null,null,null,null,87,478,"nfb_dr butterfly (bIc+sic+sip+bIp) _/'''\\_",{"$f":"H15","v":155},{"$f":"I15","v":13.49},{"$f":"J15","v":160},{"$f":"K15","v":9.75},{"$f":"H74","v":180},{"$f":"I74","v":13.05},{"$f":"J74","v":175},{"$f":"K74","v":8.6},null,null,null,null,null,null,null,{"$f":"(I491-K491-M491+O491)+sum!$J$2","v":99.289999999999992},null,1,2,3,4,null,3,10,478]
[null,null,null,null,"",479,"synthetic call (bu+bop)",{"$f":"H54","v":165},{"$f":"I54","v":3.26},null,null,null,null,null,null,null,null,null,null,null,null,null,{"$f":"(I492-K492-M492+O492)+sum!$J$2","v":103.26},null,3,5,null,null,null,1,6,""]
[null,null,null,null,{"$f":"IF(AF493=\"\",\"\",RANK(AF493,$AF$14:$AF$494,1))","v":""},480,"jade justin /-'``(boc+sOc + sop)",{"$f":"H39","v":175},{"$f":"I39","v":1.4},{"$f":"J39","v":180},{"$f":"K39","v":0.49},{"$f":"H50","v":160},{"$f":"I50","v":1.85},null,null,null,null,null,null,null,null,null,{"$f":"(I493-K493-M493+O493)+sum!$J$2","v":99.06},null,1,2,4,null,null,1,9,""]
[null,null,null,null,{"$f":"IF(AF494=\"\",\"\",RANK(AF494,$AF$14:$AF$494,1))","v":""},481,{"$f":"CONCATENATE(\"big lizard ) /`--  (b\",H494,\"c+s\",J494,\"c + s\",L494,\"p)\")","v":"big lizard ) /`--  (b175c+s170c + s170p)"},{"$f":"H489","v":175},{"$f":"I489","v":1.4},{"$f":"J489","v":170},{"$f":"K489","v":3.3},{"$f":"J68","v":170},{"$f":"K68","v":5.45},null,null,null,null,null,null,null,null,null,{"$f":"(I494-K494-M494+O494)+sum!$J$2","v":92.65},null,1,2,4,null,null,1,9,""]
[null,null,null,null,{"$f":"IF(AF495=\"\",\"\",RANK(AF495,$AF$14:$AF$553,1))","v":""},482,null,null,null,null,null,null,null,null,null,null,null,null,null,null,null,null,null,null,null,null,null,null,null,null,null,""]
[null,null,null,null,"",483,null,null,null,null,null,null,null,null,null,null,null,null,null,null,null,null,null,null,null,null,null,null,null,null,null,""]
[null,null,null,null,"",484,null,null,null,null,null,null,null,null,null,null,null,null,null,null,null,null,null,null,null,null,null,null,null,null,null,""]
[null,null,null,null,"",485,null,null,null,null,null,null,null,null,null,null,null,null,null,null,null,null,null,null,null,null,null,null,null,null,null,""]
[null,null,null,null,"",486,null,null,null,null,null,null,null,null,null,null,null,null,null,null,null,null,null,null,null,null,null,null,null,null,null,""]
[null,null,null,null,"",487,null,null,null,null,null,null,null,null,null,null,null,null,null,null,null,null,null,null,null,null,null,null,null,null,null,""]
[null,null,null,null,"",488,null,null,null,null,null,null,null,null,null,null,null,null,null,null,null,null,null,null,null,null,null,null,null,null,null,""]
[null,null,null,null,"",489,null,null,null,null,null,null,null,null,null,null,null,null,null,null,null,null,null,null,null,null,null,null,null,null,null,""]
[null,null,null,null,"",490,null,null,null,null,null,null,null,null,null,null,null,null,null,null,null,null,null,null,null,null,null,null,null,null,null,""]
[null,null,null,null,"",491,null,null,null,null,null,null,null,null,null,null,null,null,null,null,null,null,null,null,null,null,null,null,null,null,null,""]
[null,null,null,null,"",492,null,null,null,null,null,null,null,null,null,null,null,null,null,null,null,null,null,null,null,null,null,null,null,null,null,""]
[null,null,null,null,"",493,null,null,null,null,null,null,null,null,null,null,null,null,null,null,null,null,null,null,null,null,null,null,null,null,null,""]
[null,null,null,null,"",494,null,null,null,null,null,null,null,null,null,null,null,null,null,null,null,null,null,null,null,null,null,null,null,null,null,""]
[null,null,null,null,"",495,null,null,null,null,null,null,null,null,null,null,null,null,null,null,null,null,null,null,null,null,null,null,null,null,null,""]
[null,null,null,null,"",496,null,null,null,null,null,null,null,null,null,null,null,null,null,null,null,null,null,null,null,null,null,null,null,null,null,""]
[null,null,null,null,"",497,null,null,null,null,null,null,null,null,null,null,null,null,null,null,null,null,null,null,null,null,null,null,null,null,null,""]
[null,null,null,null,"",498,null,null,null,null,null,null,null,null,null,null,null,null,null,null,null,null,null,null,null,null,null,null,null,null,null,""]
[null,null,null,null,"",499,null,null,null,null,null,null,null,null,null,null,null,null,null,null,null,null,null,null,null,null,null,null,null,null,null,""]
[null,null,null,null,"",500,null,null,null,null,null,null,null,null,null,null,null,null,null,null,null,null,null,null,null,null,null,null,null,null,null,""]
[null,null,null,null,"",{"$f":"F513+1","v":501},null,null,null,null,null,null,null,null,null,null,null,null,null,null,null,null,null,null,null,null,null,null,null,null,null,""]
[null,null,null,null,"",{"$f":"F514+1","v":502},null,null,null,null,null,null,null,null,null,null,null,null,null,null,null,null,null,null,null,null,null,null,null,null,null,""]
[null,null,null,null,"",503,null,null,null,null,null,null,null,null,null,null,null,null,null,null,null,null,null,null,null,null,null,null,null,null,null,""]
[null,null,null,null,"",504,null,null,null,null,null,null,null,null,null,null,null,null,null,null,null,null,null,null,null,null,null,null,null,null,null,""]
[null,null,null,null,"",505,null,null,null,null,null,null,null,null,null,null,null,null,null,null,null,null,null,null,null,null,null,null,null,null,null,""]
[null,null,null,null,"",506,null,null,null,null,null,null,null,null,null,null,null,null,null,null,null,null,null,null,null,null,null,null,null,null,null,""]
[null,null,null,null,"",507,null,null,null,null,null,null,null,null,null,null,null,null,null,null,null,null,null,null,null,null,null,null,null,null,null,""]
[null,null,null,null,"",508,null,null,null,null,null,null,null,null,null,null,null,null,null,null,null,null,null,null,null,null,null,null,null,null,null,""]
[null,null,null,null,"",509,null,null,null,null,null,null,null,null,null,null,null,null,null,null,null,null,null,null,null,null,null,null,null,null,null,""]
[null,null,null,null,"",510,null,null,null,null,null,null,null,null,null,null,null,null,null,null,null,null,null,null,null,null,null,null,null,null,null,""]
[null,null,null,null,"",511,null,null,null,null,null,null,null,null,null,null,null,null,null,null,null,null,null,null,null,null,null,null,null,null,null,""]
[null,null,null,null,"",512,null,null,null,null,null,null,null,null,null,null,null,null,null,null,null,null,null,null,null,null,null,null,null,null,null,""]
[null,null,null,null,"",513,null,null,null,null,null,null,null,null,null,null,null,null,null,null,null,null,null,null,null,null,null,null,null,null,null,""]
[null,null,null,null,"",514,null,null,null,null,null,null,null,null,null,null,null,null,null,null,null,null,null,null,null,null,null,null,null,null,null,""]
[null,null,null,null,"",515,null,null,null,null,null,null,null,null,null,null,null,null,null,null,null,null,null,null,null,null,null,null,null,null,null,""]
[null,null,null,null,"",516,null,null,null,null,null,null,null,null,null,null,null,null,null,null,null,null,null,null,null,null,null,null,null,null,null,""]
[null,null,null,null,"",517,null,null,null,null,null,null,null,null,null,null,null,null,null,null,null,null,null,null,null,null,null,null,null,null,null,""]
[null,null,null,null,"",518,null,null,null,null,null,null,null,null,null,null,null,null,null,null,null,null,null,null,null,null,null,null,null,null,null,""]
[null,null,null,null,"",519,null,null,null,null,null,null,null,null,null,null,null,null,null,null,null,null,null,null,null,null,null,null,null,null,null,""]
[null,null,null,null,"",520,null,null,null,null,null,null,null,null,null,null,null,null,null,null,null,null,null,null,null,null,null,null,null,null,null,""]
[null,null,null,null,"",521,null,null,null,null,null,null,null,null,null,null,null,null,null,null,null,null,null,null,null,null,null,null,null,null,null,""]
[null,null,null,null,"",522,null,null,null,null,null,null,null,null,null,null,null,null,null,null,null,null,null,null,null,null,null,null,null,null,null,""]
[null,null,null,null,"",523,null,null,null,null,null,null,null,null,null,null,null,null,null,null,null,null,null,null,null,null,null,null,null,null,null,""]
[null,null,null,null,"",524,null,null,null,null,null,null,null,null,null,null,null,null,null,null,null,null,null,null,null,null,null,null,null,null,null,""]
[null,null,null,null,"",525,null,null,null,null,null,null,null,null,null,null,null,null,null,null,null,null,null,null,null,null,null,null,null,null,null,""]
[null,null,null,null,"",526,null,null,null,null,null,null,null,null,null,null,null,null,null,null,null,null,null,null,null,null,null,null,null,null,null,""]
[null,null,null,null,"",527,null,null,null,null,null,null,null,null,null,null,null,null,null,null,null,null,null,null,null,null,null,null,null,null,null,""]
[null,null,null,null,"",528,null,null,null,null,null,null,null,null,null,null,null,null,null,null,null,null,null,null,null,null,null,null,null,null,null,""]
[null,null,null,null,"",529,null,null,null,null,null,null,null,null,null,null,null,null,null,null,null,null,null,null,null,null,null,null,null,null,null,""]
[null,null,null,null,"",530,null,null,null,null,null,null,null,null,null,null,null,null,null,null,null,null,null,null,null,null,null,null,null,null,null,""]
[null,null,null,null,"",531,null,null,null,null,null,null,null,null,null,null,null,null,null,null,null,null,null,null,null,null,null,null,null,null,null,""]
[null,null,null,null,"",532,null,null,null,null,null,null,null,null,null,null,null,null,null,null,null,null,null,null,null,null,null,null,null,null,null,""]
[null,null,null,null,"",533,null,null,null,null,null,null,null,null,null,null,null,null,null,null,null,null,null,null,null,null,null,null,null,null,null,""]
[null,null,null,null,"",534,null,null,null,null,null,null,null,null,null,null,null,null,null,null,null,null,null,null,null,null,null,null,null,null,null,""]
[null,null,null,null,"",535,null,null,null,null,null,null,null,null,null,null,null,null,null,null,null,null,null,null,null,null,null,null,null,null,null,""]
[null,null,null,null,"",536,null,null,null,null,null,null,null,null,null,null,null,null,null,null,null,null,null,null,null,null,null,null,null,null,null,""]
[null,null,null,null,"",537,null,null,null,null,null,null,null,null,null,null,null,null,null,null,null,null,null,null,null,null,null,null,null,null,null,""]
[null,null,null,null,"",538,null,null,null,null,null,null,null,null,null,null,null,null,null,null,null,null,null,null,null,null,null,null,null,null,null,""]
[null,null,null,null,"",539,null,null,null,null,null,null,null,null,null,null,null,null,null,null,null,null,null,null,null,null,null,null,null,null,null,""]
[null,null,null,null,{"$f":"IF(AF553=\"\",\"\",RANK(AF553,$AF$14:$AF$553,1))","v":""},540,null,null,null,null,null,null,null,null,null,null,null,null,null,null,null,null,null,null,null,null,null,null,null,null,null,{"$f":"IF($AF$13=12,IF($AF$9=2,IF(BE553=\"X\",F553,\"\"),F553),IF($AF$13<=4,IF(AD553=$AF$13,IF($AF$9=2,IF(BE553=\"X\",F553,\"\"),F553),\"\"),IF(AE553=$AF$13,IF($AF$9=2,IF(BE553=\"X\",F553,\"\"),F553),\"\")))","v":""}]
[]
[]
[]
[null,null,null,null,null,null,"boc+2soc (bull)"]
[]
[]
[null,null,null,null,null,null,"put credit _/\" (bp+sP)"]
[null,null,null,null,null,null,"covered call /'' (bu+sc)"]
[null,null,null,null,null,null,"naked put /'' (sp)"]
[]
[null,null,null,null,null,null,"covered put \"''\\ (su+sp)"]
[null,null,null,null,null,null,"naked call \"''\\ (sc)"]
[null,null,null,null,null,null,"put debit \"''\\_ (bP+sp)"]
[null,null,null,null,null,null,"call credit \"''\\_ (bc+sC)"]
[]
[null,null,null,null,null,null,"synth call _/ (bu+bp)"]
[null,null,null,null,null,null,"synth put \\_ (su+bc)"]
[null,null,null,null,null,null,"synth long / (bc+sp)"]
[null,null,null,null,null,null,"synth short \\ (bp+sc)"]
[null,null,null,null,null,null,"synth long (bc+sp) + short ---"]
[null,null,null,null,null,null,"synth short (bp+sc) + long ---"]
[null,null,null,null,null,null,"synth long + synth short ---"]
[]
[null,null,null,null,null,null,"strangle (bc+bp) /\\"]
[null,null,null,null,null,null,"straddle (sc+sp) V"]
[null,null,null,null,null,null,"calendar /\\"]
[]
[null,null,null,null,null,null,"collar (bu+bp+sc) _/''"]

{"sheet":"Y2","index":3,"n_rows":254,"n_cols":90,"rows_kept":254,"cut":false,"hidden":true,"merged":[]}
[null,null,null,null,null,null,null,null,null,null,null,null,null,null,null,null,null,{"$f":"IF(DAY(NOW())>21,1,0)","v":1},{"$f":"VALUE(CONCATENATE(MONTH(NOW())+R1,\"/21/\",YEAR(NOW())))","v":"2022-09-21"},null,"ms parms:",null,4,null,{"$f":"IF(ISERROR(AVERAGE(AG4:AH4)),AI4,AVERAGE(AG4:AH4))","v":167.08},{"$f":"IF(W1=4,s!B2,Y1)","v":167.92},null,null,null,null,"TOS",null,null,{"$f":"\".\"&$AF$4&$AE$4&\"C\"&$AA10","v":".AAPL220916C43.75"},null,null,null,null,{"$f":"AI4","v":167.08},{"$f":"IF(LEFT(AF4,3)=\"/6C\",\".005\",VLOOKUP(AM1,AK2:AL11,2))","v":1},{"$f":"IF(ISERROR(LEFT(sum!$B$2,(LEN(sum!$B$2)-3))),0,LEFT(sum!$B$2,(LEN(sum!$B$2)-3)))","v":"A"},{"$f":"IF(sum!A13=\"\",SUMIF($AO$3:$AO$40,AO1,AP$3:AP$40),sum!A13)","v":0},{"$f":"IF(sum!A10=\"\",SUMIF($AO$3:$AO$40,AO1,AQ$3:AQ$40),sum!A10)","v":0},null,{"$f":"IF(ISNA(VLOOKUP(AO1,$AO$3:$AS$40,5,FALSE))=TRUE,0,VLOOKUP(AO1,$AO$3:$AS$40,5,FALSE))","v":0},"month1",{"$f":"IF(sum!$B$2=0,0,VLOOKUP(AO1,$AO$3:$AS$40,5,FALSE))","v":{"$error":"#N/A"}},null,null,null,null,null,null,null,null,null,null,null,null,null,null,null,null,null,null,null,null,null,null,null,null,{"$f":"IF(LEFT(#REF!,4)=\"Hide\",#REF!,\"z\")","v":{"$error":"#REF!"}}]
[null,null,null,null,null,null,null,null,null,100,null,null,null,null,null,null,null,null,null,null,{"$f":"MONTH(VLOOKUP(X22,$V$23:$Y$33,3))","v":1},1,null,"stocks1 (recommended)",null,{"$f":"sum!B2","v":"AAPL"},{"$f":"IF(W1=5,\"\",IF(W1=4,#REF!,IF($W$1=3,#REF!,IF($W$1=2,#REF!,IF($W$1=3,#REF!,#REF!)))))","v":{"$error":"#REF!"}},null,null,null,null,null,{"$f":"IF(W1=9,LEFT(sum!$B$2,(LEN(sum!$B$2)-2))&RIGHT(sum!$B$2,1),sum!B2)","v":"AAPL"},"\"./OGV22C1740:XCEC\"",null,null,1E-4,9.9999999999999995E-7,null,null,null,"START","INTERVAL",null,{"$f":"IF(OR(sum!$E$116=0,ISNA(VLOOKUP(LEFT(sum!$E$116,(LEN(sum!$E$116)-3)),$AO$3:$AS$40,5,FALSE))=TRUE),0,VLOOKUP(LEFT(sum!$E$116,(LEN(sum!$E$116)-3)),$AO$3:$AS$40,5,FALSE))","v":0},"month2",{"$f":"IF(sum!E116=0,0,VLOOKUP(LEFT(sum!$E$116,(LEN(sum!$E$116)-3)),$AO$3:$AS$40,5,FALSE))","v":0},null,null,null,null,null,null,null,null,null,null,null,null,null,null,null,null,null,null,null,null,{"$f":"MINA(BT1:BT6)","v":{"$error":"#REF!"}},null,null,null,{"$f":"IF(LEFT(#REF!,4)=\"Hide\",#REF!,\"z\")","v":{"$error":"#REF!"}}]
[null,null,null,null,null,null,null,null,null,null,null,null,null,null,null,null,null,null,null,null,{"$f":"YEAR(VLOOKUP(X22,$V$23:$Y$33,3))","v":2026},2,null,"stocks2",null,null,{"$f":"YEAR(Z6)-2000&IF(MONTH(Z6)<10,\"0\",\"\")&MONTH(Z6)&IF(DAY(Z6)<10,\"0\",\"\")&DAY(Z6)","v":"220916"},null,null,null,"DATE","SYMBOL","stk bid","stk ask","stk last",null,1E-3,1E-4,null,null,0,null,null,null,null,null,null,null,null,null,null,null,null,null,null,null,null,null,null,null,null,null,null,null,null,"mw",null,null,null,"mw date conv",null,{"$f":"IF(LEFT(#REF!,4)=\"Hide\",#REF!,\"z\")","v":{"$error":"#REF!"}},"mw chain conv"]
[null,null,null,null,null,null,null,null,null,null,null,null,null,null,null,null,null,null,null,null,null,3,null,"stocks3 (manual feed)",null,null,null,null,null,{"$f":"IF(LEFT($AF$4,1)=\"/\",\"\",YEAR(Z6)-2000&IF(MONTH(Z6)<10,\"0\",\"\")&MONTH(Z6)&IF(DAY(Z6)<10,\"0\",\"\")&DAY(Z6))","v":"220916"},{"$f":"IF(LEFT($AF$4,1)=\"/\",\"\",YEAR(Z6)-2000&IF(MONTH(Z6)<10,\"0\",\"\")&MONTH(Z6)&IF(DAY(Z6)<10,\"0\",\"\")&DAY(Z6))","v":"220916"},{"$f":"IF($AS$1=0,sum!$B$2,$AS$1&MID(sum!$B$2,LEN(sum!$B$2)-2,1)&RIGHT(sum!$B$2,1))","v":"AAPL"},{"$f":"RTD(\"tos.rtd\",,\"ASK\",IF($W$1=9,$AG$2,sum!B2))","v":167.08},{"$f":"RTD(\"tos.rtd\",,\"ASK\",IF($W$1=9,$AG$2,sum!B2))","v":167.08},{"$f":"RTD(\"tos.rtd\",,\"LAST\",IF($W$1=9,$AG$2,sum!B2))","v":167.08},null,0.01,1E-3,null,null,"/6A",0.56000000000000005,5.0000000000000001E-3,"aud","/ADU",null,null,null,null,null,null,{"$f":"Z1","v":167.92},null,null,null,null,null,null,null,null,null,null,null,null,null,{"$f":"VLOOKUP(BT18,BR7:BS74,2)","v":"2007-06-01"},{"$f":"BN4+IF(WEEKDAY($BN4)=7,21,WEEKDAY($BN4)+(21-2*WEEKDAY($BN4)))-1","v":"2007-06-15"},null,null,null,null,{"$f":"IF(LEFT(#REF!,4)=\"Hide\",#REF!,\"z\")","v":{"$error":"#REF!"}}]
[null,null,null,null,null,null,null,null,null,null,null,null,null,null,null,null,null,null,null,null,"ms2 parms:",4,"stocks4",null,"2nd mo",{"$f":"sum!D116","v":"2022-10-21"},{"$f":"sum!A10","v":0},"if weekly option entered use it, otherwise user coverted quoted price from YA",null,null,"CALLS",null,"PUTS",null,null,null,0.1,0.01,null,{"$f":"ISERROR(AO1)","v":false},"/6B",1.17,5.0000000000000001E-3,"british pound","/GBU",null,null,null,null,null,null,{"$f":"sum!A10","v":0},null,null,null,null,null,null,null,null,null,null,null,null,null,null,null,null,null,null,null,{"$f":"IF(LEFT(#REF!,4)=\"Hide\",#REF!,\"z\")","v":{"$error":"#REF!"}}]
[null,null,null,null,null,null,null,null,null,null,null,null,null,null,null,null,null,null,null,null,{"$f":"MONTH(VLOOKUP(Y20,$V$23:$Y$33,3))","v":1},5,null,"futures (end of day)","1st mo",{"$f":"sum!D2","v":"2022-09-16"},{"$f":"sum!A13","v":0},null,null,{"$f":"$AP$1","v":0},"BID","ASK",null,null,null,null,1,0.1,null,null,"/6C",0.56000000000000005,5.0000000000000001E-3,"cad","/CAU",null,"for ticker lim 40",null,null,null,null,"ES",null,"NQ",null,"for ticker lim 100",null,null,null,"c","p",null,null,null,null,"s","c","p",null,null,null,{"$f":"IF(LEFT(#REF!,4)=\"Hide\",#REF!,\"z\")","v":{"$error":"#REF!"}},"Symbol","Last","Change","Vol","Bid","Ask","Open Int.",null,"Symbol","Last","Change","Vol","Bid","Ask","Open Int."]
[null,null,null,null,null,null,null,null,null,null,null,null,null,null,null,null,null,null,null,null,{"$f":"YEAR(VLOOKUP(Y20,$V$23:$Y$33,3))","v":2023},6,null,"         ib stream (acct reqd)",null,1,{"$f":"IF($W$1>7,IF($AA$6<>0,$AA$6+$AA$5*(Z7-1),IF(opt!F2=\"\",\"\",opt!F2)),IF(opt!F2=\"\",\"\",opt!F2))","v":40},{"$f":"IF($AA7=\"\",\"\",IF($W$1>7,IF(ISERROR(AVERAGE(AE7:AF7))=TRUE,\"\",AVERAGE(AE7:AF7)),IF($W$1=5,BH7,IF($W$1=4,opt!A2,\"X\"))))","v":127},{"$f":"IF($AA7=\"\",\"\",IF($W$1>7,IF(ISERROR(AVERAGE(AG7:AH7))=TRUE,\"\",AVERAGE(AG7:AH7)),IF($W$1=5,BI7,IF($W$1=4,opt!G2,\"X\"))))","v":0.01},{"$f":"AD6+$AQ$1","v":0},{"$f":"IF($AA7=\"\",\"\",RTD(\"tos.rtd\", , \"BID\",\".\"&$AF$4&$AE$4&\"C\"&$AA7))","v":127.05},{"$f":"IF($AA7=\"\",\"\",RTD(\"tos.rtd\", , \"ASK\",\".\"&$AF$4&$AE$4&\"C\"&$AA7))","v":127.2},{"$f":"IF($AA7=\"\",\"\",RTD(\"tos.rtd\", , \"BID\",\".\"&$AF$4&$AE$4&\"P\"&$AA7))","v":0},{"$f":"IF($AA7=\"\",\"\",RTD(\"tos.rtd\", , \"ASK\",\".\"&$AF$4&$AE$4&\"P\"&$AA7))","v":0.01},null,null,10,0.5,null,null,"/6E",0.85,5.0000000000000001E-3,"euro fx","/EUU",null,{"$f":"AU8-1","v":38},1,{"$f":"IF(AU7<=0,\"\",VLOOKUP(AU7,$Z$7:$AC$106,2))","v":110},{"$f":"IF(ISERROR(AW7)=TRUE,\"\",AW7)","v":110},null,{"$f":"IF((AZ8-$AZ$5)<0,0,(AZ8-$AZ$5))","v":170},null,null,null,{"$f":"BD8-1","v":{"$error":"#REF!"}},1,{"$f":"IF($BD7<=0,\"\",VLOOKUP($BD7,#REF!,3))","v":{"$error":"#REF!"}},{"$f":"IF(ISERROR(BF7)=TRUE,\"\",BF7)","v":""},{"$f":"IF($BG7=\"\",\"\",VLOOKUP($BD7,#REF!,5))","v":""},{"$f":"IF($BG7=\"\",\"\",VLOOKUP($BD7,#REF!,9))","v":""},null,null,null,null,{"$f":"IF(CL7=\"\",\"\",CL7)","v":60},{"$f":"IF(BN7=\"\",\"\",IF($W$11=2,BV7,AVERAGE(BY7:BZ7)))","v":92.75},{"$f":"IF(BN7=\"\",\"\",IF($W$11=2,CD7,AVERAGE(CG7:CH7)))","v":0.05},null,"Hide April, 2007 Options","2007-04-01",{"$f":"IF(LEFT(#REF!,4)=\"Hide\",#REF!,\"z\")","v":{"$error":"#REF!"}},"SWVFH",92.4,0.9,158,92.6,92.9,2519,60,"SWVRH",null,null,null,null,0.05,null,null,null,60]
[null,null,null,null,null,null,null,null,null,null,null,null,null,null,null,null,null,null,null,null,null,7,null,"         ib stream futures (acct reqd)",null,2,{"$f":"IF($W$1>7,IF($AA$6<>0,$AA$6+$AA$5*(Z8-1),IF(opt!F3=\"\",\"\",opt!F3)),IF(opt!F3=\"\",\"\",opt!F3))","v":41.25},{"$f":"IF($AA8=\"\",\"\",IF($W$1>7,IF(ISERROR(AVERAGE(AE8:AF8))=TRUE,\"\",AVERAGE(AE8:AF8)),IF($W$1=5,BH8,IF($W$1=4,opt!A3,\"X\"))))","v":125.95},{"$f":"IF($AA8=\"\",\"\",IF($W$1>7,IF(ISERROR(AVERAGE(AG8:AH8))=TRUE,\"\",AVERAGE(AG8:AH8)),IF($W$1=5,BI8,IF($W$1=4,opt!G3,\"X\"))))","v":0.01},{"$f":"AD7+$AQ$1","v":0},{"$f":"IF($AA8=\"\",\"\",RTD(\"tos.rtd\", , \"BID\",\".\"&$AF$4&$AE$4&\"C\"&$AA8))","v":125.8},{"$f":"IF($AA8=\"\",\"\",RTD(\"tos.rtd\", , \"ASK\",\".\"&$AF$4&$AE$4&\"C\"&$AA8))","v":125.95},{"$f":"IF($AA8=\"\",\"\",RTD(\"tos.rtd\", , \"BID\",\".\"&$AF$4&$AE$4&\"P\"&$AA8))","v":0},{"$f":"IF($AA8=\"\",\"\",RTD(\"tos.rtd\", , \"ASK\",\".\"&$AF$4&$AE$4&\"P\"&$AA8))","v":0.01},null,null,100,1,null,null,"/6J",7.0000000000000001E-3,5.0000000000000002E-5,"japanese yen","/JPU",null,39,2,{"$f":"IF(AU8<=0,\"\",VLOOKUP(AU8,$Z$7:$AC$106,2))","v":112.5},{"$f":"IF(ISERROR(AW8)=TRUE,\"\",AW8)","v":112.5},null,{"$f":"IF((AZ9-$AZ$5)<0,0,(AZ9-$AZ$5))","v":170},null,null,null,{"$error":"#REF!"},2,{"$f":"IF($BD8<=0,\"\",VLOOKUP($BD8,#REF!,3))","v":{"$error":"#REF!"}},{"$f":"IF(ISERROR(BF8)=TRUE,\"\",BF8)","v":""},{"$f":"IF($BG8=\"\",\"\",VLOOKUP($BD8,#REF!,5))","v":""},{"$f":"IF($BG8=\"\",\"\",VLOOKUP($BD8,#REF!,9))","v":""},null,null,null,null,{"$f":"IF(CL8=\"\",\"\",CL8)","v":65},{"$f":"IF(BN8=\"\",\"\",IF($W$11=2,BV8,AVERAGE(BY8:BZ8)))","v":87.75},{"$f":"IF(BN8=\"\",\"\",IF($W$11=2,CD8,AVERAGE(CG8:CH8)))","v":0.05},null,"Hide April, 2008 Options","2008-04-01",{"$f":"IF(LEFT(#REF!,4)=\"Hide\",#REF!,\"z\")","v":{"$error":"#REF!"}},"SWVFM",87.4,0.6,156,87.6,87.9,3290,65,"SWVRM",0.05,null,2,null,0.05,2,null,null,65]
[null,null,null,null,null,null,null,null,null,null,null,null,null,null,null,null,null,null," ","  ","Y index symbol conv:",8,"tos stream stocks (acct reqd)",null," ",3,{"$f":"IF($W$1>7,IF($AA$6<>0,$AA$6+$AA$5*(Z9-1),IF(opt!F4=\"\",\"\",opt!F4)),IF(opt!F4=\"\",\"\",opt!F4))","v":42.5},{"$f":"IF($AA9=\"\",\"\",IF($W$1>7,IF(ISERROR(AVERAGE(AE9:AF9))=TRUE,\"\",AVERAGE(AE9:AF9)),IF($W$1=5,BH9,IF($W$1=4,opt!A4,\"X\"))))","v":125.1},{"$f":"IF($AA9=\"\",\"\",IF($W$1>7,IF(ISERROR(AVERAGE(AG9:AH9))=TRUE,\"\",AVERAGE(AG9:AH9)),IF($W$1=5,BI9,IF($W$1=4,opt!G4,\"X\"))))","v":0.02},0,{"$f":"IF($AA9=\"\",\"\",RTD(\"tos.rtd\", , \"BID\",\".\"&$AF$4&$AE$4&\"C\"&$AA9))","v":124.55},{"$f":"IF($AA9=\"\",\"\",RTD(\"tos.rtd\", , \"ASK\",\".\"&$AF$4&$AE$4&\"C\"&$AA9))","v":124.7},{"$f":"IF($AA9=\"\",\"\",RTD(\"tos.rtd\", , \"BID\",\".\"&$AF$4&$AE$4&\"P\"&$AA9))","v":0},{"$f":"IF($AA9=\"\",\"\",RTD(\"tos.rtd\", , \"ASK\",\".\"&$AF$4&$AE$4&\"P\"&$AA9))","v":0.01},null,null,200,5,null,null,"/CC",1500,50,"cocoa","/CC",null,40,3,115,115,null,170,null,null,null,{"$error":"#REF!"},3,{"$f":"IF($BD9<=0,\"\",VLOOKUP($BD9,#REF!,3))","v":{"$error":"#REF!"}},"",{"$f":"IF($BG9=\"\",\"\",VLOOKUP($BD9,#REF!,5))","v":""},{"$f":"IF($BG9=\"\",\"\",VLOOKUP($BD9,#REF!,9))","v":""},null,null,null,null,70,82.800000000000011,0.05,null,"Hide April, 2009 Options","2009-04-01",{"$f":"IF(LEFT(#REF!,4)=\"Hide\",#REF!,\"z\")","v":{"$error":"#REF!"}},"SZCFR",80.400000000000006,8.6999999999999993,258,82.7,82.9,610,70,"SZCRR",null,null,null,0.05,0.05,null,null,null,70]
[null,null,null,null,null,null,null,null,null,null,null,null,null,null,null,null,null,null,null,null,{"$f":"IF(OR(sum!B2=\"OEX\",sum!B2=\"NDX\",sum!B2=\"RUT\",sum!B2=\"VIX\",RIGHT(sum!B2,3)=\"X.W\"),CONCATENATE(\"^\",sum!B2),sum!B2)","v":"AAPL"},9,null,"tos stream futures (acct reqd)",null,4,{"$f":"IF($W$1>7,IF($AA$6<>0,$AA$6+$AA$5*(Z10-1),IF(opt!F5=\"\",\"\",opt!F5)),IF(opt!F5=\"\",\"\",opt!F5))","v":43.75},{"$f":"IF($AA10=\"\",\"\",IF($W$1>7,IF(ISERROR(AVERAGE(AE10:AF10))=TRUE,\"\",AVERAGE(AE10:AF10)),IF($W$1=5,BH10,IF($W$1=4,opt!A5,\"X\"))))","v":123.7},{"$f":"IF($AA10=\"\",\"\",IF($W$1>7,IF(ISERROR(AVERAGE(AG10:AH10))=TRUE,\"\",AVERAGE(AG10:AH10)),IF($W$1=5,BI10,IF($W$1=4,opt!G5,\"X\"))))","v":0.01},0,{"$f":"IF($AA10=\"\",\"\",RTD(\"tos.rtd\", , \"BID\",\".\"&$AF$4&$AE$4&\"C\"&$AA10))","v":123.3},{"$f":"IF($AA10=\"\",\"\",RTD(\"tos.rtd\", , \"ASK\",\".\"&$AF$4&$AE$4&\"C\"&$AA10))","v":123.45},{"$f":"IF($AA10=\"\",\"\",RTD(\"tos.rtd\", , \"BID\",\".\"&$AF$4&$AE$4&\"P\"&$AA10))","v":0},{"$f":"IF($AA10=\"\",\"\",RTD(\"tos.rtd\", , \"ASK\",\".\"&$AF$4&$AE$4&\"P\"&$AA10))","v":0.01},null,null,500,10,null,null,"/CL",30,0.5,"crude oil","/LO",null,41,4,117.5,117.5,null,170,null,null,null,{"$error":"#REF!"},4,{"$f":"IF($BD10<=0,\"\",VLOOKUP($BD10,#REF!,3))","v":{"$error":"#REF!"}},"",{"$f":"IF($BG10=\"\",\"\",VLOOKUP($BD10,#REF!,5))","v":""},{"$f":"IF($BG10=\"\",\"\",VLOOKUP($BD10,#REF!,9))","v":""},null,null,null,null,75,77.849999999999994,0.05,null,"Hide April, 2010 Options","2011-04-01",{"$f":"IF(LEFT(#REF!,4)=\"Hide\",#REF!,\"z\")","v":{"$error":"#REF!"}},"SZCFW",76.5,0.9,43,77.7,78,1356,75,"SZCRW",0.05,null,200,0.05,0.05,200,null,null,75]
[null,null,null,null,null,null,null,null,null,null,null,null,null,null,null,null,null,null,null,3,null,null,1,null,null,5,{"$f":"IF($W$1>7,IF($AA$6<>0,$AA$6+$AA$5*(Z11-1),IF(opt!F6=\"\",\"\",opt!F6)),IF(opt!F6=\"\",\"\",opt!F6))","v":45},{"$f":"IF($AA11=\"\",\"\",IF($W$1>7,IF(ISERROR(AVERAGE(AE11:AF11))=TRUE,\"\",AVERAGE(AE11:AF11)),IF($W$1=5,BH11,IF($W$1=4,opt!A6,\"X\"))))","v":122.85},{"$f":"IF($AA11=\"\",\"\",IF($W$1>7,IF(ISERROR(AVERAGE(AG11:AH11))=TRUE,\"\",AVERAGE(AG11:AH11)),IF($W$1=5,BI11,IF($W$1=4,opt!G6,\"X\"))))","v":0.01},0,{"$f":"IF($AA11=\"\",\"\",RTD(\"tos.rtd\", , \"BID\",\".\"&$AF$4&$AE$4&\"C\"&$AA11))","v":122.05},{"$f":"IF($AA11=\"\",\"\",RTD(\"tos.rtd\", , \"ASK\",\".\"&$AF$4&$AE$4&\"C\"&$AA11))","v":122.2},{"$f":"IF($AA11=\"\",\"\",RTD(\"tos.rtd\", , \"BID\",\".\"&$AF$4&$AE$4&\"P\"&$AA11))","v":0},{"$f":"IF($AA11=\"\",\"\",RTD(\"tos.rtd\", , \"ASK\",\".\"&$AF$4&$AE$4&\"P\"&$AA11))","v":0.01},null,null,1000,50,null,null,"/CT",35,1,"cotton","/CT",null,42,5,120,120,null,170,null,null,null,{"$error":"#REF!"},5,{"$f":"IF($BD11<=0,\"\",VLOOKUP($BD11,#REF!,3))","v":{"$error":"#REF!"}},"",{"$f":"IF($BG11=\"\",\"\",VLOOKUP($BD11,#REF!,5))","v":""},{"$f":"IF($BG11=\"\",\"\",VLOOKUP($BD11,#REF!,9))","v":""},null,null,null,null,80,72.849999999999994,0.05,null,"Hide April, 2011 Options","2011-04-01",{"$f":"IF(LEFT(#REF!,4)=\"Hide\",#REF!,\"z\")","v":{"$error":"#REF!"}},"SZCFB",70.900000000000006,0.1,209,72.7,73,970,80,"SZCRB",0.1,null,300,0.05,0.05,1650,null,null,80]
[null,null,null,null,null,null,null,null,null,null,null,null,null,null,null,null,null,null,1,"chain",null,1,"bid/ask avg","prem (bid/ask avg)",null,6,{"$f":"IF($W$1>7,IF($AA$6<>0,$AA$6+$AA$5*(Z12-1),IF(opt!F7=\"\",\"\",opt!F7)),IF(opt!F7=\"\",\"\",opt!F7))","v":46.25},{"$f":"IF($AA12=\"\",\"\",IF($W$1>7,IF(ISERROR(AVERAGE(AE12:AF12))=TRUE,\"\",AVERAGE(AE12:AF12)),IF($W$1=5,BH12,IF($W$1=4,opt!A7,\"X\"))))","v":127.55},{"$f":"IF($AA12=\"\",\"\",IF($W$1>7,IF(ISERROR(AVERAGE(AG12:AH12))=TRUE,\"\",AVERAGE(AG12:AH12)),IF($W$1=5,BI12,IF($W$1=4,opt!G7,\"X\"))))","v":0.01},0,{"$f":"IF($AA12=\"\",\"\",RTD(\"tos.rtd\", , \"BID\",\".\"&$AF$4&$AE$4&\"C\"&$AA12))","v":120.8},{"$f":"IF($AA12=\"\",\"\",RTD(\"tos.rtd\", , \"ASK\",\".\"&$AF$4&$AE$4&\"C\"&$AA12))","v":120.95},{"$f":"IF($AA12=\"\",\"\",RTD(\"tos.rtd\", , \"BID\",\".\"&$AF$4&$AE$4&\"P\"&$AA12))","v":0},{"$f":"IF($AA12=\"\",\"\",RTD(\"tos.rtd\", , \"ASK\",\".\"&$AF$4&$AE$4&\"P\"&$AA12))","v":0.01},null,null,null,null,null,null,"/ES",2000,10,"e mini sp","/ES",null,43,6,122.5,122.5,null,170,null,null,null,{"$error":"#REF!"},6,{"$f":"IF($BD12<=0,\"\",VLOOKUP($BD12,#REF!,3))","v":{"$error":"#REF!"}},"",{"$f":"IF($BG12=\"\",\"\",VLOOKUP($BD12,#REF!,5))","v":""},{"$f":"IF($BG12=\"\",\"\",VLOOKUP($BD12,#REF!,9))","v":""},null,null,null,null,85,67.849999999999994,0.05,null,"Hide August, 2006 Options","2006-08-01",{"$f":"IF(LEFT(#REF!,4)=\"Hide\",#REF!,\"z\")","v":{"$error":"#REF!"}},"SZCFG",67.5,0.7,103,67.7,68,277,85,"SZCRG",0.05,-0.1,10,0.05,0.05,509,null,null,85]
[null,null,null,null,null,null,null,null,null,null,null,null,null,null,null,null,null,null,2,"custom",null,2,"last","prem (last)",null,7,{"$f":"IF($W$1>7,IF($AA$6<>0,$AA$6+$AA$5*(Z13-1),IF(opt!F8=\"\",\"\",opt!F8)),IF(opt!F8=\"\",\"\",opt!F8))","v":47.5},{"$f":"IF($AA13=\"\",\"\",IF($W$1>7,IF(ISERROR(AVERAGE(AE13:AF13))=TRUE,\"\",AVERAGE(AE13:AF13)),IF($W$1=5,BH13,IF($W$1=4,opt!A8,\"X\"))))","v":119.2},{"$f":"IF($AA13=\"\",\"\",IF($W$1>7,IF(ISERROR(AVERAGE(AG13:AH13))=TRUE,\"\",AVERAGE(AG13:AH13)),IF($W$1=5,BI13,IF($W$1=4,opt!G8,\"X\"))))","v":0.01},0,{"$f":"IF($AA13=\"\",\"\",RTD(\"tos.rtd\", , \"BID\",\".\"&$AF$4&$AE$4&\"C\"&$AA13))","v":119.55},{"$f":"IF($AA13=\"\",\"\",RTD(\"tos.rtd\", , \"ASK\",\".\"&$AF$4&$AE$4&\"C\"&$AA13))","v":119.7},{"$f":"IF($AA13=\"\",\"\",RTD(\"tos.rtd\", , \"BID\",\".\"&$AF$4&$AE$4&\"P\"&$AA13))","v":0},{"$f":"IF($AA13=\"\",\"\",RTD(\"tos.rtd\", , \"ASK\",\".\"&$AF$4&$AE$4&\"P\"&$AA13))","v":0.01},null,null,null,null,null,null,"/GC",1000,5,"gold","/OG",null,44,7,125,125,null,170,null,null,null,{"$error":"#REF!"},7,{"$f":"IF($BD13<=0,\"\",VLOOKUP($BD13,#REF!,3))","v":{"$error":"#REF!"}},"",{"$f":"IF($BG13=\"\",\"\",VLOOKUP($BD13,#REF!,5))","v":""},{"$f":"IF($BG13=\"\",\"\",VLOOKUP($BD13,#REF!,9))","v":""},null,null,null,null,88,64.849999999999994,0.05,null,"Hide August, 2007 Options","2007-08-01",{"$f":"IF(LEFT(#REF!,4)=\"Hide\",#REF!,\"z\")","v":{"$error":"#REF!"}},"SZCFJ",54.1,null,100,64.7,65,100,88,"SZCRJ",0.05,-0.1,10,0.05,0.05,1910,null,null,88]
[null,null,null,null,null,null,null,null,null,null,null,null,null,null,null,null,null,null,3,"scan",null,null,null,"2017-05-01",{"$f":"DATE(YEAR(X14),MONTH(X14),1+7*3)-WEEKDAY(DATE(YEAR(X14),MONTH(X14),8-6))","v":"2017-05-19"},8,{"$f":"IF($W$1>7,IF($AA$6<>0,$AA$6+$AA$5*(Z14-1),IF(opt!F9=\"\",\"\",opt!F9)),IF(opt!F9=\"\",\"\",opt!F9))","v":48.75},{"$f":"IF($AA14=\"\",\"\",IF($W$1>7,IF(ISERROR(AVERAGE(AE14:AF14))=TRUE,\"\",AVERAGE(AE14:AF14)),IF($W$1=5,BH14,IF($W$1=4,opt!A9,\"X\"))))","v":123.05},{"$f":"IF($AA14=\"\",\"\",IF($W$1>7,IF(ISERROR(AVERAGE(AG14:AH14))=TRUE,\"\",AVERAGE(AG14:AH14)),IF($W$1=5,BI14,IF($W$1=4,opt!G9,\"X\"))))","v":0.01},0,{"$f":"IF($AA14=\"\",\"\",RTD(\"tos.rtd\", , \"BID\",\".\"&$AF$4&$AE$4&\"C\"&$AA14))","v":118.3},{"$f":"IF($AA14=\"\",\"\",RTD(\"tos.rtd\", , \"ASK\",\".\"&$AF$4&$AE$4&\"C\"&$AA14))","v":118.45},{"$f":"IF($AA14=\"\",\"\",RTD(\"tos.rtd\", , \"BID\",\".\"&$AF$4&$AE$4&\"P\"&$AA14))","v":0},{"$f":"IF($AA14=\"\",\"\",RTD(\"tos.rtd\", , \"ASK\",\".\"&$AF$4&$AE$4&\"P\"&$AA14))","v":0.01},null,null,null,null,null,null,"/GE",90,0.25,"euro dollar","/GE",null,45,8,130,130,null,170,null,null,null,{"$error":"#REF!"},8,{"$f":"IF($BD14<=0,\"\",VLOOKUP($BD14,#REF!,3))","v":{"$error":"#REF!"}},"",{"$f":"IF($BG14=\"\",\"\",VLOOKUP($BD14,#REF!,5))","v":""},{"$f":"IF($BG14=\"\",\"\",VLOOKUP($BD14,#REF!,9))","v":""},null,null,null,null,89,63.85,0.05,null,"Hide August, 2008 Options","2008-08-01",null,"SZCFK",61.4,null,23,63.7,64,23,89,"SZCRK",0.05,-0.15,10,0.05,0.05,1919,null,null,89]
[null,null,null,null,null,null,null,null,null,null,null,null,null,null,null,null,null,null,null,null,null,null,null,null,null,9,{"$f":"IF($W$1>7,IF($AA$6<>0,$AA$6+$AA$5*(Z15-1),IF(opt!F10=\"\",\"\",opt!F10)),IF(opt!F10=\"\",\"\",opt!F10))","v":50},{"$f":"IF($AA15=\"\",\"\",IF($W$1>7,IF(ISERROR(AVERAGE(AE15:AF15))=TRUE,\"\",AVERAGE(AE15:AF15)),IF($W$1=5,BH15,IF($W$1=4,opt!A10,\"X\"))))","v":116.8},{"$f":"IF($AA15=\"\",\"\",IF($W$1>7,IF(ISERROR(AVERAGE(AG15:AH15))=TRUE,\"\",AVERAGE(AG15:AH15)),IF($W$1=5,BI15,IF($W$1=4,opt!G10,\"X\"))))","v":0.01},0,{"$f":"IF($AA15=\"\",\"\",RTD(\"tos.rtd\", , \"BID\",\".\"&$AF$4&$AE$4&\"C\"&$AA15))","v":117.05},{"$f":"IF($AA15=\"\",\"\",RTD(\"tos.rtd\", , \"ASK\",\".\"&$AF$4&$AE$4&\"C\"&$AA15))","v":117.2},{"$f":"IF($AA15=\"\",\"\",RTD(\"tos.rtd\", , \"BID\",\".\"&$AF$4&$AE$4&\"P\"&$AA15))","v":0},{"$f":"IF($AA15=\"\",\"\",RTD(\"tos.rtd\", , \"ASK\",\".\"&$AF$4&$AE$4&\"P\"&$AA15))","v":0.01},null,null,null,null,null,null,"/GF",110,1,"feeder cattle","/GF",null,46,9,135,135,null,170,null,null,null,{"$error":"#REF!"},9,{"$f":"IF($BD15<=0,\"\",VLOOKUP($BD15,#REF!,3))","v":{"$error":"#REF!"}},"",{"$f":"IF($BG15=\"\",\"\",VLOOKUP($BD15,#REF!,5))","v":""},{"$f":"IF($BG15=\"\",\"\",VLOOKUP($BD15,#REF!,9))","v":""},null,null,null,null,90,62.85,0.05,null,"Hide August, 2009 Options","2009-08-01",null,"SWGFL",59.1,null,70,62.7,63,70,90,"SWGRL",0.05,-0.15,50,0.05,0.05,10730,null,null,90]
[null,null,null,null,null,null,null,null,null,null,null,null,null,null,null,null,null,null,null,null,null,null,null,null,null,10,{"$f":"IF($W$1>7,IF($AA$6<>0,$AA$6+$AA$5*(Z16-1),IF(opt!F11=\"\",\"\",opt!F11)),IF(opt!F11=\"\",\"\",opt!F11))","v":52.5},{"$f":"IF($AA16=\"\",\"\",IF($W$1>7,IF(ISERROR(AVERAGE(AE16:AF16))=TRUE,\"\",AVERAGE(AE16:AF16)),IF($W$1=5,BH16,IF($W$1=4,opt!A11,\"X\"))))","v":115.35},{"$f":"IF($AA16=\"\",\"\",IF($W$1>7,IF(ISERROR(AVERAGE(AG16:AH16))=TRUE,\"\",AVERAGE(AG16:AH16)),IF($W$1=5,BI16,IF($W$1=4,opt!G11,\"X\"))))","v":0.02},0,{"$f":"IF($AA16=\"\",\"\",RTD(\"tos.rtd\", , \"BID\",\".\"&$AF$4&$AE$4&\"C\"&$AA16))","v":114.55},{"$f":"IF($AA16=\"\",\"\",RTD(\"tos.rtd\", , \"ASK\",\".\"&$AF$4&$AE$4&\"C\"&$AA16))","v":114.7},{"$f":"IF($AA16=\"\",\"\",RTD(\"tos.rtd\", , \"BID\",\".\"&$AF$4&$AE$4&\"P\"&$AA16))","v":0},{"$f":"IF($AA16=\"\",\"\",RTD(\"tos.rtd\", , \"ASK\",\".\"&$AF$4&$AE$4&\"P\"&$AA16))","v":0.01},null,null,null,null,null,null,"/HE",30,1,"lean hogs","/HE",null,47,10,140,140,null,170,null,null,null,{"$error":"#REF!"},10,{"$f":"IF($BD16<=0,\"\",VLOOKUP($BD16,#REF!,3))","v":{"$error":"#REF!"}},"",{"$f":"IF($BG16=\"\",\"\",VLOOKUP($BD16,#REF!,5))","v":""},{"$f":"IF($BG16=\"\",\"\",VLOOKUP($BD16,#REF!,9))","v":""},null,null,null,null,91,61.85,0.05,null,"Hide August, 2010 Options","2010-08-01",null,"SWGFM",60.8,1.1000000000000001,100,61.7,62,217,91,"SWGRM",0.25,null,100,0.05,0.05,1500,null,null,91]
[null,null,null,null,null,null,null,null,null,null,null,null,null,null,null,null,null,null,null,null,null,null,null,null,null,11,{"$f":"IF($W$1>7,IF($AA$6<>0,$AA$6+$AA$5*(Z17-1),IF(opt!F12=\"\",\"\",opt!F12)),IF(opt!F12=\"\",\"\",opt!F12))","v":55},{"$f":"IF($AA17=\"\",\"\",IF($W$1>7,IF(ISERROR(AVERAGE(AE17:AF17))=TRUE,\"\",AVERAGE(AE17:AF17)),IF($W$1=5,BH17,IF($W$1=4,opt!A12,\"X\"))))","v":111.7},{"$f":"IF($AA17=\"\",\"\",IF($W$1>7,IF(ISERROR(AVERAGE(AG17:AH17))=TRUE,\"\",AVERAGE(AG17:AH17)),IF($W$1=5,BI17,IF($W$1=4,opt!G12,\"X\"))))","v":0.01},0,{"$f":"IF($AA17=\"\",\"\",RTD(\"tos.rtd\", , \"BID\",\".\"&$AF$4&$AE$4&\"C\"&$AA17))","v":112.05},{"$f":"IF($AA17=\"\",\"\",RTD(\"tos.rtd\", , \"ASK\",\".\"&$AF$4&$AE$4&\"C\"&$AA17))","v":112.2},{"$f":"IF($AA17=\"\",\"\",RTD(\"tos.rtd\", , \"BID\",\".\"&$AF$4&$AE$4&\"P\"&$AA17))","v":0},{"$f":"IF($AA17=\"\",\"\",RTD(\"tos.rtd\", , \"ASK\",\".\"&$AF$4&$AE$4&\"P\"&$AA17))","v":0.01},null,null,null,null,null,null,"/HG",1.7,0.01,"copper","/HXE",null,48,11,145,145,null,170,null,null,null,{"$error":"#REF!"},11,{"$f":"IF($BD17<=0,\"\",VLOOKUP($BD17,#REF!,3))","v":{"$error":"#REF!"}},"",{"$f":"IF($BG17=\"\",\"\",VLOOKUP($BD17,#REF!,5))","v":""},{"$f":"IF($BG17=\"\",\"\",VLOOKUP($BD17,#REF!,9))","v":""},null,null,null,null,92,60.85,0.05,null,"Hide August, 2011 Options","2011-08-01",null,"SWGFN",40.1,null,886,60.7,61,886,92,"SWGRN",0.3,null,200,0.05,0.05,680,null,null,92]
[null,null,null,null,null,null,null,null,null,null,null,null,null,null,null,null,null,null,null,null,null,null,null,"2nd mo y",{"$f":"(86400*Y21)-2209161600","v":1666310400},12,{"$f":"IF($W$1>7,IF($AA$6<>0,$AA$6+$AA$5*(Z18-1),IF(opt!F13=\"\",\"\",opt!F13)),IF(opt!F13=\"\",\"\",opt!F13))","v":57.5},{"$f":"IF($AA18=\"\",\"\",IF($W$1>7,IF(ISERROR(AVERAGE(AE18:AF18))=TRUE,\"\",AVERAGE(AE18:AF18)),IF($W$1=5,BH18,IF($W$1=4,opt!A13,\"X\"))))","v":110.55},{"$f":"IF($AA18=\"\",\"\",IF($W$1>7,IF(ISERROR(AVERAGE(AG18:AH18))=TRUE,\"\",AVERAGE(AG18:AH18)),IF($W$1=5,BI18,IF($W$1=4,opt!G13,\"X\"))))","v":0.01},0,{"$f":"IF($AA18=\"\",\"\",RTD(\"tos.rtd\", , \"BID\",\".\"&$AF$4&$AE$4&\"C\"&$AA18))","v":109.6},{"$f":"IF($AA18=\"\",\"\",RTD(\"tos.rtd\", , \"ASK\",\".\"&$AF$4&$AE$4&\"C\"&$AA18))","v":109.7},{"$f":"IF($AA18=\"\",\"\",RTD(\"tos.rtd\", , \"BID\",\".\"&$AF$4&$AE$4&\"P\"&$AA18))","v":0},{"$f":"IF($AA18=\"\",\"\",RTD(\"tos.rtd\", , \"ASK\",\".\"&$AF$4&$AE$4&\"P\"&$AA18))","v":0.01},null,null,null,null,null,null,"/HO",1.1000000000000001,0.01,"heating oil","/OH",null,49,12,150,150,null,170,null,null,null,{"$error":"#REF!"},12,{"$f":"IF($BD18<=0,\"\",VLOOKUP($BD18,#REF!,3))","v":{"$error":"#REF!"}},"",{"$f":"IF($BG18=\"\",\"\",VLOOKUP($BD18,#REF!,5))","v":""},{"$f":"IF($BG18=\"\",\"\",VLOOKUP($BD18,#REF!,9))","v":""},null,null,null,null,93,59.85,0.05,null,"Hide December, 2006 Options","2006-12-01","Hide June, 2007 Options","SWGFO",57.5,1.4,40,59.7,60,110,93,"SWGRO",0.15,-0.5,1,0.05,0.05,52,null,null,93]
[null,null,null,null,null,null,null,null,null,null,null,null,null,null,null,null,null,null,null,null,null,null,null,"1st mo y",{"$f":"(86400*Y22)-2209161600","v":1768521600},13,{"$f":"IF($W$1>7,IF($AA$6<>0,$AA$6+$AA$5*(Z19-1),IF(opt!F14=\"\",\"\",opt!F14)),IF(opt!F14=\"\",\"\",opt!F14))","v":60},{"$f":"IF($AA19=\"\",\"\",IF($W$1>7,IF(ISERROR(AVERAGE(AE19:AF19))=TRUE,\"\",AVERAGE(AE19:AF19)),IF($W$1=5,BH19,IF($W$1=4,opt!A14,\"X\"))))","v":107.6},{"$f":"IF($AA19=\"\",\"\",IF($W$1>7,IF(ISERROR(AVERAGE(AG19:AH19))=TRUE,\"\",AVERAGE(AG19:AH19)),IF($W$1=5,BI19,IF($W$1=4,opt!G14,\"X\"))))","v":0.01},0,{"$f":"IF($AA19=\"\",\"\",RTD(\"tos.rtd\", , \"BID\",\".\"&$AF$4&$AE$4&\"C\"&$AA19))","v":107.1},{"$f":"IF($AA19=\"\",\"\",RTD(\"tos.rtd\", , \"ASK\",\".\"&$AF$4&$AE$4&\"C\"&$AA19))","v":107.25},{"$f":"IF($AA19=\"\",\"\",RTD(\"tos.rtd\", , \"BID\",\".\"&$AF$4&$AE$4&\"P\"&$AA19))","v":0},{"$f":"IF($AA19=\"\",\"\",RTD(\"tos.rtd\", , \"ASK\",\".\"&$AF$4&$AE$4&\"P\"&$AA19))","v":0.01},null,null,null,null,null,null,"/KC",50,2.5,"coffee","/KC",null,50,13,152.5,152.5,null,170,null,null,null,{"$error":"#REF!"},13,{"$f":"IF($BD19<=0,\"\",VLOOKUP($BD19,#REF!,3))","v":{"$error":"#REF!"}},"",{"$f":"IF($BG19=\"\",\"\",VLOOKUP($BD19,#REF!,5))","v":""},{"$f":"IF($BG19=\"\",\"\",VLOOKUP($BD19,#REF!,9))","v":""},null,null,null,null,94,58.9,0.05,null,"Hide December, 2007 Options","2007-12-01","z","SWGFP",56.7,0.8,25,58.8,59,95,94,"SWGRP",0.05,-0.05,1,0.05,0.05,206,null,null,94]
[null,null,null,null,null,null,null,null,null,null,null,null,null,null,null,null,null,null,null,null,null,null,null,null,6,14,{"$f":"IF($W$1>7,IF($AA$6<>0,$AA$6+$AA$5*(Z20-1),IF(opt!F15=\"\",\"\",opt!F15)),IF(opt!F15=\"\",\"\",opt!F15))","v":62.5},{"$f":"IF($AA20=\"\",\"\",IF($W$1>7,IF(ISERROR(AVERAGE(AE20:AF20))=TRUE,\"\",AVERAGE(AE20:AF20)),IF($W$1=5,BH20,IF($W$1=4,opt!A15,\"X\"))))","v":104.6},{"$f":"IF($AA20=\"\",\"\",IF($W$1>7,IF(ISERROR(AVERAGE(AG20:AH20))=TRUE,\"\",AVERAGE(AG20:AH20)),IF($W$1=5,BI20,IF($W$1=4,opt!G15,\"X\"))))","v":0.01},0,{"$f":"IF($AA20=\"\",\"\",RTD(\"tos.rtd\", , \"BID\",\".\"&$AF$4&$AE$4&\"C\"&$AA20))","v":104.6},{"$f":"IF($AA20=\"\",\"\",RTD(\"tos.rtd\", , \"ASK\",\".\"&$AF$4&$AE$4&\"C\"&$AA20))","v":104.75},{"$f":"IF($AA20=\"\",\"\",RTD(\"tos.rtd\", , \"BID\",\".\"&$AF$4&$AE$4&\"P\"&$AA20))","v":0},{"$f":"IF($AA20=\"\",\"\",RTD(\"tos.rtd\", , \"ASK\",\".\"&$AF$4&$AE$4&\"P\"&$AA20))","v":0.01},null,null,null,null,null,null,"/LBS",250,5,"lumber","/LBS",null,51,14,155,155,null,170,null,null,null,{"$error":"#REF!"},14,{"$f":"IF($BD20<=0,\"\",VLOOKUP($BD20,#REF!,3))","v":{"$error":"#REF!"}},"",{"$f":"IF($BG20=\"\",\"\",VLOOKUP($BD20,#REF!,5))","v":""},{"$f":"IF($BG20=\"\",\"\",VLOOKUP($BD20,#REF!,9))","v":""},null,null,null,null,95,57.9,0.05,null,"Hide December, 2008 Options","2008-12-01","z","SWGFQ",55.7,2.1,25,57.8,58,82,95,"SWGRQ",0.1,null,10,0.05,0.05,319,null,null,95]
[null,null,null,null,null,null,null,null,null,null,null,null,null,null,null,null,null,null,null,null,{"$f":"VLOOKUP($X$22,$R$23:$U$35,4)","v":{"$error":"#REF!"}},{"$f":"VLOOKUP('Y2'!$X$22,'Y2'!$V$23:$W$33,2)","v":"Jan"},null,0,{"$f":"IF(sum!D116=\"\",VLOOKUP(Y20,V23:Y33,4),sum!D116)","v":"2022-10-21"},15,{"$f":"IF($W$1>7,IF($AA$6<>0,$AA$6+$AA$5*(Z21-1),IF(opt!F16=\"\",\"\",opt!F16)),IF(opt!F16=\"\",\"\",opt!F16))","v":65},{"$f":"IF($AA21=\"\",\"\",IF($W$1>7,IF(ISERROR(AVERAGE(AE21:AF21))=TRUE,\"\",AVERAGE(AE21:AF21)),IF($W$1=5,BH21,IF($W$1=4,opt!A16,\"X\"))))","v":102.93},{"$f":"IF($AA21=\"\",\"\",IF($W$1>7,IF(ISERROR(AVERAGE(AG21:AH21))=TRUE,\"\",AVERAGE(AG21:AH21)),IF($W$1=5,BI21,IF($W$1=4,opt!G16,\"X\"))))","v":0.01},0,{"$f":"IF($AA21=\"\",\"\",RTD(\"tos.rtd\", , \"BID\",\".\"&$AF$4&$AE$4&\"C\"&$AA21))","v":102.1},{"$f":"IF($AA21=\"\",\"\",RTD(\"tos.rtd\", , \"ASK\",\".\"&$AF$4&$AE$4&\"C\"&$AA21))","v":102.25},{"$f":"IF($AA21=\"\",\"\",RTD(\"tos.rtd\", , \"BID\",\".\"&$AF$4&$AE$4&\"P\"&$AA21))","v":0},{"$f":"IF($AA21=\"\",\"\",RTD(\"tos.rtd\", , \"ASK\",\".\"&$AF$4&$AE$4&\"P\"&$AA21))","v":0.01},null,null,null,null,null,null,"/LE",100,1,"live cattle","/LE",null,52,15,157.5,157.5,null,170,null,null,null,{"$error":"#REF!"},15,{"$f":"IF($BD21<=0,\"\",VLOOKUP($BD21,#REF!,3))","v":{"$error":"#REF!"}},"",{"$f":"IF($BG21=\"\",\"\",VLOOKUP($BD21,#REF!,5))","v":""},{"$f":"IF($BG21=\"\",\"\",VLOOKUP($BD21,#REF!,9))","v":""},null,null,null,null,96,56.9,0.05,null,"Hide December, 2009 Options","2009-12-01","z","SWGFR",54.7,1.8,187,56.8,57,1332,96,"SWGRR",0.1,null,10,0.05,0.05,20,null,null,96]
[null,null,null,null,null,null,null,null,null,null,null,null,null,null,null,null,null,null,"ib datafeed 7",null,null,null,"cboe format",11,{"$f":"IF(sum!C4=\"\",VLOOKUP(X22,$V$23:$Y$33,4),sum!C4)","v":"2026-01-16"},16,{"$f":"IF($W$1>7,IF($AA$6<>0,$AA$6+$AA$5*(Z22-1),IF(opt!F17=\"\",\"\",opt!F17)),IF(opt!F17=\"\",\"\",opt!F17))","v":67.5},{"$f":"IF($AA22=\"\",\"\",IF($W$1>7,IF(ISERROR(AVERAGE(AE22:AF22))=TRUE,\"\",AVERAGE(AE22:AF22)),IF($W$1=5,BH22,IF($W$1=4,opt!A17,\"X\"))))","v":99.6},{"$f":"IF($AA22=\"\",\"\",IF($W$1>7,IF(ISERROR(AVERAGE(AG22:AH22))=TRUE,\"\",AVERAGE(AG22:AH22)),IF($W$1=5,BI22,IF($W$1=4,opt!G17,\"X\"))))","v":0.04},0,{"$f":"IF($AA22=\"\",\"\",RTD(\"tos.rtd\", , \"BID\",\".\"&$AF$4&$AE$4&\"C\"&$AA22))","v":99.6},{"$f":"IF($AA22=\"\",\"\",RTD(\"tos.rtd\", , \"ASK\",\".\"&$AF$4&$AE$4&\"C\"&$AA22))","v":99.75},{"$f":"IF($AA22=\"\",\"\",RTD(\"tos.rtd\", , \"BID\",\".\"&$AF$4&$AE$4&\"P\"&$AA22))","v":0},{"$f":"IF($AA22=\"\",\"\",RTD(\"tos.rtd\", , \"ASK\",\".\"&$AF$4&$AE$4&\"P\"&$AA22))","v":0.01},null,null,null,null,null,null,"/NG",1,0.05,"natural gas","/ON",null,53,16,160,160,null,170,null,null,null,{"$error":"#REF!"},16,{"$f":"IF($BD22<=0,\"\",VLOOKUP($BD22,#REF!,3))","v":{"$error":"#REF!"}},"",{"$f":"IF($BG22=\"\",\"\",VLOOKUP($BD22,#REF!,5))","v":""},{"$f":"IF($BG22=\"\",\"\",VLOOKUP($BD22,#REF!,9))","v":""},null,null,null,null,97,55.95,0.05,null,"Hide December, 2010 Options","2010-12-01","z","SWGFS",54.8,1.3,50,55.8,56.1,450,97,"SWGRS",0.05,-0.05,40,0.05,0.05,1268,null,null,97]
[null,null,null,null,null,null,null,null,null,null,null,null,null,null,null,null,null,1,"2018-03-16","1st mo",{"$f":"IF($W$1=8,R65,IF(OR($W$1=5,$W$1=9),\"\",IF($W$1=2,T23,IF(OR($W$1=4,$W$1=8,$W$1=6),#REF!,IF($W$1=7,O223,X23)))))","v":{"$error":"#REF!"}},1,{"$f":"IF(X23=\"\",\"\",VLOOKUP(MONTH(X23),$W$50:$X$61,2))","v":"Aug"},{"$f":"IF(C6=\"\",VALUE(CONCATENATE(MONTH(NOW()),\"/20/\",YEAR(NOW()))),VALUE(CONCATENATE(20,\"-\",MID(C6,2,3),\"-\",RIGHT(C6,3))))","v":"2022-08-20"},{"$f":"DATE(YEAR(X23),MONTH(X23),1+7*3)-WEEKDAY(DATE(YEAR(X23),MONTH(X23),8-6))","v":"2022-08-19"},17,{"$f":"IF($W$1>7,IF($AA$6<>0,$AA$6+$AA$5*(Z23-1),IF(opt!F18=\"\",\"\",opt!F18)),IF(opt!F18=\"\",\"\",opt!F18))","v":70},{"$f":"IF($AA23=\"\",\"\",IF($W$1>7,IF(ISERROR(AVERAGE(AE23:AF23))=TRUE,\"\",AVERAGE(AE23:AF23)),IF($W$1=5,BH23,IF($W$1=4,opt!A18,\"X\"))))","v":101.8},{"$f":"IF($AA23=\"\",\"\",IF($W$1>7,IF(ISERROR(AVERAGE(AG23:AH23))=TRUE,\"\",AVERAGE(AG23:AH23)),IF($W$1=5,BI23,IF($W$1=4,opt!G18,\"X\"))))","v":0.02},0,{"$f":"IF($AA23=\"\",\"\",RTD(\"tos.rtd\", , \"BID\",\".\"&$AF$4&$AE$4&\"C\"&$AA23))","v":97.1},{"$f":"IF($AA23=\"\",\"\",RTD(\"tos.rtd\", , \"ASK\",\".\"&$AF$4&$AE$4&\"C\"&$AA23))","v":97.25},{"$f":"IF($AA23=\"\",\"\",RTD(\"tos.rtd\", , \"BID\",\".\"&$AF$4&$AE$4&\"P\"&$AA23))","v":0},{"$f":"IF($AA23=\"\",\"\",RTD(\"tos.rtd\", , \"ASK\",\".\"&$AF$4&$AE$4&\"P\"&$AA23))","v":0.01},null,null,null,null,null,null,"/NQ",5500,10,"nasdaq","/NQ",null,54,17,162.5,162.5,null,170,null,null,null,{"$error":"#REF!"},17,{"$f":"IF($BD23<=0,\"\",VLOOKUP($BD23,#REF!,3))","v":{"$error":"#REF!"}},"",{"$f":"IF($BG23=\"\",\"\",VLOOKUP($BD23,#REF!,5))","v":""},{"$f":"IF($BG23=\"\",\"\",VLOOKUP($BD23,#REF!,9))","v":""},null,null,null,null,98,54.95,0.05,null,"Hide December, 2011 Options","2011-12-01","z","SWGFT",51.1,9.1999999999999993,100,54.8,55.1,100,98,"SWGRT",0.1,-1.1499999999999999,10,0.05,0.05,839,null,null,98]
[null,null,null,null,null,null,null,null,null,null,null,null,null,null,null,null,null,2,"2018-04-20","1st mo",{"$f":"IF($W$1=8,R66,IF(OR($W$1=5,$W$1=9),\"\",IF($W$1=2,T24,IF(OR($W$1=4,$W$1=8,$W$1=6),#REF!,IF($W$1=7,O224,X24)))))","v":{"$error":"#REF!"}},2,"Sep",{"$f":"IF(C4=\"\",X23+30,VALUE(CONCATENATE(20,\"-\",MID(C4,2,3),\"-\",RIGHT(C4,3))))","v":"2022-09-19"},{"$f":"DATE(YEAR(X24),MONTH(X24),1+7*3)-WEEKDAY(DATE(YEAR(X24),MONTH(X24),8-6))","v":"2022-09-16"},18,{"$f":"IF($W$1>7,IF($AA$6<>0,$AA$6+$AA$5*(Z24-1),IF(opt!F19=\"\",\"\",opt!F19)),IF(opt!F19=\"\",\"\",opt!F19))","v":72.5},{"$f":"IF($AA24=\"\",\"\",IF($W$1>7,IF(ISERROR(AVERAGE(AE24:AF24))=TRUE,\"\",AVERAGE(AE24:AF24)),IF($W$1=5,BH24,IF($W$1=4,opt!A19,\"X\"))))","v":95.7},{"$f":"IF($AA24=\"\",\"\",IF($W$1>7,IF(ISERROR(AVERAGE(AG24:AH24))=TRUE,\"\",AVERAGE(AG24:AH24)),IF($W$1=5,BI24,IF($W$1=4,opt!G19,\"X\"))))","v":0.01},0,{"$f":"IF($AA24=\"\",\"\",RTD(\"tos.rtd\", , \"BID\",\".\"&$AF$4&$AE$4&\"C\"&$AA24))","v":94.6},{"$f":"IF($AA24=\"\",\"\",RTD(\"tos.rtd\", , \"ASK\",\".\"&$AF$4&$AE$4&\"C\"&$AA24))","v":94.75},{"$f":"IF($AA24=\"\",\"\",RTD(\"tos.rtd\", , \"BID\",\".\"&$AF$4&$AE$4&\"P\"&$AA24))","v":0},{"$f":"IF($AA24=\"\",\"\",RTD(\"tos.rtd\", , \"ASK\",\".\"&$AF$4&$AE$4&\"P\"&$AA24))","v":0.01},null,null,null,null,null,null,"/OJ",50,5,"orange juice","/OJ",null,55,18,165,165,null,170,{"$f":"IF($AZ24=\"\",\"\",RTD(\"tos.rtd\", , \"BID\",\".\"&$AF$111&$AE$111&\"C\"&$AZ24))","v":6.05},{"$f":"IF($AZ24=\"\",\"\",RTD(\"tos.rtd\", , \"ASK\",\".\"&$AF$111&$AE$111&\"C\"&$AZ24))","v":6.1},{"$f":"IF($AZ24=\"\",\"\",RTD(\"tos.rtd\", , \"BID\",\".\"&$AF$111&$AE$111&\"P\"&$AZ24))","v":8.3000000000000007},{"$error":"#REF!"},18,{"$f":"IF($BD24<=0,\"\",VLOOKUP($BD24,#REF!,3))","v":{"$error":"#REF!"}},"",{"$f":"IF($BG24=\"\",\"\",VLOOKUP($BD24,#REF!,5))","v":""},{"$f":"IF($BG24=\"\",\"\",VLOOKUP($BD24,#REF!,9))","v":""},null,null,null,null,99,53.95,0.05,null,"Hide February, 2007 Options","2007-02-01","z","SWGFU",43.2,0.8,125,53.8,54.1,177,99,"SWGRU",0.05,-0.05,40,0.05,0.05,1507,null,null,99]
[null,null,null,null,null,null,null,null,null,null,null,null,null,null,null,null,null,3,"2018-05-18","1st mo",{"$f":"IF($W$1=8,R67,IF(OR($W$1=5,$W$1=9),\"\",IF($W$1=2,T25,IF(OR($W$1=4,$W$1=8,$W$1=6),#REF!,IF($W$1=7,O225,X25)))))","v":{"$error":"#REF!"}},3,"Oct",{"$f":"IF(D4=\"\",X23+60,VALUE(CONCATENATE(20,\"-\",MID(D4,2,3),\"-\",RIGHT(D4,3))))","v":"2022-10-19"},"2022-10-21",19,{"$f":"IF($W$1>7,IF($AA$6<>0,$AA$6+$AA$5*(Z25-1),IF(opt!F20=\"\",\"\",opt!F20)),IF(opt!F20=\"\",\"\",opt!F20))","v":75},{"$f":"IF($AA25=\"\",\"\",IF($W$1>7,IF(ISERROR(AVERAGE(AE25:AF25))=TRUE,\"\",AVERAGE(AE25:AF25)),IF($W$1=5,BH25,IF($W$1=4,opt!A20,\"X\"))))","v":92.45},{"$f":"IF($AA25=\"\",\"\",IF($W$1>7,IF(ISERROR(AVERAGE(AG25:AH25))=TRUE,\"\",AVERAGE(AG25:AH25)),IF($W$1=5,BI25,IF($W$1=4,opt!G20,\"X\"))))","v":0.01},0,{"$f":"IF($AA25=\"\",\"\",RTD(\"tos.rtd\", , \"BID\",\".\"&$AF$4&$AE$4&\"C\"&$AA25))","v":92.1},{"$f":"IF($AA25=\"\",\"\",RTD(\"tos.rtd\", , \"ASK\",\".\"&$AF$4&$AE$4&\"C\"&$AA25))","v":92.25},{"$f":"IF($AA25=\"\",\"\",RTD(\"tos.rtd\", , \"BID\",\".\"&$AF$4&$AE$4&\"P\"&$AA25))","v":0},{"$f":"IF($AA25=\"\",\"\",RTD(\"tos.rtd\", , \"ASK\",\".\"&$AF$4&$AE$4&\"P\"&$AA25))","v":0.01},null,null,null,null,null,null,"/PL",800,10,"platinum","/PO",null,{"$f":"AU26-1","v":56},19,167.5,167.5,null,170,{"$f":"IF($AZ25=\"\",\"\",RTD(\"tos.rtd\", , \"BID\",\".\"&$AF$111&$AE$111&\"C\"&$AZ25))","v":6.05},{"$f":"IF($AZ25=\"\",\"\",RTD(\"tos.rtd\", , \"ASK\",\".\"&$AF$111&$AE$111&\"C\"&$AZ25))","v":6.1},{"$f":"IF($AZ25=\"\",\"\",RTD(\"tos.rtd\", , \"BID\",\".\"&$AF$111&$AE$111&\"P\"&$AZ25))","v":8.3000000000000007},{"$error":"#REF!"},19,{"$f":"IF($BD25<=0,\"\",VLOOKUP($BD25,#REF!,3))","v":{"$error":"#REF!"}},"",{"$f":"IF($BG25=\"\",\"\",VLOOKUP($BD25,#REF!,5))","v":""},{"$f":"IF($BG25=\"\",\"\",VLOOKUP($BD25,#REF!,9))","v":""},null,null,null,null,100,52.95,0.05,null,"Hide February, 2008 Options","2008-02-01","z","SWGFV",51.8,13.5,402,52.8,53.1,412,100,"SWGRV",0.1,-0.05,205,0.05,0.05,3160,null,null,100]
[null,null,null,null,null,null,null,null,null,null,null,null,null,null,null,null,null,4,"2018-06-15","1st mo",{"$f":"IF($W$1=8,R68,IF(OR($W$1=5,$W$1=9),\"\",IF($W$1=2,T26,IF(OR($W$1=4,$W$1=8,$W$1=6),#REF!,IF($W$1=7,O226,X26)))))","v":{"$error":"#REF!"}},4,"Nov",{"$f":"IF(E4=\"\",X23+90,VALUE(CONCATENATE(20,\"-\",MID(E4,2,3),\"-\",RIGHT(E4,3))))","v":"2022-11-18"},"2022-11-18",20,{"$f":"IF($W$1>7,IF($AA$6<>0,$AA$6+$AA$5*(Z26-1),IF(opt!F21=\"\",\"\",opt!F21)),IF(opt!F21=\"\",\"\",opt!F21))","v":76.25},{"$f":"IF($AA26=\"\",\"\",IF($W$1>7,IF(ISERROR(AVERAGE(AE26:AF26))=TRUE,\"\",AVERAGE(AE26:AF26)),IF($W$1=5,BH26,IF($W$1=4,opt!A21,\"X\"))))","v":91.35},{"$f":"IF($AA26=\"\",\"\",IF($W$1>7,IF(ISERROR(AVERAGE(AG26:AH26))=TRUE,\"\",AVERAGE(AG26:AH26)),IF($W$1=5,BI26,IF($W$1=4,opt!G21,\"X\"))))","v":0.01},0,{"$f":"IF($AA26=\"\",\"\",RTD(\"tos.rtd\", , \"BID\",\".\"&$AF$4&$AE$4&\"C\"&$AA26))","v":90.85},{"$f":"IF($AA26=\"\",\"\",RTD(\"tos.rtd\", , \"ASK\",\".\"&$AF$4&$AE$4&\"C\"&$AA26))","v":91},{"$f":"IF($AA26=\"\",\"\",RTD(\"tos.rtd\", , \"BID\",\".\"&$AF$4&$AE$4&\"P\"&$AA26))","v":0},{"$f":"IF($AA26=\"\",\"\",RTD(\"tos.rtd\", , \"ASK\",\".\"&$AF$4&$AE$4&\"P\"&$AA26))","v":0.01},null,null,null,null,null,null,"/RB",1,0.01,"unleaded","/OB",null,{"$f":"MATCH(ROUND(Z1,-1),$AA$7:$AA$106,1)","v":57},20,170,170,null,{"$f":"IF(AZ4<10,ROUND(AZ4,0),ROUND(AZ4,-1))","v":170},{"$f":"IF($AZ26=\"\",\"\",RTD(\"tos.rtd\", , \"BID\",\".\"&$AF$111&$AE$111&\"C\"&$AZ26))","v":6.05},{"$f":"IF($AZ26=\"\",\"\",RTD(\"tos.rtd\", , \"ASK\",\".\"&$AF$111&$AE$111&\"C\"&$AZ26))","v":6.1},{"$f":"IF($AZ26=\"\",\"\",RTD(\"tos.rtd\", , \"BID\",\".\"&$AF$111&$AE$111&\"P\"&$AZ26))","v":8.3000000000000007},{"$error":"#REF!"},20,{"$f":"IF($BD26<=0,\"\",VLOOKUP($BD26,#REF!,3))","v":{"$error":"#REF!"}},"",{"$f":"IF($BG26=\"\",\"\",VLOOKUP($BD26,#REF!,5))","v":""},{"$f":"IF($BG26=\"\",\"\",VLOOKUP($BD26,#REF!,9))","v":""},null,null,null,null,101,51.95,0.05,null,"Hide February, 2009 Options","2009-02-01","z","SWGFW",50.2,7.3,38,51.8,52.1,571,101,"SWGRW",0.05,-0.05,80,0.05,0.05,2375,null,null,101]
[null,null,null,null,null,null,null,null,null,null,null,null,null,null,null,null,null,5,"2018-07-20","1st mo",{"$f":"IF($W$1=8,R69,IF(OR($W$1=5,$W$1=9),\"\",IF($W$1=2,T27,IF(OR($W$1=4,$W$1=8,$W$1=6),#REF!,IF($W$1=7,O227,X27)))))","v":{"$error":"#REF!"}},5,"Dec",{"$f":"IF(F4=\"\",X23+121,VALUE(CONCATENATE(20,\"-\",MID(F4,2,3),\"-\",RIGHT(F4,3))))","v":"2022-12-19"},"2022-12-16",21,{"$f":"IF($W$1>7,IF($AA$6<>0,$AA$6+$AA$5*(Z27-1),IF(opt!F22=\"\",\"\",opt!F22)),IF(opt!F22=\"\",\"\",opt!F22))","v":77.5},{"$f":"IF($AA27=\"\",\"\",IF($W$1>7,IF(ISERROR(AVERAGE(AE27:AF27))=TRUE,\"\",AVERAGE(AE27:AF27)),IF($W$1=5,BH27,IF($W$1=4,opt!A22,\"X\"))))","v":89.85},{"$f":"IF($AA27=\"\",\"\",IF($W$1>7,IF(ISERROR(AVERAGE(AG27:AH27))=TRUE,\"\",AVERAGE(AG27:AH27)),IF($W$1=5,BI27,IF($W$1=4,opt!G22,\"X\"))))","v":0.01},0,{"$f":"IF($AA27=\"\",\"\",RTD(\"tos.rtd\", , \"BID\",\".\"&$AF$4&$AE$4&\"C\"&$AA27))","v":89.6},{"$f":"IF($AA27=\"\",\"\",RTD(\"tos.rtd\", , \"ASK\",\".\"&$AF$4&$AE$4&\"C\"&$AA27))","v":89.75},{"$f":"IF($AA27=\"\",\"\",RTD(\"tos.rtd\", , \"BID\",\".\"&$AF$4&$AE$4&\"P\"&$AA27))","v":0},{"$f":"IF($AA27=\"\",\"\",RTD(\"tos.rtd\", , \"ASK\",\".\"&$AF$4&$AE$4&\"P\"&$AA27))","v":0.01},null,null,null,null,null,null,"/SB",6,0.25,"sugar","/SB",null,{"$f":"AU26+1","v":58},21,172.5,172.5,null,{"$f":"AZ26+$AZ$5","v":170},{"$f":"IF($AZ27=\"\",\"\",RTD(\"tos.rtd\", , \"BID\",\".\"&$AF$111&$AE$111&\"C\"&$AZ27))","v":6.05},{"$f":"IF($AZ27=\"\",\"\",RTD(\"tos.rtd\", , \"ASK\",\".\"&$AF$111&$AE$111&\"C\"&$AZ27))","v":6.1},{"$f":"IF($AZ27=\"\",\"\",RTD(\"tos.rtd\", , \"BID\",\".\"&$AF$111&$AE$111&\"P\"&$AZ27))","v":8.3000000000000007},{"$error":"#REF!"},21,{"$f":"IF($BD27<=0,\"\",VLOOKUP($BD27,#REF!,3))","v":{"$error":"#REF!"}},"",{"$f":"IF($BG27=\"\",\"\",VLOOKUP($BD27,#REF!,5))","v":""},{"$f":"IF($BG27=\"\",\"\",VLOOKUP($BD27,#REF!,9))","v":""},null,null,null,null,102,50.95,0.05,null,"Hide February, 2010 Options","2010-02-01","z","SWGFX",49.6,2.4,99,50.8,51.1,256,102,"SWGRX",0.05,-0.05,160,0.05,0.05,892,null,null,102]
[null,null,null,null,null,null,null,null,null,null,null,null,null,null,null,null,null,6,"2018-08-17","1st mo",{"$f":"IF($W$1=8,R70,IF(OR($W$1=5,$W$1=9),\"\",IF($W$1=2,T28,IF(OR($W$1=4,$W$1=8,$W$1=6),#REF!,IF($W$1=7,O228,X28)))))","v":{"$error":"#REF!"}},6,"Jan",{"$f":"IF(G4=\"\",X23+152,VALUE(CONCATENATE(20,\"-\",MID(G4,2,3),\"-\",RIGHT(G4,3))))","v":"2023-01-19"},"2023-01-20",22,{"$f":"IF($W$1>7,IF($AA$6<>0,$AA$6+$AA$5*(Z28-1),IF(opt!F23=\"\",\"\",opt!F23)),IF(opt!F23=\"\",\"\",opt!F23))","v":78.75},{"$f":"IF($AA28=\"\",\"\",IF($W$1>7,IF(ISERROR(AVERAGE(AE28:AF28))=TRUE,\"\",AVERAGE(AE28:AF28)),IF($W$1=5,BH28,IF($W$1=4,opt!A23,\"X\"))))","v":89.5},{"$f":"IF($AA28=\"\",\"\",IF($W$1>7,IF(ISERROR(AVERAGE(AG28:AH28))=TRUE,\"\",AVERAGE(AG28:AH28)),IF($W$1=5,BI28,IF($W$1=4,opt!G23,\"X\"))))","v":0.01},0,{"$f":"IF($AA28=\"\",\"\",RTD(\"tos.rtd\", , \"BID\",\".\"&$AF$4&$AE$4&\"C\"&$AA28))","v":88.35},{"$f":"IF($AA28=\"\",\"\",RTD(\"tos.rtd\", , \"ASK\",\".\"&$AF$4&$AE$4&\"C\"&$AA28))","v":88.5},{"$f":"IF($AA28=\"\",\"\",RTD(\"tos.rtd\", , \"BID\",\".\"&$AF$4&$AE$4&\"P\"&$AA28))","v":0},{"$f":"IF($AA28=\"\",\"\",RTD(\"tos.rtd\", , \"ASK\",\".\"&$AF$4&$AE$4&\"P\"&$AA28))","v":0.01},null,null,null,null,null,null,"/SI",7,0.25,"silver","/SO",null,{"$f":"AU27+1","v":59},22,175,175,null,{"$f":"AZ27+$AZ$5","v":170},{"$f":"IF($AZ28=\"\",\"\",RTD(\"tos.rtd\", , \"BID\",\".\"&$AF$111&$AE$111&\"C\"&$AZ28))","v":6.05},{"$f":"IF($AZ28=\"\",\"\",RTD(\"tos.rtd\", , \"ASK\",\".\"&$AF$111&$AE$111&\"C\"&$AZ28))","v":6.1},{"$f":"IF($AZ28=\"\",\"\",RTD(\"tos.rtd\", , \"BID\",\".\"&$AF$111&$AE$111&\"P\"&$AZ28))","v":8.3000000000000007},{"$error":"#REF!"},22,{"$f":"IF($BD28<=0,\"\",VLOOKUP($BD28,#REF!,3))","v":{"$error":"#REF!"}},"",{"$f":"IF($BG28=\"\",\"\",VLOOKUP($BD28,#REF!,5))","v":""},{"$f":"IF($BG28=\"\",\"\",VLOOKUP($BD28,#REF!,9))","v":""},null,null,null,null,103,49.95,0.05,null,"Hide February, 2011 Options","2011-02-01","z","SWGFY",48.6,2.2999999999999998,71,49.8,50.1,316,103,"SWGRY",0.05,-0.05,200,0.05,0.05,2279,null,null,103]
[null,null,null,null,null,null,null,null,null,null,null,null,null,null,null,null,null,7,"2018-09-14","1st mo",{"$f":"IF($W$1=8,R71,IF(OR($W$1=5,$W$1=9),\"\",IF($W$1=2,T29,IF(OR($W$1=4,$W$1=8,$W$1=6),#REF!,IF($W$1=7,O229,X29)))))","v":{"$error":"#REF!"}},7,"Feb",{"$f":"IF(G5=\"\",X23+183,VALUE(CONCATENATE(20,\"-\",MID(G5,2,3),\"-\",RIGHT(G5,3))))","v":"2023-02-19"},"2023-02-17",23,{"$f":"IF($W$1>7,IF($AA$6<>0,$AA$6+$AA$5*(Z29-1),IF(opt!F24=\"\",\"\",opt!F24)),IF(opt!F24=\"\",\"\",opt!F24))","v":80},{"$f":"IF($AA29=\"\",\"\",IF($W$1>7,IF(ISERROR(AVERAGE(AE29:AF29))=TRUE,\"\",AVERAGE(AE29:AF29)),IF($W$1=5,BH29,IF($W$1=4,opt!A24,\"X\"))))","v":87.6},{"$f":"IF($AA29=\"\",\"\",IF($W$1>7,IF(ISERROR(AVERAGE(AG29:AH29))=TRUE,\"\",AVERAGE(AG29:AH29)),IF($W$1=5,BI29,IF($W$1=4,opt!G24,\"X\"))))","v":0.01},0,{"$f":"IF($AA29=\"\",\"\",RTD(\"tos.rtd\", , \"BID\",\".\"&$AF$4&$AE$4&\"C\"&$AA29))","v":87.1},{"$f":"IF($AA29=\"\",\"\",RTD(\"tos.rtd\", , \"ASK\",\".\"&$AF$4&$AE$4&\"C\"&$AA29))","v":87.25},{"$f":"IF($AA29=\"\",\"\",RTD(\"tos.rtd\", , \"BID\",\".\"&$AF$4&$AE$4&\"P\"&$AA29))","v":0},{"$f":"IF($AA29=\"\",\"\",RTD(\"tos.rtd\", , \"ASK\",\".\"&$AF$4&$AE$4&\"P\"&$AA29))","v":0.01},null,null,null,null,null,null,"/SP",2000,5,"volatiity sp500 index","/SP",null,60,23,177.5,177.5,null,170,null,null,null,{"$error":"#REF!"},23,{"$f":"IF($BD29<=0,\"\",VLOOKUP($BD29,#REF!,3))","v":{"$error":"#REF!"}},"",{"$f":"IF($BG29=\"\",\"\",VLOOKUP($BD29,#REF!,5))","v":""},{"$f":"IF($BG29=\"\",\"\",VLOOKUP($BD29,#REF!,9))","v":""},null,null,null,null,104,48.95,0.05,null,"Hide January, 2007 Options","2007-01-01","z","SWGFZ",47.6,0.9,8,48.8,49.1,67,104,"SWGRZ",0.05,-0.05,400,0.05,0.05,1389,null,null,104]
[null,null,null,null,null,null,null,null,null,null,null,null,null,null,null,null,null,8,"2018-10-19","1st mo",{"$f":"IF($W$1=8,R72,IF(OR($W$1=5,$W$1=9),\"\",IF($W$1=2,T30,IF(OR($W$1=4,$W$1=8,$W$1=6),#REF!,IF($W$1=7,O230,X30)))))","v":{"$error":"#REF!"}},8,"Jan",{"$f":"IF(G6=\"\",VALUE(CONCATENATE(\"1/21/\",YEAR(NOW())+1)),VALUE(CONCATENATE(20,\"-\",MID(G6,2,3),\"-\",RIGHT(G6,3))))","v":"2023-01-21"},"2023-01-20",24,{"$f":"IF($W$1>7,IF($AA$6<>0,$AA$6+$AA$5*(Z30-1),IF(opt!F25=\"\",\"\",opt!F25)),IF(opt!F25=\"\",\"\",opt!F25))","v":81.25},{"$f":"IF($AA30=\"\",\"\",IF($W$1>7,IF(ISERROR(AVERAGE(AE30:AF30))=TRUE,\"\",AVERAGE(AE30:AF30)),IF($W$1=5,BH30,IF($W$1=4,opt!A25,\"X\"))))","v":87},{"$f":"IF($AA30=\"\",\"\",IF($W$1>7,IF(ISERROR(AVERAGE(AG30:AH30))=TRUE,\"\",AVERAGE(AG30:AH30)),IF($W$1=5,BI30,IF($W$1=4,opt!G25,\"X\"))))","v":0.01},0,{"$f":"IF($AA30=\"\",\"\",RTD(\"tos.rtd\", , \"BID\",\".\"&$AF$4&$AE$4&\"C\"&$AA30))","v":85.85},{"$f":"IF($AA30=\"\",\"\",RTD(\"tos.rtd\", , \"ASK\",\".\"&$AF$4&$AE$4&\"C\"&$AA30))","v":86},{"$f":"IF($AA30=\"\",\"\",RTD(\"tos.rtd\", , \"BID\",\".\"&$AF$4&$AE$4&\"P\"&$AA30))","v":0},{"$f":"IF($AA30=\"\",\"\",RTD(\"tos.rtd\", , \"ASK\",\".\"&$AF$4&$AE$4&\"P\"&$AA30))","v":0.01},null,null,null,null,null,null,"/VIX",10,0.5,"volatiity sp500 index","/VIX",null,61,24,180,180,null,170,null,null,null,{"$error":"#REF!"},24,{"$f":"IF($BD30<=0,\"\",VLOOKUP($BD30,#REF!,3))","v":{"$error":"#REF!"}},"",{"$f":"IF($BG30=\"\",\"\",VLOOKUP($BD30,#REF!,5))","v":""},{"$f":"IF($BG30=\"\",\"\",VLOOKUP($BD30,#REF!,9))","v":""},null,null,null,null,105,47.95,0.05,null,"Hide January, 2008 Options","2008-01-01","z","SWGFA",39.6,13.2,174,47.8,48.1,174,105,"SWGRA",0.1,0.05,30,0.05,0.05,1212,null,null,105]
[null,null,null,null,null,null,null,null,null,null,null,null,null,null,null,null,null,9,"2018-11-16","1st mo",{"$f":"IF($W$1=8,R73,IF(OR($W$1=5,$W$1=9),\"\",IF($W$1=2,T31,IF(OR($W$1=4,$W$1=8,$W$1=6),#REF!,IF($W$1=7,O231,X31)))))","v":{"$error":"#REF!"}},9,"Jan",{"$f":"IF(G7=\"\",VALUE(CONCATENATE(\"1/21/\",YEAR(NOW())+2)),VALUE(CONCATENATE(20,\"-\",MID(G7,2,3),\"-\",RIGHT(G7,3))))","v":"2024-01-21"},"2024-01-19",25,{"$f":"IF($W$1>7,IF($AA$6<>0,$AA$6+$AA$5*(Z31-1),IF(opt!F26=\"\",\"\",opt!F26)),IF(opt!F26=\"\",\"\",opt!F26))","v":82.5},{"$f":"IF($AA31=\"\",\"\",IF($W$1>7,IF(ISERROR(AVERAGE(AE31:AF31))=TRUE,\"\",AVERAGE(AE31:AF31)),IF($W$1=5,BH31,IF($W$1=4,opt!A26,\"X\"))))","v":85.45},{"$f":"IF($AA31=\"\",\"\",IF($W$1>7,IF(ISERROR(AVERAGE(AG31:AH31))=TRUE,\"\",AVERAGE(AG31:AH31)),IF($W$1=5,BI31,IF($W$1=4,opt!G26,\"X\"))))","v":0.01},0,{"$f":"IF($AA31=\"\",\"\",RTD(\"tos.rtd\", , \"BID\",\".\"&$AF$4&$AE$4&\"C\"&$AA31))","v":84.6},{"$f":"IF($AA31=\"\",\"\",RTD(\"tos.rtd\", , \"ASK\",\".\"&$AF$4&$AE$4&\"C\"&$AA31))","v":84.75},{"$f":"IF($AA31=\"\",\"\",RTD(\"tos.rtd\", , \"BID\",\".\"&$AF$4&$AE$4&\"P\"&$AA31))","v":0},{"$f":"IF($AA31=\"\",\"\",RTD(\"tos.rtd\", , \"ASK\",\".\"&$AF$4&$AE$4&\"P\"&$AA31))","v":0.01},null,null,null,null,null,null,"/YM",18000,50,"emini dow ym","/OYM",null,62,25,182.5,182.5,null,170,null,null,null,{"$error":"#REF!"},25,{"$f":"IF($BD31<=0,\"\",VLOOKUP($BD31,#REF!,3))","v":{"$error":"#REF!"}},"",{"$f":"IF($BG31=\"\",\"\",VLOOKUP($BD31,#REF!,5))","v":""},{"$f":"IF($BG31=\"\",\"\",VLOOKUP($BD31,#REF!,9))","v":""},null,null,null,null,106,46.95,0.05,null,"Hide January, 2009 Options","2009-01-01",null,"SWGFB",46.1,2.1,150,46.8,47.1,300,106,"SWGRB",0.15,-0.05,1002,0.05,0.05,1309,null,null,106]
[null,null,null,null,null,null,null,null,null,null,null,null,null,null,null,null,null,10,"2018-12-21","1st mo",{"$f":"IF($W$1=8,R74,IF(OR($W$1=5,$W$1=9),\"\",IF($W$1=2,T32,IF(OR($W$1=4,$W$1=8,$W$1=6),#REF!,IF($W$1=7,O232,X32)))))","v":{"$error":"#REF!"}},10,"Jan",{"$f":"IF(G8=\"\",VALUE(CONCATENATE(\"1/21/\",YEAR(NOW())+3)),VALUE(CONCATENATE(20,\"-\",MID(G8,2,3),\"-\",RIGHT(G8,3))))","v":"2025-01-21"},"2025-01-17",26,{"$f":"IF($W$1>7,IF($AA$6<>0,$AA$6+$AA$5*(Z32-1),IF(opt!F27=\"\",\"\",opt!F27)),IF(opt!F27=\"\",\"\",opt!F27))","v":83.75},{"$f":"IF($AA32=\"\",\"\",IF($W$1>7,IF(ISERROR(AVERAGE(AE32:AF32))=TRUE,\"\",AVERAGE(AE32:AF32)),IF($W$1=5,BH32,IF($W$1=4,opt!A27,\"X\"))))","v":83.05},{"$f":"IF($AA32=\"\",\"\",IF($W$1>7,IF(ISERROR(AVERAGE(AG32:AH32))=TRUE,\"\",AVERAGE(AG32:AH32)),IF($W$1=5,BI32,IF($W$1=4,opt!G27,\"X\"))))","v":0.01},0,{"$f":"IF($AA32=\"\",\"\",RTD(\"tos.rtd\", , \"BID\",\".\"&$AF$4&$AE$4&\"C\"&$AA32))","v":83.35},{"$f":"IF($AA32=\"\",\"\",RTD(\"tos.rtd\", , \"ASK\",\".\"&$AF$4&$AE$4&\"C\"&$AA32))","v":83.5},{"$f":"IF($AA32=\"\",\"\",RTD(\"tos.rtd\", , \"BID\",\".\"&$AF$4&$AE$4&\"P\"&$AA32))","v":0},{"$f":"IF($AA32=\"\",\"\",RTD(\"tos.rtd\", , \"ASK\",\".\"&$AF$4&$AE$4&\"P\"&$AA32))","v":0.01},null,null,null,null,null,null,"/ZC",200,5,"corn","/OZC",null,63,26,185,185,null,170,null,null,null,{"$error":"#REF!"},26,{"$f":"IF($BD32<=0,\"\",VLOOKUP($BD32,#REF!,3))","v":{"$error":"#REF!"}},"",{"$f":"IF($BG32=\"\",\"\",VLOOKUP($BD32,#REF!,5))","v":""},{"$f":"IF($BG32=\"\",\"\",VLOOKUP($BD32,#REF!,9))","v":""},null,null,null,null,107,45.95,0.05,null,"Hide January, 2010 Options","2010-01-01",null,"SWGFC",43.1,7.8,50,45.8,46.1,250,107,"SWGRC",0.1,-0.1,40,0.05,0.05,322,null,null,107]
[null,null,null,null,null,null,null,null,null,null,null,null,null,null,null,null,null,11,null,"1st mo",{"$f":"IF($W$1=8,R75,IF(OR($W$1=5,$W$1=9),\"\",IF($W$1=2,T33,IF(OR($W$1=4,$W$1=8,$W$1=6),#REF!,IF($W$1=7,O233,X33)))))","v":{"$error":"#REF!"}},11,"Jan",{"$f":"IF(G9=\"\",VALUE(CONCATENATE(\"1/21/\",YEAR(NOW())+4)),VALUE(CONCATENATE(20,\"-\",MID(G9,2,3),\"-\",RIGHT(G9,3))))","v":"2026-01-21"},"2026-01-16",27,{"$f":"IF($W$1>7,IF($AA$6<>0,$AA$6+$AA$5*(Z33-1),IF(opt!F28=\"\",\"\",opt!F28)),IF(opt!F28=\"\",\"\",opt!F28))","v":85},{"$f":"IF($AA33=\"\",\"\",IF($W$1>7,IF(ISERROR(AVERAGE(AE33:AF33))=TRUE,\"\",AVERAGE(AE33:AF33)),IF($W$1=5,BH33,IF($W$1=4,opt!A28,\"X\"))))","v":82.4},{"$f":"IF($AA33=\"\",\"\",IF($W$1>7,IF(ISERROR(AVERAGE(AG33:AH33))=TRUE,\"\",AVERAGE(AG33:AH33)),IF($W$1=5,BI33,IF($W$1=4,opt!G28,\"X\"))))","v":0.01},0,{"$f":"IF($AA33=\"\",\"\",RTD(\"tos.rtd\", , \"BID\",\".\"&$AF$4&$AE$4&\"C\"&$AA33))","v":82.1},{"$f":"IF($AA33=\"\",\"\",RTD(\"tos.rtd\", , \"ASK\",\".\"&$AF$4&$AE$4&\"C\"&$AA33))","v":82.25},{"$f":"IF($AA33=\"\",\"\",RTD(\"tos.rtd\", , \"BID\",\".\"&$AF$4&$AE$4&\"P\"&$AA33))","v":0},{"$f":"IF($AA33=\"\",\"\",RTD(\"tos.rtd\", , \"ASK\",\".\"&$AF$4&$AE$4&\"P\"&$AA33))","v":0.01},null,null,null,null,null,null,"/ZR",1,1,"rough rice","/OZR",null,64,27,187.5,187.5,null,170,null,null,null,{"$error":"#REF!"},27,{"$f":"IF($BD33<=0,\"\",VLOOKUP($BD33,#REF!,3))","v":{"$error":"#REF!"}},"",{"$f":"IF($BG33=\"\",\"\",VLOOKUP($BD33,#REF!,5))","v":""},{"$f":"IF($BG33=\"\",\"\",VLOOKUP($BD33,#REF!,9))","v":""},null,null,null,null,108,44.95,0.05,null,"Hide January, 2011 Options","2011-01-01",null,"SWGFD",33.6,2,1902,44.8,45.1,300,108,"SWGRD",0.05,-0.05,20,0.05,0.05,1622,null,null,108]
[null,null,null,null,null,null,null,null,null,null,null,null,null,null,null,null,null,12,null,null,{"$f":"IF($W$1=8,R76,IF(OR($W$1=5,$W$1=9),\"\",IF($W$1=2,T34,IF(OR($W$1=4,$W$1=8,$W$1=6),#REF!,IF($W$1=7,O234,X34)))))","v":{"$error":"#REF!"}},null,null,null,null,28,{"$f":"IF($W$1>7,IF($AA$6<>0,$AA$6+$AA$5*(Z34-1),IF(opt!F29=\"\",\"\",opt!F29)),IF(opt!F29=\"\",\"\",opt!F29))","v":86.25},{"$f":"IF($AA34=\"\",\"\",IF($W$1>7,IF(ISERROR(AVERAGE(AE34:AF34))=TRUE,\"\",AVERAGE(AE34:AF34)),IF($W$1=5,BH34,IF($W$1=4,opt!A29,\"X\"))))","v":81.400000000000006},{"$f":"IF($AA34=\"\",\"\",IF($W$1>7,IF(ISERROR(AVERAGE(AG34:AH34))=TRUE,\"\",AVERAGE(AG34:AH34)),IF($W$1=5,BI34,IF($W$1=4,opt!G29,\"X\"))))","v":0.01},0,{"$f":"IF($AA34=\"\",\"\",RTD(\"tos.rtd\", , \"BID\",\".\"&$AF$4&$AE$4&\"C\"&$AA34))","v":80.900000000000006},{"$f":"IF($AA34=\"\",\"\",RTD(\"tos.rtd\", , \"ASK\",\".\"&$AF$4&$AE$4&\"C\"&$AA34))","v":81},{"$f":"IF($AA34=\"\",\"\",RTD(\"tos.rtd\", , \"BID\",\".\"&$AF$4&$AE$4&\"P\"&$AA34))","v":0},{"$f":"IF($AA34=\"\",\"\",RTD(\"tos.rtd\", , \"ASK\",\".\"&$AF$4&$AE$4&\"P\"&$AA34))","v":0.01},null,null,null,null,null,null,"/ZS",800,10,"soybeans","/OZS",null,65,28,190,190,null,170,null,null,null,{"$error":"#REF!"},28,{"$f":"IF($BD34<=0,\"\",VLOOKUP($BD34,#REF!,3))","v":{"$error":"#REF!"}},"",{"$f":"IF($BG34=\"\",\"\",VLOOKUP($BD34,#REF!,5))","v":""},{"$f":"IF($BG34=\"\",\"\",VLOOKUP($BD34,#REF!,9))","v":""},null,null,null,null,109,43.95,0.05,null,"Hide July, 2006 Options","2006-07-01",null,"SWGFE",41.9,6,38,43.8,44.1,252,109,"SWGRE",0.1,-0.05,1723,0.05,0.05,2186,null,null,109]
[null,null,null,null,null,null,null,null,null,null,null,null,null,null,null,null,null,13,null,null,{"$f":"IF($W$1=8,R77,IF(OR($W$1=5,$W$1=9),\"\",IF($W$1=2,T35,IF(OR($W$1=4,$W$1=8,$W$1=6),#REF!,IF($W$1=7,O235,X35)))))","v":{"$error":"#REF!"}},null,null,null,{"$f":"YEAR(Z6)&IF(MONTH(Z6)<10,\"0\",\"\")&MONTH(Z6)&IF(DAY(Z6)<10,\"0\",\"\")&DAY(Z6)","v":"20220916"},29,{"$f":"IF($W$1>7,IF($AA$6<>0,$AA$6+$AA$5*(Z35-1),IF(opt!F30=\"\",\"\",opt!F30)),IF(opt!F30=\"\",\"\",opt!F30))","v":87.5},{"$f":"IF($AA35=\"\",\"\",IF($W$1>7,IF(ISERROR(AVERAGE(AE35:AF35))=TRUE,\"\",AVERAGE(AE35:AF35)),IF($W$1=5,BH35,IF($W$1=4,opt!A30,\"X\"))))","v":79.75},{"$f":"IF($AA35=\"\",\"\",IF($W$1>7,IF(ISERROR(AVERAGE(AG35:AH35))=TRUE,\"\",AVERAGE(AG35:AH35)),IF($W$1=5,BI35,IF($W$1=4,opt!G30,\"X\"))))","v":0.01},0,{"$f":"IF($AA35=\"\",\"\",RTD(\"tos.rtd\", , \"BID\",\".\"&$AF$4&$AE$4&\"C\"&$AA35))","v":79.650000000000006},{"$f":"IF($AA35=\"\",\"\",RTD(\"tos.rtd\", , \"ASK\",\".\"&$AF$4&$AE$4&\"C\"&$AA35))","v":79.75},{"$f":"IF($AA35=\"\",\"\",RTD(\"tos.rtd\", , \"BID\",\".\"&$AF$4&$AE$4&\"P\"&$AA35))","v":0},{"$f":"IF($AA35=\"\",\"\",RTD(\"tos.rtd\", , \"ASK\",\".\"&$AF$4&$AE$4&\"P\"&$AA35))","v":0.01},null,null,null,null,null,null,"/ZN",100,0.5,"us treas bond 10y","/OZN",null,66,29,192.5,192.5,null,170,null,null,null,{"$error":"#REF!"},29,{"$f":"IF($BD35<=0,\"\",VLOOKUP($BD35,#REF!,3))","v":{"$error":"#REF!"}},"",{"$f":"IF($BG35=\"\",\"\",VLOOKUP($BD35,#REF!,5))","v":""},{"$f":"IF($BG35=\"\",\"\",VLOOKUP($BD35,#REF!,9))","v":""},null,null,null,null,110,42.95,0.05,null,"Hide July, 2007 Options","2007-07-01",null,"SPYFF",24.7,null,20,42.8,43.1,20,110,"SPYRF",0.1,-0.18,325,0.05,0.05,699,null,null,110]
[null,null,null,null,null,null,null,null,null,null,null,null,null,null,null,null,null,null,null,null,{"$f":"IF($W$1=8,R78,IF(OR($W$1=5,$W$1=9),\"\",IF($W$1=2,T36,IF(OR($W$1=4,$W$1=8,$W$1=6),#REF!,IF($W$1=7,O236,X36)))))","v":{"$error":"#REF!"}},null,null,null,null,30,{"$f":"IF($W$1>7,IF($AA$6<>0,$AA$6+$AA$5*(Z36-1),IF(opt!F31=\"\",\"\",opt!F31)),IF(opt!F31=\"\",\"\",opt!F31))","v":90},{"$f":"IF($AA36=\"\",\"\",IF($W$1>7,IF(ISERROR(AVERAGE(AE36:AF36))=TRUE,\"\",AVERAGE(AE36:AF36)),IF($W$1=5,BH36,IF($W$1=4,opt!A31,\"X\"))))","v":77.349999999999994},{"$f":"IF($AA36=\"\",\"\",IF($W$1>7,IF(ISERROR(AVERAGE(AG36:AH36))=TRUE,\"\",AVERAGE(AG36:AH36)),IF($W$1=5,BI36,IF($W$1=4,opt!G31,\"X\"))))","v":0.01},0,{"$f":"IF($AA36=\"\",\"\",RTD(\"tos.rtd\", , \"BID\",\".\"&$AF$4&$AE$4&\"C\"&$AA36))","v":77.150000000000006},{"$f":"IF($AA36=\"\",\"\",RTD(\"tos.rtd\", , \"ASK\",\".\"&$AF$4&$AE$4&\"C\"&$AA36))","v":77.25},{"$f":"IF($AA36=\"\",\"\",RTD(\"tos.rtd\", , \"BID\",\".\"&$AF$4&$AE$4&\"P\"&$AA36))","v":0},{"$f":"IF($AA36=\"\",\"\",RTD(\"tos.rtd\", , \"ASK\",\".\"&$AF$4&$AE$4&\"P\"&$AA36))","v":0.01},null,null,null,null,null,null,"/ZO",100,5,"oats","/OZO",null,67,30,195,195,null,170,null,null,null,{"$error":"#REF!"},30,{"$f":"IF($BD36<=0,\"\",VLOOKUP($BD36,#REF!,3))","v":{"$error":"#REF!"}},"",{"$f":"IF($BG36=\"\",\"\",VLOOKUP($BD36,#REF!,5))","v":""},{"$f":"IF($BG36=\"\",\"\",VLOOKUP($BD36,#REF!,9))","v":""},null,null,null,null,111,41.95,0.05,null,"Hide July, 2008 Options","2008-07-01",null,"SPYFG",30.1,0.75,2,41.8,42.1,295,111,"SPYRG",0.25,0.05,10,0.05,0.05,1101,null,null,111]
[null,null,null,null,null,null,null,null,null,null,null,null,null,null,null,null,null,null,null,null,{"$f":"IF($W$1=8,R79,IF(OR($W$1=5,$W$1=9),\"\",IF($W$1=2,T37,IF(OR($W$1=4,$W$1=8,$W$1=6),#REF!,IF($W$1=7,O237,X37)))))","v":{"$error":"#REF!"}},null,1,null,null,31,{"$f":"IF($W$1>7,IF($AA$6<>0,$AA$6+$AA$5*(Z37-1),IF(opt!F32=\"\",\"\",opt!F32)),IF(opt!F32=\"\",\"\",opt!F32))","v":92.5},{"$f":"IF($AA37=\"\",\"\",IF($W$1>7,IF(ISERROR(AVERAGE(AE37:AF37))=TRUE,\"\",AVERAGE(AE37:AF37)),IF($W$1=5,BH37,IF($W$1=4,opt!A32,\"X\"))))","v":75.599999999999994},{"$f":"IF($AA37=\"\",\"\",IF($W$1>7,IF(ISERROR(AVERAGE(AG37:AH37))=TRUE,\"\",AVERAGE(AG37:AH37)),IF($W$1=5,BI37,IF($W$1=4,opt!G32,\"X\"))))","v":0.01},0,{"$f":"IF($AA37=\"\",\"\",RTD(\"tos.rtd\", , \"BID\",\".\"&$AF$4&$AE$4&\"C\"&$AA37))","v":74.650000000000006},{"$f":"IF($AA37=\"\",\"\",RTD(\"tos.rtd\", , \"ASK\",\".\"&$AF$4&$AE$4&\"C\"&$AA37))","v":74.8},{"$f":"IF($AA37=\"\",\"\",RTD(\"tos.rtd\", , \"BID\",\".\"&$AF$4&$AE$4&\"P\"&$AA37))","v":0},{"$f":"IF($AA37=\"\",\"\",RTD(\"tos.rtd\", , \"ASK\",\".\"&$AF$4&$AE$4&\"P\"&$AA37))","v":0.01},null,null,null,null,null,null,"/ZW",300,5,"wheat","/OZW",null,68,31,197.5,197.5,null,170,null,null,null,{"$error":"#REF!"},31,{"$f":"IF($BD37<=0,\"\",VLOOKUP($BD37,#REF!,3))","v":{"$error":"#REF!"}},"",{"$f":"IF($BG37=\"\",\"\",VLOOKUP($BD37,#REF!,5))","v":""},{"$f":"IF($BG37=\"\",\"\",VLOOKUP($BD37,#REF!,9))","v":""},null,null,null,null,112,40.950000000000003,0.05,null,"Hide July, 2009 Options","2009-07-01",null,"SPYFH",33,10.6,25,40.799999999999997,41.1,186,112,"SPYRH",0.15,-0.15,40,0.05,0.05,772,null,null,112]
[null,null,null,null,null,null,null,null,null,null,null,null,null,null,null,null,null,null,null,null,{"$f":"IF($W$1=8,R80,IF(OR($W$1=5,$W$1=9),\"\",IF($W$1=2,T38,IF(OR($W$1=4,$W$1=8,$W$1=6),#REF!,IF($W$1=7,O238,X38)))))","v":{"$error":"#REF!"}},1,"stocks 1a",null,null,32,{"$f":"IF($W$1>7,IF($AA$6<>0,$AA$6+$AA$5*(Z38-1),IF(opt!F33=\"\",\"\",opt!F33)),IF(opt!F33=\"\",\"\",opt!F33))","v":95},{"$f":"IF($AA38=\"\",\"\",IF($W$1>7,IF(ISERROR(AVERAGE(AE38:AF38))=TRUE,\"\",AVERAGE(AE38:AF38)),IF($W$1=5,BH38,IF($W$1=4,opt!A33,\"X\"))))","v":72.94},{"$f":"IF($AA38=\"\",\"\",IF($W$1>7,IF(ISERROR(AVERAGE(AG38:AH38))=TRUE,\"\",AVERAGE(AG38:AH38)),IF($W$1=5,BI38,IF($W$1=4,opt!G33,\"X\"))))","v":0.01},0,{"$f":"IF($AA38=\"\",\"\",RTD(\"tos.rtd\", , \"BID\",\".\"&$AF$4&$AE$4&\"C\"&$AA38))","v":72.150000000000006},{"$f":"IF($AA38=\"\",\"\",RTD(\"tos.rtd\", , \"ASK\",\".\"&$AF$4&$AE$4&\"C\"&$AA38))","v":72.3},{"$f":"IF($AA38=\"\",\"\",RTD(\"tos.rtd\", , \"BID\",\".\"&$AF$4&$AE$4&\"P\"&$AA38))","v":0},{"$f":"IF($AA38=\"\",\"\",RTD(\"tos.rtd\", , \"ASK\",\".\"&$AF$4&$AE$4&\"P\"&$AA38))","v":0.01},null,null,null,null,null,null,"ZZZZZZ",null,null,null,null,null,69,32,200,200,null,170,null,null,null,{"$error":"#REF!"},32,{"$f":"IF($BD38<=0,\"\",VLOOKUP($BD38,#REF!,3))","v":{"$error":"#REF!"}},"",{"$f":"IF($BG38=\"\",\"\",VLOOKUP($BD38,#REF!,5))","v":""},{"$f":"IF($BG38=\"\",\"\",VLOOKUP($BD38,#REF!,9))","v":""},null,null,null,null,113,39.950000000000003,0.05,null,"Hide July, 2010 Options","2010-07-01",null,"SPYFI",38.299999999999997,11,38,39.799999999999997,40.1,144,113,"SPYRI",0.1,-0.05,23,0.05,0.05,536,null,null,113]
[null,null,null,null,null,null,null,null,null,null,null,null,null,null,null,null,null,null,null,null,{"$f":"IF($W$1=8,R81,IF(OR($W$1=5,$W$1=9),\"\",IF($W$1=2,T39,IF(OR($W$1=4,$W$1=8,$W$1=6),#REF!,IF($W$1=7,O239,X39)))))","v":{"$error":"#REF!"}},2,"stocks 1b",null,{"$f":"YEAR(Z5)&IF(MONTH(Z5)<10,\"0\",\"\")&MONTH(Z5)&IF(DAY(Z5)<10,\"0\",\"\")&DAY(Z5)","v":"20221021"},33,{"$f":"IF($W$1>7,IF($AA$6<>0,$AA$6+$AA$5*(Z39-1),IF(opt!F34=\"\",\"\",opt!F34)),IF(opt!F34=\"\",\"\",opt!F34))","v":97.5},{"$f":"IF($AA39=\"\",\"\",IF($W$1>7,IF(ISERROR(AVERAGE(AE39:AF39))=TRUE,\"\",AVERAGE(AE39:AF39)),IF($W$1=5,BH39,IF($W$1=4,opt!A34,\"X\"))))","v":74.150000000000006},{"$f":"IF($AA39=\"\",\"\",IF($W$1>7,IF(ISERROR(AVERAGE(AG39:AH39))=TRUE,\"\",AVERAGE(AG39:AH39)),IF($W$1=5,BI39,IF($W$1=4,opt!G34,\"X\"))))","v":0.01},0,{"$f":"IF($AA39=\"\",\"\",RTD(\"tos.rtd\", , \"BID\",\".\"&$AF$4&$AE$4&\"C\"&$AA39))","v":69.650000000000006},{"$f":"IF($AA39=\"\",\"\",RTD(\"tos.rtd\", , \"ASK\",\".\"&$AF$4&$AE$4&\"C\"&$AA39))","v":69.75},{"$f":"IF($AA39=\"\",\"\",RTD(\"tos.rtd\", , \"BID\",\".\"&$AF$4&$AE$4&\"P\"&$AA39))","v":0},{"$f":"IF($AA39=\"\",\"\",RTD(\"tos.rtd\", , \"ASK\",\".\"&$AF$4&$AE$4&\"P\"&$AA39))","v":0.01},null,null,null,null,null,null,null,null,null,null,null,null,70,33,205,205,null,170,null,null,null,{"$error":"#REF!"},33,{"$f":"IF($BD39<=0,\"\",VLOOKUP($BD39,#REF!,3))","v":{"$error":"#REF!"}},"",{"$f":"IF($BG39=\"\",\"\",VLOOKUP($BD39,#REF!,5))","v":""},{"$f":"IF($BG39=\"\",\"\",VLOOKUP($BD39,#REF!,9))","v":""},null,null,null,null,114,38.950000000000003,0.05,null,"Hide July, 2011 Options","2011-07-01",null,"SPYFJ",30.1,-2.8,20,38.799999999999997,39.1,157,114,"SPYRJ",0.4,0.2,90,0.05,0.05,995,null,null,114]
[null,null,null,null,null,null,null,null,null,null,null,null,null,null,null,null,null,null,null,null,{"$f":"IF($W$1=8,R82,IF(OR($W$1=5,$W$1=9),\"\",IF($W$1=2,T40,IF(OR($W$1=4,$W$1=8,$W$1=6),#REF!,IF($W$1=7,O240,X40)))))","v":{"$error":"#REF!"}},null,null,null,null,34,{"$f":"IF($W$1>7,IF($AA$6<>0,$AA$6+$AA$5*(Z40-1),IF(opt!F35=\"\",\"\",opt!F35)),IF(opt!F35=\"\",\"\",opt!F35))","v":100},{"$f":"IF($AA40=\"\",\"\",IF($W$1>7,IF(ISERROR(AVERAGE(AE40:AF40))=TRUE,\"\",AVERAGE(AE40:AF40)),IF($W$1=5,BH40,IF($W$1=4,opt!A35,\"X\"))))","v":67.7},{"$f":"IF($AA40=\"\",\"\",IF($W$1>7,IF(ISERROR(AVERAGE(AG40:AH40))=TRUE,\"\",AVERAGE(AG40:AH40)),IF($W$1=5,BI40,IF($W$1=4,opt!G35,\"X\"))))","v":0.01},0,{"$f":"IF($AA40=\"\",\"\",RTD(\"tos.rtd\", , \"BID\",\".\"&$AF$4&$AE$4&\"C\"&$AA40))","v":67.150000000000006},{"$f":"IF($AA40=\"\",\"\",RTD(\"tos.rtd\", , \"ASK\",\".\"&$AF$4&$AE$4&\"C\"&$AA40))","v":67.25},{"$f":"IF($AA40=\"\",\"\",RTD(\"tos.rtd\", , \"BID\",\".\"&$AF$4&$AE$4&\"P\"&$AA40))","v":0},{"$f":"IF($AA40=\"\",\"\",RTD(\"tos.rtd\", , \"ASK\",\".\"&$AF$4&$AE$4&\"P\"&$AA40))","v":0.01},null,null,null,null,null,null,null,null,null,null,null,null,71,34,210,210,null,170,null,null,null,{"$error":"#REF!"},34,{"$f":"IF($BD40<=0,\"\",VLOOKUP($BD40,#REF!,3))","v":{"$error":"#REF!"}},"",{"$f":"IF($BG40=\"\",\"\",VLOOKUP($BD40,#REF!,5))","v":""},{"$f":"IF($BG40=\"\",\"\",VLOOKUP($BD40,#REF!,9))","v":""},null,null,null,null,115,37.950000000000003,0.05,null,"Hide June, 2006 Options","2006-06-01",null,"SPYFK",34.299999999999997,0.1,70,37.799999999999997,38.1,1183,115,"SPYRK",0.05,-0.05,2085,0.05,0.05,8484,null,null,115]
[null,null,null,null,null,null,null,null,null,null,null,null,null,null,null,null,null,null,null,null,{"$f":"IF($W$1=8,R83,IF(OR($W$1=5,$W$1=9),\"\",IF($W$1=2,T41,IF(OR($W$1=4,$W$1=8,$W$1=6),#REF!,IF($W$1=7,O241,X41)))))","v":{"$error":"#REF!"}},null,null,null,null,35,{"$f":"IF($W$1>7,IF($AA$6<>0,$AA$6+$AA$5*(Z41-1),IF(opt!F36=\"\",\"\",opt!F36)),IF(opt!F36=\"\",\"\",opt!F36))","v":102.5},{"$f":"IF($AA41=\"\",\"\",IF($W$1>7,IF(ISERROR(AVERAGE(AE41:AF41))=TRUE,\"\",AVERAGE(AE41:AF41)),IF($W$1=5,BH41,IF($W$1=4,opt!A36,\"X\"))))","v":69.67},{"$f":"IF($AA41=\"\",\"\",IF($W$1>7,IF(ISERROR(AVERAGE(AG41:AH41))=TRUE,\"\",AVERAGE(AG41:AH41)),IF($W$1=5,BI41,IF($W$1=4,opt!G36,\"X\"))))","v":0.01},0,{"$f":"IF($AA41=\"\",\"\",RTD(\"tos.rtd\", , \"BID\",\".\"&$AF$4&$AE$4&\"C\"&$AA41))","v":64.650000000000006},{"$f":"IF($AA41=\"\",\"\",RTD(\"tos.rtd\", , \"ASK\",\".\"&$AF$4&$AE$4&\"C\"&$AA41))","v":64.8},{"$f":"IF($AA41=\"\",\"\",RTD(\"tos.rtd\", , \"BID\",\".\"&$AF$4&$AE$4&\"P\"&$AA41))","v":0.01},{"$f":"IF($AA41=\"\",\"\",RTD(\"tos.rtd\", , \"ASK\",\".\"&$AF$4&$AE$4&\"P\"&$AA41))","v":0.02},null,null,null,null,null,null,null,null,null,null,null,null,72,35,215,215,null,170,null,null,null,{"$error":"#REF!"},35,{"$f":"IF($BD41<=0,\"\",VLOOKUP($BD41,#REF!,3))","v":{"$error":"#REF!"}},"",{"$f":"IF($BG41=\"\",\"\",VLOOKUP($BD41,#REF!,5))","v":""},{"$f":"IF($BG41=\"\",\"\",VLOOKUP($BD41,#REF!,9))","v":""},null,null,null,null,116,37,0.05,null,"Hide June, 2007 Options","2007-06-01",null,"SPYFL",32,3.2,46,36.9,37.1,1391,116,"SPYRL",0.05,-0.35,8100,0.05,0.05,9264,null,null,116]
[null,null,null,null,null,null,null,null,null,null,null,null,null,null,null,null,null,null,null,null,{"$f":"IF($W$1=8,R84,IF(OR($W$1=5,$W$1=9),\"\",IF($W$1=2,T42,IF(OR($W$1=4,$W$1=8,$W$1=6),#REF!,IF($W$1=7,O242,X42)))))","v":{"$error":"#REF!"}},null,null,null,null,36,{"$f":"IF($W$1>7,IF($AA$6<>0,$AA$6+$AA$5*(Z42-1),IF(opt!F37=\"\",\"\",opt!F37)),IF(opt!F37=\"\",\"\",opt!F37))","v":105},{"$f":"IF($AA42=\"\",\"\",IF($W$1>7,IF(ISERROR(AVERAGE(AE42:AF42))=TRUE,\"\",AVERAGE(AE42:AF42)),IF($W$1=5,BH42,IF($W$1=4,opt!A37,\"X\"))))","v":63},{"$f":"IF($AA42=\"\",\"\",IF($W$1>7,IF(ISERROR(AVERAGE(AG42:AH42))=TRUE,\"\",AVERAGE(AG42:AH42)),IF($W$1=5,BI42,IF($W$1=4,opt!G37,\"X\"))))","v":0.02},0,{"$f":"IF($AA42=\"\",\"\",RTD(\"tos.rtd\", , \"BID\",\".\"&$AF$4&$AE$4&\"C\"&$AA42))","v":62.15},{"$f":"IF($AA42=\"\",\"\",RTD(\"tos.rtd\", , \"ASK\",\".\"&$AF$4&$AE$4&\"C\"&$AA42))","v":62.3},{"$f":"IF($AA42=\"\",\"\",RTD(\"tos.rtd\", , \"BID\",\".\"&$AF$4&$AE$4&\"P\"&$AA42))","v":0.01},{"$f":"IF($AA42=\"\",\"\",RTD(\"tos.rtd\", , \"ASK\",\".\"&$AF$4&$AE$4&\"P\"&$AA42))","v":0.02},null,null,null,null,null,null,null,null,null,null,null,null,73,36,220,220,null,170,null,null,null,{"$error":"#REF!"},36,{"$f":"IF($BD42<=0,\"\",VLOOKUP($BD42,#REF!,3))","v":{"$error":"#REF!"}},"",{"$f":"IF($BG42=\"\",\"\",VLOOKUP($BD42,#REF!,5))","v":""},{"$f":"IF($BG42=\"\",\"\",VLOOKUP($BD42,#REF!,9))","v":""},null,null,null,null,117,35.950000000000003,0.05,null,"Hide June, 2008 Options","2008-06-01",null,"SPYFM",32.4,4.3,10,35.799999999999997,36.1,455,117,"SPYRM",0.25,-0.27,140,0.05,0.05,882,null,null,117]
[null,null,null,null,null,null,null,null,null,null,null,null,null,null,null,null,null,null,null,null,{"$f":"IF($W$1=8,R85,IF(OR($W$1=5,$W$1=9),\"\",IF($W$1=2,T43,IF(OR($W$1=4,$W$1=8,$W$1=6),#REF!,IF($W$1=7,O243,X43)))))","v":{"$error":"#REF!"}},null,null,null,null,37,{"$f":"IF($W$1>7,IF($AA$6<>0,$AA$6+$AA$5*(Z43-1),IF(opt!F38=\"\",\"\",opt!F38)),IF(opt!F38=\"\",\"\",opt!F38))","v":107.5},{"$f":"IF($AA43=\"\",\"\",IF($W$1>7,IF(ISERROR(AVERAGE(AE43:AF43))=TRUE,\"\",AVERAGE(AE43:AF43)),IF($W$1=5,BH43,IF($W$1=4,opt!A38,\"X\"))))","v":60},{"$f":"IF($AA43=\"\",\"\",IF($W$1>7,IF(ISERROR(AVERAGE(AG43:AH43))=TRUE,\"\",AVERAGE(AG43:AH43)),IF($W$1=5,BI43,IF($W$1=4,opt!G38,\"X\"))))","v":0.02},0,{"$f":"IF($AA43=\"\",\"\",RTD(\"tos.rtd\", , \"BID\",\".\"&$AF$4&$AE$4&\"C\"&$AA43))","v":59.65},{"$f":"IF($AA43=\"\",\"\",RTD(\"tos.rtd\", , \"ASK\",\".\"&$AF$4&$AE$4&\"C\"&$AA43))","v":59.8},{"$f":"IF($AA43=\"\",\"\",RTD(\"tos.rtd\", , \"BID\",\".\"&$AF$4&$AE$4&\"P\"&$AA43))","v":0.01},{"$f":"IF($AA43=\"\",\"\",RTD(\"tos.rtd\", , \"ASK\",\".\"&$AF$4&$AE$4&\"P\"&$AA43))","v":0.02},null,null,null,null,null,null,{"$f":"AN43","v":0},null,null,null,null,null,74,37,225,225,null,170,null,null,null,{"$error":"#REF!"},37,{"$f":"IF($BD43<=0,\"\",VLOOKUP($BD43,#REF!,3))","v":{"$error":"#REF!"}},"",{"$f":"IF($BG43=\"\",\"\",VLOOKUP($BD43,#REF!,5))","v":""},{"$f":"IF($BG43=\"\",\"\",VLOOKUP($BD43,#REF!,9))","v":""},null,null,null,null,118,35,0.05,null,"Hide June, 2009 Options","2009-06-01",null,"SPYFN",31.4,1.8,10,34.9,35.1,296,118,"SPYRN",0.05,-0.5,50,0.05,0.05,656,null,null,118]
[null,null,null,null,null,null,null,null,null,null,null,null,null,null,null,null,null,null,null,null,{"$f":"IF($W$1=8,R86,IF(OR($W$1=5,$W$1=9),\"\",IF($W$1=2,T44,IF(OR($W$1=4,$W$1=8,$W$1=6),#REF!,IF($W$1=7,O244,X44)))))","v":{"$error":"#REF!"}},null,null,null,null,38,{"$f":"IF($W$1>7,IF($AA$6<>0,$AA$6+$AA$5*(Z44-1),IF(opt!F39=\"\",\"\",opt!F39)),IF(opt!F39=\"\",\"\",opt!F39))","v":110},{"$f":"IF($AA44=\"\",\"\",IF($W$1>7,IF(ISERROR(AVERAGE(AE44:AF44))=TRUE,\"\",AVERAGE(AE44:AF44)),IF($W$1=5,BH44,IF($W$1=4,opt!A39,\"X\"))))","v":57.46},{"$f":"IF($AA44=\"\",\"\",IF($W$1>7,IF(ISERROR(AVERAGE(AG44:AH44))=TRUE,\"\",AVERAGE(AG44:AH44)),IF($W$1=5,BI44,IF($W$1=4,opt!G39,\"X\"))))","v":0.02},0,{"$f":"IF($AA44=\"\",\"\",RTD(\"tos.rtd\", , \"BID\",\".\"&$AF$4&$AE$4&\"C\"&$AA44))","v":57.2},{"$f":"IF($AA44=\"\",\"\",RTD(\"tos.rtd\", , \"ASK\",\".\"&$AF$4&$AE$4&\"C\"&$AA44))","v":57.3},{"$f":"IF($AA44=\"\",\"\",RTD(\"tos.rtd\", , \"BID\",\".\"&$AF$4&$AE$4&\"P\"&$AA44))","v":0.01},{"$f":"IF($AA44=\"\",\"\",RTD(\"tos.rtd\", , \"ASK\",\".\"&$AF$4&$AE$4&\"P\"&$AA44))","v":0.02},null,null,null,null,null,null,null,null,null,null,null,null,75,38,230,230,null,170,null,null,null,{"$error":"#REF!"},38,{"$f":"IF($BD44<=0,\"\",VLOOKUP($BD44,#REF!,3))","v":{"$error":"#REF!"}},"",{"$f":"IF($BG44=\"\",\"\",VLOOKUP($BD44,#REF!,5))","v":""},{"$f":"IF($BG44=\"\",\"\",VLOOKUP($BD44,#REF!,9))","v":""},null,null,null,null,119,34.049999999999997,0.05,null,"Hide June, 2010 Options","2010-06-01",null,"SPYFO",29.75,4.05,1,33.9,34.200000000000003,74,119,"SPYRO",0.15,-0.1,164,0.05,0.05,1218,null,null,119]
[null,null,null,null,null,null,null,null,null,null,null,null,null,null,null,null,null,null,null,null,{"$f":"IF($W$1=8,R87,IF(OR($W$1=5,$W$1=9),\"\",IF($W$1=2,T45,IF(OR($W$1=4,$W$1=8,$W$1=6),#REF!,IF($W$1=7,O245,X45)))))","v":{"$error":"#REF!"}},null,null,null,null,39,{"$f":"IF($W$1>7,IF($AA$6<>0,$AA$6+$AA$5*(Z45-1),IF(opt!F40=\"\",\"\",opt!F40)),IF(opt!F40=\"\",\"\",opt!F40))","v":112.5},{"$f":"IF($AA45=\"\",\"\",IF($W$1>7,IF(ISERROR(AVERAGE(AE45:AF45))=TRUE,\"\",AVERAGE(AE45:AF45)),IF($W$1=5,BH45,IF($W$1=4,opt!A40,\"X\"))))","v":54.8},{"$f":"IF($AA45=\"\",\"\",IF($W$1>7,IF(ISERROR(AVERAGE(AG45:AH45))=TRUE,\"\",AVERAGE(AG45:AH45)),IF($W$1=5,BI45,IF($W$1=4,opt!G40,\"X\"))))","v":0.03},0,{"$f":"IF($AA45=\"\",\"\",RTD(\"tos.rtd\", , \"BID\",\".\"&$AF$4&$AE$4&\"C\"&$AA45))","v":54.7},{"$f":"IF($AA45=\"\",\"\",RTD(\"tos.rtd\", , \"ASK\",\".\"&$AF$4&$AE$4&\"C\"&$AA45))","v":54.8},{"$f":"IF($AA45=\"\",\"\",RTD(\"tos.rtd\", , \"BID\",\".\"&$AF$4&$AE$4&\"P\"&$AA45))","v":0.02},{"$f":"IF($AA45=\"\",\"\",RTD(\"tos.rtd\", , \"ASK\",\".\"&$AF$4&$AE$4&\"P\"&$AA45))","v":0.03},null,null,null,null,null,null,null,null,null,null,null,null,76,39,235,235,null,170,null,null,null,{"$error":"#REF!"},39,{"$f":"IF($BD45<=0,\"\",VLOOKUP($BD45,#REF!,3))","v":{"$error":"#REF!"}},"",{"$f":"IF($BG45=\"\",\"\",VLOOKUP($BD45,#REF!,5))","v":""},{"$f":"IF($BG45=\"\",\"\",VLOOKUP($BD45,#REF!,9))","v":""},null,null,null,null,120,33,0.05,null,"Hide June, 2011 Options","2011-06-01",null,"SPYFP",30.4,0.15,4,32.799999999999997,33.200000000000003,284,120,"SPYRP",0.1,0.05,50,0.05,0.05,2423,null,null,120]
[null,null,null,null,null,null,null,null,null,null,null,null,null,null,null,null,null,null,null,null,{"$f":"IF($W$1=8,R88,IF(OR($W$1=5,$W$1=9),\"\",IF($W$1=2,T46,IF(OR($W$1=4,$W$1=8,$W$1=6),#REF!,IF($W$1=7,O246,X46)))))","v":{"$error":"#REF!"}},null,null,null,null,40,{"$f":"IF($W$1>7,IF($AA$6<>0,$AA$6+$AA$5*(Z46-1),IF(opt!F41=\"\",\"\",opt!F41)),IF(opt!F41=\"\",\"\",opt!F41))","v":115},{"$f":"IF($AA46=\"\",\"\",IF($W$1>7,IF(ISERROR(AVERAGE(AE46:AF46))=TRUE,\"\",AVERAGE(AE46:AF46)),IF($W$1=5,BH46,IF($W$1=4,opt!A41,\"X\"))))","v":51.84},{"$f":"IF($AA46=\"\",\"\",IF($W$1>7,IF(ISERROR(AVERAGE(AG46:AH46))=TRUE,\"\",AVERAGE(AG46:AH46)),IF($W$1=5,BI46,IF($W$1=4,opt!G41,\"X\"))))","v":0.03},0,{"$f":"IF($AA46=\"\",\"\",RTD(\"tos.rtd\", , \"BID\",\".\"&$AF$4&$AE$4&\"C\"&$AA46))","v":52.2},{"$f":"IF($AA46=\"\",\"\",RTD(\"tos.rtd\", , \"ASK\",\".\"&$AF$4&$AE$4&\"C\"&$AA46))","v":52.3},{"$f":"IF($AA46=\"\",\"\",RTD(\"tos.rtd\", , \"BID\",\".\"&$AF$4&$AE$4&\"P\"&$AA46))","v":0.02},{"$f":"IF($AA46=\"\",\"\",RTD(\"tos.rtd\", , \"ASK\",\".\"&$AF$4&$AE$4&\"P\"&$AA46))","v":0.03},null,null,null,null,null,null,null,null,null,null,null,null,77,40,240,240,null,170,null,null,null,{"$error":"#REF!"},40,{"$f":"IF($BD46<=0,\"\",VLOOKUP($BD46,#REF!,3))","v":{"$error":"#REF!"}},"",{"$f":"IF($BG46=\"\",\"\",VLOOKUP($BD46,#REF!,5))","v":""},{"$f":"IF($BG46=\"\",\"\",VLOOKUP($BD46,#REF!,9))","v":""},null,null,null,null,121,32,0.05,null,"Hide March, 2007 Options","2007-03-01",null,"SPYFQ",29.8,0.4,1,31.9,32.1,1649,121,"SPYRQ",0.05,-0.05,2,0.05,0.05,2205,null,null,121]
[null,null,null,null,null,null,null,null,null,null,null,null,null,null,null,null,null,null,null,null,{"$f":"IF($W$1=8,R89,IF(OR($W$1=5,$W$1=9),\"\",IF($W$1=2,T47,IF(OR($W$1=4,$W$1=8,$W$1=6),#REF!,IF($W$1=7,O247,X47)))))","v":{"$error":"#REF!"}},null,null,null,null,41,{"$f":"IF($W$1>7,IF($AA$6<>0,$AA$6+$AA$5*(Z47-1),IF(opt!F42=\"\",\"\",opt!F42)),IF(opt!F42=\"\",\"\",opt!F42))","v":117.5},{"$f":"IF($AA47=\"\",\"\",IF($W$1>7,IF(ISERROR(AVERAGE(AE47:AF47))=TRUE,\"\",AVERAGE(AE47:AF47)),IF($W$1=5,BH47,IF($W$1=4,opt!A42,\"X\"))))","v":49.5},{"$f":"IF($AA47=\"\",\"\",IF($W$1>7,IF(ISERROR(AVERAGE(AG47:AH47))=TRUE,\"\",AVERAGE(AG47:AH47)),IF($W$1=5,BI47,IF($W$1=4,opt!G42,\"X\"))))","v":0.04},0,{"$f":"IF($AA47=\"\",\"\",RTD(\"tos.rtd\", , \"BID\",\".\"&$AF$4&$AE$4&\"C\"&$AA47))","v":49.7},{"$f":"IF($AA47=\"\",\"\",RTD(\"tos.rtd\", , \"ASK\",\".\"&$AF$4&$AE$4&\"C\"&$AA47))","v":49.85},{"$f":"IF($AA47=\"\",\"\",RTD(\"tos.rtd\", , \"BID\",\".\"&$AF$4&$AE$4&\"P\"&$AA47))","v":0.03},{"$f":"IF($AA47=\"\",\"\",RTD(\"tos.rtd\", , \"ASK\",\".\"&$AF$4&$AE$4&\"P\"&$AA47))","v":0.04},null,null,null,null,null,null,null,null,null,null,null,null,null,null,null,null,null,null,null,null,null,{"$error":"#REF!"},41,{"$f":"IF($BD47<=0,\"\",VLOOKUP($BD47,#REF!,3))","v":{"$error":"#REF!"}},"",{"$f":"IF($BG47=\"\",\"\",VLOOKUP($BD47,#REF!,5))","v":""},{"$f":"IF($BG47=\"\",\"\",VLOOKUP($BD47,#REF!,9))","v":""},null,null,null,null,122,31.049999999999997,0.05,null,"Hide March, 2008 Options","2008-03-01",null,"SPYFR",27.4,1.5,70,30.9,31.2,954,122,"SPYRR",0.08,-0.02,3,0.05,0.05,2025,null,null,122]
[null,null,null,null,null,null,null,null,null,null,null,null,null,null,null,null,null,null,null,null,{"$f":"IF($W$1=8,R90,IF(OR($W$1=5,$W$1=9),\"\",IF($W$1=2,T48,IF(OR($W$1=4,$W$1=8,$W$1=6),#REF!,IF($W$1=7,O248,X48)))))","v":{"$error":"#REF!"}},null,null,null,null,42,{"$f":"IF($W$1>7,IF($AA$6<>0,$AA$6+$AA$5*(Z48-1),IF(opt!F43=\"\",\"\",opt!F43)),IF(opt!F43=\"\",\"\",opt!F43))","v":120},{"$f":"IF($AA48=\"\",\"\",IF($W$1>7,IF(ISERROR(AVERAGE(AE48:AF48))=TRUE,\"\",AVERAGE(AE48:AF48)),IF($W$1=5,BH48,IF($W$1=4,opt!A43,\"X\"))))","v":47.45},{"$f":"IF($AA48=\"\",\"\",IF($W$1>7,IF(ISERROR(AVERAGE(AG48:AH48))=TRUE,\"\",AVERAGE(AG48:AH48)),IF($W$1=5,BI48,IF($W$1=4,opt!G43,\"X\"))))","v":0.05},0,{"$f":"IF($AA48=\"\",\"\",RTD(\"tos.rtd\", , \"BID\",\".\"&$AF$4&$AE$4&\"C\"&$AA48))","v":47.2},{"$f":"IF($AA48=\"\",\"\",RTD(\"tos.rtd\", , \"ASK\",\".\"&$AF$4&$AE$4&\"C\"&$AA48))","v":47.35},{"$f":"IF($AA48=\"\",\"\",RTD(\"tos.rtd\", , \"BID\",\".\"&$AF$4&$AE$4&\"P\"&$AA48))","v":0.04},{"$f":"IF($AA48=\"\",\"\",RTD(\"tos.rtd\", , \"ASK\",\".\"&$AF$4&$AE$4&\"P\"&$AA48))","v":0.05},null,null,null,null,null,null,null,null,null,null,null,null,null,null,null,null,null,null,null,null,null,{"$error":"#REF!"},42,{"$f":"IF($BD48<=0,\"\",VLOOKUP($BD48,#REF!,3))","v":{"$error":"#REF!"}},"",{"$f":"IF($BG48=\"\",\"\",VLOOKUP($BD48,#REF!,5))","v":""},{"$f":"IF($BG48=\"\",\"\",VLOOKUP($BD48,#REF!,9))","v":""},null,null,null,null,123,30.049999999999997,0.05,null,"Hide March, 2009 Options","2009-03-01",null,"SPYFS",26.4,7.1,20,29.9,30.2,564,123,"SPYRS",0.1,-0.8,150,0.05,0.05,1683,null,null,123]
[null,null,null,null,null,null,null,null,null,null,null,null,null,null,null,null,null,null,null,null,{"$f":"IF($W$1=8,R91,IF(OR($W$1=5,$W$1=9),\"\",IF($W$1=2,T49,IF(OR($W$1=4,$W$1=8,$W$1=6),#REF!,IF($W$1=7,O249,X49)))))","v":{"$error":"#REF!"}},null,"cboe format",null,null,43,{"$f":"IF($W$1>7,IF($AA$6<>0,$AA$6+$AA$5*(Z49-1),IF(opt!F44=\"\",\"\",opt!F44)),IF(opt!F44=\"\",\"\",opt!F44))","v":122.5},{"$f":"IF($AA49=\"\",\"\",IF($W$1>7,IF(ISERROR(AVERAGE(AE49:AF49))=TRUE,\"\",AVERAGE(AE49:AF49)),IF($W$1=5,BH49,IF($W$1=4,opt!A44,\"X\"))))","v":44.37},{"$f":"IF($AA49=\"\",\"\",IF($W$1>7,IF(ISERROR(AVERAGE(AG49:AH49))=TRUE,\"\",AVERAGE(AG49:AH49)),IF($W$1=5,BI49,IF($W$1=4,opt!G44,\"X\"))))","v":7.0000000000000007E-2},0,{"$f":"IF($AA49=\"\",\"\",RTD(\"tos.rtd\", , \"BID\",\".\"&$AF$4&$AE$4&\"C\"&$AA49))","v":44.75},{"$f":"IF($AA49=\"\",\"\",RTD(\"tos.rtd\", , \"ASK\",\".\"&$AF$4&$AE$4&\"C\"&$AA49))","v":44.85},{"$f":"IF($AA49=\"\",\"\",RTD(\"tos.rtd\", , \"BID\",\".\"&$AF$4&$AE$4&\"P\"&$AA49))","v":0.04},{"$f":"IF($AA49=\"\",\"\",RTD(\"tos.rtd\", , \"ASK\",\".\"&$AF$4&$AE$4&\"P\"&$AA49))","v":0.05},null,null,null,null,null,null,null,null,null,null,null,null,null,null,null,null,null,null,null,null,null,{"$error":"#REF!"},43,{"$f":"IF($BD49<=0,\"\",VLOOKUP($BD49,#REF!,3))","v":{"$error":"#REF!"}},"",{"$f":"IF($BG49=\"\",\"\",VLOOKUP($BD49,#REF!,5))","v":""},{"$f":"IF($BG49=\"\",\"\",VLOOKUP($BD49,#REF!,9))","v":""},null,null,null,null,124,29.049999999999997,0.05,null,"Hide March, 2010 Options","2010-03-01",null,"SPYFT",17.7,0.5,1,28.9,29.2,1557,124,"SPYRT",0.05,-0.05,5,0.05,0.05,3720,null,null,124]
[null,null,null,null,null,null,null,null,null,null,null,null,null,null,null,null,null,null,null,null,{"$f":"IF($W$1=8,R92,IF(OR($W$1=5,$W$1=9),\"\",IF($W$1=2,T50,IF(OR($W$1=4,$W$1=8,$W$1=6),#REF!,IF($W$1=7,O250,X50)))))","v":{"$error":"#REF!"}},null,1,"Jan",null,44,{"$f":"IF($W$1>7,IF($AA$6<>0,$AA$6+$AA$5*(Z50-1),IF(opt!F45=\"\",\"\",opt!F45)),IF(opt!F45=\"\",\"\",opt!F45))","v":125},{"$f":"IF($AA50=\"\",\"\",IF($W$1>7,IF(ISERROR(AVERAGE(AE50:AF50))=TRUE,\"\",AVERAGE(AE50:AF50)),IF($W$1=5,BH50,IF($W$1=4,opt!A45,\"X\"))))","v":42.35},{"$f":"IF($AA50=\"\",\"\",IF($W$1>7,IF(ISERROR(AVERAGE(AG50:AH50))=TRUE,\"\",AVERAGE(AG50:AH50)),IF($W$1=5,BI50,IF($W$1=4,opt!G45,\"X\"))))","v":7.0000000000000007E-2},0,{"$f":"IF($AA50=\"\",\"\",RTD(\"tos.rtd\", , \"BID\",\".\"&$AF$4&$AE$4&\"C\"&$AA50))","v":42.25},{"$f":"IF($AA50=\"\",\"\",RTD(\"tos.rtd\", , \"ASK\",\".\"&$AF$4&$AE$4&\"C\"&$AA50))","v":42.35},{"$f":"IF($AA50=\"\",\"\",RTD(\"tos.rtd\", , \"BID\",\".\"&$AF$4&$AE$4&\"P\"&$AA50))","v":0.05},{"$f":"IF($AA50=\"\",\"\",RTD(\"tos.rtd\", , \"ASK\",\".\"&$AF$4&$AE$4&\"P\"&$AA50))","v":0.06},null,null,null,null,null,null,null,null,null,null,null,null,null,null,null,null,null,null,null,null,null,{"$error":"#REF!"},44,{"$f":"IF($BD50<=0,\"\",VLOOKUP($BD50,#REF!,3))","v":{"$error":"#REF!"}},"",{"$f":"IF($BG50=\"\",\"\",VLOOKUP($BD50,#REF!,5))","v":""},{"$f":"IF($BG50=\"\",\"\",VLOOKUP($BD50,#REF!,9))","v":""},null,null,null,null,125,28.049999999999997,0.05,null,"Hide March, 2011 Options","2011-03-01",null,"SPYFU",26.9,6,11,27.9,28.2,1319,125,"SPYRU",0.06,0.01,733,0.05,0.05,11273,null,null,125]
[null,null,null,null,null,null,null,null,null,null,null,null,null,null,null,null,null,null,null,null,{"$f":"IF($W$1=8,R93,IF(OR($W$1=5,$W$1=9),\"\",IF($W$1=2,T51,IF(OR($W$1=4,$W$1=8,$W$1=6),#REF!,IF($W$1=7,O251,X51)))))","v":{"$error":"#REF!"}},null,2,"Feb",null,45,{"$f":"IF($W$1>7,IF($AA$6<>0,$AA$6+$AA$5*(Z51-1),IF(opt!F46=\"\",\"\",opt!F46)),IF(opt!F46=\"\",\"\",opt!F46))","v":130},{"$f":"IF($AA51=\"\",\"\",IF($W$1>7,IF(ISERROR(AVERAGE(AE51:AF51))=TRUE,\"\",AVERAGE(AE51:AF51)),IF($W$1=5,BH51,IF($W$1=4,opt!A46,\"X\"))))","v":38.1},{"$f":"IF($AA51=\"\",\"\",IF($W$1>7,IF(ISERROR(AVERAGE(AG51:AH51))=TRUE,\"\",AVERAGE(AG51:AH51)),IF($W$1=5,BI51,IF($W$1=4,opt!G46,\"X\"))))","v":0.1},0,{"$f":"IF($AA51=\"\",\"\",RTD(\"tos.rtd\", , \"BID\",\".\"&$AF$4&$AE$4&\"C\"&$AA51))","v":37.299999999999997},{"$f":"IF($AA51=\"\",\"\",RTD(\"tos.rtd\", , \"ASK\",\".\"&$AF$4&$AE$4&\"C\"&$AA51))","v":37.4},{"$f":"IF($AA51=\"\",\"\",RTD(\"tos.rtd\", , \"BID\",\".\"&$AF$4&$AE$4&\"P\"&$AA51))","v":0.08},{"$f":"IF($AA51=\"\",\"\",RTD(\"tos.rtd\", , \"ASK\",\".\"&$AF$4&$AE$4&\"P\"&$AA51))","v":0.09},null,null,null,null,null,null,null,null,null,null,null,null,null,null,null,null,null,null,null,null,null,{"$error":"#REF!"},45,{"$f":"IF($BD51<=0,\"\",VLOOKUP($BD51,#REF!,3))","v":{"$error":"#REF!"}},"",{"$f":"IF($BG51=\"\",\"\",VLOOKUP($BD51,#REF!,5))","v":""},{"$f":"IF($BG51=\"\",\"\",VLOOKUP($BD51,#REF!,9))","v":""},null,null,null,null,126,27.049999999999997,7.5000000000000011E-2,null,"Hide May, 2006 Options","2006-05-01",null,"SPYFV",26.8,1.1499999999999999,10,26.9,27.2,853,126,"SPYRV",0.05,-0.05,15,0.05,0.1,7714,null,null,126]
[null,null,null,null,null,null,null,null,null,null,null,null,null,null,null,null,null,null,null,null,{"$f":"IF($W$1=8,R94,IF(OR($W$1=5,$W$1=9),\"\",IF($W$1=2,T52,IF(OR($W$1=4,$W$1=8,$W$1=6),#REF!,IF($W$1=7,O252,X52)))))","v":{"$error":"#REF!"}},null,3,"Mar",null,46,{"$f":"IF($W$1>7,IF($AA$6<>0,$AA$6+$AA$5*(Z52-1),IF(opt!F47=\"\",\"\",opt!F47)),IF(opt!F47=\"\",\"\",opt!F47))","v":135},{"$f":"IF($AA52=\"\",\"\",IF($W$1>7,IF(ISERROR(AVERAGE(AE52:AF52))=TRUE,\"\",AVERAGE(AE52:AF52)),IF($W$1=5,BH52,IF($W$1=4,opt!A47,\"X\"))))","v":32.450000000000003},{"$f":"IF($AA52=\"\",\"\",IF($W$1>7,IF(ISERROR(AVERAGE(AG52:AH52))=TRUE,\"\",AVERAGE(AG52:AH52)),IF($W$1=5,BI52,IF($W$1=4,opt!G47,\"X\"))))","v":0.13},0,{"$f":"IF($AA52=\"\",\"\",RTD(\"tos.rtd\", , \"BID\",\".\"&$AF$4&$AE$4&\"C\"&$AA52))","v":32.35},{"$f":"IF($AA52=\"\",\"\",RTD(\"tos.rtd\", , \"ASK\",\".\"&$AF$4&$AE$4&\"C\"&$AA52))","v":32.450000000000003},{"$f":"IF($AA52=\"\",\"\",RTD(\"tos.rtd\", , \"BID\",\".\"&$AF$4&$AE$4&\"P\"&$AA52))","v":0.12},{"$f":"IF($AA52=\"\",\"\",RTD(\"tos.rtd\", , \"ASK\",\".\"&$AF$4&$AE$4&\"P\"&$AA52))","v":0.13},null,null,null,null,null,null,null,null,null,null,null,null,null,null,null,null,null,null,null,null,null,{"$error":"#REF!"},46,{"$f":"IF($BD52<=0,\"\",VLOOKUP($BD52,#REF!,3))","v":{"$error":"#REF!"}},"",{"$f":"IF($BG52=\"\",\"\",VLOOKUP($BD52,#REF!,5))","v":""},{"$f":"IF($BG52=\"\",\"\",VLOOKUP($BD52,#REF!,9))","v":""},null,null,null,null,127,26.049999999999997,7.5000000000000011E-2,null,"Hide May, 2007 Options","2007-05-01",null,"SPYFW",25.08,0.68,112,25.9,26.2,1736,127,"SPYRW",0.05,-0.05,21,0.05,0.1,13020,null,null,127]
[null,null,null,null,null,null,null,null,null,null,null,null,null,null,null,null,null,null,null,null,null,null,4,"Apr",null,47,{"$f":"IF($W$1>7,IF($AA$6<>0,$AA$6+$AA$5*(Z53-1),IF(opt!F48=\"\",\"\",opt!F48)),IF(opt!F48=\"\",\"\",opt!F48))","v":140},{"$f":"IF($AA53=\"\",\"\",IF($W$1>7,IF(ISERROR(AVERAGE(AE53:AF53))=TRUE,\"\",AVERAGE(AE53:AF53)),IF($W$1=5,BH53,IF($W$1=4,opt!A48,\"X\"))))","v":28},{"$f":"IF($AA53=\"\",\"\",IF($W$1>7,IF(ISERROR(AVERAGE(AG53:AH53))=TRUE,\"\",AVERAGE(AG53:AH53)),IF($W$1=5,BI53,IF($W$1=4,opt!G48,\"X\"))))","v":0.2},0,{"$f":"IF($AA53=\"\",\"\",RTD(\"tos.rtd\", , \"BID\",\".\"&$AF$4&$AE$4&\"C\"&$AA53))","v":27.4},{"$f":"IF($AA53=\"\",\"\",RTD(\"tos.rtd\", , \"ASK\",\".\"&$AF$4&$AE$4&\"C\"&$AA53))","v":27.5},{"$f":"IF($AA53=\"\",\"\",RTD(\"tos.rtd\", , \"BID\",\".\"&$AF$4&$AE$4&\"P\"&$AA53))","v":0.2},{"$f":"IF($AA53=\"\",\"\",RTD(\"tos.rtd\", , \"ASK\",\".\"&$AF$4&$AE$4&\"P\"&$AA53))","v":0.21},null,null,null,null,null,null,null,null,null,null,null,null,null,null,null,null,null,null,null,null,null,{"$error":"#REF!"},47,{"$f":"IF($BD53<=0,\"\",VLOOKUP($BD53,#REF!,3))","v":{"$error":"#REF!"}},"",{"$f":"IF($BG53=\"\",\"\",VLOOKUP($BD53,#REF!,5))","v":""},{"$f":"IF($BG53=\"\",\"\",VLOOKUP($BD53,#REF!,9))","v":""},null,null,null,null,128,25.049999999999997,7.5000000000000011E-2,null,"Hide May, 2008 Options","2008-05-01",null,"SPYFX",22.5,1.1000000000000001,39,24.9,25.2,3351,128,"SPYRX",0.05,-0.05,576,0.05,0.1,3092,null,null,128]
[null,null,null,null,null,null,null,null,null,null,null,null,null,null,null,null,null,null,null,null,null,null,5,"May",null,48,{"$f":"IF($W$1>7,IF($AA$6<>0,$AA$6+$AA$5*(Z54-1),IF(opt!F49=\"\",\"\",opt!F49)),IF(opt!F49=\"\",\"\",opt!F49))","v":145},{"$f":"IF($AA54=\"\",\"\",IF($W$1>7,IF(ISERROR(AVERAGE(AE54:AF54))=TRUE,\"\",AVERAGE(AE54:AF54)),IF($W$1=5,BH54,IF($W$1=4,opt!A49,\"X\"))))","v":22.79},{"$f":"IF($AA54=\"\",\"\",IF($W$1>7,IF(ISERROR(AVERAGE(AG54:AH54))=TRUE,\"\",AVERAGE(AG54:AH54)),IF($W$1=5,BI54,IF($W$1=4,opt!G49,\"X\"))))","v":0.33},0,{"$f":"IF($AA54=\"\",\"\",RTD(\"tos.rtd\", , \"BID\",\".\"&$AF$4&$AE$4&\"C\"&$AA54))","v":22.55},{"$f":"IF($AA54=\"\",\"\",RTD(\"tos.rtd\", , \"ASK\",\".\"&$AF$4&$AE$4&\"C\"&$AA54))","v":22.65},{"$f":"IF($AA54=\"\",\"\",RTD(\"tos.rtd\", , \"BID\",\".\"&$AF$4&$AE$4&\"P\"&$AA54))","v":0.32},{"$f":"IF($AA54=\"\",\"\",RTD(\"tos.rtd\", , \"ASK\",\".\"&$AF$4&$AE$4&\"P\"&$AA54))","v":0.33},null,null,null,null,null,null,null,null,null,null,null,null,null,null,null,null,null,null,null,null,null,{"$error":"#REF!"},48,{"$f":"IF($BD54<=0,\"\",VLOOKUP($BD54,#REF!,3))","v":{"$error":"#REF!"}},"",{"$f":"IF($BG54=\"\",\"\",VLOOKUP($BD54,#REF!,5))","v":""},{"$f":"IF($BG54=\"\",\"\",VLOOKUP($BD54,#REF!,9))","v":""},null,null,null,null,129,24.049999999999997,7.5000000000000011E-2,null,"Hide May, 2009 Options","2009-05-01",null,"SPYFY",22.2,0.75,110,23.9,24.2,1378,129,"SPYRY",0.05,-0.05,137,0.05,0.1,10001,null,null,129]
[null,null,null,null,null,null,null,null,null,null,null,null,null,null,null,null,null,null,null,null,null,null,6,"Jun",null,49,{"$f":"IF($W$1>7,IF($AA$6<>0,$AA$6+$AA$5*(Z55-1),IF(opt!F50=\"\",\"\",opt!F50)),IF(opt!F50=\"\",\"\",opt!F50))","v":150},{"$f":"IF($AA55=\"\",\"\",IF($W$1>7,IF(ISERROR(AVERAGE(AE55:AF55))=TRUE,\"\",AVERAGE(AE55:AF55)),IF($W$1=5,BH55,IF($W$1=4,opt!A50,\"X\"))))","v":18.3},{"$f":"IF($AA55=\"\",\"\",IF($W$1>7,IF(ISERROR(AVERAGE(AG55:AH55))=TRUE,\"\",AVERAGE(AG55:AH55)),IF($W$1=5,BI55,IF($W$1=4,opt!G50,\"X\"))))","v":0.56999999999999995},0,{"$f":"IF($AA55=\"\",\"\",RTD(\"tos.rtd\", , \"BID\",\".\"&$AF$4&$AE$4&\"C\"&$AA55))","v":17.8},{"$f":"IF($AA55=\"\",\"\",RTD(\"tos.rtd\", , \"ASK\",\".\"&$AF$4&$AE$4&\"C\"&$AA55))","v":17.899999999999999},{"$f":"IF($AA55=\"\",\"\",RTD(\"tos.rtd\", , \"BID\",\".\"&$AF$4&$AE$4&\"P\"&$AA55))","v":0.56000000000000005},{"$f":"IF($AA55=\"\",\"\",RTD(\"tos.rtd\", , \"ASK\",\".\"&$AF$4&$AE$4&\"P\"&$AA55))","v":0.56999999999999995},null,null,null,null,null,null,null,null,null,null,null,null,null,null,null,null,null,null,null,null,null,{"$error":"#REF!"},49,{"$f":"IF($BD55<=0,\"\",VLOOKUP($BD55,#REF!,3))","v":{"$error":"#REF!"}},"",{"$f":"IF($BG55=\"\",\"\",VLOOKUP($BD55,#REF!,5))","v":""},{"$f":"IF($BG55=\"\",\"\",VLOOKUP($BD55,#REF!,9))","v":""},null,null,null,null,130,23.049999999999997,7.5000000000000011E-2,null,"Hide May, 2010 Options","2010-05-01",null,"SFBFZ",19.7,4.3,3,22.9,23.2,4410,130,"SFBRZ",0.08,-0.02,6,0.05,0.1,21764,null,null,130]
[null,null,null,null,null,null,null,null,null,null,null,null,null,null,null,null,null,null,null,null,null,null,7,"Jul",null,50,{"$f":"IF($W$1>7,IF($AA$6<>0,$AA$6+$AA$5*(Z56-1),IF(opt!F51=\"\",\"\",opt!F51)),IF(opt!F51=\"\",\"\",opt!F51))","v":152.5},{"$f":"IF($AA56=\"\",\"\",IF($W$1>7,IF(ISERROR(AVERAGE(AE56:AF56))=TRUE,\"\",AVERAGE(AE56:AF56)),IF($W$1=5,BH56,IF($W$1=4,opt!A51,\"X\"))))","v":15.8},{"$f":"IF($AA56=\"\",\"\",IF($W$1>7,IF(ISERROR(AVERAGE(AG56:AH56))=TRUE,\"\",AVERAGE(AG56:AH56)),IF($W$1=5,BI56,IF($W$1=4,opt!G51,\"X\"))))","v":0.8},0,{"$f":"IF($AA56=\"\",\"\",RTD(\"tos.rtd\", , \"BID\",\".\"&$AF$4&$AE$4&\"C\"&$AA56))","v":15.5},{"$f":"IF($AA56=\"\",\"\",RTD(\"tos.rtd\", , \"ASK\",\".\"&$AF$4&$AE$4&\"C\"&$AA56))","v":15.6},{"$f":"IF($AA56=\"\",\"\",RTD(\"tos.rtd\", , \"BID\",\".\"&$AF$4&$AE$4&\"P\"&$AA56))","v":0.75},{"$f":"IF($AA56=\"\",\"\",RTD(\"tos.rtd\", , \"ASK\",\".\"&$AF$4&$AE$4&\"P\"&$AA56))","v":0.76},null,null,null,null,null,null,null,null,null,null,null,null,null,null,null,null,null,null,null,null,null,{"$f":"MATCH(Z1,#REF!,1)","v":{"$error":"#REF!"}},50,{"$f":"IF($BD56<=0,\"\",VLOOKUP($BD56,#REF!,3))","v":{"$error":"#REF!"}},"",{"$f":"IF($BG56=\"\",\"\",VLOOKUP($BD56,#REF!,5))","v":""},{"$f":"IF($BG56=\"\",\"\",VLOOKUP($BD56,#REF!,9))","v":""},null,null,null,null,131,22.1,7.5000000000000011E-2,null,"Hide May, 2011 Options","2011-05-01",null,"SFBFA",20.95,0.75,2,22,22.2,2026,131,"SFBRA",0.1,-0.15,2,0.05,0.1,34470,null,null,131]
[null,null,null,null,null,null,null,null,null,null,null,null,null,null,null,null,null,null,null,null,null,null,8,"Aug",null,51,{"$f":"IF($W$1>7,IF($AA$6<>0,$AA$6+$AA$5*(Z57-1),IF(opt!F52=\"\",\"\",opt!F52)),IF(opt!F52=\"\",\"\",opt!F52))","v":155},{"$f":"IF($AA57=\"\",\"\",IF($W$1>7,IF(ISERROR(AVERAGE(AE57:AF57))=TRUE,\"\",AVERAGE(AE57:AF57)),IF($W$1=5,BH57,IF($W$1=4,opt!A52,\"X\"))))","v":13.49},{"$f":"IF($AA57=\"\",\"\",IF($W$1>7,IF(ISERROR(AVERAGE(AG57:AH57))=TRUE,\"\",AVERAGE(AG57:AH57)),IF($W$1=5,BI57,IF($W$1=4,opt!G52,\"X\"))))","v":1.01},0,{"$f":"IF($AA57=\"\",\"\",RTD(\"tos.rtd\", , \"BID\",\".\"&$AF$4&$AE$4&\"C\"&$AA57))","v":13.25},{"$f":"IF($AA57=\"\",\"\",RTD(\"tos.rtd\", , \"ASK\",\".\"&$AF$4&$AE$4&\"C\"&$AA57))","v":13.35},{"$f":"IF($AA57=\"\",\"\",RTD(\"tos.rtd\", , \"BID\",\".\"&$AF$4&$AE$4&\"P\"&$AA57))","v":1.02},{"$f":"IF($AA57=\"\",\"\",RTD(\"tos.rtd\", , \"ASK\",\".\"&$AF$4&$AE$4&\"P\"&$AA57))","v":1.03},null,null,null,null,null,null,null,null,null,null,null,null,null,null,null,null,null,null,null,null,null,{"$f":"BD56+1","v":{"$error":"#REF!"}},51,{"$f":"IF($BD57<=0,\"\",VLOOKUP($BD57,#REF!,3))","v":{"$error":"#REF!"}},"",{"$f":"IF($BG57=\"\",\"\",VLOOKUP($BD57,#REF!,5))","v":""},{"$f":"IF($BG57=\"\",\"\",VLOOKUP($BD57,#REF!,9))","v":""},null,null,null,null,132,21.1,7.5000000000000011E-2,null,"Hide November, 2006 Options","2006-11-01",null,"SFBFB",20.02,2.92,307,21,21.2,3102,132,"SFBRB",0.1,-0.06,10,0.05,0.1,11964,null,null,132]
[null,null,null,null,null,null,null,null,null,null,null,null,null,null,null,null,null,null,null,null,null,null,9,"Sep",null,52,{"$f":"IF($W$1>7,IF($AA$6<>0,$AA$6+$AA$5*(Z58-1),IF(opt!F53=\"\",\"\",opt!F53)),IF(opt!F53=\"\",\"\",opt!F53))","v":157.5},{"$f":"IF($AA58=\"\",\"\",IF($W$1>7,IF(ISERROR(AVERAGE(AE58:AF58))=TRUE,\"\",AVERAGE(AE58:AF58)),IF($W$1=5,BH58,IF($W$1=4,opt!A53,\"X\"))))","v":11.45},{"$f":"IF($AA58=\"\",\"\",IF($W$1>7,IF(ISERROR(AVERAGE(AG58:AH58))=TRUE,\"\",AVERAGE(AG58:AH58)),IF($W$1=5,BI58,IF($W$1=4,opt!G53,\"X\"))))","v":1.36},0,{"$f":"IF($AA58=\"\",\"\",RTD(\"tos.rtd\", , \"BID\",\".\"&$AF$4&$AE$4&\"C\"&$AA58))","v":11.15},{"$f":"IF($AA58=\"\",\"\",RTD(\"tos.rtd\", , \"ASK\",\".\"&$AF$4&$AE$4&\"C\"&$AA58))","v":11.25},{"$f":"IF($AA58=\"\",\"\",RTD(\"tos.rtd\", , \"BID\",\".\"&$AF$4&$AE$4&\"P\"&$AA58))","v":1.39},{"$f":"IF($AA58=\"\",\"\",RTD(\"tos.rtd\", , \"ASK\",\".\"&$AF$4&$AE$4&\"P\"&$AA58))","v":1.41},null,null,null,null,null,null,null,null,null,null,null,null,null,null,null,null,null,null,null,null,null,{"$f":"BD57+1","v":{"$error":"#REF!"}},52,{"$f":"IF($BD58<=0,\"\",VLOOKUP($BD58,#REF!,3))","v":{"$error":"#REF!"}},"",{"$f":"IF($BG58=\"\",\"\",VLOOKUP($BD58,#REF!,5))","v":""},{"$f":"IF($BG58=\"\",\"\",VLOOKUP($BD58,#REF!,9))","v":""},null,null,null,null,133,20.149999999999999,7.5000000000000011E-2,null,"Hide November, 2007 Options","2007-11-01",null,"SFBFC",19.600000000000001,0.1,200,20,20.3,2010,133,"SFBRC",0.1,-0.05,470,0.05,0.1,15663,null,null,133]
[null,null,null,null,null,null,null,null,null,null,null,null,null,null,null,null,null,null,null,null,null,null,10,"Oct",null,53,{"$f":"IF($W$1>7,IF($AA$6<>0,$AA$6+$AA$5*(Z59-1),IF(opt!F54=\"\",\"\",opt!F54)),IF(opt!F54=\"\",\"\",opt!F54))","v":160},{"$f":"IF($AA59=\"\",\"\",IF($W$1>7,IF(ISERROR(AVERAGE(AE59:AF59))=TRUE,\"\",AVERAGE(AE59:AF59)),IF($W$1=5,BH59,IF($W$1=4,opt!A54,\"X\"))))","v":9.75},{"$f":"IF($AA59=\"\",\"\",IF($W$1>7,IF(ISERROR(AVERAGE(AG59:AH59))=TRUE,\"\",AVERAGE(AG59:AH59)),IF($W$1=5,BI59,IF($W$1=4,opt!G54,\"X\"))))","v":1.85},0,{"$f":"IF($AA59=\"\",\"\",RTD(\"tos.rtd\", , \"BID\",\".\"&$AF$4&$AE$4&\"C\"&$AA59))","v":9.15},{"$f":"IF($AA59=\"\",\"\",RTD(\"tos.rtd\", , \"ASK\",\".\"&$AF$4&$AE$4&\"C\"&$AA59))","v":9.25},{"$f":"IF($AA59=\"\",\"\",RTD(\"tos.rtd\", , \"BID\",\".\"&$AF$4&$AE$4&\"P\"&$AA59))","v":1.89},{"$f":"IF($AA59=\"\",\"\",RTD(\"tos.rtd\", , \"ASK\",\".\"&$AF$4&$AE$4&\"P\"&$AA59))","v":1.9},null,null,null,null,null,null,null,null,null,null,null,null,null,null,null,null,null,null,null,null,null,{"$error":"#REF!"},53,{"$f":"IF($BD59<=0,\"\",VLOOKUP($BD59,#REF!,3))","v":{"$error":"#REF!"}},"",{"$f":"IF($BG59=\"\",\"\",VLOOKUP($BD59,#REF!,5))","v":""},{"$f":"IF($BG59=\"\",\"\",VLOOKUP($BD59,#REF!,9))","v":""},null,null,null,null,134,19.149999999999999,0.1,null,"Hide November, 2008 Options","2008-11-01",null,"SFBFD",18.600000000000001,1.1100000000000001,150,19,19.3,988,134,"SFBRD",0.1,-0.05,1531,0.05,0.15,21651,null,null,134]
[null,null,null,null,null,null,null,null,null,null,null,null,null,null,null,null,null,null,null,null,null,null,11,"Nov",null,54,{"$f":"IF($W$1>7,IF($AA$6<>0,$AA$6+$AA$5*(Z60-1),IF(opt!F55=\"\",\"\",opt!F55)),IF(opt!F55=\"\",\"\",opt!F55))","v":162.5},{"$f":"IF($AA60=\"\",\"\",IF($W$1>7,IF(ISERROR(AVERAGE(AE60:AF60))=TRUE,\"\",AVERAGE(AE60:AF60)),IF($W$1=5,BH60,IF($W$1=4,opt!A55,\"X\"))))","v":7.9},{"$f":"IF($AA60=\"\",\"\",IF($W$1>7,IF(ISERROR(AVERAGE(AG60:AH60))=TRUE,\"\",AVERAGE(AG60:AH60)),IF($W$1=5,BI60,IF($W$1=4,opt!G55,\"X\"))))","v":2.4500000000000002},0,{"$f":"IF($AA60=\"\",\"\",RTD(\"tos.rtd\", , \"BID\",\".\"&$AF$4&$AE$4&\"C\"&$AA60))","v":7.3},{"$f":"IF($AA60=\"\",\"\",RTD(\"tos.rtd\", , \"ASK\",\".\"&$AF$4&$AE$4&\"C\"&$AA60))","v":7.4},{"$f":"IF($AA60=\"\",\"\",RTD(\"tos.rtd\", , \"BID\",\".\"&$AF$4&$AE$4&\"P\"&$AA60))","v":2.5299999999999998},{"$f":"IF($AA60=\"\",\"\",RTD(\"tos.rtd\", , \"ASK\",\".\"&$AF$4&$AE$4&\"P\"&$AA60))","v":2.5499999999999998},null,null,null,null,null,null,null,null,null,null,null,null,null,null,null,null,null,null,null,null,null,{"$error":"#REF!"},54,{"$f":"IF($BD60<=0,\"\",VLOOKUP($BD60,#REF!,3))","v":{"$error":"#REF!"}},"",{"$f":"IF($BG60=\"\",\"\",VLOOKUP($BD60,#REF!,5))","v":""},{"$f":"IF($BG60=\"\",\"\",VLOOKUP($BD60,#REF!,9))","v":""},null,null,null,null,135,18.149999999999999,0.125,null,"Hide November, 2009 Options","2009-11-01",null,"SFBFE",17.8,0.52,422,18,18.3,2151,135,"SFBRE",0.15,null,988,0.1,0.15,67162,null,null,135]
[null,null,null,null,null,null,null,null,null,null,null,null,null,null,null,null,null,null,null,null,null,null,12,"Dec",null,55,{"$f":"IF($W$1>7,IF($AA$6<>0,$AA$6+$AA$5*(Z61-1),IF(opt!F56=\"\",\"\",opt!F56)),IF(opt!F56=\"\",\"\",opt!F56))","v":165},{"$f":"IF($AA61=\"\",\"\",IF($W$1>7,IF(ISERROR(AVERAGE(AE61:AF61))=TRUE,\"\",AVERAGE(AE61:AF61)),IF($W$1=5,BH61,IF($W$1=4,opt!A56,\"X\"))))","v":6.13},{"$f":"IF($AA61=\"\",\"\",IF($W$1>7,IF(ISERROR(AVERAGE(AG61:AH61))=TRUE,\"\",AVERAGE(AG61:AH61)),IF($W$1=5,BI61,IF($W$1=4,opt!G56,\"X\"))))","v":3.26},0,{"$f":"IF($AA61=\"\",\"\",RTD(\"tos.rtd\", , \"BID\",\".\"&$AF$4&$AE$4&\"C\"&$AA61))","v":5.65},{"$f":"IF($AA61=\"\",\"\",RTD(\"tos.rtd\", , \"ASK\",\".\"&$AF$4&$AE$4&\"C\"&$AA61))","v":5.7},{"$f":"IF($AA61=\"\",\"\",RTD(\"tos.rtd\", , \"BID\",\".\"&$AF$4&$AE$4&\"P\"&$AA61))","v":3.35},{"$f":"IF($AA61=\"\",\"\",RTD(\"tos.rtd\", , \"ASK\",\".\"&$AF$4&$AE$4&\"P\"&$AA61))","v":3.4},null,null,null,null,null,null,null,null,null,null,null,null,null,null,null,null,null,null,null,null,null,{"$error":"#REF!"},55,{"$f":"IF($BD61<=0,\"\",VLOOKUP($BD61,#REF!,3))","v":{"$error":"#REF!"}},"",{"$f":"IF($BG61=\"\",\"\",VLOOKUP($BD61,#REF!,5))","v":""},{"$f":"IF($BG61=\"\",\"\",VLOOKUP($BD61,#REF!,9))","v":""},null,null,null,null,136,17.149999999999999,0.125,null,"Hide November, 2010 Options","2010-11-01",null,"SFBFF",15.63,-7.0000000000000007E-2,65,17,17.3,6909,136,"SFBRF",0.1,-0.1,76,0.1,0.15,58219,null,null,136]
[null,null,null,null,null,null,null,null,null,null,null,null,null,null,null,null,null,null,null,null,null,null,null,"fri","wed",56,{"$f":"IF($W$1>7,IF($AA$6<>0,$AA$6+$AA$5*(Z62-1),IF(opt!F57=\"\",\"\",opt!F57)),IF(opt!F57=\"\",\"\",opt!F57))","v":167.5},{"$f":"IF($AA62=\"\",\"\",IF($W$1>7,IF(ISERROR(AVERAGE(AE62:AF62))=TRUE,\"\",AVERAGE(AE62:AF62)),IF($W$1=5,BH62,IF($W$1=4,opt!A57,\"X\"))))","v":4.5999999999999996},{"$f":"IF($AA62=\"\",\"\",IF($W$1>7,IF(ISERROR(AVERAGE(AG62:AH62))=TRUE,\"\",AVERAGE(AG62:AH62)),IF($W$1=5,BI62,IF($W$1=4,opt!G57,\"X\"))))","v":4.25},0,{"$f":"IF($AA62=\"\",\"\",RTD(\"tos.rtd\", , \"BID\",\".\"&$AF$4&$AE$4&\"C\"&$AA62))","v":4.1500000000000004},{"$f":"IF($AA62=\"\",\"\",RTD(\"tos.rtd\", , \"ASK\",\".\"&$AF$4&$AE$4&\"C\"&$AA62))","v":4.2},{"$f":"IF($AA62=\"\",\"\",RTD(\"tos.rtd\", , \"BID\",\".\"&$AF$4&$AE$4&\"P\"&$AA62))","v":4.3499999999999996},{"$f":"IF($AA62=\"\",\"\",RTD(\"tos.rtd\", , \"ASK\",\".\"&$AF$4&$AE$4&\"P\"&$AA62))","v":4.4000000000000004},null,null,null,null,null,null,null,null,null,null,null,null,null,null,null,null,null,null,null,null,null,{"$error":"#REF!"},56,{"$f":"IF($BD62<=0,\"\",VLOOKUP($BD62,#REF!,3))","v":{"$error":"#REF!"}},"",{"$f":"IF($BG62=\"\",\"\",VLOOKUP($BD62,#REF!,5))","v":""},{"$f":"IF($BG62=\"\",\"\",VLOOKUP($BD62,#REF!,9))","v":""},null,null,null,null,137,16.149999999999999,0.125,null,"Hide November, 2011 Options","2011-11-01",null,"SFBFG",15.9,0.71,1,16,16.3,3046,137,"SFBRG",0.12,-0.06,975,0.1,0.15,75049,null,null,137]
[null,null,null,null,null,null,null,null,null,null,null,null,null,null,null,null,null,null,null,"now","2017-05-25",{"$f":"WEEKDAY(U63)","v":5},null,{"$f":"U63+7-WEEKDAY(U63+1)","v":"2017-05-26"},{"$f":"U63+7-WEEKDAY(U63+3)","v":"2017-05-31"},57,{"$f":"IF($W$1>7,IF($AA$6<>0,$AA$6+$AA$5*(Z63-1),IF(opt!F58=\"\",\"\",opt!F58)),IF(opt!F58=\"\",\"\",opt!F58))","v":170},{"$f":"IF($AA63=\"\",\"\",IF($W$1>7,IF(ISERROR(AVERAGE(AE63:AF63))=TRUE,\"\",AVERAGE(AE63:AF63)),IF($W$1=5,BH63,IF($W$1=4,opt!A58,\"X\"))))","v":3.3},{"$f":"IF($AA63=\"\",\"\",IF($W$1>7,IF(ISERROR(AVERAGE(AG63:AH63))=TRUE,\"\",AVERAGE(AG63:AH63)),IF($W$1=5,BI63,IF($W$1=4,opt!G58,\"X\"))))","v":5.45},0,{"$f":"IF($AA63=\"\",\"\",RTD(\"tos.rtd\", , \"BID\",\".\"&$AF$4&$AE$4&\"C\"&$AA63))","v":2.93},{"$f":"IF($AA63=\"\",\"\",RTD(\"tos.rtd\", , \"ASK\",\".\"&$AF$4&$AE$4&\"C\"&$AA63))","v":2.95},{"$f":"IF($AA63=\"\",\"\",RTD(\"tos.rtd\", , \"BID\",\".\"&$AF$4&$AE$4&\"P\"&$AA63))","v":5.6},{"$f":"IF($AA63=\"\",\"\",RTD(\"tos.rtd\", , \"ASK\",\".\"&$AF$4&$AE$4&\"P\"&$AA63))","v":5.65},null,null,null,null,null,null,null,null,null,null,null,null,null,null,null,null,null,null,null,null,null,{"$error":"#REF!"},57,{"$f":"IF($BD63<=0,\"\",VLOOKUP($BD63,#REF!,3))","v":{"$error":"#REF!"}},"",{"$f":"IF($BG63=\"\",\"\",VLOOKUP($BD63,#REF!,5))","v":""},{"$f":"IF($BG63=\"\",\"\",VLOOKUP($BD63,#REF!,9))","v":""},null,null,null,null,138,15.2,0.15000000000000002,null,"Hide October, 2006 Options","2006-10-01",null,"SFBFH",14.8,0.66,15,15.1,15.3,20079,138,"SFBRH",0.17,-0.08,3306,0.1,0.2,81784,null,null,138]
[null,null,null,null,null,null,null,null,null,null,null,null,null,{"$f":"VLOOKUP(X22,L66:T75,IF(Z2=\"GC\",5,IF(Z2=\"ES\",8,3)))","v":0},{"$f":"VLOOKUP(X22,L66:T75,IF(Z2=\"GC\",6,IF(Z2=\"ES\",9,4)))","v":43460},null,null,null,null,null,null,null,null,null,null,58,{"$f":"IF($W$1>7,IF($AA$6<>0,$AA$6+$AA$5*(Z64-1),IF(opt!F59=\"\",\"\",opt!F59)),IF(opt!F59=\"\",\"\",opt!F59))","v":172.5},{"$f":"IF($AA64=\"\",\"\",IF($W$1>7,IF(ISERROR(AVERAGE(AE64:AF64))=TRUE,\"\",AVERAGE(AE64:AF64)),IF($W$1=5,BH64,IF($W$1=4,opt!A59,\"X\"))))","v":2.21},{"$f":"IF($AA64=\"\",\"\",IF($W$1>7,IF(ISERROR(AVERAGE(AG64:AH64))=TRUE,\"\",AVERAGE(AG64:AH64)),IF($W$1=5,BI64,IF($W$1=4,opt!G59,\"X\"))))","v":6.85},0,{"$f":"IF($AA64=\"\",\"\",RTD(\"tos.rtd\", , \"BID\",\".\"&$AF$4&$AE$4&\"C\"&$AA64))","v":1.93},{"$f":"IF($AA64=\"\",\"\",RTD(\"tos.rtd\", , \"ASK\",\".\"&$AF$4&$AE$4&\"C\"&$AA64))","v":1.95},{"$f":"IF($AA64=\"\",\"\",RTD(\"tos.rtd\", , \"BID\",\".\"&$AF$4&$AE$4&\"P\"&$AA64))","v":7.1},{"$f":"IF($AA64=\"\",\"\",RTD(\"tos.rtd\", , \"ASK\",\".\"&$AF$4&$AE$4&\"P\"&$AA64))","v":7.2},null,null,null,null,null,null,null,null,null,null,null,null,null,null,null,null,null,null,null,null,null,{"$error":"#REF!"},58,{"$f":"IF($BD64<=0,\"\",VLOOKUP($BD64,#REF!,3))","v":{"$error":"#REF!"}},"",{"$f":"IF($BG64=\"\",\"\",VLOOKUP($BD64,#REF!,5))","v":""},{"$f":"IF($BG64=\"\",\"\",VLOOKUP($BD64,#REF!,9))","v":""},null,null,null,null,139,14.25,0.17499999999999999,null,"Hide October, 2007 Options","2007-10-01",null,"SFBFI",13.9,0.78,15,14.1,14.4,32997,139,"SFBRI",0.2,-0.05,6,0.15,0.2,63254,null,null,139]
[null,null,null,null,null,null,null,null,null,null,null,null,"IB","cl","cl opt","gc","gc opt",{"$f":"NOW()+7-WEEKDAY(NOW()+3)","v":"2022-08-31T09:32:01.130"},"ES","ES OPT",{"$f":"NOW()","v":"2022-08-28T09:32:01.130"},{"$f":"WEEKDAY(U65)","v":1},{"$f":"WEEKDAY(NOW())+4","v":5},{"$f":"WEEKDAY(NOW())","v":"1900-01-01"},null,59,{"$f":"IF($W$1>7,IF($AA$6<>0,$AA$6+$AA$5*(Z65-1),IF(opt!F60=\"\",\"\",opt!F60)),IF(opt!F60=\"\",\"\",opt!F60))","v":175},{"$f":"IF($AA65=\"\",\"\",IF($W$1>7,IF(ISERROR(AVERAGE(AE65:AF65))=TRUE,\"\",AVERAGE(AE65:AF65)),IF($W$1=5,BH65,IF($W$1=4,opt!A60,\"X\"))))","v":1.4},{"$f":"IF($AA65=\"\",\"\",IF($W$1>7,IF(ISERROR(AVERAGE(AG65:AH65))=TRUE,\"\",AVERAGE(AG65:AH65)),IF($W$1=5,BI65,IF($W$1=4,opt!G60,\"X\"))))","v":8.6},0,{"$f":"IF($AA65=\"\",\"\",RTD(\"tos.rtd\", , \"BID\",\".\"&$AF$4&$AE$4&\"C\"&$AA65))","v":1.19},{"$f":"IF($AA65=\"\",\"\",RTD(\"tos.rtd\", , \"ASK\",\".\"&$AF$4&$AE$4&\"C\"&$AA65))","v":1.21},{"$f":"IF($AA65=\"\",\"\",RTD(\"tos.rtd\", , \"BID\",\".\"&$AF$4&$AE$4&\"P\"&$AA65))","v":8.9},{"$f":"IF($AA65=\"\",\"\",RTD(\"tos.rtd\", , \"ASK\",\".\"&$AF$4&$AE$4&\"P\"&$AA65))","v":8.9499999999999993},null,null,null,null,null,null,null,null,null,null,null,null,null,null,null,null,null,null,null,null,null,{"$error":"#REF!"},59,{"$f":"IF($BD65<=0,\"\",VLOOKUP($BD65,#REF!,3))","v":{"$error":"#REF!"}},"",{"$f":"IF($BG65=\"\",\"\",VLOOKUP($BD65,#REF!,5))","v":""},{"$f":"IF($BG65=\"\",\"\",VLOOKUP($BD65,#REF!,9))","v":""},null,null,null,null,140,13.2,0.2,null,"Hide October, 2008 Options","2008-10-01",null,"SFBFJ",13,0.65,136,13.1,13.3,11961,140,"SFBRJ",0.2,-0.05,298,0.15,0.25,57429,null,null,140]
[null,null,null,null,null,null,null,null,null,null,null,1,4,"2018-03-20","2018-03-16","2018-05-18","2018-04-25",{"$f":"NOW()+7-WEEKDAY(NOW()+1)","v":"2022-09-02T09:32:01.130"},"2018-06-15","2018-06-15",{"$f":"U65+1","v":"2022-08-29T09:32:01.130"},{"$f":"WEEKDAY(U66)","v":2},null,null,null,60,{"$f":"IF($W$1>7,IF($AA$6<>0,$AA$6+$AA$5*(Z66-1),IF(opt!F61=\"\",\"\",opt!F61)),IF(opt!F61=\"\",\"\",opt!F61))","v":177.5},{"$f":"IF($AA66=\"\",\"\",IF($W$1>7,IF(ISERROR(AVERAGE(AE66:AF66))=TRUE,\"\",AVERAGE(AE66:AF66)),IF($W$1=5,BH66,IF($W$1=4,opt!A61,\"X\"))))","v":0.84},{"$f":"IF($AA66=\"\",\"\",IF($W$1>7,IF(ISERROR(AVERAGE(AG66:AH66))=TRUE,\"\",AVERAGE(AG66:AH66)),IF($W$1=5,BI66,IF($W$1=4,opt!G61,\"X\"))))","v":11},0,{"$f":"IF($AA66=\"\",\"\",RTD(\"tos.rtd\", , \"BID\",\".\"&$AF$4&$AE$4&\"C\"&$AA66))","v":0.7},{"$f":"IF($AA66=\"\",\"\",RTD(\"tos.rtd\", , \"ASK\",\".\"&$AF$4&$AE$4&\"C\"&$AA66))","v":0.72},{"$f":"IF($AA66=\"\",\"\",RTD(\"tos.rtd\", , \"BID\",\".\"&$AF$4&$AE$4&\"P\"&$AA66))","v":10.9},{"$f":"IF($AA66=\"\",\"\",RTD(\"tos.rtd\", , \"ASK\",\".\"&$AF$4&$AE$4&\"P\"&$AA66))","v":11},null,null,null,null,null,null,null,null,null,null,null,null,null,null,null,null,null,null,null,null,null,{"$error":"#REF!"},60,{"$f":"IF($BD66<=0,\"\",VLOOKUP($BD66,#REF!,3))","v":{"$error":"#REF!"}},"",{"$f":"IF($BG66=\"\",\"\",VLOOKUP($BD66,#REF!,5))","v":""},{"$f":"IF($BG66=\"\",\"\",VLOOKUP($BD66,#REF!,9))","v":""},null,null,null,null,141,12.25,0.22500000000000001,null,"Hide October, 2009 Options","2009-10-01",null,"SFBFK",12,0.7,183,12.1,12.4,9692,141,"SFBRK",0.24,-0.08,531,0.2,0.25,30309,null,null,141]
[null,null,null,null,null,null,null,null,null,null,null,2,5,"2018-04-20","2018-04-17","2018-06-27","2018-05-24",{"$f":"R65+7","v":"2022-09-07T09:32:01.130"},"2018-09-21","2018-09-21",{"$f":"U66+1","v":"2022-08-30T09:32:01.130"},3,null,null,null,61,{"$f":"IF($W$1>7,IF($AA$6<>0,$AA$6+$AA$5*(Z67-1),IF(opt!F62=\"\",\"\",opt!F62)),IF(opt!F62=\"\",\"\",opt!F62))","v":180},{"$f":"IF($AA67=\"\",\"\",IF($W$1>7,IF(ISERROR(AVERAGE(AE67:AF67))=TRUE,\"\",AVERAGE(AE67:AF67)),IF($W$1=5,BH67,IF($W$1=4,opt!A62,\"X\"))))","v":0.49},{"$f":"IF($AA67=\"\",\"\",IF($W$1>7,IF(ISERROR(AVERAGE(AG67:AH67))=TRUE,\"\",AVERAGE(AG67:AH67)),IF($W$1=5,BI67,IF($W$1=4,opt!G62,\"X\"))))","v":13.05},0,{"$f":"IF($AA67=\"\",\"\",RTD(\"tos.rtd\", , \"BID\",\".\"&$AF$4&$AE$4&\"C\"&$AA67))","v":0.4},{"$f":"IF($AA67=\"\",\"\",RTD(\"tos.rtd\", , \"ASK\",\".\"&$AF$4&$AE$4&\"C\"&$AA67))","v":0.41},{"$f":"IF($AA67=\"\",\"\",RTD(\"tos.rtd\", , \"BID\",\".\"&$AF$4&$AE$4&\"P\"&$AA67))","v":13.1},{"$f":"IF($AA67=\"\",\"\",RTD(\"tos.rtd\", , \"ASK\",\".\"&$AF$4&$AE$4&\"P\"&$AA67))","v":13.2},null,null,null,null,null,null,null,null,null,null,null,null,null,null,null,null,null,null,null,null,null,{"$error":"#REF!"},61,{"$f":"IF($BD67<=0,\"\",VLOOKUP($BD67,#REF!,3))","v":{"$error":"#REF!"}},"",{"$f":"IF($BG67=\"\",\"\",VLOOKUP($BD67,#REF!,5))","v":""},{"$f":"IF($BG67=\"\",\"\",VLOOKUP($BD67,#REF!,9))","v":""},null,null,null,null,142,11.3,0.27500000000000002,null,"Hide October, 2010 Options","2010-10-01",null,"SFBFL",10.85,0.45,18,11.2,11.4,10634,142,"SFBRL",0.25,-0.1,3056,0.25,0.3,74787,null,null,142]
[null,null,null,null,null,null,null,null,null,null,null,3,6,"2018-05-22","2018-05-17","2018-08-29","2018-07-26",{"$f":"R66+7","v":"2022-09-09T09:32:01.130"},"2018-12-21","2018-12-21","2022-08-31T09:32:01.130",4,null,null,null,62,{"$f":"IF($W$1>7,IF($AA$6<>0,$AA$6+$AA$5*(Z68-1),IF(opt!F63=\"\",\"\",opt!F63)),IF(opt!F63=\"\",\"\",opt!F63))","v":182.5},{"$f":"IF($AA68=\"\",\"\",IF($W$1>7,IF(ISERROR(AVERAGE(AE68:AF68))=TRUE,\"\",AVERAGE(AE68:AF68)),IF($W$1=5,BH68,IF($W$1=4,opt!A63,\"X\"))))","v":0.28000000000000003},{"$f":"IF($AA68=\"\",\"\",IF($W$1>7,IF(ISERROR(AVERAGE(AG68:AH68))=TRUE,\"\",AVERAGE(AG68:AH68)),IF($W$1=5,BI68,IF($W$1=4,opt!G63,\"X\"))))","v":15.05},0,{"$f":"IF($AA68=\"\",\"\",RTD(\"tos.rtd\", , \"BID\",\".\"&$AF$4&$AE$4&\"C\"&$AA68))","v":0.23},{"$f":"IF($AA68=\"\",\"\",RTD(\"tos.rtd\", , \"ASK\",\".\"&$AF$4&$AE$4&\"C\"&$AA68))","v":0.24},{"$f":"IF($AA68=\"\",\"\",RTD(\"tos.rtd\", , \"BID\",\".\"&$AF$4&$AE$4&\"P\"&$AA68))","v":15.5},{"$f":"IF($AA68=\"\",\"\",RTD(\"tos.rtd\", , \"ASK\",\".\"&$AF$4&$AE$4&\"P\"&$AA68))","v":15.55},null,null,null,null,null,null,null,null,null,null,null,null,null,null,null,null,null,null,null,null,null,{"$error":"#REF!"},62,{"$f":"IF($BD68<=0,\"\",VLOOKUP($BD68,#REF!,3))","v":{"$error":"#REF!"}},"",{"$f":"IF($BG68=\"\",\"\",VLOOKUP($BD68,#REF!,5))","v":""},{"$f":"IF($BG68=\"\",\"\",VLOOKUP($BD68,#REF!,9))","v":""},null,null,null,null,143,10.3,0.27500000000000002,null,"Hide October, 2011 Options","2011-10-01",null,"SFBFM",10.199999999999999,0.68,283,10.199999999999999,10.4,19832,143,"SFBRM",0.25,-0.15,3275,0.25,0.3,66370,null,null,143]
[null,null,null,null,null,null,null,null,null,null,null,4,7,"2018-06-20","2018-06-15","2018-10-29","2018-09-25",{"$f":"R67+7","v":"2022-09-14T09:32:01.130"},null,null,"2022-09-01T09:32:01.130",5,null,null,null,63,{"$f":"IF($W$1>7,IF($AA$6<>0,$AA$6+$AA$5*(Z69-1),IF(opt!F64=\"\",\"\",opt!F64)),IF(opt!F64=\"\",\"\",opt!F64))","v":185},{"$f":"IF($AA69=\"\",\"\",IF($W$1>7,IF(ISERROR(AVERAGE(AE69:AF69))=TRUE,\"\",AVERAGE(AE69:AF69)),IF($W$1=5,BH69,IF($W$1=4,opt!A64,\"X\"))))","v":0.15},{"$f":"IF($AA69=\"\",\"\",IF($W$1>7,IF(ISERROR(AVERAGE(AG69:AH69))=TRUE,\"\",AVERAGE(AG69:AH69)),IF($W$1=5,BI69,IF($W$1=4,opt!G64,\"X\"))))","v":17.45},0,{"$f":"IF($AA69=\"\",\"\",RTD(\"tos.rtd\", , \"BID\",\".\"&$AF$4&$AE$4&\"C\"&$AA69))","v":0.14000000000000001},{"$f":"IF($AA69=\"\",\"\",RTD(\"tos.rtd\", , \"ASK\",\".\"&$AF$4&$AE$4&\"C\"&$AA69))","v":0.15},{"$f":"IF($AA69=\"\",\"\",RTD(\"tos.rtd\", , \"BID\",\".\"&$AF$4&$AE$4&\"P\"&$AA69))","v":17.899999999999999},{"$f":"IF($AA69=\"\",\"\",RTD(\"tos.rtd\", , \"ASK\",\".\"&$AF$4&$AE$4&\"P\"&$AA69))","v":18},null,null,null,null,null,null,null,null,null,null,null,null,null,null,null,null,null,null,null,null,null,{"$error":"#REF!"},63,{"$f":"IF($BD69<=0,\"\",VLOOKUP($BD69,#REF!,3))","v":{"$error":"#REF!"}},"",{"$f":"IF($BG69=\"\",\"\",VLOOKUP($BD69,#REF!,5))","v":""},{"$f":"IF($BG69=\"\",\"\",VLOOKUP($BD69,#REF!,9))","v":""},null,null,null,null,144,9.35,0.35,null,"Hide September, 2006 Options","2006-09-01",null,"SFBFN",9.0500000000000007,0.55000000000000004,1491,9.1999999999999993,9.5,11370,144,"SFBRN",0.34,-0.11,5089,0.3,0.4,41789,null,null,144]
[null,null,null,null,null,null,null,null,null,null,null,5,8,"2018-07-20","2018-07-17","2018-12-27","2018-11-27","2022-09-16T09:32:01.130",null,null,"2022-09-02T09:32:01.130",6,null,null,null,64,{"$f":"IF($W$1>7,IF($AA$6<>0,$AA$6+$AA$5*(Z70-1),IF(opt!F65=\"\",\"\",opt!F65)),IF(opt!F65=\"\",\"\",opt!F65))","v":187.5},{"$f":"IF($AA70=\"\",\"\",IF($W$1>7,IF(ISERROR(AVERAGE(AE70:AF70))=TRUE,\"\",AVERAGE(AE70:AF70)),IF($W$1=5,BH70,IF($W$1=4,opt!A65,\"X\"))))","v":0.1},{"$f":"IF($AA70=\"\",\"\",IF($W$1>7,IF(ISERROR(AVERAGE(AG70:AH70))=TRUE,\"\",AVERAGE(AG70:AH70)),IF($W$1=5,BI70,IF($W$1=4,opt!G65,\"X\"))))","v":20.85},0,{"$f":"IF($AA70=\"\",\"\",RTD(\"tos.rtd\", , \"BID\",\".\"&$AF$4&$AE$4&\"C\"&$AA70))","v":0.09},{"$f":"IF($AA70=\"\",\"\",RTD(\"tos.rtd\", , \"ASK\",\".\"&$AF$4&$AE$4&\"C\"&$AA70))","v":0.1},{"$f":"IF($AA70=\"\",\"\",RTD(\"tos.rtd\", , \"BID\",\".\"&$AF$4&$AE$4&\"P\"&$AA70))","v":20.350000000000001},{"$f":"IF($AA70=\"\",\"\",RTD(\"tos.rtd\", , \"ASK\",\".\"&$AF$4&$AE$4&\"P\"&$AA70))","v":20.5},null,null,null,null,null,null,null,null,null,null,null,null,null,null,null,null,null,null,null,null,null,{"$error":"#REF!"},64,{"$f":"IF($BD70<=0,\"\",VLOOKUP($BD70,#REF!,3))","v":{"$error":"#REF!"}},"",{"$f":"IF($BG70=\"\",\"\",VLOOKUP($BD70,#REF!,5))","v":""},{"$f":"IF($BG70=\"\",\"\",VLOOKUP($BD70,#REF!,9))","v":""},null,null,null,null,145,8.6,0.64999999999999991,null,"Hide September, 2007 Options","2007-09-01",null,"JBGFO",8.4,0.8,4,8.5,8.6999999999999993,3192,145,"JBGRO",0.6,-0.2,19,0.6,0.7,3677,null,null,145]
[null,null,null,null,null,null,null,null,null,null,null,6,9,"2018-08-21","2018-08-16",null,null,"2022-09-21T09:32:01.130",null,null,"2022-09-03T09:32:01.130",7,null,null,null,65,{"$f":"IF($W$1>7,IF($AA$6<>0,$AA$6+$AA$5*(Z71-1),IF(opt!F66=\"\",\"\",opt!F66)),IF(opt!F66=\"\",\"\",opt!F66))","v":190},{"$f":"IF($AA71=\"\",\"\",IF($W$1>7,IF(ISERROR(AVERAGE(AE71:AF71))=TRUE,\"\",AVERAGE(AE71:AF71)),IF($W$1=5,BH71,IF($W$1=4,opt!A66,\"X\"))))","v":7.0000000000000007E-2},{"$f":"IF($AA71=\"\",\"\",IF($W$1>7,IF(ISERROR(AVERAGE(AG71:AH71))=TRUE,\"\",AVERAGE(AG71:AH71)),IF($W$1=5,BI71,IF($W$1=4,opt!G66,\"X\"))))","v":22.91},0,{"$f":"IF($AA71=\"\",\"\",RTD(\"tos.rtd\", , \"BID\",\".\"&$AF$4&$AE$4&\"C\"&$AA71))","v":0.06},{"$f":"IF($AA71=\"\",\"\",RTD(\"tos.rtd\", , \"ASK\",\".\"&$AF$4&$AE$4&\"C\"&$AA71))","v":7.0000000000000007E-2},{"$f":"IF($AA71=\"\",\"\",RTD(\"tos.rtd\", , \"BID\",\".\"&$AF$4&$AE$4&\"P\"&$AA71))","v":22.85},{"$f":"IF($AA71=\"\",\"\",RTD(\"tos.rtd\", , \"ASK\",\".\"&$AF$4&$AE$4&\"P\"&$AA71))","v":23},null,null,null,null,null,null,null,null,null,null,null,null,null,null,null,null,null,null,null,null,null,{"$error":"#REF!"},65,{"$f":"IF($BD71<=0,\"\",VLOOKUP($BD71,#REF!,3))","v":{"$error":"#REF!"}},"",{"$f":"IF($BG71=\"\",\"\",VLOOKUP($BD71,#REF!,5))","v":""},{"$f":"IF($BG71=\"\",\"\",VLOOKUP($BD71,#REF!,9))","v":""},null,null,null,null,146,7.6999999999999993,0.75,null,"Hide September, 2008 Options","2008-09-01",null,"JBGFP",7.7,1.1000000000000001,1,7.6,7.8,1191,146,"JBGRP",0.86,-0.09,11,0.7,0.8,6371,null,null,146]
[null,null,null,null,null,null,null,null,null,null,null,7,10,"2018-09-20","2018-09-17",null,null,"2022-09-23T09:32:01.130",null,null,"2022-09-04T09:32:01.130",1,null,null,null,66,{"$f":"IF($W$1>7,IF($AA$6<>0,$AA$6+$AA$5*(Z72-1),IF(opt!F67=\"\",\"\",opt!F67)),IF(opt!F67=\"\",\"\",opt!F67))","v":192.5},{"$f":"IF($AA72=\"\",\"\",IF($W$1>7,IF(ISERROR(AVERAGE(AE72:AF72))=TRUE,\"\",AVERAGE(AE72:AF72)),IF($W$1=5,BH72,IF($W$1=4,opt!A67,\"X\"))))","v":0.05},{"$f":"IF($AA72=\"\",\"\",IF($W$1>7,IF(ISERROR(AVERAGE(AG72:AH72))=TRUE,\"\",AVERAGE(AG72:AH72)),IF($W$1=5,BI72,IF($W$1=4,opt!G67,\"X\"))))","v":25.45},{"$f":"AD71+$AQ$1","v":0},{"$f":"IF($AA72=\"\",\"\",RTD(\"tos.rtd\", , \"BID\",\".\"&$AF$4&$AE$4&\"C\"&$AA72))","v":0.04},{"$f":"IF($AA72=\"\",\"\",RTD(\"tos.rtd\", , \"ASK\",\".\"&$AF$4&$AE$4&\"C\"&$AA72))","v":0.05},{"$f":"IF($AA72=\"\",\"\",RTD(\"tos.rtd\", , \"BID\",\".\"&$AF$4&$AE$4&\"P\"&$AA72))","v":25.35},{"$f":"IF($AA72=\"\",\"\",RTD(\"tos.rtd\", , \"ASK\",\".\"&$AF$4&$AE$4&\"P\"&$AA72))","v":25.5},null,null,null,null,null,null,null,null,null,null,null,null,null,null,null,null,null,null,null,null,null,{"$error":"#REF!"},66,{"$f":"IF($BD72<=0,\"\",VLOOKUP($BD72,#REF!,3))","v":{"$error":"#REF!"}},{"$f":"IF(ISERROR(BF72)=TRUE,\"\",BF72)","v":""},{"$f":"IF($BG72=\"\",\"\",VLOOKUP($BD72,#REF!,5))","v":""},{"$f":"IF($BG72=\"\",\"\",VLOOKUP($BD72,#REF!,9))","v":""},null,null,null,null,{"$f":"IF(CL72=\"\",\"\",CL72)","v":147},{"$f":"IF(BN72=\"\",\"\",IF($W$11=2,BV72,AVERAGE(BY72:BZ72)))","v":6.8000000000000007},{"$f":"IF(BN72=\"\",\"\",IF($W$11=2,CD72,AVERAGE(CG72:CH72)))","v":0.85000000000000009},null,"Hide September, 2009 Options","2009-09-01",null,"JBGFQ",6.8,0.7,35,6.7,6.9,2801,147,"JBGRQ",0.95,-0.45,10,0.8,0.9,4333,null,null,147]
[null,null,null,null,null,null,null,null,null,null,null,8,11,"2018-10-22","2018-10-17",null,null,"2022-09-28T09:32:01.130",null,null,"2022-09-05T09:32:01.130",2,null,null,null,67,{"$f":"IF($W$1>7,IF($AA$6<>0,$AA$6+$AA$5*(Z73-1),IF(opt!F68=\"\",\"\",opt!F68)),IF(opt!F68=\"\",\"\",opt!F68))","v":195},{"$f":"IF($AA73=\"\",\"\",IF($W$1>7,IF(ISERROR(AVERAGE(AE73:AF73))=TRUE,\"\",AVERAGE(AE73:AF73)),IF($W$1=5,BH73,IF($W$1=4,opt!A68,\"X\"))))","v":0.04},{"$f":"IF($AA73=\"\",\"\",IF($W$1>7,IF(ISERROR(AVERAGE(AG73:AH73))=TRUE,\"\",AVERAGE(AG73:AH73)),IF($W$1=5,BI73,IF($W$1=4,opt!G68,\"X\"))))","v":27.8},0,{"$f":"IF($AA73=\"\",\"\",RTD(\"tos.rtd\", , \"BID\",\".\"&$AF$4&$AE$4&\"C\"&$AA73))","v":0.03},{"$f":"IF($AA73=\"\",\"\",RTD(\"tos.rtd\", , \"ASK\",\".\"&$AF$4&$AE$4&\"C\"&$AA73))","v":0.04},{"$f":"IF($AA73=\"\",\"\",RTD(\"tos.rtd\", , \"BID\",\".\"&$AF$4&$AE$4&\"P\"&$AA73))","v":27.85},{"$f":"IF($AA73=\"\",\"\",RTD(\"tos.rtd\", , \"ASK\",\".\"&$AF$4&$AE$4&\"P\"&$AA73))","v":28},null,null,null,null,null,null,null,null,null,null,null,null,null,null,null,null,null,null,null,null,null,{"$error":"#REF!"},67,{"$f":"IF($BD73<=0,\"\",VLOOKUP($BD73,#REF!,3))","v":{"$error":"#REF!"}},"",{"$f":"IF($BG73=\"\",\"\",VLOOKUP($BD73,#REF!,5))","v":""},{"$f":"IF($BG73=\"\",\"\",VLOOKUP($BD73,#REF!,9))","v":""},null,null,null,null,148,5.9499999999999993,1.0249999999999999,null,"Hide September, 2010 Options","2010-09-01",null,"JBGFR",5.7,0.6,5,5.8,6.1,1612,148,"JBGRR",1.1000000000000001,-0.2,57,0.95,1.1000000000000001,7413,null,null,148]
[null,null,null,null,null,null,null,null,null,null,null,9,12,"2018-11-19","2018-11-14",null,null,"2022-09-30T09:32:01.130",null,null,"2022-09-06T09:32:01.130",3,null,null,null,68,{"$f":"IF($W$1>7,IF($AA$6<>0,$AA$6+$AA$5*(Z74-1),IF(opt!F69=\"\",\"\",opt!F69)),IF(opt!F69=\"\",\"\",opt!F69))","v":197.5},{"$f":"IF($AA74=\"\",\"\",IF($W$1>7,IF(ISERROR(AVERAGE(AE74:AF74))=TRUE,\"\",AVERAGE(AE74:AF74)),IF($W$1=5,BH74,IF($W$1=4,opt!A69,\"X\"))))","v":0.04},{"$f":"IF($AA74=\"\",\"\",IF($W$1>7,IF(ISERROR(AVERAGE(AG74:AH74))=TRUE,\"\",AVERAGE(AG74:AH74)),IF($W$1=5,BI74,IF($W$1=4,opt!G69,\"X\"))))","v":30.3},0,{"$f":"IF($AA74=\"\",\"\",RTD(\"tos.rtd\", , \"BID\",\".\"&$AF$4&$AE$4&\"C\"&$AA74))","v":0.02},{"$f":"IF($AA74=\"\",\"\",RTD(\"tos.rtd\", , \"ASK\",\".\"&$AF$4&$AE$4&\"C\"&$AA74))","v":0.03},{"$f":"IF($AA74=\"\",\"\",RTD(\"tos.rtd\", , \"BID\",\".\"&$AF$4&$AE$4&\"P\"&$AA74))","v":30.35},{"$f":"IF($AA74=\"\",\"\",RTD(\"tos.rtd\", , \"ASK\",\".\"&$AF$4&$AE$4&\"P\"&$AA74))","v":30.5},null,null,null,null,null,null,null,null,null,null,null,null,null,null,null,null,null,null,null,null,null,{"$error":"#REF!"},68,{"$f":"IF($BD74<=0,\"\",VLOOKUP($BD74,#REF!,3))","v":{"$error":"#REF!"}},"",{"$f":"IF($BG74=\"\",\"\",VLOOKUP($BD74,#REF!,5))","v":""},{"$f":"IF($BG74=\"\",\"\",VLOOKUP($BD74,#REF!,9))","v":""},null,null,null,null,149,5.15,1.2250000000000001,null,"Hide September, 2011 Options","2011-09-01",null,"JBGFS",4.25,-0.15,26,5,5.3,3931,149,"JBGRS",1.2,-0.4,4605,1.2,1.25,11369,null,null,149]
[null,null,null,null,null,null,null,null,null,null,null,10,null,null,"2018-12-26",null,null,"2022-10-05T09:32:01.130",null,null,"2022-09-07T09:32:01.130",4,null,null,null,69,{"$f":"IF($W$1>7,IF($AA$6<>0,$AA$6+$AA$5*(Z75-1),IF(opt!F70=\"\",\"\",opt!F70)),IF(opt!F70=\"\",\"\",opt!F70))","v":200},{"$f":"IF($AA75=\"\",\"\",IF($W$1>7,IF(ISERROR(AVERAGE(AE75:AF75))=TRUE,\"\",AVERAGE(AE75:AF75)),IF($W$1=5,BH75,IF($W$1=4,opt!A70,\"X\"))))","v":0.03},{"$f":"IF($AA75=\"\",\"\",IF($W$1>7,IF(ISERROR(AVERAGE(AG75:AH75))=TRUE,\"\",AVERAGE(AG75:AH75)),IF($W$1=5,BI75,IF($W$1=4,opt!G70,\"X\"))))","v":32.9},0,{"$f":"IF($AA75=\"\",\"\",RTD(\"tos.rtd\", , \"BID\",\".\"&$AF$4&$AE$4&\"C\"&$AA75))","v":0.02},{"$f":"IF($AA75=\"\",\"\",RTD(\"tos.rtd\", , \"ASK\",\".\"&$AF$4&$AE$4&\"C\"&$AA75))","v":0.03},{"$f":"IF($AA75=\"\",\"\",RTD(\"tos.rtd\", , \"BID\",\".\"&$AF$4&$AE$4&\"P\"&$AA75))","v":32.85},{"$f":"IF($AA75=\"\",\"\",RTD(\"tos.rtd\", , \"ASK\",\".\"&$AF$4&$AE$4&\"P\"&$AA75))","v":33},null,null,null,null,null,null,null,null,null,null,null,null,null,null,null,null,null,null,null,null,null,{"$error":"#REF!"},69,{"$f":"IF($BD75<=0,\"\",VLOOKUP($BD75,#REF!,3))","v":{"$error":"#REF!"}},"",{"$f":"IF($BG75=\"\",\"\",VLOOKUP($BD75,#REF!,5))","v":""},{"$f":"IF($BG75=\"\",\"\",VLOOKUP($BD75,#REF!,9))","v":""},null,null,null,null,150,4.3000000000000007,1.45,null,null,null,null,"JBGFT",4,0.2,16,4.2,4.4000000000000004,2470,150,"JBGRT",1.45,-0.25,733,1.4,1.5,5328,null,null,150]
[null,null,null,null,null,null,null,null,null,null,null,null,null,null,null,null,null,"2022-10-07T09:32:01.130",null,null,"2022-09-08T09:32:01.130",5,null,null,null,70,{"$f":"IF($W$1>7,IF($AA$6<>0,$AA$6+$AA$5*(Z76-1),IF(opt!F71=\"\",\"\",opt!F71)),IF(opt!F71=\"\",\"\",opt!F71))","v":205},{"$f":"IF($AA76=\"\",\"\",IF($W$1>7,IF(ISERROR(AVERAGE(AE76:AF76))=TRUE,\"\",AVERAGE(AE76:AF76)),IF($W$1=5,BH76,IF($W$1=4,opt!A71,\"X\"))))","v":0.02},{"$f":"IF($AA76=\"\",\"\",IF($W$1>7,IF(ISERROR(AVERAGE(AG76:AH76))=TRUE,\"\",AVERAGE(AG76:AH76)),IF($W$1=5,BI76,IF($W$1=4,opt!G71,\"X\"))))","v":37.700000000000003},0,{"$f":"IF($AA76=\"\",\"\",RTD(\"tos.rtd\", , \"BID\",\".\"&$AF$4&$AE$4&\"C\"&$AA76))","v":0.01},{"$f":"IF($AA76=\"\",\"\",RTD(\"tos.rtd\", , \"ASK\",\".\"&$AF$4&$AE$4&\"C\"&$AA76))","v":0.02},{"$f":"IF($AA76=\"\",\"\",RTD(\"tos.rtd\", , \"BID\",\".\"&$AF$4&$AE$4&\"P\"&$AA76))","v":37.85},{"$f":"IF($AA76=\"\",\"\",RTD(\"tos.rtd\", , \"ASK\",\".\"&$AF$4&$AE$4&\"P\"&$AA76))","v":38},null,null,null,null,null,null,null,null,null,null,null,null,null,null,null,null,null,null,null,null,null,{"$error":"#REF!"},70,{"$f":"IF($BD76<=0,\"\",VLOOKUP($BD76,#REF!,3))","v":{"$error":"#REF!"}},"",{"$f":"IF($BG76=\"\",\"\",VLOOKUP($BD76,#REF!,5))","v":""},{"$f":"IF($BG76=\"\",\"\",VLOOKUP($BD76,#REF!,9))","v":""},null,null,null,null,151,3.6,1.7250000000000001,null,null,null,null,"JBGFU",3.04,-0.02,1,3.5,3.7,744,151,"JBGRU",1.8,-0.55000000000000004,45,1.65,1.8,2856,null,null,151]
[null,null,null,null,null,null,null,null,null,null,null,null,null,null,null,null,null,"2022-10-12T09:32:01.130",null,null,"2022-09-09T09:32:01.130",6,null,null,null,71,{"$f":"IF($W$1>7,IF($AA$6<>0,$AA$6+$AA$5*(Z77-1),IF(opt!F72=\"\",\"\",opt!F72)),IF(opt!F72=\"\",\"\",opt!F72))","v":210},{"$f":"IF($AA77=\"\",\"\",IF($W$1>7,IF(ISERROR(AVERAGE(AE77:AF77))=TRUE,\"\",AVERAGE(AE77:AF77)),IF($W$1=5,BH77,IF($W$1=4,opt!A72,\"X\"))))","v":0.02},{"$f":"IF($AA77=\"\",\"\",IF($W$1>7,IF(ISERROR(AVERAGE(AG77:AH77))=TRUE,\"\",AVERAGE(AG77:AH77)),IF($W$1=5,BI77,IF($W$1=4,opt!G72,\"X\"))))","v":42.4},0,{"$f":"IF($AA77=\"\",\"\",RTD(\"tos.rtd\", , \"BID\",\".\"&$AF$4&$AE$4&\"C\"&$AA77))","v":0.01},{"$f":"IF($AA77=\"\",\"\",RTD(\"tos.rtd\", , \"ASK\",\".\"&$AF$4&$AE$4&\"C\"&$AA77))","v":0.02},{"$f":"IF($AA77=\"\",\"\",RTD(\"tos.rtd\", , \"BID\",\".\"&$AF$4&$AE$4&\"P\"&$AA77))","v":42.85},{"$f":"IF($AA77=\"\",\"\",RTD(\"tos.rtd\", , \"ASK\",\".\"&$AF$4&$AE$4&\"P\"&$AA77))","v":43},null,null,null,null,null,null,null,null,null,null,null,null,null,null,null,null,null,null,null,null,null,{"$error":"#REF!"},71,{"$f":"IF($BD77<=0,\"\",VLOOKUP($BD77,#REF!,3))","v":{"$error":"#REF!"}},"",{"$f":"IF($BG77=\"\",\"\",VLOOKUP($BD77,#REF!,5))","v":""},{"$f":"IF($BG77=\"\",\"\",VLOOKUP($BD77,#REF!,9))","v":""},null,null,null,null,152,2.875,2.0750000000000002,null,null,null,null,"JBGFV",2.6,0.05,49,2.8,2.95,1153,152,"JBGRV",2.15,-0.45,86,2,2.15,1979,null,null,152]
[null,null,null,null,null,null,null,null,null,null,null,null,null,null,null,null,null,"2022-10-14T09:32:01.130",null,null,"2022-09-10T09:32:01.130",7,null,null,null,72,{"$f":"IF($W$1>7,IF($AA$6<>0,$AA$6+$AA$5*(Z78-1),IF(opt!F73=\"\",\"\",opt!F73)),IF(opt!F73=\"\",\"\",opt!F73))","v":215},{"$f":"IF($AA78=\"\",\"\",IF($W$1>7,IF(ISERROR(AVERAGE(AE78:AF78))=TRUE,\"\",AVERAGE(AE78:AF78)),IF($W$1=5,BH78,IF($W$1=4,opt!A73,\"X\"))))","v":0.01},{"$f":"IF($AA78=\"\",\"\",IF($W$1>7,IF(ISERROR(AVERAGE(AG78:AH78))=TRUE,\"\",AVERAGE(AG78:AH78)),IF($W$1=5,BI78,IF($W$1=4,opt!G73,\"X\"))))","v":47.57},0,{"$f":"IF($AA78=\"\",\"\",RTD(\"tos.rtd\", , \"BID\",\".\"&$AF$4&$AE$4&\"C\"&$AA78))","v":0},{"$f":"IF($AA78=\"\",\"\",RTD(\"tos.rtd\", , \"ASK\",\".\"&$AF$4&$AE$4&\"C\"&$AA78))","v":0.01},{"$f":"IF($AA78=\"\",\"\",RTD(\"tos.rtd\", , \"BID\",\".\"&$AF$4&$AE$4&\"P\"&$AA78))","v":47.85},{"$f":"IF($AA78=\"\",\"\",RTD(\"tos.rtd\", , \"ASK\",\".\"&$AF$4&$AE$4&\"P\"&$AA78))","v":48},null,null,null,null,null,null,null,null,null,null,null,null,null,null,null,null,null,null,null,null,null,{"$error":"#REF!"},72,{"$f":"IF($BD78<=0,\"\",VLOOKUP($BD78,#REF!,3))","v":{"$error":"#REF!"}},"",{"$f":"IF($BG78=\"\",\"\",VLOOKUP($BD78,#REF!,5))","v":""},{"$f":"IF($BG78=\"\",\"\",VLOOKUP($BD78,#REF!,9))","v":""},null,null,null,null,153,2.25,2.4749999999999996,null,null,null,null,"JBGFW",2.08,0.13,1725,2.15,2.35,5603,153,"JBGRW",2.6,-1.2,119,2.4,2.5499999999999998,35,null,null,153]
[null,null,null,null,null,null,null,null,null,null,null,null,null,null,null,null,null,"2022-10-19T09:32:01.130",null,null,"2022-09-11T09:32:01.130",1,null,null,null,73,{"$f":"IF($W$1>7,IF($AA$6<>0,$AA$6+$AA$5*(Z79-1),IF(opt!F74=\"\",\"\",opt!F74)),IF(opt!F74=\"\",\"\",opt!F74))","v":220},{"$f":"IF($AA79=\"\",\"\",IF($W$1>7,IF(ISERROR(AVERAGE(AE79:AF79))=TRUE,\"\",AVERAGE(AE79:AF79)),IF($W$1=5,BH79,IF($W$1=4,opt!A74,\"X\"))))","v":0.01},{"$f":"IF($AA79=\"\",\"\",IF($W$1>7,IF(ISERROR(AVERAGE(AG79:AH79))=TRUE,\"\",AVERAGE(AG79:AH79)),IF($W$1=5,BI79,IF($W$1=4,opt!G74,\"X\"))))","v":52.06},0,{"$f":"IF($AA79=\"\",\"\",RTD(\"tos.rtd\", , \"BID\",\".\"&$AF$4&$AE$4&\"C\"&$AA79))","v":0},{"$f":"IF($AA79=\"\",\"\",RTD(\"tos.rtd\", , \"ASK\",\".\"&$AF$4&$AE$4&\"C\"&$AA79))","v":0.01},{"$f":"IF($AA79=\"\",\"\",RTD(\"tos.rtd\", , \"BID\",\".\"&$AF$4&$AE$4&\"P\"&$AA79))","v":52.85},{"$f":"IF($AA79=\"\",\"\",RTD(\"tos.rtd\", , \"ASK\",\".\"&$AF$4&$AE$4&\"P\"&$AA79))","v":53},null,null,null,null,null,null,null,null,null,null,null,null,null,null,null,null,null,null,null,null,null,{"$error":"#REF!"},73,{"$f":"IF($BD79<=0,\"\",VLOOKUP($BD79,#REF!,3))","v":{"$error":"#REF!"}},"",{"$f":"IF($BG79=\"\",\"\",VLOOKUP($BD79,#REF!,5))","v":""},{"$f":"IF($BG79=\"\",\"\",VLOOKUP($BD79,#REF!,9))","v":""},null,null,null,null,154,1.7250000000000001,2.9750000000000001,null,null,null,null,"JBGFX",1.65,0.17,134,1.65,1.8,1845,154,"JBGRX",4.5999999999999996,null,2,2.85,3.1,2,null,null,154]
[null,null,null,null,null,null,null,null,null,null,null,null,null,null,null,null,null,"2022-10-21T09:32:01.130",null,null,"2022-09-12T09:32:01.130",2,null,null,null,74,{"$f":"IF($W$1>7,IF($AA$6<>0,$AA$6+$AA$5*(Z80-1),IF(opt!F75=\"\",\"\",opt!F75)),IF(opt!F75=\"\",\"\",opt!F75))","v":225},{"$f":"IF($AA80=\"\",\"\",IF($W$1>7,IF(ISERROR(AVERAGE(AE80:AF80))=TRUE,\"\",AVERAGE(AE80:AF80)),IF($W$1=5,BH80,IF($W$1=4,opt!A75,\"X\"))))","v":0.01},{"$f":"IF($AA80=\"\",\"\",IF($W$1>7,IF(ISERROR(AVERAGE(AG80:AH80))=TRUE,\"\",AVERAGE(AG80:AH80)),IF($W$1=5,BI80,IF($W$1=4,opt!G75,\"X\"))))","v":56.8},0,{"$f":"IF($AA80=\"\",\"\",RTD(\"tos.rtd\", , \"BID\",\".\"&$AF$4&$AE$4&\"C\"&$AA80))","v":0},{"$f":"IF($AA80=\"\",\"\",RTD(\"tos.rtd\", , \"ASK\",\".\"&$AF$4&$AE$4&\"C\"&$AA80))","v":0.01},{"$f":"IF($AA80=\"\",\"\",RTD(\"tos.rtd\", , \"BID\",\".\"&$AF$4&$AE$4&\"P\"&$AA80))","v":57.85},{"$f":"IF($AA80=\"\",\"\",RTD(\"tos.rtd\", , \"ASK\",\".\"&$AF$4&$AE$4&\"P\"&$AA80))","v":58},null,null,null,null,null,null,null,null,null,null,null,null,null,null,null,null,null,null,null,null,null,{"$error":"#REF!"},74,{"$f":"IF($BD80<=0,\"\",VLOOKUP($BD80,#REF!,3))","v":{"$error":"#REF!"}},"",{"$f":"IF($BG80=\"\",\"\",VLOOKUP($BD80,#REF!,5))","v":""},{"$f":"IF($BG80=\"\",\"\",VLOOKUP($BD80,#REF!,9))","v":""},null,null,null,null,155,1.2250000000000001,3.5,null,null,null,null,"JBGFY",1.1299999999999999,0.12,52,1.1499999999999999,1.3,5702,155,"JBGRY",3.8,-1.6,1001,3.4,3.6,5,null,null,155]
[null,null,null,null,null,null,null,null,null,null,null,null,null,null,null,null,null,"2022-10-26T09:32:01.130",null,null,"2022-09-13T09:32:01.130",3,null,null,null,75,{"$f":"IF($W$1>7,IF($AA$6<>0,$AA$6+$AA$5*(Z81-1),IF(opt!F76=\"\",\"\",opt!F76)),IF(opt!F76=\"\",\"\",opt!F76))","v":230},{"$f":"IF($AA81=\"\",\"\",IF($W$1>7,IF(ISERROR(AVERAGE(AE81:AF81))=TRUE,\"\",AVERAGE(AE81:AF81)),IF($W$1=5,BH81,IF($W$1=4,opt!A76,\"X\"))))","v":0.01},{"$f":"IF($AA81=\"\",\"\",IF($W$1>7,IF(ISERROR(AVERAGE(AG81:AH81))=TRUE,\"\",AVERAGE(AG81:AH81)),IF($W$1=5,BI81,IF($W$1=4,opt!G76,\"X\"))))","v":62.05},0,{"$f":"IF($AA81=\"\",\"\",RTD(\"tos.rtd\", , \"BID\",\".\"&$AF$4&$AE$4&\"C\"&$AA81))","v":0},{"$f":"IF($AA81=\"\",\"\",RTD(\"tos.rtd\", , \"ASK\",\".\"&$AF$4&$AE$4&\"C\"&$AA81))","v":0.01},{"$f":"IF($AA81=\"\",\"\",RTD(\"tos.rtd\", , \"BID\",\".\"&$AF$4&$AE$4&\"P\"&$AA81))","v":62.85},{"$f":"IF($AA81=\"\",\"\",RTD(\"tos.rtd\", , \"ASK\",\".\"&$AF$4&$AE$4&\"P\"&$AA81))","v":63},null,null,null,null,null,null,null,null,null,null,null,null,null,null,null,null,null,null,null,null,null,{"$error":"#REF!"},75,{"$f":"IF($BD81<=0,\"\",VLOOKUP($BD81,#REF!,3))","v":{"$error":"#REF!"}},"",{"$f":"IF($BG81=\"\",\"\",VLOOKUP($BD81,#REF!,5))","v":""},{"$f":"IF($BG81=\"\",\"\",VLOOKUP($BD81,#REF!,9))","v":""},null,null,null,null,156,0.875,4.1500000000000004,null,null,null,null,"JBGFZ",0.75,0.04,11,0.8,0.95,2220,156,"JBGRZ",null,null,null,4,4.3,null,null,null,156]
[null,null,null,null,null,null,null,null,null,null,null,null,null,null,null,null,null,"2022-10-28T09:32:01.130",null,null,"2022-09-14T09:32:01.130",4,null,null,null,76,{"$f":"IF($W$1>7,IF($AA$6<>0,$AA$6+$AA$5*(Z82-1),IF(opt!F77=\"\",\"\",opt!F77)),IF(opt!F77=\"\",\"\",opt!F77))","v":235},{"$f":"IF($AA82=\"\",\"\",IF($W$1>7,IF(ISERROR(AVERAGE(AE82:AF82))=TRUE,\"\",AVERAGE(AE82:AF82)),IF($W$1=5,BH82,IF($W$1=4,opt!A77,\"X\"))))","v":0.01},{"$f":"IF($AA82=\"\",\"\",IF($W$1>7,IF(ISERROR(AVERAGE(AG82:AH82))=TRUE,\"\",AVERAGE(AG82:AH82)),IF($W$1=5,BI82,IF($W$1=4,opt!G77,\"X\"))))","v":61},0,{"$f":"IF($AA82=\"\",\"\",RTD(\"tos.rtd\", , \"BID\",\".\"&$AF$4&$AE$4&\"C\"&$AA82))","v":0},{"$f":"IF($AA82=\"\",\"\",RTD(\"tos.rtd\", , \"ASK\",\".\"&$AF$4&$AE$4&\"C\"&$AA82))","v":0.01},{"$f":"IF($AA82=\"\",\"\",RTD(\"tos.rtd\", , \"BID\",\".\"&$AF$4&$AE$4&\"P\"&$AA82))","v":67.849999999999994},{"$f":"IF($AA82=\"\",\"\",RTD(\"tos.rtd\", , \"ASK\",\".\"&$AF$4&$AE$4&\"P\"&$AA82))","v":68},null,null,null,null,null,null,null,null,null,null,null,null,null,null,null,null,null,null,null,null,null,{"$error":"#REF!"},76,{"$f":"IF($BD82<=0,\"\",VLOOKUP($BD82,#REF!,3))","v":{"$error":"#REF!"}},"",{"$f":"IF($BG82=\"\",\"\",VLOOKUP($BD82,#REF!,5))","v":""},{"$f":"IF($BG82=\"\",\"\",VLOOKUP($BD82,#REF!,9))","v":""},null,null,null,null,157,0.27500000000000002,4.6999999999999993,null,null,null,null,"SYHFA",0.25,-0.03,4471,0.25,0.3,6212,157,"SYHRA",4.7,-0.8,181,4.5999999999999996,4.8,1259,null,null,157]
[null,null,null,null,null,null,null,null,null,null,null,null,null,null,null,null,null,"2022-11-02T09:32:01.130",null,null,"2022-09-15T09:32:01.130",5,null,null,null,77,{"$f":"IF($W$1>7,IF($AA$6<>0,$AA$6+$AA$5*(Z83-1),IF(opt!F78=\"\",\"\",opt!F78)),IF(opt!F78=\"\",\"\",opt!F78))","v":240},{"$f":"IF($AA83=\"\",\"\",IF($W$1>7,IF(ISERROR(AVERAGE(AE83:AF83))=TRUE,\"\",AVERAGE(AE83:AF83)),IF($W$1=5,BH83,IF($W$1=4,opt!A78,\"X\"))))","v":0.01},{"$f":"IF($AA83=\"\",\"\",IF($W$1>7,IF(ISERROR(AVERAGE(AG83:AH83))=TRUE,\"\",AVERAGE(AG83:AH83)),IF($W$1=5,BI83,IF($W$1=4,opt!G78,\"X\"))))","v":71.650000000000006},0,{"$f":"IF($AA83=\"\",\"\",RTD(\"tos.rtd\", , \"BID\",\".\"&$AF$4&$AE$4&\"C\"&$AA83))","v":0},{"$f":"IF($AA83=\"\",\"\",RTD(\"tos.rtd\", , \"ASK\",\".\"&$AF$4&$AE$4&\"C\"&$AA83))","v":0.01},{"$f":"IF($AA83=\"\",\"\",RTD(\"tos.rtd\", , \"BID\",\".\"&$AF$4&$AE$4&\"P\"&$AA83))","v":72.849999999999994},{"$f":"IF($AA83=\"\",\"\",RTD(\"tos.rtd\", , \"ASK\",\".\"&$AF$4&$AE$4&\"P\"&$AA83))","v":73},null,null,null,null,null,null,null,null,null,null,null,null,null,null,null,null,null,null,null,null,null,{"$error":"#REF!"},77,{"$f":"IF($BD83<=0,\"\",VLOOKUP($BD83,#REF!,3))","v":{"$error":"#REF!"}},"",{"$f":"IF($BG83=\"\",\"\",VLOOKUP($BD83,#REF!,5))","v":""},{"$f":"IF($BG83=\"\",\"\",VLOOKUP($BD83,#REF!,9))","v":""},null,null,null,null,158,0.15000000000000002,5.6,null,null,null,null,"SYHFB",0.17,null,2510,0.1,0.2,6132,158,"SYHRB",5.9,-0.6,1699,5.5,5.7,1502,null,null,158]
[null,null,null,null,null,null,null,null,null,null,null,null,null,null,null,null,null,"2022-11-04T09:32:01.130",null,null,"2022-09-16T09:32:01.130",null,null,null,null,78,{"$f":"IF($W$1>7,IF($AA$6<>0,$AA$6+$AA$5*(Z84-1),IF(opt!F79=\"\",\"\",opt!F79)),IF(opt!F79=\"\",\"\",opt!F79))","v":245},{"$f":"IF($AA84=\"\",\"\",IF($W$1>7,IF(ISERROR(AVERAGE(AE84:AF84))=TRUE,\"\",AVERAGE(AE84:AF84)),IF($W$1=5,BH84,IF($W$1=4,opt!A79,\"X\"))))","v":0.01},{"$f":"IF($AA84=\"\",\"\",IF($W$1>7,IF(ISERROR(AVERAGE(AG84:AH84))=TRUE,\"\",AVERAGE(AG84:AH84)),IF($W$1=5,BI84,IF($W$1=4,opt!G79,\"X\"))))","v":71.150000000000006},0,{"$f":"IF($AA84=\"\",\"\",RTD(\"tos.rtd\", , \"BID\",\".\"&$AF$4&$AE$4&\"C\"&$AA84))","v":0},{"$f":"IF($AA84=\"\",\"\",RTD(\"tos.rtd\", , \"ASK\",\".\"&$AF$4&$AE$4&\"C\"&$AA84))","v":0.01},{"$f":"IF($AA84=\"\",\"\",RTD(\"tos.rtd\", , \"BID\",\".\"&$AF$4&$AE$4&\"P\"&$AA84))","v":77.849999999999994},{"$f":"IF($AA84=\"\",\"\",RTD(\"tos.rtd\", , \"ASK\",\".\"&$AF$4&$AE$4&\"P\"&$AA84))","v":78},null,null,null,null,null,null,null,null,null,null,null,null,null,null,null,null,null,null,null,null,null,{"$error":"#REF!"},78,{"$f":"IF($BD84<=0,\"\",VLOOKUP($BD84,#REF!,3))","v":{"$error":"#REF!"}},"",{"$f":"IF($BG84=\"\",\"\",VLOOKUP($BD84,#REF!,5))","v":""},{"$f":"IF($BG84=\"\",\"\",VLOOKUP($BD84,#REF!,9))","v":""},null,null,null,null,159,7.5000000000000011E-2,6.5,null,null,null,null,"SYHFC",0.1,0.02,550,0.05,0.1,879,159,"SYHRC",7,-0.7,20,6.4,6.6,1487,null,null,159]
[null,null,null,null,null,null,null,null,null,null,null,null,null,null,null,null,null,"2022-11-09T09:32:01.130",null,null,"2022-09-17T09:32:01.130",null,null,null,null,79,{"$f":"IF($W$1>7,IF($AA$6<>0,$AA$6+$AA$5*(Z85-1),IF(opt!F80=\"\",\"\",opt!F80)),IF(opt!F80=\"\",\"\",opt!F80))","v":250},{"$f":"IF($AA85=\"\",\"\",IF($W$1>7,IF(ISERROR(AVERAGE(AE85:AF85))=TRUE,\"\",AVERAGE(AE85:AF85)),IF($W$1=5,BH85,IF($W$1=4,opt!A80,\"X\"))))","v":0.03},{"$f":"IF($AA85=\"\",\"\",IF($W$1>7,IF(ISERROR(AVERAGE(AG85:AH85))=TRUE,\"\",AVERAGE(AG85:AH85)),IF($W$1=5,BI85,IF($W$1=4,opt!G80,\"X\"))))","v":82},0,{"$f":"IF($AA85=\"\",\"\",RTD(\"tos.rtd\", , \"BID\",\".\"&$AF$4&$AE$4&\"C\"&$AA85))","v":0},{"$f":"IF($AA85=\"\",\"\",RTD(\"tos.rtd\", , \"ASK\",\".\"&$AF$4&$AE$4&\"C\"&$AA85))","v":0.01},{"$f":"IF($AA85=\"\",\"\",RTD(\"tos.rtd\", , \"BID\",\".\"&$AF$4&$AE$4&\"P\"&$AA85))","v":82.85},{"$f":"IF($AA85=\"\",\"\",RTD(\"tos.rtd\", , \"ASK\",\".\"&$AF$4&$AE$4&\"P\"&$AA85))","v":83},null,null,null,null,null,null,null,null,null,null,null,null,null,null,null,null,null,null,null,null,null,{"$error":"#REF!"},79,{"$f":"IF($BD85<=0,\"\",VLOOKUP($BD85,#REF!,3))","v":{"$error":"#REF!"}},"",{"$f":"IF($BG85=\"\",\"\",VLOOKUP($BD85,#REF!,5))","v":""},{"$f":"IF($BG85=\"\",\"\",VLOOKUP($BD85,#REF!,9))","v":""},null,null,null,null,160,7.5000000000000011E-2,7.5,null,null,null,null,"SYHFD",0.05,null,1192,0.05,0.1,6996,160,"SYHRD",7.77,-0.83,80,7.4,7.6,308,null,null,160]
[null,null,null,null,null,null,null,null,null,null,null,null,null,null,null,null,null,"2022-11-11T09:32:01.130",null,null,"2022-09-18T09:32:01.130",null,null,null,null,80,{"$f":"IF($W$1>7,IF($AA$6<>0,$AA$6+$AA$5*(Z86-1),IF(opt!F81=\"\",\"\",opt!F81)),IF(opt!F81=\"\",\"\",opt!F81))","v":260},{"$f":"IF($AA86=\"\",\"\",IF($W$1>7,IF(ISERROR(AVERAGE(AE86:AF86))=TRUE,\"\",AVERAGE(AE86:AF86)),IF($W$1=5,BH86,IF($W$1=4,opt!A81,\"X\"))))","v":0.01},{"$f":"IF($AA86=\"\",\"\",IF($W$1>7,IF(ISERROR(AVERAGE(AG86:AH86))=TRUE,\"\",AVERAGE(AG86:AH86)),IF($W$1=5,BI86,IF($W$1=4,opt!G81,\"X\"))))","v":85.85},0,{"$f":"IF($AA86=\"\",\"\",RTD(\"tos.rtd\", , \"BID\",\".\"&$AF$4&$AE$4&\"C\"&$AA86))","v":0},{"$f":"IF($AA86=\"\",\"\",RTD(\"tos.rtd\", , \"ASK\",\".\"&$AF$4&$AE$4&\"C\"&$AA86))","v":0.01},{"$f":"IF($AA86=\"\",\"\",RTD(\"tos.rtd\", , \"BID\",\".\"&$AF$4&$AE$4&\"P\"&$AA86))","v":92.85},{"$f":"IF($AA86=\"\",\"\",RTD(\"tos.rtd\", , \"ASK\",\".\"&$AF$4&$AE$4&\"P\"&$AA86))","v":93},null,null,null,null,null,null,null,null,null,null,null,null,null,null,null,null,null,null,null,null,null,{"$error":"#REF!"},80,{"$f":"IF($BD86<=0,\"\",VLOOKUP($BD86,#REF!,3))","v":{"$error":"#REF!"}},"",{"$f":"IF($BG86=\"\",\"\",VLOOKUP($BD86,#REF!,5))","v":""},{"$f":"IF($BG86=\"\",\"\",VLOOKUP($BD86,#REF!,9))","v":""},null,null,null,null,165,0.05,12.4,null,null,null,null,"SYHFM",0.05,-0.05,50,0.05,0.05,1957,165,"SYHRM",12.7,-0.2,206,12.3,12.5,null,null,null,165]
[null,null,null,null,null,null,null,null,null,null,null,null,null,null,null,null,null,"2022-11-16T09:32:01.130",null,null,"2022-09-19T09:32:01.130",null,null,null,null,81,{"$f":"IF($W$1>7,IF($AA$6<>0,$AA$6+$AA$5*(Z87-1),IF(opt!F82=\"\",\"\",opt!F82)),IF(opt!F82=\"\",\"\",opt!F82))","v":270},{"$f":"IF($AA87=\"\",\"\",IF($W$1>7,IF(ISERROR(AVERAGE(AE87:AF87))=TRUE,\"\",AVERAGE(AE87:AF87)),IF($W$1=5,BH87,IF($W$1=4,opt!A82,\"X\"))))","v":0.01},{"$f":"IF($AA87=\"\",\"\",IF($W$1>7,IF(ISERROR(AVERAGE(AG87:AH87))=TRUE,\"\",AVERAGE(AG87:AH87)),IF($W$1=5,BI87,IF($W$1=4,opt!G82,\"X\"))))","v":102.55},0,{"$f":"IF($AA87=\"\",\"\",RTD(\"tos.rtd\", , \"BID\",\".\"&$AF$4&$AE$4&\"C\"&$AA87))","v":0},{"$f":"IF($AA87=\"\",\"\",RTD(\"tos.rtd\", , \"ASK\",\".\"&$AF$4&$AE$4&\"C\"&$AA87))","v":0.01},{"$f":"IF($AA87=\"\",\"\",RTD(\"tos.rtd\", , \"BID\",\".\"&$AF$4&$AE$4&\"P\"&$AA87))","v":102.85},{"$f":"IF($AA87=\"\",\"\",RTD(\"tos.rtd\", , \"ASK\",\".\"&$AF$4&$AE$4&\"P\"&$AA87))","v":103},null,null,null,null,null,null,null,null,null,null,null,null,null,null,null,null,null,null,null,null,null,{"$error":"#REF!"},81,{"$f":"IF($BD87<=0,\"\",VLOOKUP($BD87,#REF!,3))","v":{"$error":"#REF!"}},"",{"$f":"IF($BG87=\"\",\"\",VLOOKUP($BD87,#REF!,5))","v":""},{"$f":"IF($BG87=\"\",\"\",VLOOKUP($BD87,#REF!,9))","v":""},null,null,null,null,170,0.05,17.399999999999999,null,null,null,null,"SYHFN",null,null,null,null,0.05,null,170,"SYHRN",19.5,-1,10,17.3,17.5,40,null,null,170]
[null,null,null,null,null,null,null,null,null,null,null,null,null,null,null,null,null,"2022-11-18T09:32:01.130",null,null,"2022-09-20T09:32:01.130",null,null,null,null,82,{"$f":"IF($W$1>7,IF($AA$6<>0,$AA$6+$AA$5*(Z88-1),IF(opt!F83=\"\",\"\",opt!F83)),IF(opt!F83=\"\",\"\",opt!F83))","v":280},{"$f":"IF($AA88=\"\",\"\",IF($W$1>7,IF(ISERROR(AVERAGE(AE88:AF88))=TRUE,\"\",AVERAGE(AE88:AF88)),IF($W$1=5,BH88,IF($W$1=4,opt!A83,\"X\"))))","v":0.01},{"$f":"IF($AA88=\"\",\"\",IF($W$1>7,IF(ISERROR(AVERAGE(AG88:AH88))=TRUE,\"\",AVERAGE(AG88:AH88)),IF($W$1=5,BI88,IF($W$1=4,opt!G83,\"X\"))))","v":111.8},0,{"$f":"IF($AA88=\"\",\"\",RTD(\"tos.rtd\", , \"BID\",\".\"&$AF$4&$AE$4&\"C\"&$AA88))","v":0},{"$f":"IF($AA88=\"\",\"\",RTD(\"tos.rtd\", , \"ASK\",\".\"&$AF$4&$AE$4&\"C\"&$AA88))","v":0.01},{"$f":"IF($AA88=\"\",\"\",RTD(\"tos.rtd\", , \"BID\",\".\"&$AF$4&$AE$4&\"P\"&$AA88))","v":112.85},{"$f":"IF($AA88=\"\",\"\",RTD(\"tos.rtd\", , \"ASK\",\".\"&$AF$4&$AE$4&\"P\"&$AA88))","v":113},null,null,null,null,null,null,null,null,null,null,null,null,null,null,null,null,null,null,null,null,null,{"$error":"#REF!"},82,{"$f":"IF($BD88<=0,\"\",VLOOKUP($BD88,#REF!,3))","v":{"$error":"#REF!"}},"",{"$f":"IF($BG88=\"\",\"\",VLOOKUP($BD88,#REF!,5))","v":""},{"$f":"IF($BG88=\"\",\"\",VLOOKUP($BD88,#REF!,9))","v":""},null,null,null,null,"","","",null,null,null,null,null,null,null,null,null,null,null,"Price",null,null,null,null,null,null,null,null,null,""]
[null,null,null,null,null,null,null,null,null,null,null,null,null,null,null,null,null,"2022-11-23T09:32:01.130",null,null,"2022-09-21T09:32:01.130",null,null,null,null,83,{"$f":"IF($W$1>7,IF($AA$6<>0,$AA$6+$AA$5*(Z89-1),IF(opt!F84=\"\",\"\",opt!F84)),IF(opt!F84=\"\",\"\",opt!F84))","v":290},{"$f":"IF($AA89=\"\",\"\",IF($W$1>7,IF(ISERROR(AVERAGE(AE89:AF89))=TRUE,\"\",AVERAGE(AE89:AF89)),IF($W$1=5,BH89,IF($W$1=4,opt!A84,\"X\"))))","v":0.01},{"$f":"IF($AA89=\"\",\"\",IF($W$1>7,IF(ISERROR(AVERAGE(AG89:AH89))=TRUE,\"\",AVERAGE(AG89:AH89)),IF($W$1=5,BI89,IF($W$1=4,opt!G84,\"X\"))))","v":115.55},0,{"$f":"IF($AA89=\"\",\"\",RTD(\"tos.rtd\", , \"BID\",\".\"&$AF$4&$AE$4&\"C\"&$AA89))","v":0},{"$f":"IF($AA89=\"\",\"\",RTD(\"tos.rtd\", , \"ASK\",\".\"&$AF$4&$AE$4&\"C\"&$AA89))","v":0.01},{"$f":"IF($AA89=\"\",\"\",RTD(\"tos.rtd\", , \"BID\",\".\"&$AF$4&$AE$4&\"P\"&$AA89))","v":122.85},{"$f":"IF($AA89=\"\",\"\",RTD(\"tos.rtd\", , \"ASK\",\".\"&$AF$4&$AE$4&\"P\"&$AA89))","v":123},null,null,null,null,null,null,null,null,null,null,null,null,null,null,null,null,null,null,null,null,null,{"$error":"#REF!"},83,{"$f":"IF($BD89<=0,\"\",VLOOKUP($BD89,#REF!,3))","v":{"$error":"#REF!"}},"",{"$f":"IF($BG89=\"\",\"\",VLOOKUP($BD89,#REF!,5))","v":""},{"$f":"IF($BG89=\"\",\"\",VLOOKUP($BD89,#REF!,9))","v":""},null,null,null,null,"","","",null,null,null,null,"Symbol","Last","Change","Vol","Bid","Ask","Open Int.",null,"Symbol","Last","Change","Vol","Bid","Ask","Open Int.",null,null,""]
[null,null,null,null,null,null,null,null,null,null,null,null,null,null,null,null,null,"2022-11-25T09:32:01.130",null,null,"2022-09-22T09:32:01.130",null,null,null,null,84,{"$f":"IF($W$1>7,IF($AA$6<>0,$AA$6+$AA$5*(Z90-1),IF(opt!F85=\"\",\"\",opt!F85)),IF(opt!F85=\"\",\"\",opt!F85))","v":300},{"$f":"IF($AA90=\"\",\"\",IF($W$1>7,IF(ISERROR(AVERAGE(AE90:AF90))=TRUE,\"\",AVERAGE(AE90:AF90)),IF($W$1=5,BH90,IF($W$1=4,opt!A85,\"X\"))))","v":0.01},{"$f":"IF($AA90=\"\",\"\",IF($W$1>7,IF(ISERROR(AVERAGE(AG90:AH90))=TRUE,\"\",AVERAGE(AG90:AH90)),IF($W$1=5,BI90,IF($W$1=4,opt!G85,\"X\"))))","v":132.19999999999999},0,{"$f":"IF($AA90=\"\",\"\",RTD(\"tos.rtd\", , \"BID\",\".\"&$AF$4&$AE$4&\"C\"&$AA90))","v":0},{"$f":"IF($AA90=\"\",\"\",RTD(\"tos.rtd\", , \"ASK\",\".\"&$AF$4&$AE$4&\"C\"&$AA90))","v":0.01},{"$f":"IF($AA90=\"\",\"\",RTD(\"tos.rtd\", , \"BID\",\".\"&$AF$4&$AE$4&\"P\"&$AA90))","v":132.85},{"$f":"IF($AA90=\"\",\"\",RTD(\"tos.rtd\", , \"ASK\",\".\"&$AF$4&$AE$4&\"P\"&$AA90))","v":133},null,null,null,null,null,null,null,null,null,null,null,null,null,null,null,null,null,null,null,null,null,{"$error":"#REF!"},84,{"$f":"IF($BD90<=0,\"\",VLOOKUP($BD90,#REF!,3))","v":{"$error":"#REF!"}},"",{"$f":"IF($BG90=\"\",\"\",VLOOKUP($BD90,#REF!,5))","v":""},{"$f":"IF($BG90=\"\",\"\",VLOOKUP($BD90,#REF!,9))","v":""},null,null,null,null,"","","",null,null,null,null,null,null,null,null,null,null,null,null,null,null,null,null,null,null,null,null,null,""]
[null,null,null,null,null,null,null,null,null,null,null,null,null,null,null,null,null,"2022-11-30T09:32:01.130",null,null,"2022-09-23T09:32:01.130",null,null,null,null,85,{"$f":"IF($W$1>7,IF($AA$6<>0,$AA$6+$AA$5*(Z91-1),IF(opt!F86=\"\",\"\",opt!F86)),IF(opt!F86=\"\",\"\",opt!F86))","v":305},{"$f":"IF($AA91=\"\",\"\",IF($W$1>7,IF(ISERROR(AVERAGE(AE91:AF91))=TRUE,\"\",AVERAGE(AE91:AF91)),IF($W$1=5,BH91,IF($W$1=4,opt!A86,\"X\"))))","v":218},{"$f":"IF($AA91=\"\",\"\",IF($W$1>7,IF(ISERROR(AVERAGE(AG91:AH91))=TRUE,\"\",AVERAGE(AG91:AH91)),IF($W$1=5,BI91,IF($W$1=4,opt!G86,\"X\"))))","v":29.52},0,{"$f":"IF($AA91=\"\",\"\",RTD(\"tos.rtd\", , \"BID\",\".\"&$AF$4&$AE$4&\"C\"&$AA91))","v":216.15},{"$f":"IF($AA91=\"\",\"\",RTD(\"tos.rtd\", , \"ASK\",\".\"&$AF$4&$AE$4&\"C\"&$AA91))","v":220.5},{"$f":"IF($AA91=\"\",\"\",RTD(\"tos.rtd\", , \"BID\",\".\"&$AF$4&$AE$4&\"P\"&$AA91))","v":24.75},{"$f":"IF($AA91=\"\",\"\",RTD(\"tos.rtd\", , \"ASK\",\".\"&$AF$4&$AE$4&\"P\"&$AA91))","v":26.15},null,null,null,null,null,null,null,null,null,null,null,null,null,null,null,null,null,null,null,null,null,{"$error":"#REF!"},85,{"$f":"IF($BD91<=0,\"\",VLOOKUP($BD91,#REF!,3))","v":{"$error":"#REF!"}},"",{"$f":"IF($BG91=\"\",\"\",VLOOKUP($BD91,#REF!,5))","v":""},{"$f":"IF($BG91=\"\",\"\",VLOOKUP($BD91,#REF!,9))","v":""},null,null,null,null,"","","",null,null,null,null,"SFBFO",8.1,0.52,2240,8.3000000000000007,8.5,18178,145,"SFBRO",0.44,-0.09,9672,0.4,0.45,39508,null,null,""]
[null,null,null,null,null,null,null,null,null,null,null,null,null,null,null,null,null,"2022-12-02T09:32:01.130",null,null,"2022-09-24T09:32:01.130",null,null,null,null,86,{"$f":"IF($W$1>7,IF($AA$6<>0,$AA$6+$AA$5*(Z92-1),IF(opt!F87=\"\",\"\",opt!F87)),IF(opt!F87=\"\",\"\",opt!F87))","v":310},{"$f":"IF($AA92=\"\",\"\",IF($W$1>7,IF(ISERROR(AVERAGE(AE92:AF92))=TRUE,\"\",AVERAGE(AE92:AF92)),IF($W$1=5,BH92,IF($W$1=4,opt!A87,\"X\"))))","v":215.66},{"$f":"IF($AA92=\"\",\"\",IF($W$1>7,IF(ISERROR(AVERAGE(AG92:AH92))=TRUE,\"\",AVERAGE(AG92:AH92)),IF($W$1=5,BI92,IF($W$1=4,opt!G87,\"X\"))))","v":25.4},0,{"$f":"IF($AA92=\"\",\"\",RTD(\"tos.rtd\", , \"BID\",\".\"&$AF$4&$AE$4&\"C\"&$AA92))","v":212.75},{"$f":"IF($AA92=\"\",\"\",RTD(\"tos.rtd\", , \"ASK\",\".\"&$AF$4&$AE$4&\"C\"&$AA92))","v":217},{"$f":"IF($AA92=\"\",\"\",RTD(\"tos.rtd\", , \"BID\",\".\"&$AF$4&$AE$4&\"P\"&$AA92))","v":26.4},{"$f":"IF($AA92=\"\",\"\",RTD(\"tos.rtd\", , \"ASK\",\".\"&$AF$4&$AE$4&\"P\"&$AA92))","v":27.35},null,null,null,null,null,null,null,null,null,null,null,null,null,null,null,null,null,null,null,null,null,{"$error":"#REF!"},86,{"$f":"IF($BD92<=0,\"\",VLOOKUP($BD92,#REF!,3))","v":{"$error":"#REF!"}},"",{"$f":"IF($BG92=\"\",\"\",VLOOKUP($BD92,#REF!,5))","v":""},{"$f":"IF($BG92=\"\",\"\",VLOOKUP($BD92,#REF!,9))","v":""},null,null,null,null,"","","",null,null,null,null,"SFBFP",7.2,0.5,329,7.4,7.6,24793,146,"SFBRP",0.5,-0.2,3086,0.45,0.5,40626,null,null,""]
[null,null,null,null,null,null,null,null,null,null,null,null,null,null,null,null,null,"2022-12-07T09:32:01.130",null,null,"2022-09-25T09:32:01.130",null,null,null,null,87,{"$f":"IF($W$1>7,IF($AA$6<>0,$AA$6+$AA$5*(Z93-1),IF(opt!F88=\"\",\"\",opt!F88)),IF(opt!F88=\"\",\"\",opt!F88))","v":315},{"$f":"IF($AA93=\"\",\"\",IF($W$1>7,IF(ISERROR(AVERAGE(AE93:AF93))=TRUE,\"\",AVERAGE(AE93:AF93)),IF($W$1=5,BH93,IF($W$1=4,opt!A88,\"X\"))))","v":219.4},{"$f":"IF($AA93=\"\",\"\",IF($W$1>7,IF(ISERROR(AVERAGE(AG93:AH93))=TRUE,\"\",AVERAGE(AG93:AH93)),IF($W$1=5,BI93,IF($W$1=4,opt!G88,\"X\"))))","v":27.92},0,{"$f":"IF($AA93=\"\",\"\",RTD(\"tos.rtd\", , \"BID\",\".\"&$AF$4&$AE$4&\"C\"&$AA93))","v":209.1},{"$f":"IF($AA93=\"\",\"\",RTD(\"tos.rtd\", , \"ASK\",\".\"&$AF$4&$AE$4&\"C\"&$AA93))","v":213.5},{"$f":"IF($AA93=\"\",\"\",RTD(\"tos.rtd\", , \"BID\",\".\"&$AF$4&$AE$4&\"P\"&$AA93))","v":27.3},{"$f":"IF($AA93=\"\",\"\",RTD(\"tos.rtd\", , \"ASK\",\".\"&$AF$4&$AE$4&\"P\"&$AA93))","v":28.65},null,null,null,null,null,null,null,null,null,null,null,null,null,null,null,null,null,null,null,null,null,{"$error":"#REF!"},87,{"$f":"IF($BD93<=0,\"\",VLOOKUP($BD93,#REF!,3))","v":{"$error":"#REF!"}},"",{"$f":"IF($BG93=\"\",\"\",VLOOKUP($BD93,#REF!,5))","v":""},{"$f":"IF($BG93=\"\",\"\",VLOOKUP($BD93,#REF!,9))","v":""},null,null,null,null,"","","",null,null,null,null,"SFBFQ",6.4,0.9,112,6.5,6.7,17554,147,"SFBRQ",0.6,-0.25,3125,0.55000000000000004,0.6,62102,null,null,""]
[null,null,null,null,null,null,null,null,null,null,null,null,null,null,null,null,null,"2022-12-09T09:32:01.130",null,null,"2022-09-26T09:32:01.130",null,null,null,null,88,{"$f":"IF($W$1>7,IF($AA$6<>0,$AA$6+$AA$5*(Z94-1),IF(opt!F89=\"\",\"\",opt!F89)),IF(opt!F89=\"\",\"\",opt!F89))","v":320},{"$f":"IF($AA94=\"\",\"\",IF($W$1>7,IF(ISERROR(AVERAGE(AE94:AF94))=TRUE,\"\",AVERAGE(AE94:AF94)),IF($W$1=5,BH94,IF($W$1=4,opt!A89,\"X\"))))","v":208},{"$f":"IF($AA94=\"\",\"\",IF($W$1>7,IF(ISERROR(AVERAGE(AG94:AH94))=TRUE,\"\",AVERAGE(AG94:AH94)),IF($W$1=5,BI94,IF($W$1=4,opt!G89,\"X\"))))","v":29.72},0,{"$f":"IF($AA94=\"\",\"\",RTD(\"tos.rtd\", , \"BID\",\".\"&$AF$4&$AE$4&\"C\"&$AA94))","v":205.3},{"$f":"IF($AA94=\"\",\"\",RTD(\"tos.rtd\", , \"ASK\",\".\"&$AF$4&$AE$4&\"C\"&$AA94))","v":209.5},{"$f":"IF($AA94=\"\",\"\",RTD(\"tos.rtd\", , \"BID\",\".\"&$AF$4&$AE$4&\"P\"&$AA94))","v":28.65},{"$f":"IF($AA94=\"\",\"\",RTD(\"tos.rtd\", , \"ASK\",\".\"&$AF$4&$AE$4&\"P\"&$AA94))","v":30.1},null,null,null,null,null,null,null,null,null,null,null,null,null,null,null,null,null,null,null,null,null,{"$error":"#REF!"},88,{"$f":"IF($BD94<=0,\"\",VLOOKUP($BD94,#REF!,3))","v":{"$error":"#REF!"}},"",{"$f":"IF($BG94=\"\",\"\",VLOOKUP($BD94,#REF!,5))","v":""},{"$f":"IF($BG94=\"\",\"\",VLOOKUP($BD94,#REF!,9))","v":""},null,null,null,null,"","","",null,null,null,null,"SFBFR",5.6,0.85,2326,5.6,5.7,19944,148,"SFBRR",0.73,-0.32,13804,0.7,0.75,49577,null,null,""]
[null,null,null,null,null,null,null,null,null,null,null,null,null,null,null,null,null,null,null,null,"2022-09-27T09:32:01.130",null,null,null,null,89,{"$f":"IF($W$1>7,IF($AA$6<>0,$AA$6+$AA$5*(Z95-1),IF(opt!F90=\"\",\"\",opt!F90)),IF(opt!F90=\"\",\"\",opt!F90))","v":325},{"$f":"IF($AA95=\"\",\"\",IF($W$1>7,IF(ISERROR(AVERAGE(AE95:AF95))=TRUE,\"\",AVERAGE(AE95:AF95)),IF($W$1=5,BH95,IF($W$1=4,opt!A90,\"X\"))))","v":210.4},{"$f":"IF($AA95=\"\",\"\",IF($W$1>7,IF(ISERROR(AVERAGE(AG95:AH95))=TRUE,\"\",AVERAGE(AG95:AH95)),IF($W$1=5,BI95,IF($W$1=4,opt!G90,\"X\"))))","v":29.48},0,{"$f":"IF($AA95=\"\",\"\",RTD(\"tos.rtd\", , \"BID\",\".\"&$AF$4&$AE$4&\"C\"&$AA95))","v":202},{"$f":"IF($AA95=\"\",\"\",RTD(\"tos.rtd\", , \"ASK\",\".\"&$AF$4&$AE$4&\"C\"&$AA95))","v":206},{"$f":"IF($AA95=\"\",\"\",RTD(\"tos.rtd\", , \"BID\",\".\"&$AF$4&$AE$4&\"P\"&$AA95))","v":30},{"$f":"IF($AA95=\"\",\"\",RTD(\"tos.rtd\", , \"ASK\",\".\"&$AF$4&$AE$4&\"P\"&$AA95))","v":31.5},null,null,null,null,null,null,null,null,null,null,null,null,null,null,null,null,null,null,null,null,null,{"$error":"#REF!"},89,{"$f":"IF($BD95<=0,\"\",VLOOKUP($BD95,#REF!,3))","v":{"$error":"#REF!"}},"",{"$f":"IF($BG95=\"\",\"\",VLOOKUP($BD95,#REF!,5))","v":""},{"$f":"IF($BG95=\"\",\"\",VLOOKUP($BD95,#REF!,9))","v":""},null,null,null,null,"","","",null,null,null,null,"SFBFS",4.8,0.9,967,4.8,4.9000000000000004,20394,149,"SFBRS",0.85,-0.35,8164,0.8,0.9,34499,null,null,""]
[null,null,null,null,null,null,null,null,null,null,null,null,null,null,null,null,null,null,null,null,"2022-09-28T09:32:01.130",null,null,null,null,90,{"$f":"IF($W$1>7,IF($AA$6<>0,$AA$6+$AA$5*(Z96-1),IF(opt!F91=\"\",\"\",opt!F91)),IF(opt!F91=\"\",\"\",opt!F91))","v":330},{"$f":"IF($AA96=\"\",\"\",IF($W$1>7,IF(ISERROR(AVERAGE(AE96:AF96))=TRUE,\"\",AVERAGE(AE96:AF96)),IF($W$1=5,BH96,IF($W$1=4,opt!A91,\"X\"))))","v":202.86},{"$f":"IF($AA96=\"\",\"\",IF($W$1>7,IF(ISERROR(AVERAGE(AG96:AH96))=TRUE,\"\",AVERAGE(AG96:AH96)),IF($W$1=5,BI96,IF($W$1=4,opt!G91,\"X\"))))","v":31.08},0,{"$f":"IF($AA96=\"\",\"\",RTD(\"tos.rtd\", , \"BID\",\".\"&$AF$4&$AE$4&\"C\"&$AA96))","v":201},{"$f":"IF($AA96=\"\",\"\",RTD(\"tos.rtd\", , \"ASK\",\".\"&$AF$4&$AE$4&\"C\"&$AA96))","v":203.45},{"$f":"IF($AA96=\"\",\"\",RTD(\"tos.rtd\", , \"BID\",\".\"&$AF$4&$AE$4&\"P\"&$AA96))","v":31.45},{"$f":"IF($AA96=\"\",\"\",RTD(\"tos.rtd\", , \"ASK\",\".\"&$AF$4&$AE$4&\"P\"&$AA96))","v":32.950000000000003},null,null,null,null,null,null,null,null,null,null,null,null,null,null,null,null,null,null,null,null,null,{"$error":"#REF!"},90,{"$f":"IF($BD96<=0,\"\",VLOOKUP($BD96,#REF!,3))","v":{"$error":"#REF!"}},"",{"$f":"IF($BG96=\"\",\"\",VLOOKUP($BD96,#REF!,5))","v":""},{"$f":"IF($BG96=\"\",\"\",VLOOKUP($BD96,#REF!,9))","v":""},null,null,null,null,"","","",null,null,null,null,"SYHFT",3.96,0.86,1936,3.9,4,41441,150,"SYHRT",1.05,-0.5,27730,1.05,1.1000000000000001,113550,null,null,""]
[null,null,null,null,null,null,null,null,null,null,null,null,null,null,null,null,null,null,null,null,"2022-09-29T09:32:01.130",null,null,null,null,91,{"$f":"IF($W$1>7,IF($AA$6<>0,$AA$6+$AA$5*(Z97-1),IF(opt!F92=\"\",\"\",opt!F92)),IF(opt!F92=\"\",\"\",opt!F92))","v":335},{"$f":"IF($AA97=\"\",\"\",IF($W$1>7,IF(ISERROR(AVERAGE(AE97:AF97))=TRUE,\"\",AVERAGE(AE97:AF97)),IF($W$1=5,BH97,IF($W$1=4,opt!A92,\"X\"))))","v":195},{"$f":"IF($AA97=\"\",\"\",IF($W$1>7,IF(ISERROR(AVERAGE(AG97:AH97))=TRUE,\"\",AVERAGE(AG97:AH97)),IF($W$1=5,BI97,IF($W$1=4,opt!G92,\"X\"))))","v":33.4},0,{"$f":"IF($AA97=\"\",\"\",RTD(\"tos.rtd\", , \"BID\",\".\"&$AF$4&$AE$4&\"C\"&$AA97))","v":194.8},{"$f":"IF($AA97=\"\",\"\",RTD(\"tos.rtd\", , \"ASK\",\".\"&$AF$4&$AE$4&\"C\"&$AA97))","v":199},{"$f":"IF($AA97=\"\",\"\",RTD(\"tos.rtd\", , \"BID\",\".\"&$AF$4&$AE$4&\"P\"&$AA97))","v":32.9},{"$f":"IF($AA97=\"\",\"\",RTD(\"tos.rtd\", , \"ASK\",\".\"&$AF$4&$AE$4&\"P\"&$AA97))","v":34.450000000000003},null,null,null,null,null,null,null,null,null,null,null,null,null,null,null,null,null,null,null,null,null,{"$error":"#REF!"},91,{"$f":"IF($BD97<=0,\"\",VLOOKUP($BD97,#REF!,3))","v":{"$error":"#REF!"}},"",{"$f":"IF($BG97=\"\",\"\",VLOOKUP($BD97,#REF!,5))","v":""},{"$f":"IF($BG97=\"\",\"\",VLOOKUP($BD97,#REF!,9))","v":""},null,null,null,null,"","","",null,null,null,null,"SYHFU",3.1,0.6,2390,3.1,3.2,30170,151,"SYHRU",1.35,-0.5,34748,1.3,1.35,32071,null,null,""]
[null,null,null,null,null,null,null,null,null,null,null,null,null,null,null,null,null,null,null,null,"2022-09-30T09:32:01.130",null,null,null,null,92,{"$f":"IF($W$1>7,IF($AA$6<>0,$AA$6+$AA$5*(Z98-1),IF(opt!F93=\"\",\"\",opt!F93)),IF(opt!F93=\"\",\"\",opt!F93))","v":340},{"$f":"IF($AA98=\"\",\"\",IF($W$1>7,IF(ISERROR(AVERAGE(AE98:AF98))=TRUE,\"\",AVERAGE(AE98:AF98)),IF($W$1=5,BH98,IF($W$1=4,opt!A93,\"X\"))))","v":196.5},{"$f":"IF($AA98=\"\",\"\",IF($W$1>7,IF(ISERROR(AVERAGE(AG98:AH98))=TRUE,\"\",AVERAGE(AG98:AH98)),IF($W$1=5,BI98,IF($W$1=4,opt!G93,\"X\"))))","v":33.6},0,{"$f":"IF($AA98=\"\",\"\",RTD(\"tos.rtd\", , \"BID\",\".\"&$AF$4&$AE$4&\"C\"&$AA98))","v":191.4},{"$f":"IF($AA98=\"\",\"\",RTD(\"tos.rtd\", , \"ASK\",\".\"&$AF$4&$AE$4&\"C\"&$AA98))","v":195.5},{"$f":"IF($AA98=\"\",\"\",RTD(\"tos.rtd\", , \"BID\",\".\"&$AF$4&$AE$4&\"P\"&$AA98))","v":34.450000000000003},{"$f":"IF($AA98=\"\",\"\",RTD(\"tos.rtd\", , \"ASK\",\".\"&$AF$4&$AE$4&\"P\"&$AA98))","v":35.950000000000003},null,null,null,null,null,null,null,null,null,null,null,null,null,null,null,null,null,null,null,null,null,{"$error":"#REF!"},92,{"$f":"IF($BD98<=0,\"\",VLOOKUP($BD98,#REF!,3))","v":{"$error":"#REF!"}},"",{"$f":"IF($BG98=\"\",\"\",VLOOKUP($BD98,#REF!,5))","v":""},{"$f":"IF($BG98=\"\",\"\",VLOOKUP($BD98,#REF!,9))","v":""},null,null,null,null,"","","",null,null,null,null,"SYHFV",2.4500000000000002,0.6,2382,2.4500000000000002,2.5,30583,152,"SYHRV",1.65,-0.65,13590,1.6,1.65,21928,null,null,""]
[null,null,null,null,null,null,null,null,null,null,null,null,null,null,null,null,null,null,null,null,"2022-10-01T09:32:01.130",null,null,null,null,93,{"$f":"IF($W$1>7,IF($AA$6<>0,$AA$6+$AA$5*(Z99-1),IF(opt!F94=\"\",\"\",opt!F94)),IF(opt!F94=\"\",\"\",opt!F94))","v":345},{"$f":"IF($AA99=\"\",\"\",IF($W$1>7,IF(ISERROR(AVERAGE(AE99:AF99))=TRUE,\"\",AVERAGE(AE99:AF99)),IF($W$1=5,BH99,IF($W$1=4,opt!A94,\"X\"))))","v":186.52},{"$f":"IF($AA99=\"\",\"\",IF($W$1>7,IF(ISERROR(AVERAGE(AG99:AH99))=TRUE,\"\",AVERAGE(AG99:AH99)),IF($W$1=5,BI99,IF($W$1=4,opt!G94,\"X\"))))","v":35.520000000000003},0,{"$f":"IF($AA99=\"\",\"\",RTD(\"tos.rtd\", , \"BID\",\".\"&$AF$4&$AE$4&\"C\"&$AA99))","v":188.05},{"$f":"IF($AA99=\"\",\"\",RTD(\"tos.rtd\", , \"ASK\",\".\"&$AF$4&$AE$4&\"C\"&$AA99))","v":192.5},{"$f":"IF($AA99=\"\",\"\",RTD(\"tos.rtd\", , \"BID\",\".\"&$AF$4&$AE$4&\"P\"&$AA99))","v":36},{"$f":"IF($AA99=\"\",\"\",RTD(\"tos.rtd\", , \"ASK\",\".\"&$AF$4&$AE$4&\"P\"&$AA99))","v":37.549999999999997},null,null,null,null,null,null,null,null,null,null,null,null,null,null,null,null,null,null,null,null,null,{"$error":"#REF!"},93,{"$f":"IF($BD99<=0,\"\",VLOOKUP($BD99,#REF!,3))","v":{"$error":"#REF!"}},"",{"$f":"IF($BG99=\"\",\"\",VLOOKUP($BD99,#REF!,5))","v":""},{"$f":"IF($BG99=\"\",\"\",VLOOKUP($BD99,#REF!,9))","v":""},null,null,null,null,"","","",null,null,null,null,null,null,null,null,null,null,null,152.62,"   Last as of 5/18/2007",null,null,null,null,null,null,null,null,""]
[null,null,null,null,null,null,null,null,null,null,null,null,null,null,null,null,null,null,null,null,"2022-10-02T09:32:01.130",null,null,null,null,94,{"$f":"IF($W$1>7,IF($AA$6<>0,$AA$6+$AA$5*(Z100-1),IF(opt!F95=\"\",\"\",opt!F95)),IF(opt!F95=\"\",\"\",opt!F95))","v":350},{"$f":"IF($AA100=\"\",\"\",IF($W$1>7,IF(ISERROR(AVERAGE(AE100:AF100))=TRUE,\"\",AVERAGE(AE100:AF100)),IF($W$1=5,BH100,IF($W$1=4,opt!A95,\"X\"))))","v":188.15},{"$f":"IF($AA100=\"\",\"\",IF($W$1>7,IF(ISERROR(AVERAGE(AG100:AH100))=TRUE,\"\",AVERAGE(AG100:AH100)),IF($W$1=5,BI100,IF($W$1=4,opt!G95,\"X\"))))","v":38.75},0,{"$f":"IF($AA100=\"\",\"\",RTD(\"tos.rtd\", , \"BID\",\".\"&$AF$4&$AE$4&\"C\"&$AA100))","v":184.85},{"$f":"IF($AA100=\"\",\"\",RTD(\"tos.rtd\", , \"ASK\",\".\"&$AF$4&$AE$4&\"C\"&$AA100))","v":189},{"$f":"IF($AA100=\"\",\"\",RTD(\"tos.rtd\", , \"BID\",\".\"&$AF$4&$AE$4&\"P\"&$AA100))","v":37.6},{"$f":"IF($AA100=\"\",\"\",RTD(\"tos.rtd\", , \"ASK\",\".\"&$AF$4&$AE$4&\"P\"&$AA100))","v":39.200000000000003},null,null,null,null,null,null,null,null,null,null,null,null,null,null,null,null,null,null,null,null,null,{"$error":"#REF!"},94,{"$f":"IF($BD100<=0,\"\",VLOOKUP($BD100,#REF!,3))","v":{"$error":"#REF!"}},"",{"$f":"IF($BG100=\"\",\"\",VLOOKUP($BD100,#REF!,5))","v":""},{"$f":"IF($BG100=\"\",\"\",VLOOKUP($BD100,#REF!,9))","v":""},null,null,null,null,"","","",null,null,null,null,"SYHFW",1.8,0.35,5456,1.8,1.85,22798,153,"SYHRW",2.1,-0.75,2233,2,2.0499999999999998,14175,null,null,""]
[null,null,null,null,null,null,null,null,null,null,null,null,null,null,null,null,null,null,null,null,"2022-10-03T09:32:01.130",null,null,null,null,95,{"$f":"IF($W$1>7,IF($AA$6<>0,$AA$6+$AA$5*(Z101-1),IF(opt!F96=\"\",\"\",opt!F96)),IF(opt!F96=\"\",\"\",opt!F96))","v":360},{"$f":"IF($AA101=\"\",\"\",IF($W$1>7,IF(ISERROR(AVERAGE(AE101:AF101))=TRUE,\"\",AVERAGE(AE101:AF101)),IF($W$1=5,BH101,IF($W$1=4,opt!A96,\"X\"))))","v":182.7},{"$f":"IF($AA101=\"\",\"\",IF($W$1>7,IF(ISERROR(AVERAGE(AG101:AH101))=TRUE,\"\",AVERAGE(AG101:AH101)),IF($W$1=5,BI101,IF($W$1=4,opt!G96,\"X\"))))","v":42.2},0,{"$f":"IF($AA101=\"\",\"\",RTD(\"tos.rtd\", , \"BID\",\".\"&$AF$4&$AE$4&\"C\"&$AA101))","v":178.35},{"$f":"IF($AA101=\"\",\"\",RTD(\"tos.rtd\", , \"ASK\",\".\"&$AF$4&$AE$4&\"C\"&$AA101))","v":182.5},{"$f":"IF($AA101=\"\",\"\",RTD(\"tos.rtd\", , \"BID\",\".\"&$AF$4&$AE$4&\"P\"&$AA101))","v":41},{"$f":"IF($AA101=\"\",\"\",RTD(\"tos.rtd\", , \"ASK\",\".\"&$AF$4&$AE$4&\"P\"&$AA101))","v":42.6},null,null,null,null,null,null,null,null,null,null,null,null,null,null,null,null,null,null,null,null,null,{"$error":"#REF!"},95,{"$f":"IF($BD101<=0,\"\",VLOOKUP($BD101,#REF!,3))","v":{"$error":"#REF!"}},"",{"$f":"IF($BG101=\"\",\"\",VLOOKUP($BD101,#REF!,5))","v":""},{"$f":"IF($BG101=\"\",\"\",VLOOKUP($BD101,#REF!,9))","v":""},null,null,null,null,"","","",null,null,null,null,"SYHFX",1.25,0.25,6746,1.25,1.3,24221,154,"SYHRX",2.65,-0.85,2065,2.4500000000000002,2.5499999999999998,7578,null,null,""]
[null,null,null,null,null,null,null,null,null,null,null,null,null,null,null,null,null,null,null,null,"2022-10-04T09:32:01.130",null,null,null,null,96,{"$f":"IF($W$1>7,IF($AA$6<>0,$AA$6+$AA$5*(Z102-1),IF(opt!F97=\"\",\"\",opt!F97)),IF(opt!F97=\"\",\"\",opt!F97))","v":370},{"$f":"IF($AA102=\"\",\"\",IF($W$1>7,IF(ISERROR(AVERAGE(AE102:AF102))=TRUE,\"\",AVERAGE(AE102:AF102)),IF($W$1=5,BH102,IF($W$1=4,opt!A97,\"X\"))))","v":177},{"$f":"IF($AA102=\"\",\"\",IF($W$1>7,IF(ISERROR(AVERAGE(AG102:AH102))=TRUE,\"\",AVERAGE(AG102:AH102)),IF($W$1=5,BI102,IF($W$1=4,opt!G97,\"X\"))))","v":42.84},0,{"$f":"IF($AA102=\"\",\"\",RTD(\"tos.rtd\", , \"BID\",\".\"&$AF$4&$AE$4&\"C\"&$AA102))","v":172.05},{"$f":"IF($AA102=\"\",\"\",RTD(\"tos.rtd\", , \"ASK\",\".\"&$AF$4&$AE$4&\"C\"&$AA102))","v":176.5},{"$f":"IF($AA102=\"\",\"\",RTD(\"tos.rtd\", , \"BID\",\".\"&$AF$4&$AE$4&\"P\"&$AA102))","v":44.5},{"$f":"IF($AA102=\"\",\"\",RTD(\"tos.rtd\", , \"ASK\",\".\"&$AF$4&$AE$4&\"P\"&$AA102))","v":46.2},null,null,null,null,null,null,null,null,null,null,null,null,null,null,null,null,null,null,null,null,null,{"$error":"#REF!"},96,{"$f":"IF($BD102<=0,\"\",VLOOKUP($BD102,#REF!,3))","v":{"$error":"#REF!"}},"",{"$f":"IF($BG102=\"\",\"\",VLOOKUP($BD102,#REF!,5))","v":""},{"$f":"IF($BG102=\"\",\"\",VLOOKUP($BD102,#REF!,9))","v":""},null,null,null,null,"","","",null,null,null,null,"SYHFY",0.85,0.2,8801,0.8,0.85,57929,155,"SYHRY",3.2,-0.9,399,3.1,3.2,3277,null,null,""]
[null,null,null,null,null,null,null,null,null,null,null,null,null,null,null,null,null,null,null,null,"2022-10-05T09:32:01.130",null,null,null,null,97,{"$f":"IF($W$1>7,IF($AA$6<>0,$AA$6+$AA$5*(Z103-1),IF(opt!F98=\"\",\"\",opt!F98)),IF(opt!F98=\"\",\"\",opt!F98))","v":380},{"$f":"IF($AA103=\"\",\"\",IF($W$1>7,IF(ISERROR(AVERAGE(AE103:AF103))=TRUE,\"\",AVERAGE(AE103:AF103)),IF($W$1=5,BH103,IF($W$1=4,opt!A98,\"X\"))))","v":169.34},{"$f":"IF($AA103=\"\",\"\",IF($W$1>7,IF(ISERROR(AVERAGE(AG103:AH103))=TRUE,\"\",AVERAGE(AG103:AH103)),IF($W$1=5,BI103,IF($W$1=4,opt!G98,\"X\"))))","v":48.64},0,{"$f":"IF($AA103=\"\",\"\",RTD(\"tos.rtd\", , \"BID\",\".\"&$AF$4&$AE$4&\"C\"&$AA103))","v":165.95},{"$f":"IF($AA103=\"\",\"\",RTD(\"tos.rtd\", , \"ASK\",\".\"&$AF$4&$AE$4&\"C\"&$AA103))","v":170},{"$f":"IF($AA103=\"\",\"\",RTD(\"tos.rtd\", , \"BID\",\".\"&$AF$4&$AE$4&\"P\"&$AA103))","v":48.25},{"$f":"IF($AA103=\"\",\"\",RTD(\"tos.rtd\", , \"ASK\",\".\"&$AF$4&$AE$4&\"P\"&$AA103))","v":49.95},null,null,null,null,null,null,null,null,null,null,null,null,null,null,null,null,null,null,null,null,null,{"$error":"#REF!"},97,{"$f":"IF($BD103<=0,\"\",VLOOKUP($BD103,#REF!,3))","v":{"$error":"#REF!"}},"",{"$f":"IF($BG103=\"\",\"\",VLOOKUP($BD103,#REF!,5))","v":""},{"$f":"IF($BG103=\"\",\"\",VLOOKUP($BD103,#REF!,9))","v":""},null,null,null,null,"","","",null,null,null,null,"SYHFZ",0.5,0.1,5248,0.45,0.55000000000000004,15213,156,"SYHRZ",4.0999999999999996,-0.7,782,3.8,3.9,1446,null,null,""]
[null,null,null,null,null,null,null,null,null,null,null,null,null,null,null,null,null,null,null,null,"2022-10-06T09:32:01.130",null,null,null,null,98,{"$f":"IF($W$1>7,IF($AA$6<>0,$AA$6+$AA$5*(Z104-1),IF(opt!F99=\"\",\"\",opt!F99)),IF(opt!F99=\"\",\"\",opt!F99))","v":390},{"$f":"IF($AA104=\"\",\"\",IF($W$1>7,IF(ISERROR(AVERAGE(AE104:AF104))=TRUE,\"\",AVERAGE(AE104:AF104)),IF($W$1=5,BH104,IF($W$1=4,opt!A99,\"X\"))))","v":163.9},{"$f":"IF($AA104=\"\",\"\",IF($W$1>7,IF(ISERROR(AVERAGE(AG104:AH104))=TRUE,\"\",AVERAGE(AG104:AH104)),IF($W$1=5,BI104,IF($W$1=4,opt!G99,\"X\"))))","v":52.72},0,{"$f":"IF($AA104=\"\",\"\",RTD(\"tos.rtd\", , \"BID\",\".\"&$AF$4&$AE$4&\"C\"&$AA104))","v":160.19999999999999},{"$f":"IF($AA104=\"\",\"\",RTD(\"tos.rtd\", , \"ASK\",\".\"&$AF$4&$AE$4&\"C\"&$AA104))","v":164},{"$f":"IF($AA104=\"\",\"\",RTD(\"tos.rtd\", , \"BID\",\".\"&$AF$4&$AE$4&\"P\"&$AA104))","v":52.25},{"$f":"IF($AA104=\"\",\"\",RTD(\"tos.rtd\", , \"ASK\",\".\"&$AF$4&$AE$4&\"P\"&$AA104))","v":53.95},null,null,null,null,null,null,null,null,null,null,null,null,null,null,null,null,null,null,null,null,null,{"$error":"#REF!"},98,{"$f":"IF($BD104<=0,\"\",VLOOKUP($BD104,#REF!,3))","v":{"$error":"#REF!"}},"",{"$f":"IF($BG104=\"\",\"\",VLOOKUP($BD104,#REF!,5))","v":""},{"$f":"IF($BG104=\"\",\"\",VLOOKUP($BD104,#REF!,9))","v":""},null,null,null,null,"","","",null,null,null,null,"Show June, 2007 Options",null,null,null,null,null,null,null,null,null,null,null,null,null,null,null,null,""]
[null,null,null,null,null,null,null,null,null,null,null,null,null,null,null,null,null,null,null,null,"2022-10-07T09:32:01.130",null,null,null,null,99,{"$f":"IF($W$1>7,IF($AA$6<>0,$AA$6+$AA$5*(Z105-1),IF(opt!F100=\"\",\"\",opt!F100)),IF(opt!F100=\"\",\"\",opt!F100))","v":400},{"$f":"IF($AA105=\"\",\"\",IF($W$1>7,IF(ISERROR(AVERAGE(AE105:AF105))=TRUE,\"\",AVERAGE(AE105:AF105)),IF($W$1=5,BH105,IF($W$1=4,opt!A100,\"X\"))))","v":157},{"$f":"IF($AA105=\"\",\"\",IF($W$1>7,IF(ISERROR(AVERAGE(AG105:AH105))=TRUE,\"\",AVERAGE(AG105:AH105)),IF($W$1=5,BI105,IF($W$1=4,opt!G100,\"X\"))))","v":56.85},0,{"$f":"IF($AA105=\"\",\"\",RTD(\"tos.rtd\", , \"BID\",\".\"&$AF$4&$AE$4&\"C\"&$AA105))","v":157},{"$f":"IF($AA105=\"\",\"\",RTD(\"tos.rtd\", , \"ASK\",\".\"&$AF$4&$AE$4&\"C\"&$AA105))","v":158.5},{"$f":"IF($AA105=\"\",\"\",RTD(\"tos.rtd\", , \"BID\",\".\"&$AF$4&$AE$4&\"P\"&$AA105))","v":56.3},{"$f":"IF($AA105=\"\",\"\",RTD(\"tos.rtd\", , \"ASK\",\".\"&$AF$4&$AE$4&\"P\"&$AA105))","v":58.1},null,null,null,null,null,null,null,null,null,null,null,null,null,null,null,null,null,null,null,null,null,{"$error":"#REF!"},99,{"$f":"IF($BD105<=0,\"\",VLOOKUP($BD105,#REF!,3))","v":{"$error":"#REF!"}},"",{"$f":"IF($BG105=\"\",\"\",VLOOKUP($BD105,#REF!,5))","v":""},{"$f":"IF($BG105=\"\",\"\",VLOOKUP($BD105,#REF!,9))","v":""},null,null,null,null,"","","",null,null,null,null,"Show July, 2007 Options",null,null,null,null,null,null,null,null,null,null,null,null,null,null,null,null,""]
[null,null,null,null,null,null,null,null,null,null,null,null,null,null,null,null,null,null,null,null,"2022-10-08T09:32:01.130",null,null,null,null,100,{"$f":"IF($W$1>7,IF($AA$6<>0,$AA$6+$AA$5*(Z106-1),IF(opt!F101=\"\",\"\",opt!F101)),IF(opt!F101=\"\",\"\",opt!F101))","v":410},{"$f":"IF($AA106=\"\",\"\",IF($W$1>7,IF(ISERROR(AVERAGE(AE106:AF106))=TRUE,\"\",AVERAGE(AE106:AF106)),IF($W$1=5,BH106,IF($W$1=4,opt!A101,\"X\"))))","v":150.44},{"$f":"IF($AA106=\"\",\"\",IF($W$1>7,IF(ISERROR(AVERAGE(AG106:AH106))=TRUE,\"\",AVERAGE(AG106:AH106)),IF($W$1=5,BI106,IF($W$1=4,opt!G101,\"X\"))))","v":60.75},0,{"$f":"IF($AA106=\"\",\"\",RTD(\"tos.rtd\", , \"BID\",\".\"&$AF$4&$AE$4&\"C\"&$AA106))","v":150.15},{"$f":"IF($AA106=\"\",\"\",RTD(\"tos.rtd\", , \"ASK\",\".\"&$AF$4&$AE$4&\"C\"&$AA106))","v":152.85},{"$f":"IF($AA106=\"\",\"\",RTD(\"tos.rtd\", , \"BID\",\".\"&$AF$4&$AE$4&\"P\"&$AA106))","v":60.6},{"$f":"IF($AA106=\"\",\"\",RTD(\"tos.rtd\", , \"ASK\",\".\"&$AF$4&$AE$4&\"P\"&$AA106))","v":62.45},null,null,null,null,null,null,null,null,null,null,null,null,null,null,null,null,null,null,null,null,null,{"$error":"#REF!"},100,{"$f":"IF($BD106<=0,\"\",VLOOKUP($BD106,#REF!,3))","v":{"$error":"#REF!"}},"",{"$f":"IF($BG106=\"\",\"\",VLOOKUP($BD106,#REF!,5))","v":""},{"$f":"IF($BG106=\"\",\"\",VLOOKUP($BD106,#REF!,9))","v":""},null,null,null,null,"","","",null,null,null,null,"Show August, 2007 Options",null,null,null,null,null,null,null,null,null,null,null,null,null,null,null,null,""]
[null,null,null,null,null,null,null,null,null,null,null,null,null,null,null,null,null,null,null,null,"2022-10-09T09:32:01.130",null,null,null,null,null,null,null,null,null,null,null,null,null,null,null,null,null,null,null,null,null,null,null,null,null,null,null,null,null,null,null,null,null,null,null,null,null,null,null,null,null,null,null,null,null,null,null,null,null,null,null,"Show September, 2007 Options",null,null,null,null,null,null,null,null,null,null,null,null,null,null,null,null,""]
[null,null,null,null,null,null,null,null,null,null,null,null,null,null,null,null,null,null,null,null,"2022-10-10T09:32:01.130",null,null,null,null,null,null,null,null,null,null,null,null,null,null,null,null,null,null,null,null,null,null,null,null,null,null,null,null,null,null,null,null,null,null,null,null,null,null,null,null,null,null,null,null,null,null,null,null,null,null,null,"Show September, 2007 Options",null,null,null,null,null,null,null,null,null,null,null,null,null,null,null,null,""]
[null,null,null,null,null,null,null,null,null,null,null,null,null,null,null,null,null,null,null,null,"2022-10-11T09:32:01.130",null,null,null,null,null,null,null,null,null,"TOS",{"$f":"\".\"&$AF$111&$AE$111&\"C\"&$AA118","v":".AAPL221021C80"},null,null,null,null,null,null,null,null,null,null,null,null,null,null,null,null,null,null,null,null,null,null,null,null,null,null,null,null,null,null,null,null,null,"mw2",null,null,null,null,null,null,"Show December, 2007 Options",null,null,null,null,null,null,null,null,null,null,null,null,null,null,null,null,""]
[null,null,null,null,null,null,null,null,null,null,null,null,null,null,null,null,null,null,null,null,"2022-10-12T09:32:01.130",null,null,null,null,null,null,null,null,null,"DATE","SYMBOL",null,null,null,null,null,null,null,null,null,null,null,null,null,null,null,null,null,null,null,null,null,null,null,null,null,null,null,null,null,null,null,null,null,{"$f":"VLOOKUP(BT125,BR7:BS74,2)","v":{"$error":"#N/A"}},{"$f":"BN110+IF(WEEKDAY($BN110)=7,21,WEEKDAY($BN110)+(21-2*WEEKDAY($BN110)))-1","v":{"$error":"#N/A"}},null,null,null,null,null,"Show December, 2007 Options",null,null,null,null,null,null,null,null,null,null,null,null,null,null,null,null,""]
[null,null,null,null,null,null,null,null,null,null,null,null,null,null,null,null,null,null,null,null,"2022-10-13T09:32:01.130",null,null,null,null,null,null,null,null,null,{"$f":"IF(LEFT($AF$4,1)=\"/\",\"\",YEAR(Z5)-2000&IF(MONTH(Z5)<10,\"0\",\"\")&MONTH(Z5)&IF(DAY(Z5)<10,\"0\",\"\")&DAY(Z5))","v":"221021"},{"$f":"IF($AS$2=0,sum!$B$2,$AS$2&MID(sum!$E$116,LEN(sum!$E$116)-2,1)&RIGHT(sum!$E$116,1))","v":"AAPL"},{"$f":"MID(sum!$E$116,LEN(sum!$E$116)-2,1)","v":{"$error":"#VALUE!"}},null,null,null,null,null,null,null,null,null,null,null,null,null,null,null,null,null,null,null,null,null,null,null,null,null,null,null,null,null,null,null,null,null,null,null,null,null,null,null,"Show December, 2007 Options",null,null,null,null,null,null,null,null,null,null,null,null,null,null,null,null,""]
[null,null,null,null,null,null,null,null,null,null,null,null,null,null,null,null,null,null,null,null,"2022-10-14T09:32:01.130",null,null,null,null,null,null,"call avg","put avg",null,"CALLS",null,"PUTS",null,null,null,null,null,null,null,null,null,null,null,null,null,null,null,null,null,null,null,null,null,null,null,null,null,null,null,null,null,null,null,null,"s","c","p",null,null,null,null,"Show January, 2008 Options",null,null,null,null,null,null,null,null,null,null,null,null,null,null,null,null,""]
[null,null,null,null,null,null,null,null,null,null,null,null,null,null,null,null,null,null,null,null,"2022-10-15T09:32:01.130",null,null,null,null,"month2",null,null,null,{"$f":"AD6","v":0},"BID","ASK","BID","ASK",null,null,null,null,null,null,null,null,null,null,null,null,null,null,null,null,null,null,null,null,null,null,null,null,null,null,null,null,null,null,null,{"$f":"IF(ISNUMBER(CA113)=FALSE,\"\",CB113)","v":""},{"$f":"IF(BN113=\"\",\"\",IF($W$11=2,BV113,AVERAGE(BY113:BZ113)))","v":""},{"$f":"IF(BN113=\"\",\"\",IF($W$11=2,CD113,AVERAGE(CG113:CH113)))","v":""},null,null,null,null,"Show March, 2008 Options",null,null,null,null,null,null,null,null,null,null,null,null,null,null,null,null,""]
[null,null,null,null,null,null,null,null,null,null,null,null,null,null,null,null,null,null,null,null,"2022-10-16T09:32:01.130",null,null,null,null,1,{"$f":"IF(OR($W$1=4,$W$1>=6),IF('opt2'!F2=\"\",\"\",'opt2'!F2),\"X\")","v":50},{"$f":"IF($AA114=\"\",\"\",IF($W$1>7,IF(ISERROR(AVERAGE(AE114:AF114))=TRUE,\"\",AVERAGE(AE114:AF114)),IF($W$1=4,'opt2'!A2,#REF!)))","v":119.7},{"$f":"IF($AA114=\"\",\"\",IF($W$1>7,IF(ISERROR(AVERAGE(AG114:AH114))=TRUE,\"\",AVERAGE(AG114:AH114)),IF($W$1=4,'opt2'!G2,#REF!)))","v":0.01},{"$f":"AD7","v":0},{"$f":"IF($AA114=\"\",\"\",RTD(\"tos.rtd\", , \"BID\",\".\"&$AF$111&$AE$111&\"C\"&$AA114))","v":117.15},{"$f":"IF($AA114=\"\",\"\",RTD(\"tos.rtd\", , \"ASK\",\".\"&$AF$111&$AE$111&\"C\"&$AA114))","v":117.4},{"$f":"IF($AA114=\"\",\"\",RTD(\"tos.rtd\", , \"BID\",\".\"&$AF$111&$AE$111&\"P\"&$AA114))","v":0},{"$f":"IF($AA114=\"\",\"\",RTD(\"tos.rtd\", , \"ASK\",\".\"&$AF$111&$AE$111&\"P\"&$AA114))","v":0.01},null,null,null,null,null,null,null,null,null,null,null,null,null,null,null,null,null,null,null,null,null,null,null,null,null,null,null,null,null,null,null,{"$f":"IF(ISNUMBER(CA114)=FALSE,\"\",CB114)","v":""},{"$f":"IF(BN114=\"\",\"\",IF($W$11=2,BV114,AVERAGE(BY114:BZ114)))","v":""},{"$f":"IF(BN114=\"\",\"\",IF($W$11=2,CD114,AVERAGE(CG114:CH114)))","v":""},null,null,null,null,"Show March, 2008 Options",null,null,null,null,null,null,null,null,null,null,null,null,null,null,null,null,""]
[null,null,null,null,null,null,null,null,null,null,null,null,null,null,null,null,null,null,null,null,"2022-10-17T09:32:01.130",null,null,null,null,2,{"$f":"IF(OR($W$1=4,$W$1>=6),IF('opt2'!F3=\"\",\"\",'opt2'!F3),\"X\")","v":60},{"$f":"IF($AA115=\"\",\"\",IF($W$1>7,IF(ISERROR(AVERAGE(AE115:AF115))=TRUE,\"\",AVERAGE(AE115:AF115)),IF($W$1=4,'opt2'!A3,#REF!)))","v":106.75},{"$f":"IF($AA115=\"\",\"\",IF($W$1>7,IF(ISERROR(AVERAGE(AG115:AH115))=TRUE,\"\",AVERAGE(AG115:AH115)),IF($W$1=4,'opt2'!G3,#REF!)))","v":0.01},0,{"$f":"IF($AA115=\"\",\"\",RTD(\"tos.rtd\", , \"BID\",\".\"&$AF$111&$AE$111&\"C\"&$AA115))","v":107.2},{"$f":"IF($AA115=\"\",\"\",RTD(\"tos.rtd\", , \"ASK\",\".\"&$AF$111&$AE$111&\"C\"&$AA115))","v":107.4},{"$f":"IF($AA115=\"\",\"\",RTD(\"tos.rtd\", , \"BID\",\".\"&$AF$111&$AE$111&\"P\"&$AA115))","v":0},{"$f":"IF($AA115=\"\",\"\",RTD(\"tos.rtd\", , \"ASK\",\".\"&$AF$111&$AE$111&\"P\"&$AA115))","v":0.01},null,null,null,null,null,null,null,null,null,null,null,null,null,null,null,null,null,null,null,null,null,null,null,null,null,null,null,null,null,null,null,"","","",null,null,null,null,"Show December, 2008 Options",null,null,null,null,null,null,null,null,null,null,null,null,null,null,null,null,""]
[null,null,null,null,null,null,null,null,null,null,null,null,null,null,null,null,null,null,null,null,"2022-10-18T09:32:01.130",null,null,null,null,3,{"$f":"IF(OR($W$1=4,$W$1>=6),IF('opt2'!F4=\"\",\"\",'opt2'!F4),\"X\")","v":70},{"$f":"IF($AA116=\"\",\"\",IF($W$1>7,IF(ISERROR(AVERAGE(AE116:AF116))=TRUE,\"\",AVERAGE(AE116:AF116)),IF($W$1=4,'opt2'!A4,#REF!)))","v":102.95},{"$f":"IF($AA116=\"\",\"\",IF($W$1>7,IF(ISERROR(AVERAGE(AG116:AH116))=TRUE,\"\",AVERAGE(AG116:AH116)),IF($W$1=4,'opt2'!G4,#REF!)))","v":0.01},0,{"$f":"IF($AA116=\"\",\"\",RTD(\"tos.rtd\", , \"BID\",\".\"&$AF$111&$AE$111&\"C\"&$AA116))","v":97.25},{"$f":"IF($AA116=\"\",\"\",RTD(\"tos.rtd\", , \"ASK\",\".\"&$AF$111&$AE$111&\"C\"&$AA116))","v":97.45},{"$f":"IF($AA116=\"\",\"\",RTD(\"tos.rtd\", , \"BID\",\".\"&$AF$111&$AE$111&\"P\"&$AA116))","v":0},{"$f":"IF($AA116=\"\",\"\",RTD(\"tos.rtd\", , \"ASK\",\".\"&$AF$111&$AE$111&\"P\"&$AA116))","v":0.01},null,null,null,null,null,null,null,null,null,null,null,null,null,null,null,null,null,null,null,null,null,null,null,null,null,null,null,null,null,null,null,"","","",null,null,null,null,"Show December, 2008 Options",null,null,null,null,null,null,null,null,null,null,null,null,null,null,null,null,""]
[null,null,null,null,null,null,null,null,null,null,null,null,null,null,null,null,null,null,null,null,"2022-10-19T09:32:01.130",null,null,null,null,4,{"$f":"IF(OR($W$1=4,$W$1>=6),IF('opt2'!F5=\"\",\"\",'opt2'!F5),\"X\")","v":75},{"$f":"IF($AA117=\"\",\"\",IF($W$1>7,IF(ISERROR(AVERAGE(AE117:AF117))=TRUE,\"\",AVERAGE(AE117:AF117)),IF($W$1=4,'opt2'!A5,#REF!)))","v":97.15},{"$f":"IF($AA117=\"\",\"\",IF($W$1>7,IF(ISERROR(AVERAGE(AG117:AH117))=TRUE,\"\",AVERAGE(AG117:AH117)),IF($W$1=4,'opt2'!G5,#REF!)))","v":0.01},0,{"$f":"IF($AA117=\"\",\"\",RTD(\"tos.rtd\", , \"BID\",\".\"&$AF$111&$AE$111&\"C\"&$AA117))","v":92.3},{"$f":"IF($AA117=\"\",\"\",RTD(\"tos.rtd\", , \"ASK\",\".\"&$AF$111&$AE$111&\"C\"&$AA117))","v":92.5},{"$f":"IF($AA117=\"\",\"\",RTD(\"tos.rtd\", , \"BID\",\".\"&$AF$111&$AE$111&\"P\"&$AA117))","v":0},{"$f":"IF($AA117=\"\",\"\",RTD(\"tos.rtd\", , \"ASK\",\".\"&$AF$111&$AE$111&\"P\"&$AA117))","v":0.01},null,null,null,null,null,null,null,null,null,null,null,null,null,null,null,null,null,null,null,null,null,null,null,null,null,null,null,null,null,null,null,"","","",null,null,null,null,"Show January, 2009 Options",null,null,null,null,null,null,null,null,null,null,null,null,null,null,null,null,""]
[null,null,null,null,null,null,null,null,null,null,null,null,null,null,null,null,null,null,null,null,"2022-10-20T09:32:01.130",null,null,null,null,5,{"$f":"IF(OR($W$1=4,$W$1>=6),IF('opt2'!F6=\"\",\"\",'opt2'!F6),\"X\")","v":80},{"$f":"IF($AA118=\"\",\"\",IF($W$1>7,IF(ISERROR(AVERAGE(AE118:AF118))=TRUE,\"\",AVERAGE(AE118:AF118)),IF($W$1=4,'opt2'!A6,#REF!)))","v":91.1},{"$f":"IF($AA118=\"\",\"\",IF($W$1>7,IF(ISERROR(AVERAGE(AG118:AH118))=TRUE,\"\",AVERAGE(AG118:AH118)),IF($W$1=4,'opt2'!G6,#REF!)))","v":0.02},0,{"$f":"IF($AA118=\"\",\"\",RTD(\"tos.rtd\", , \"BID\",\".\"&$AF$111&$AE$111&\"C\"&$AA118))","v":87.35},{"$f":"IF($AA118=\"\",\"\",RTD(\"tos.rtd\", , \"ASK\",\".\"&$AF$111&$AE$111&\"C\"&$AA118))","v":87.5},{"$f":"IF($AA118=\"\",\"\",RTD(\"tos.rtd\", , \"BID\",\".\"&$AF$111&$AE$111&\"P\"&$AA118))","v":0.01},{"$f":"IF($AA118=\"\",\"\",RTD(\"tos.rtd\", , \"ASK\",\".\"&$AF$111&$AE$111&\"P\"&$AA118))","v":0.02},null,null,null,null,null,null,null,null,null,null,null,null,null,null,null,null,null,null,null,null,null,null,null,null,null,null,null,null,null,null,null,"","","",null,null,null,null,"Show December, 2009 Options",null,null,null,null,null,null,null,null,null,null,null,null,null,null,null,null,""]
[null,null,null,null,null,null,null,null,null,null,null,null,null,null,null,null,null,null,null,null,"2022-10-21T09:32:01.130",null,null,null,null,6,{"$f":"IF(OR($W$1=4,$W$1>=6),IF('opt2'!F7=\"\",\"\",'opt2'!F7),\"X\")","v":85},{"$f":"IF($AA119=\"\",\"\",IF($W$1>7,IF(ISERROR(AVERAGE(AE119:AF119))=TRUE,\"\",AVERAGE(AE119:AF119)),IF($W$1=4,'opt2'!A7,#REF!)))","v":84.15},{"$f":"IF($AA119=\"\",\"\",IF($W$1>7,IF(ISERROR(AVERAGE(AG119:AH119))=TRUE,\"\",AVERAGE(AG119:AH119)),IF($W$1=4,'opt2'!G7,#REF!)))","v":0.03},0,{"$f":"IF($AA119=\"\",\"\",RTD(\"tos.rtd\", , \"BID\",\".\"&$AF$111&$AE$111&\"C\"&$AA119))","v":82.35},{"$f":"IF($AA119=\"\",\"\",RTD(\"tos.rtd\", , \"ASK\",\".\"&$AF$111&$AE$111&\"C\"&$AA119))","v":82.55},{"$f":"IF($AA119=\"\",\"\",RTD(\"tos.rtd\", , \"BID\",\".\"&$AF$111&$AE$111&\"P\"&$AA119))","v":0.02},{"$f":"IF($AA119=\"\",\"\",RTD(\"tos.rtd\", , \"ASK\",\".\"&$AF$111&$AE$111&\"P\"&$AA119))","v":0.03},null,null,null,null,null,null,null,null,null,null,null,null,null,null,null,null,null,null,null,null,null,null,null,null,null,null,null,null,null,null,null,"","","",null,null,null,null,"Show All",null,null,null,null,null,null,null,null,null,null,null,null,null,null,null,null,""]
[null,null,null,null,null,null,null,null,null,null,null,null,null,null,null,null,null,null,null,null,"2022-10-22T09:32:01.130",null,null,null,null,7,{"$f":"IF(OR($W$1=4,$W$1>=6),IF('opt2'!F8=\"\",\"\",'opt2'!F8),\"X\")","v":90},{"$f":"IF($AA120=\"\",\"\",IF($W$1>7,IF(ISERROR(AVERAGE(AE120:AF120))=TRUE,\"\",AVERAGE(AE120:AF120)),IF($W$1=4,'opt2'!A8,#REF!)))","v":79.900000000000006},{"$f":"IF($AA120=\"\",\"\",IF($W$1>7,IF(ISERROR(AVERAGE(AG120:AH120))=TRUE,\"\",AVERAGE(AG120:AH120)),IF($W$1=4,'opt2'!G8,#REF!)))","v":0.03},0,{"$f":"IF($AA120=\"\",\"\",RTD(\"tos.rtd\", , \"BID\",\".\"&$AF$111&$AE$111&\"C\"&$AA120))","v":77.400000000000006},{"$f":"IF($AA120=\"\",\"\",RTD(\"tos.rtd\", , \"ASK\",\".\"&$AF$111&$AE$111&\"C\"&$AA120))","v":77.599999999999994},{"$f":"IF($AA120=\"\",\"\",RTD(\"tos.rtd\", , \"BID\",\".\"&$AF$111&$AE$111&\"P\"&$AA120))","v":0.03},{"$f":"IF($AA120=\"\",\"\",RTD(\"tos.rtd\", , \"ASK\",\".\"&$AF$111&$AE$111&\"P\"&$AA120))","v":0.04},null,null,null,null,null,null,null,null,null,null,null,null,null,null,null,null,null,null,null,null,null,null,null,null,null,null,null,null,null,null,null,"","","",null,null,null,null,null,null,null,null,null,null,null,null,null,null,null,null,null,null,null,null,null,""]
[null,null,null,null,null,null,null,null,null,null,null,null,null,null,null,null,null,null,null,null,"2022-10-23T09:32:01.130",null,null,null,null,8,{"$f":"IF(OR($W$1=4,$W$1>=6),IF('opt2'!F9=\"\",\"\",'opt2'!F9),\"X\")","v":95},{"$f":"IF($AA121=\"\",\"\",IF($W$1>7,IF(ISERROR(AVERAGE(AE121:AF121))=TRUE,\"\",AVERAGE(AE121:AF121)),IF($W$1=4,'opt2'!A9,#REF!)))","v":72.95},{"$f":"IF($AA121=\"\",\"\",IF($W$1>7,IF(ISERROR(AVERAGE(AG121:AH121))=TRUE,\"\",AVERAGE(AG121:AH121)),IF($W$1=4,'opt2'!G9,#REF!)))","v":0.06},0,{"$f":"IF($AA121=\"\",\"\",RTD(\"tos.rtd\", , \"BID\",\".\"&$AF$111&$AE$111&\"C\"&$AA121))","v":72.45},{"$f":"IF($AA121=\"\",\"\",RTD(\"tos.rtd\", , \"ASK\",\".\"&$AF$111&$AE$111&\"C\"&$AA121))","v":72.650000000000006},{"$f":"IF($AA121=\"\",\"\",RTD(\"tos.rtd\", , \"BID\",\".\"&$AF$111&$AE$111&\"P\"&$AA121))","v":0.05},{"$f":"IF($AA121=\"\",\"\",RTD(\"tos.rtd\", , \"ASK\",\".\"&$AF$111&$AE$111&\"P\"&$AA121))","v":0.06},null,null,null,null,null,null,null,null,null,null,null,null,null,null,null,null,null,null,null,null,null,null,null,null,null,null,null,null,null,null,null,"","","",null,null,null,null," TRADING CENTER",null,null,null,null,null,null,null,null,null,null,null,null,null,null,null,null,""]
[null,null,null,null,null,null,null,null,null,null,null,null,null,null,null,null,null,null,null,null,"2022-10-24T09:32:01.130",null,null,null,null,9,{"$f":"IF(OR($W$1=4,$W$1>=6),IF('opt2'!F10=\"\",\"\",'opt2'!F10),\"X\")","v":100},{"$f":"IF($AA122=\"\",\"\",IF($W$1>7,IF(ISERROR(AVERAGE(AE122:AF122))=TRUE,\"\",AVERAGE(AE122:AF122)),IF($W$1=4,'opt2'!A10,#REF!)))","v":69.75},{"$f":"IF($AA122=\"\",\"\",IF($W$1>7,IF(ISERROR(AVERAGE(AG122:AH122))=TRUE,\"\",AVERAGE(AG122:AH122)),IF($W$1=4,'opt2'!G10,#REF!)))","v":0.08},0,{"$f":"IF($AA122=\"\",\"\",RTD(\"tos.rtd\", , \"BID\",\".\"&$AF$111&$AE$111&\"C\"&$AA122))","v":67.5},{"$f":"IF($AA122=\"\",\"\",RTD(\"tos.rtd\", , \"ASK\",\".\"&$AF$111&$AE$111&\"C\"&$AA122))","v":67.650000000000006},{"$f":"IF($AA122=\"\",\"\",RTD(\"tos.rtd\", , \"BID\",\".\"&$AF$111&$AE$111&\"P\"&$AA122))","v":0.08},{"$f":"IF($AA122=\"\",\"\",RTD(\"tos.rtd\", , \"ASK\",\".\"&$AF$111&$AE$111&\"P\"&$AA122))","v":0.09},null,null,null,null,null,null,null,null,null,null,null,null,null,null,null,null,null,null,null,null,null,null,null,null,null,null,null,null,null,null,null,"","","",null,null,null,null,null,null,null,null,null,null,null,null,null,null,null,null,null,null,null,null,null,""]
[null,null,null,null,null,null,null,null,null,null,null,null,null,null,null,null,null,null,null,null,"2022-10-25T09:32:01.130",null,null,null,null,10,{"$f":"IF(OR($W$1=4,$W$1>=6),IF('opt2'!F11=\"\",\"\",'opt2'!F11),\"X\")","v":105},{"$f":"IF($AA123=\"\",\"\",IF($W$1>7,IF(ISERROR(AVERAGE(AE123:AF123))=TRUE,\"\",AVERAGE(AE123:AF123)),IF($W$1=4,'opt2'!A11,#REF!)))","v":63.5},{"$f":"IF($AA123=\"\",\"\",IF($W$1>7,IF(ISERROR(AVERAGE(AG123:AH123))=TRUE,\"\",AVERAGE(AG123:AH123)),IF($W$1=4,'opt2'!G11,#REF!)))","v":0.11},0,{"$f":"IF($AA123=\"\",\"\",RTD(\"tos.rtd\", , \"BID\",\".\"&$AF$111&$AE$111&\"C\"&$AA123))","v":62.55},{"$f":"IF($AA123=\"\",\"\",RTD(\"tos.rtd\", , \"ASK\",\".\"&$AF$111&$AE$111&\"C\"&$AA123))","v":62.75},{"$f":"IF($AA123=\"\",\"\",RTD(\"tos.rtd\", , \"BID\",\".\"&$AF$111&$AE$111&\"P\"&$AA123))","v":0.11},{"$f":"IF($AA123=\"\",\"\",RTD(\"tos.rtd\", , \"ASK\",\".\"&$AF$111&$AE$111&\"P\"&$AA123))","v":0.12},null,null,null,null,null,null,null,null,null,null,null,null,null,null,null,null,null,null,null,null,null,null,null,null,null,null,null,null,null,null,null,"","","",null,null,null,null,null,null,null,null,null,null,null,null,null,null,null,null,null,null,null,null,null,""]
[null,null,null,null,null,null,null,null,null,null,null,null,null,null,null,null,null,null,null,null,"2022-10-26T09:32:01.130",null,null,null,null,11,{"$f":"IF(OR($W$1=4,$W$1>=6),IF('opt2'!F12=\"\",\"\",'opt2'!F12),\"X\")","v":110},{"$f":"IF($AA124=\"\",\"\",IF($W$1>7,IF(ISERROR(AVERAGE(AE124:AF124))=TRUE,\"\",AVERAGE(AE124:AF124)),IF($W$1=4,'opt2'!A12,#REF!)))","v":59.35},{"$f":"IF($AA124=\"\",\"\",IF($W$1>7,IF(ISERROR(AVERAGE(AG124:AH124))=TRUE,\"\",AVERAGE(AG124:AH124)),IF($W$1=4,'opt2'!G12,#REF!)))","v":0.16},0,{"$f":"IF($AA124=\"\",\"\",RTD(\"tos.rtd\", , \"BID\",\".\"&$AF$111&$AE$111&\"C\"&$AA124))","v":57.6},{"$f":"IF($AA124=\"\",\"\",RTD(\"tos.rtd\", , \"ASK\",\".\"&$AF$111&$AE$111&\"C\"&$AA124))","v":57.75},{"$f":"IF($AA124=\"\",\"\",RTD(\"tos.rtd\", , \"BID\",\".\"&$AF$111&$AE$111&\"P\"&$AA124))","v":0.15},{"$f":"IF($AA124=\"\",\"\",RTD(\"tos.rtd\", , \"ASK\",\".\"&$AF$111&$AE$111&\"P\"&$AA124))","v":0.16},null,null,null,null,null,null,null,null,null,null,null,null,null,null,null,null,null,null,null,null,null,null,null,null,null,null,null,null,null,null,null,"","","",null,null,null,null," Sponsored Links",null,null,null,null,null,null,null,null,null,null,null,null,null,null,null,null,""]
[null,null,null,null,null,null,null,null,null,null,null,null,null,null,null,null,null,null,null,null,"2022-10-27T09:32:01.130",null,null,null,null,12,{"$f":"IF(OR($W$1=4,$W$1>=6),IF('opt2'!F13=\"\",\"\",'opt2'!F13),\"X\")","v":115},{"$f":"IF($AA125=\"\",\"\",IF($W$1>7,IF(ISERROR(AVERAGE(AE125:AF125))=TRUE,\"\",AVERAGE(AE125:AF125)),IF($W$1=4,'opt2'!A13,#REF!)))","v":53.45},{"$f":"IF($AA125=\"\",\"\",IF($W$1>7,IF(ISERROR(AVERAGE(AG125:AH125))=TRUE,\"\",AVERAGE(AG125:AH125)),IF($W$1=4,'opt2'!G13,#REF!)))","v":0.2},0,{"$f":"IF($AA125=\"\",\"\",RTD(\"tos.rtd\", , \"BID\",\".\"&$AF$111&$AE$111&\"C\"&$AA125))","v":52.7},{"$f":"IF($AA125=\"\",\"\",RTD(\"tos.rtd\", , \"ASK\",\".\"&$AF$111&$AE$111&\"C\"&$AA125))","v":52.85},{"$f":"IF($AA125=\"\",\"\",RTD(\"tos.rtd\", , \"BID\",\".\"&$AF$111&$AE$111&\"P\"&$AA125))","v":0.2},{"$f":"IF($AA125=\"\",\"\",RTD(\"tos.rtd\", , \"ASK\",\".\"&$AF$111&$AE$111&\"P\"&$AA125))","v":0.21},null,null,null,null,null,null,null,null,null,null,null,null,null,null,null,null,null,null,null,null,null,null,null,null,null,null,null,null,null,null,null,"","","",null,null,null,null,null,null,null,null,null,null,null,null,null,null,null,null,null,null,null,null,null,""]
[null,null,null,null,null,null,null,null,null,null,null,null,null,null,null,null,null,null,null,null,"2022-10-28T09:32:01.130",null,null,null,null,13,{"$f":"IF(OR($W$1=4,$W$1>=6),IF('opt2'!F14=\"\",\"\",'opt2'!F14),\"X\")","v":120},{"$f":"IF($AA126=\"\",\"\",IF($W$1>7,IF(ISERROR(AVERAGE(AE126:AF126))=TRUE,\"\",AVERAGE(AE126:AF126)),IF($W$1=4,'opt2'!A14,#REF!)))","v":49.05},{"$f":"IF($AA126=\"\",\"\",IF($W$1>7,IF(ISERROR(AVERAGE(AG126:AH126))=TRUE,\"\",AVERAGE(AG126:AH126)),IF($W$1=4,'opt2'!G14,#REF!)))","v":0.3},0,{"$f":"IF($AA126=\"\",\"\",RTD(\"tos.rtd\", , \"BID\",\".\"&$AF$111&$AE$111&\"C\"&$AA126))","v":47.8},{"$f":"IF($AA126=\"\",\"\",RTD(\"tos.rtd\", , \"ASK\",\".\"&$AF$111&$AE$111&\"C\"&$AA126))","v":47.95},{"$f":"IF($AA126=\"\",\"\",RTD(\"tos.rtd\", , \"BID\",\".\"&$AF$111&$AE$111&\"P\"&$AA126))","v":0.28000000000000003},{"$f":"IF($AA126=\"\",\"\",RTD(\"tos.rtd\", , \"ASK\",\".\"&$AF$111&$AE$111&\"P\"&$AA126))","v":0.28999999999999998},null,null,null,null,null,null,null,null,null,null,null,null,null,null,null,null,null,null,null,null,null,null,null,null,null,null,null,null,null,null,null,"","","",null,null,null,null,null,null,null,null,null,null,null,null,null,null,null,null,null,null,null,null,null,""]
[null,null,null,null,null,null,null,null,null,null,null,null,null,null,null,null,null,null,null,null,"2022-10-29T09:32:01.130",null,null,null,null,14,{"$f":"IF(OR($W$1=4,$W$1>=6),IF('opt2'!F15=\"\",\"\",'opt2'!F15),\"X\")","v":125},{"$f":"IF($AA127=\"\",\"\",IF($W$1>7,IF(ISERROR(AVERAGE(AE127:AF127))=TRUE,\"\",AVERAGE(AE127:AF127)),IF($W$1=4,'opt2'!A15,#REF!)))","v":45.13},{"$f":"IF($AA127=\"\",\"\",IF($W$1>7,IF(ISERROR(AVERAGE(AG127:AH127))=TRUE,\"\",AVERAGE(AG127:AH127)),IF($W$1=4,'opt2'!G15,#REF!)))","v":0.42},0,{"$f":"IF($AA127=\"\",\"\",RTD(\"tos.rtd\", , \"BID\",\".\"&$AF$111&$AE$111&\"C\"&$AA127))","v":42.9},{"$f":"IF($AA127=\"\",\"\",RTD(\"tos.rtd\", , \"ASK\",\".\"&$AF$111&$AE$111&\"C\"&$AA127))","v":43.05},{"$f":"IF($AA127=\"\",\"\",RTD(\"tos.rtd\", , \"BID\",\".\"&$AF$111&$AE$111&\"P\"&$AA127))","v":0.39},{"$f":"IF($AA127=\"\",\"\",RTD(\"tos.rtd\", , \"ASK\",\".\"&$AF$111&$AE$111&\"P\"&$AA127))","v":0.4},null,null,null,null,null,null,null,null,null,null,null,null,null,null,null,null,null,null,null,null,null,null,null,null,null,null,null,null,null,null,null,"","","",null,null,null,null,null,null,null,null,null,null,null,null,null,null,null,null,null,null,null,null,null,""]
[null,null,null,null,null,null,null,null,null,null,null,null,null,null,null,null,null,null,null,null,"2022-10-30T09:32:01.130",null,null,null,null,15,{"$f":"IF(OR($W$1=4,$W$1>=6),IF('opt2'!F16=\"\",\"\",'opt2'!F16),\"X\")","v":130},{"$f":"IF($AA128=\"\",\"\",IF($W$1>7,IF(ISERROR(AVERAGE(AE128:AF128))=TRUE,\"\",AVERAGE(AE128:AF128)),IF($W$1=4,'opt2'!A16,#REF!)))","v":38.299999999999997},{"$f":"IF($AA128=\"\",\"\",IF($W$1>7,IF(ISERROR(AVERAGE(AG128:AH128))=TRUE,\"\",AVERAGE(AG128:AH128)),IF($W$1=4,'opt2'!G16,#REF!)))","v":0.6},0,{"$f":"IF($AA128=\"\",\"\",RTD(\"tos.rtd\", , \"BID\",\".\"&$AF$111&$AE$111&\"C\"&$AA128))","v":38.1},{"$f":"IF($AA128=\"\",\"\",RTD(\"tos.rtd\", , \"ASK\",\".\"&$AF$111&$AE$111&\"C\"&$AA128))","v":38.25},{"$f":"IF($AA128=\"\",\"\",RTD(\"tos.rtd\", , \"BID\",\".\"&$AF$111&$AE$111&\"P\"&$AA128))","v":0.55000000000000004},{"$f":"IF($AA128=\"\",\"\",RTD(\"tos.rtd\", , \"ASK\",\".\"&$AF$111&$AE$111&\"P\"&$AA128))","v":0.56000000000000005},null,null,null,null,null,null,null,null,null,null,null,null,null,null,null,null,null,null,null,null,null,null,null,null,null,null,null,null,null,null,null,{"$f":"IF(ISNUMBER(CA128)=FALSE,\"\",CB128)","v":""},{"$f":"IF(BN128=\"\",\"\",IF($W$11=2,BV128,AVERAGE(BY128:BZ128)))","v":""},{"$f":"IF(BN128=\"\",\"\",IF($W$11=2,CD128,AVERAGE(CG128:CH128)))","v":""},null,null,null,null,null,null,null,null,null,null,null,null,null,null,null,null,null,null,null,null,null,""]
[null,null,null,null,null,null,null,null,null,null,null,null,null,null,null,null,null,null,null,null,"2022-10-31T09:32:01.130",null,null,null,null,16,{"$f":"IF(OR($W$1=4,$W$1>=6),IF('opt2'!F17=\"\",\"\",'opt2'!F17),\"X\")","v":135},{"$f":"IF($AA129=\"\",\"\",IF($W$1>7,IF(ISERROR(AVERAGE(AE129:AF129))=TRUE,\"\",AVERAGE(AE129:AF129)),IF($W$1=4,'opt2'!A17,#REF!)))","v":33.090000000000003},{"$f":"IF($AA129=\"\",\"\",IF($W$1>7,IF(ISERROR(AVERAGE(AG129:AH129))=TRUE,\"\",AVERAGE(AG129:AH129)),IF($W$1=4,'opt2'!G17,#REF!)))","v":0.83},0,{"$f":"IF($AA129=\"\",\"\",RTD(\"tos.rtd\", , \"BID\",\".\"&$AF$111&$AE$111&\"C\"&$AA129))","v":33.35},{"$f":"IF($AA129=\"\",\"\",RTD(\"tos.rtd\", , \"ASK\",\".\"&$AF$111&$AE$111&\"C\"&$AA129))","v":33.5},{"$f":"IF($AA129=\"\",\"\",RTD(\"tos.rtd\", , \"BID\",\".\"&$AF$111&$AE$111&\"P\"&$AA129))","v":0.78},{"$f":"IF($AA129=\"\",\"\",RTD(\"tos.rtd\", , \"ASK\",\".\"&$AF$111&$AE$111&\"P\"&$AA129))","v":0.79},null,null,null,null,null,null,null,null,null,null,null,null,null,null,null,null,null,null,null,null,null,null,null,null,null,null,null,null,null,null,null,"","","",null,null,null,null,null,null,null,null,null,null,null,null,null,null,null,null,null,null,null,null,null,""]
[null,null,null,null,null,null,null,null,null,null,null,null,null,null,null,null,null,null,null,null,"2022-11-01T09:32:01.130",null,null,null,null,17,{"$f":"IF(OR($W$1=4,$W$1>=6),IF('opt2'!F18=\"\",\"\",'opt2'!F18),\"X\")","v":140},{"$f":"IF($AA130=\"\",\"\",IF($W$1>7,IF(ISERROR(AVERAGE(AE130:AF130))=TRUE,\"\",AVERAGE(AE130:AF130)),IF($W$1=4,'opt2'!A18,#REF!)))","v":29.3},{"$f":"IF($AA130=\"\",\"\",IF($W$1>7,IF(ISERROR(AVERAGE(AG130:AH130))=TRUE,\"\",AVERAGE(AG130:AH130)),IF($W$1=4,'opt2'!G18,#REF!)))","v":1.1599999999999999},0,{"$f":"IF($AA130=\"\",\"\",RTD(\"tos.rtd\", , \"BID\",\".\"&$AF$111&$AE$111&\"C\"&$AA130))","v":28.75},{"$f":"IF($AA130=\"\",\"\",RTD(\"tos.rtd\", , \"ASK\",\".\"&$AF$111&$AE$111&\"C\"&$AA130))","v":28.85},{"$f":"IF($AA130=\"\",\"\",RTD(\"tos.rtd\", , \"BID\",\".\"&$AF$111&$AE$111&\"P\"&$AA130))","v":1.1100000000000001},{"$f":"IF($AA130=\"\",\"\",RTD(\"tos.rtd\", , \"ASK\",\".\"&$AF$111&$AE$111&\"P\"&$AA130))","v":1.1299999999999999},null,null,null,null,null,null,null,null,null,null,null,null,null,null,null,null,null,null,null,null,null,null,null,null,null,null,null,null,null,null,null,"","","",null,null,null,null,null,null,null,null,null,null,null,null,null,null,null,null,null,null,null,null,null,""]
[null,null,null,null,null,null,null,null,null,null,null,null,null,null,null,null,null,null,null,null,{"$f":"U130+1","v":"2022-11-02T09:32:01.130"},null,null,null,null,18,{"$f":"IF(OR($W$1=4,$W$1>=6),IF('opt2'!F19=\"\",\"\",'opt2'!F19),\"X\")","v":145},{"$f":"IF($AA131=\"\",\"\",IF($W$1>7,IF(ISERROR(AVERAGE(AE131:AF131))=TRUE,\"\",AVERAGE(AE131:AF131)),IF($W$1=4,'opt2'!A19,#REF!)))","v":23.85},{"$f":"IF($AA131=\"\",\"\",IF($W$1>7,IF(ISERROR(AVERAGE(AG131:AH131))=TRUE,\"\",AVERAGE(AG131:AH131)),IF($W$1=4,'opt2'!G19,#REF!)))","v":1.64},0,{"$f":"IF($AA131=\"\",\"\",RTD(\"tos.rtd\", , \"BID\",\".\"&$AF$111&$AE$111&\"C\"&$AA131))","v":24.25},{"$f":"IF($AA131=\"\",\"\",RTD(\"tos.rtd\", , \"ASK\",\".\"&$AF$111&$AE$111&\"C\"&$AA131))","v":24.35},{"$f":"IF($AA131=\"\",\"\",RTD(\"tos.rtd\", , \"BID\",\".\"&$AF$111&$AE$111&\"P\"&$AA131))","v":1.59},{"$f":"IF($AA131=\"\",\"\",RTD(\"tos.rtd\", , \"ASK\",\".\"&$AF$111&$AE$111&\"P\"&$AA131))","v":1.61},null,null,null,null,null,null,null,null,null,null,null,null,null,null,null,null,null,null,null,null,null,null,null,null,null,null,null,null,null,null,null,"","","",null,null,null,null,null,null,null,null,null,null,null,null,null,null,null,null,null,null,null,null,null,""]
[null,null,null,null,null,null,null,null,null,null,null,null,null,null,null,null,null,null,null,null,"2022-11-03T09:32:01.130",null,null,null,null,19,{"$f":"IF(OR($W$1=4,$W$1>=6),IF('opt2'!F20=\"\",\"\",'opt2'!F20),\"X\")","v":150},{"$f":"IF($AA132=\"\",\"\",IF($W$1>7,IF(ISERROR(AVERAGE(AE132:AF132))=TRUE,\"\",AVERAGE(AE132:AF132)),IF($W$1=4,'opt2'!A20,#REF!)))","v":20},{"$f":"IF($AA132=\"\",\"\",IF($W$1>7,IF(ISERROR(AVERAGE(AG132:AH132))=TRUE,\"\",AVERAGE(AG132:AH132)),IF($W$1=4,'opt2'!G20,#REF!)))","v":2.4500000000000002},0,{"$f":"IF($AA132=\"\",\"\",RTD(\"tos.rtd\", , \"BID\",\".\"&$AF$111&$AE$111&\"C\"&$AA132))","v":19.899999999999999},{"$f":"IF($AA132=\"\",\"\",RTD(\"tos.rtd\", , \"ASK\",\".\"&$AF$111&$AE$111&\"C\"&$AA132))","v":20.05},{"$f":"IF($AA132=\"\",\"\",RTD(\"tos.rtd\", , \"BID\",\".\"&$AF$111&$AE$111&\"P\"&$AA132))","v":2.2599999999999998},{"$f":"IF($AA132=\"\",\"\",RTD(\"tos.rtd\", , \"ASK\",\".\"&$AF$111&$AE$111&\"P\"&$AA132))","v":2.2799999999999998},null,null,null,null,null,null,null,null,null,null,null,null,null,null,null,null,null,null,null,null,null,null,null,null,null,null,null,null,null,null,null,"","","",null,null,null,null,null,null,null,null,null,null,null,null,null,null,null,null,null,null,null,null,null,""]
[null,null,null,null,null,null,null,null,null,null,null,null,null,null,null,null,null,null,null,null,"2022-11-04T09:32:01.130",null,null,null,null,20,{"$f":"IF(OR($W$1=4,$W$1>=6),IF('opt2'!F21=\"\",\"\",'opt2'!F21),\"X\")","v":155},{"$f":"IF($AA133=\"\",\"\",IF($W$1>7,IF(ISERROR(AVERAGE(AE133:AF133))=TRUE,\"\",AVERAGE(AE133:AF133)),IF($W$1=4,'opt2'!A21,#REF!)))","v":15.6},{"$f":"IF($AA133=\"\",\"\",IF($W$1>7,IF(ISERROR(AVERAGE(AG133:AH133))=TRUE,\"\",AVERAGE(AG133:AH133)),IF($W$1=4,'opt2'!G21,#REF!)))","v":3.43},0,{"$f":"IF($AA133=\"\",\"\",RTD(\"tos.rtd\", , \"BID\",\".\"&$AF$111&$AE$111&\"C\"&$AA133))","v":15.9},{"$f":"IF($AA133=\"\",\"\",RTD(\"tos.rtd\", , \"ASK\",\".\"&$AF$111&$AE$111&\"C\"&$AA133))","v":16},{"$f":"IF($AA133=\"\",\"\",RTD(\"tos.rtd\", , \"BID\",\".\"&$AF$111&$AE$111&\"P\"&$AA133))","v":3.2},{"$f":"IF($AA133=\"\",\"\",RTD(\"tos.rtd\", , \"ASK\",\".\"&$AF$111&$AE$111&\"P\"&$AA133))","v":3.25},null,null,null,null,null,null,null,null,null,null,null,null,null,null,null,null,null,null,null,null,null,null,null,null,null,null,null,null,null,null,null,"","","",null,null,null,null,null,null,null,null,null,null,null,null,null,null,null,null,null,null,null,null,null,""]
[null,null,null,null,null,null,null,null,null,null,null,null,null,null,null,null,null,null,null,null,"2022-11-05T09:32:01.130",null,null,null,null,21,{"$f":"IF(OR($W$1=4,$W$1>=6),IF('opt2'!F22=\"\",\"\",'opt2'!F22),\"X\")","v":160},{"$f":"IF($AA134=\"\",\"\",IF($W$1>7,IF(ISERROR(AVERAGE(AE134:AF134))=TRUE,\"\",AVERAGE(AE134:AF134)),IF($W$1=4,'opt2'!A22,#REF!)))","v":11.85},{"$f":"IF($AA134=\"\",\"\",IF($W$1>7,IF(ISERROR(AVERAGE(AG134:AH134))=TRUE,\"\",AVERAGE(AG134:AH134)),IF($W$1=4,'opt2'!G22,#REF!)))","v":4.55},0,{"$f":"IF($AA134=\"\",\"\",RTD(\"tos.rtd\", , \"BID\",\".\"&$AF$111&$AE$111&\"C\"&$AA134))","v":12.15},{"$f":"IF($AA134=\"\",\"\",RTD(\"tos.rtd\", , \"ASK\",\".\"&$AF$111&$AE$111&\"C\"&$AA134))","v":12.25},{"$f":"IF($AA134=\"\",\"\",RTD(\"tos.rtd\", , \"BID\",\".\"&$AF$111&$AE$111&\"P\"&$AA134))","v":4.45},{"$f":"IF($AA134=\"\",\"\",RTD(\"tos.rtd\", , \"ASK\",\".\"&$AF$111&$AE$111&\"P\"&$AA134))","v":4.5},null,null,null,null,null,null,null,null,null,null,null,null,null,null,null,null,null,null,null,null,null,null,null,null,null,null,null,null,null,null,null,"","","",null,null,null,null,null,null,null,null,null,null,null,null,null,null,null,null,null,null,null,null,null,""]
[null,null,null,null,null,null,null,null,null,null,null,null,null,null,null,null,null,null,null,null,"2022-11-06T09:32:01.130",null,null,null,null,22,{"$f":"IF(OR($W$1=4,$W$1>=6),IF('opt2'!F23=\"\",\"\",'opt2'!F23),\"X\")","v":165},{"$f":"IF($AA135=\"\",\"\",IF($W$1>7,IF(ISERROR(AVERAGE(AE135:AF135))=TRUE,\"\",AVERAGE(AE135:AF135)),IF($W$1=4,'opt2'!A23,#REF!)))","v":8.9},{"$f":"IF($AA135=\"\",\"\",IF($W$1>7,IF(ISERROR(AVERAGE(AG135:AH135))=TRUE,\"\",AVERAGE(AG135:AH135)),IF($W$1=4,'opt2'!G23,#REF!)))","v":6.25},0,{"$f":"IF($AA135=\"\",\"\",RTD(\"tos.rtd\", , \"BID\",\".\"&$AF$111&$AE$111&\"C\"&$AA135))","v":8.85},{"$f":"IF($AA135=\"\",\"\",RTD(\"tos.rtd\", , \"ASK\",\".\"&$AF$111&$AE$111&\"C\"&$AA135))","v":8.9499999999999993},{"$f":"IF($AA135=\"\",\"\",RTD(\"tos.rtd\", , \"BID\",\".\"&$AF$111&$AE$111&\"P\"&$AA135))","v":6.1},{"$f":"IF($AA135=\"\",\"\",RTD(\"tos.rtd\", , \"ASK\",\".\"&$AF$111&$AE$111&\"P\"&$AA135))","v":6.2},null,null,null,null,null,null,null,null,null,null,null,null,null,null,null,null,null,null,null,null,null,null,null,null,null,null,null,null,null,null,null,"","","",null,null,null,null,null,null,null,null,null,null,null,null,null,null,null,null,null,null,null,null,null,""]
[null,null,null,null,null,null,null,null,null,null,null,null,null,null,null,null,null,null,null,null,"2022-11-07T09:32:01.130",null,null,null,null,23,{"$f":"IF(OR($W$1=4,$W$1>=6),IF('opt2'!F24=\"\",\"\",'opt2'!F24),\"X\")","v":170},{"$f":"IF($AA136=\"\",\"\",IF($W$1>7,IF(ISERROR(AVERAGE(AE136:AF136))=TRUE,\"\",AVERAGE(AE136:AF136)),IF($W$1=4,'opt2'!A24,#REF!)))","v":6.08},{"$f":"IF($AA136=\"\",\"\",IF($W$1>7,IF(ISERROR(AVERAGE(AG136:AH136))=TRUE,\"\",AVERAGE(AG136:AH136)),IF($W$1=4,'opt2'!G24,#REF!)))","v":8.6},0,{"$f":"IF($AA136=\"\",\"\",RTD(\"tos.rtd\", , \"BID\",\".\"&$AF$111&$AE$111&\"C\"&$AA136))","v":6.05},{"$f":"IF($AA136=\"\",\"\",RTD(\"tos.rtd\", , \"ASK\",\".\"&$AF$111&$AE$111&\"C\"&$AA136))","v":6.1},{"$f":"IF($AA136=\"\",\"\",RTD(\"tos.rtd\", , \"BID\",\".\"&$AF$111&$AE$111&\"P\"&$AA136))","v":8.3000000000000007},{"$f":"IF($AA136=\"\",\"\",RTD(\"tos.rtd\", , \"ASK\",\".\"&$AF$111&$AE$111&\"P\"&$AA136))","v":8.35},null,null,null,null,null,null,null,null,null,null,null,null,null,null,null,null,null,null,null,null,null,null,null,null,null,null,null,null,null,null,null,"","","",null,null,null,null,null,null,null,null,null,null,null,null,null,null,null,null,null,null,null,null,null,""]
[null,null,null,null,null,null,null,null,null,null,null,null,null,null,null,null,null,null,null,null,"2022-11-08T09:32:01.130",null,null,null,null,24,{"$f":"IF(OR($W$1=4,$W$1>=6),IF('opt2'!F25=\"\",\"\",'opt2'!F25),\"X\")","v":175},{"$f":"IF($AA137=\"\",\"\",IF($W$1>7,IF(ISERROR(AVERAGE(AE137:AF137))=TRUE,\"\",AVERAGE(AE137:AF137)),IF($W$1=4,'opt2'!A25,#REF!)))","v":3.75},{"$f":"IF($AA137=\"\",\"\",IF($W$1>7,IF(ISERROR(AVERAGE(AG137:AH137))=TRUE,\"\",AVERAGE(AG137:AH137)),IF($W$1=4,'opt2'!G25,#REF!)))","v":11.6},0,{"$f":"IF($AA137=\"\",\"\",RTD(\"tos.rtd\", , \"BID\",\".\"&$AF$111&$AE$111&\"C\"&$AA137))","v":3.8},{"$f":"IF($AA137=\"\",\"\",RTD(\"tos.rtd\", , \"ASK\",\".\"&$AF$111&$AE$111&\"C\"&$AA137))","v":3.9},{"$f":"IF($AA137=\"\",\"\",RTD(\"tos.rtd\", , \"BID\",\".\"&$AF$111&$AE$111&\"P\"&$AA137))","v":11.05},{"$f":"IF($AA137=\"\",\"\",RTD(\"tos.rtd\", , \"ASK\",\".\"&$AF$111&$AE$111&\"P\"&$AA137))","v":11.2},null,null,null,null,null,null,null,null,null,null,null,null,null,null,null,null,null,null,null,null,null,null,null,null,null,null,null,null,null,null,null,"","","",null,null,null,null,null,null,null,null,null,null,null,null,null,null,null,null,null,null,null,null,null,""]
[null,null,null,null,null,null,null,null,null,null,null,null,null,null,null,null,null,null,null,null,"2022-11-09T09:32:01.130",null,null,null,null,25,{"$f":"IF(OR($W$1=4,$W$1>=6),IF('opt2'!F26=\"\",\"\",'opt2'!F26),\"X\")","v":180},{"$f":"IF($AA138=\"\",\"\",IF($W$1>7,IF(ISERROR(AVERAGE(AE138:AF138))=TRUE,\"\",AVERAGE(AE138:AF138)),IF($W$1=4,'opt2'!A26,#REF!)))","v":2.2799999999999998},{"$f":"IF($AA138=\"\",\"\",IF($W$1>7,IF(ISERROR(AVERAGE(AG138:AH138))=TRUE,\"\",AVERAGE(AG138:AH138)),IF($W$1=4,'opt2'!G26,#REF!)))","v":14.97},0,{"$f":"IF($AA138=\"\",\"\",RTD(\"tos.rtd\", , \"BID\",\".\"&$AF$111&$AE$111&\"C\"&$AA138))","v":2.23},{"$f":"IF($AA138=\"\",\"\",RTD(\"tos.rtd\", , \"ASK\",\".\"&$AF$111&$AE$111&\"C\"&$AA138))","v":2.2599999999999998},{"$f":"IF($AA138=\"\",\"\",RTD(\"tos.rtd\", , \"BID\",\".\"&$AF$111&$AE$111&\"P\"&$AA138))","v":14.5},{"$f":"IF($AA138=\"\",\"\",RTD(\"tos.rtd\", , \"ASK\",\".\"&$AF$111&$AE$111&\"P\"&$AA138))","v":14.6},null,null,null,null,null,null,null,null,null,null,null,null,null,null,null,null,null,null,null,null,null,null,null,null,null,null,null,null,null,null,null,"","","",null,null,null,null,null,null,null,null,null,null,null,null,null,null,null,null,null,null,null,null,null,""]
[null,null,null,null,null,null,null,null,null,null,null,null,null,null,null,null,null,null,null,null,"2022-11-10T09:32:01.130",null,null,null,null,26,{"$f":"IF(OR($W$1=4,$W$1>=6),IF('opt2'!F27=\"\",\"\",'opt2'!F27),\"X\")","v":185},{"$f":"IF($AA139=\"\",\"\",IF($W$1>7,IF(ISERROR(AVERAGE(AE139:AF139))=TRUE,\"\",AVERAGE(AE139:AF139)),IF($W$1=4,'opt2'!A27,#REF!)))","v":1.22},{"$f":"IF($AA139=\"\",\"\",IF($W$1>7,IF(ISERROR(AVERAGE(AG139:AH139))=TRUE,\"\",AVERAGE(AG139:AH139)),IF($W$1=4,'opt2'!G27,#REF!)))","v":19.03},0,{"$f":"IF($AA139=\"\",\"\",RTD(\"tos.rtd\", , \"BID\",\".\"&$AF$111&$AE$111&\"C\"&$AA139))","v":1.22},{"$f":"IF($AA139=\"\",\"\",RTD(\"tos.rtd\", , \"ASK\",\".\"&$AF$111&$AE$111&\"C\"&$AA139))","v":1.24},{"$f":"IF($AA139=\"\",\"\",RTD(\"tos.rtd\", , \"BID\",\".\"&$AF$111&$AE$111&\"P\"&$AA139))","v":18.55},{"$f":"IF($AA139=\"\",\"\",RTD(\"tos.rtd\", , \"ASK\",\".\"&$AF$111&$AE$111&\"P\"&$AA139))","v":18.649999999999999},null,null,null,null,null,null,null,null,null,null,null,null,null,null,null,null,null,null,null,null,null,null,null,null,null,null,null,null,null,null,null,"","","",null,null,null,null,null,null,null,null,null,null,null,null,null,null,null,null,null,null,null,null,null,""]
[null,null,null,null,null,null,null,null,null,null,null,null,null,null,null,null,null,null,null,null,"2022-11-11T09:32:01.130",null,null,null,null,27,{"$f":"IF(OR($W$1=4,$W$1>=6),IF('opt2'!F28=\"\",\"\",'opt2'!F28),\"X\")","v":190},{"$f":"IF($AA140=\"\",\"\",IF($W$1>7,IF(ISERROR(AVERAGE(AE140:AF140))=TRUE,\"\",AVERAGE(AE140:AF140)),IF($W$1=4,'opt2'!A28,#REF!)))","v":0.67},{"$f":"IF($AA140=\"\",\"\",IF($W$1>7,IF(ISERROR(AVERAGE(AG140:AH140))=TRUE,\"\",AVERAGE(AG140:AH140)),IF($W$1=4,'opt2'!G28,#REF!)))","v":23.27},0,{"$f":"IF($AA140=\"\",\"\",RTD(\"tos.rtd\", , \"BID\",\".\"&$AF$111&$AE$111&\"C\"&$AA140))","v":0.64},{"$f":"IF($AA140=\"\",\"\",RTD(\"tos.rtd\", , \"ASK\",\".\"&$AF$111&$AE$111&\"C\"&$AA140))","v":0.66},{"$f":"IF($AA140=\"\",\"\",RTD(\"tos.rtd\", , \"BID\",\".\"&$AF$111&$AE$111&\"P\"&$AA140))","v":23.05},{"$f":"IF($AA140=\"\",\"\",RTD(\"tos.rtd\", , \"ASK\",\".\"&$AF$111&$AE$111&\"P\"&$AA140))","v":23.2},null,null,null,null,null,null,null,null,null,null,null,null,null,null,null,null,null,null,null,null,null,null,null,null,null,null,null,null,null,null,null,"","","",null,null,null,null,null,null,null,null,null,null,null,null,null,null,null,null,null,null,null,null,null,""]
[null,null,null,null,null,null,null,null,null,null,null,null,null,null,null,null,null,null,null,null,"2022-11-12T09:32:01.130",null,null,null,null,28,{"$f":"IF(OR($W$1=4,$W$1>=6),IF('opt2'!F29=\"\",\"\",'opt2'!F29),\"X\")","v":195},{"$f":"IF($AA141=\"\",\"\",IF($W$1>7,IF(ISERROR(AVERAGE(AE141:AF141))=TRUE,\"\",AVERAGE(AE141:AF141)),IF($W$1=4,'opt2'!A29,#REF!)))","v":0.36},{"$f":"IF($AA141=\"\",\"\",IF($W$1>7,IF(ISERROR(AVERAGE(AG141:AH141))=TRUE,\"\",AVERAGE(AG141:AH141)),IF($W$1=4,'opt2'!G29,#REF!)))","v":27.65},0,{"$f":"IF($AA141=\"\",\"\",RTD(\"tos.rtd\", , \"BID\",\".\"&$AF$111&$AE$111&\"C\"&$AA141))","v":0.34},{"$f":"IF($AA141=\"\",\"\",RTD(\"tos.rtd\", , \"ASK\",\".\"&$AF$111&$AE$111&\"C\"&$AA141))","v":0.35},{"$f":"IF($AA141=\"\",\"\",RTD(\"tos.rtd\", , \"BID\",\".\"&$AF$111&$AE$111&\"P\"&$AA141))","v":27.9},{"$f":"IF($AA141=\"\",\"\",RTD(\"tos.rtd\", , \"ASK\",\".\"&$AF$111&$AE$111&\"P\"&$AA141))","v":28},null,null,null,null,null,null,null,null,null,null,null,null,null,null,null,null,null,null,null,null,null,null,null,null,null,null,null,null,null,null,null,"","","",null,null,null,null,null,null,null,null,null,null,null,null,null,null,null,null,null,null,null,null,null,""]
[null,null,null,null,null,null,null,null,null,null,null,null,null,null,null,null,null,null,null,null,"2022-11-13T09:32:01.130",null,null,null,null,29,{"$f":"IF(OR($W$1=4,$W$1>=6),IF('opt2'!F30=\"\",\"\",'opt2'!F30),\"X\")","v":200},{"$f":"IF($AA142=\"\",\"\",IF($W$1>7,IF(ISERROR(AVERAGE(AE142:AF142))=TRUE,\"\",AVERAGE(AE142:AF142)),IF($W$1=4,'opt2'!A30,#REF!)))","v":0.19},{"$f":"IF($AA142=\"\",\"\",IF($W$1>7,IF(ISERROR(AVERAGE(AG142:AH142))=TRUE,\"\",AVERAGE(AG142:AH142)),IF($W$1=4,'opt2'!G30,#REF!)))","v":31.79},0,{"$f":"IF($AA142=\"\",\"\",RTD(\"tos.rtd\", , \"BID\",\".\"&$AF$111&$AE$111&\"C\"&$AA142))","v":0.19},{"$f":"IF($AA142=\"\",\"\",RTD(\"tos.rtd\", , \"ASK\",\".\"&$AF$111&$AE$111&\"C\"&$AA142))","v":0.2},{"$f":"IF($AA142=\"\",\"\",RTD(\"tos.rtd\", , \"BID\",\".\"&$AF$111&$AE$111&\"P\"&$AA142))","v":32.85},{"$f":"IF($AA142=\"\",\"\",RTD(\"tos.rtd\", , \"ASK\",\".\"&$AF$111&$AE$111&\"P\"&$AA142))","v":33},null,null,null,null,null,null,null,null,null,null,null,null,null,null,null,null,null,null,null,null,null,null,null,null,null,null,null,null,null,null,null,"","","",null,null,null,null,null,null,null,null,null,null,null,null,null,null,null,null,null,null,null,null,null,""]
[null,null,null,null,null,null,null,null,null,null,null,null,null,null,null,null,null,null,null,null,"2022-11-14T09:32:01.130",null,null,null,null,30,{"$f":"IF(OR($W$1=4,$W$1>=6),IF('opt2'!F31=\"\",\"\",'opt2'!F31),\"X\")","v":205},{"$f":"IF($AA143=\"\",\"\",IF($W$1>7,IF(ISERROR(AVERAGE(AE143:AF143))=TRUE,\"\",AVERAGE(AE143:AF143)),IF($W$1=4,'opt2'!A31,#REF!)))","v":0.13},{"$f":"IF($AA143=\"\",\"\",IF($W$1>7,IF(ISERROR(AVERAGE(AG143:AH143))=TRUE,\"\",AVERAGE(AG143:AH143)),IF($W$1=4,'opt2'!G31,#REF!)))","v":37.619999999999997},0,{"$f":"IF($AA143=\"\",\"\",RTD(\"tos.rtd\", , \"BID\",\".\"&$AF$111&$AE$111&\"C\"&$AA143))","v":0.11},{"$f":"IF($AA143=\"\",\"\",RTD(\"tos.rtd\", , \"ASK\",\".\"&$AF$111&$AE$111&\"C\"&$AA143))","v":0.12},{"$f":"IF($AA143=\"\",\"\",RTD(\"tos.rtd\", , \"BID\",\".\"&$AF$111&$AE$111&\"P\"&$AA143))","v":37.85},{"$f":"IF($AA143=\"\",\"\",RTD(\"tos.rtd\", , \"ASK\",\".\"&$AF$111&$AE$111&\"P\"&$AA143))","v":38},null,null,null,null,null,null,null,null,null,null,null,null,null,null,null,null,null,null,null,null,null,null,null,null,null,null,null,null,null,null,null,"","","",null,null,null,null,null,null,null,null,null,null,null,null,null,null,null,null,null,null,null,null,null,""]
[null,null,null,null,null,null,null,null,null,null,null,null,null,null,null,null,null,null,null,null,"2022-11-15T09:32:01.130",null,null,null,null,31,{"$f":"IF(OR($W$1=4,$W$1>=6),IF('opt2'!F32=\"\",\"\",'opt2'!F32),\"X\")","v":210},{"$f":"IF($AA144=\"\",\"\",IF($W$1>7,IF(ISERROR(AVERAGE(AE144:AF144))=TRUE,\"\",AVERAGE(AE144:AF144)),IF($W$1=4,'opt2'!A32,#REF!)))","v":0.09},{"$f":"IF($AA144=\"\",\"\",IF($W$1>7,IF(ISERROR(AVERAGE(AG144:AH144))=TRUE,\"\",AVERAGE(AG144:AH144)),IF($W$1=4,'opt2'!G32,#REF!)))","v":40.799999999999997},0,{"$f":"IF($AA144=\"\",\"\",RTD(\"tos.rtd\", , \"BID\",\".\"&$AF$111&$AE$111&\"C\"&$AA144))","v":7.0000000000000007E-2},{"$f":"IF($AA144=\"\",\"\",RTD(\"tos.rtd\", , \"ASK\",\".\"&$AF$111&$AE$111&\"C\"&$AA144))","v":0.08},{"$f":"IF($AA144=\"\",\"\",RTD(\"tos.rtd\", , \"BID\",\".\"&$AF$111&$AE$111&\"P\"&$AA144))","v":42.85},{"$f":"IF($AA144=\"\",\"\",RTD(\"tos.rtd\", , \"ASK\",\".\"&$AF$111&$AE$111&\"P\"&$AA144))","v":43},null,null,null,null,null,null,null,null,null,null,null,null,null,null,null,null,null,null,null,null,null,null,null,null,null,null,null,null,null,null,null,"","","",null,null,null,null,null,null,null,null,null,null,null,null,null,null,null,null,null,null,null,null,null,""]
[null,null,null,null,null,null,null,null,null,null,null,null,null,null,null,null,null,null,null,null,"2022-11-16T09:32:01.130",null,null,null,null,32,{"$f":"IF(OR($W$1=4,$W$1>=6),IF('opt2'!F33=\"\",\"\",'opt2'!F33),\"X\")","v":215},{"$f":"IF($AA145=\"\",\"\",IF($W$1>7,IF(ISERROR(AVERAGE(AE145:AF145))=TRUE,\"\",AVERAGE(AE145:AF145)),IF($W$1=4,'opt2'!A33,#REF!)))","v":0.05},{"$f":"IF($AA145=\"\",\"\",IF($W$1>7,IF(ISERROR(AVERAGE(AG145:AH145))=TRUE,\"\",AVERAGE(AG145:AH145)),IF($W$1=4,'opt2'!G33,#REF!)))","v":42.9},0,{"$f":"IF($AA145=\"\",\"\",RTD(\"tos.rtd\", , \"BID\",\".\"&$AF$111&$AE$111&\"C\"&$AA145))","v":0.05},{"$f":"IF($AA145=\"\",\"\",RTD(\"tos.rtd\", , \"ASK\",\".\"&$AF$111&$AE$111&\"C\"&$AA145))","v":0.06},{"$f":"IF($AA145=\"\",\"\",RTD(\"tos.rtd\", , \"BID\",\".\"&$AF$111&$AE$111&\"P\"&$AA145))","v":47.85},{"$f":"IF($AA145=\"\",\"\",RTD(\"tos.rtd\", , \"ASK\",\".\"&$AF$111&$AE$111&\"P\"&$AA145))","v":48},null,null,null,null,null,null,null,null,null,null,null,null,null,null,null,null,null,null,null,null,null,null,null,null,null,null,null,null,null,null,null,"","","",null,null,null,null,null,null,null,null,null,null,null,null,null,null,null,null,null,null,null,null,null,""]
[null,null,null,null,null,null,null,null,null,null,null,null,null,null,null,null,null,null,null,null,"2022-11-17T09:32:01.130",null,null,null,null,33,{"$f":"IF(OR($W$1=4,$W$1>=6),IF('opt2'!F34=\"\",\"\",'opt2'!F34),\"X\")","v":220},{"$f":"IF($AA146=\"\",\"\",IF($W$1>7,IF(ISERROR(AVERAGE(AE146:AF146))=TRUE,\"\",AVERAGE(AE146:AF146)),IF($W$1=4,'opt2'!A34,#REF!)))","v":0.04},{"$f":"IF($AA146=\"\",\"\",IF($W$1>7,IF(ISERROR(AVERAGE(AG146:AH146))=TRUE,\"\",AVERAGE(AG146:AH146)),IF($W$1=4,'opt2'!G34,#REF!)))","v":52.2},0,{"$f":"IF($AA146=\"\",\"\",RTD(\"tos.rtd\", , \"BID\",\".\"&$AF$111&$AE$111&\"C\"&$AA146))","v":0.03},{"$f":"IF($AA146=\"\",\"\",RTD(\"tos.rtd\", , \"ASK\",\".\"&$AF$111&$AE$111&\"C\"&$AA146))","v":0.04},{"$f":"IF($AA146=\"\",\"\",RTD(\"tos.rtd\", , \"BID\",\".\"&$AF$111&$AE$111&\"P\"&$AA146))","v":52.85},{"$f":"IF($AA146=\"\",\"\",RTD(\"tos.rtd\", , \"ASK\",\".\"&$AF$111&$AE$111&\"P\"&$AA146))","v":53},null,null,null,null,null,null,null,null,null,null,null,null,null,null,null,null,null,null,null,null,null,null,null,null,null,null,null,null,null,null,null,"","","",null,null,null,null,null,null,null,null,null,null,null,null,null,null,null,null,null,null,null,null,null,""]
[null,null,null,null,null,null,null,null,null,null,null,null,null,null,null,null,null,null,null,null,"2022-11-18T09:32:01.130",null,null,null,null,34,{"$f":"IF(OR($W$1=4,$W$1>=6),IF('opt2'!F35=\"\",\"\",'opt2'!F35),\"X\")","v":225},{"$f":"IF($AA147=\"\",\"\",IF($W$1>7,IF(ISERROR(AVERAGE(AE147:AF147))=TRUE,\"\",AVERAGE(AE147:AF147)),IF($W$1=4,'opt2'!A35,#REF!)))","v":0.03},{"$f":"IF($AA147=\"\",\"\",IF($W$1>7,IF(ISERROR(AVERAGE(AG147:AH147))=TRUE,\"\",AVERAGE(AG147:AH147)),IF($W$1=4,'opt2'!G35,#REF!)))","v":55.55},0,{"$f":"IF($AA147=\"\",\"\",RTD(\"tos.rtd\", , \"BID\",\".\"&$AF$111&$AE$111&\"C\"&$AA147))","v":0.02},{"$f":"IF($AA147=\"\",\"\",RTD(\"tos.rtd\", , \"ASK\",\".\"&$AF$111&$AE$111&\"C\"&$AA147))","v":0.03},{"$f":"IF($AA147=\"\",\"\",RTD(\"tos.rtd\", , \"BID\",\".\"&$AF$111&$AE$111&\"P\"&$AA147))","v":57.85},{"$f":"IF($AA147=\"\",\"\",RTD(\"tos.rtd\", , \"ASK\",\".\"&$AF$111&$AE$111&\"P\"&$AA147))","v":58},null,null,null,null,null,null,null,null,null,null,null,null,null,null,null,null,null,null,null,null,null,null,null,null,null,null,null,null,null,null,null,"","","",null,null,null,null,null,null,null,null,null,null,null,null,null,null,null,null,null,null,null,null,null,""]
[null,null,null,null,null,null,null,null,null,null,null,null,null,null,null,null,null,null,null,null,"2022-11-19T09:32:01.130",null,null,null,null,35,{"$f":"IF(OR($W$1=4,$W$1>=6),IF('opt2'!F36=\"\",\"\",'opt2'!F36),\"X\")","v":230},{"$f":"IF($AA148=\"\",\"\",IF($W$1>7,IF(ISERROR(AVERAGE(AE148:AF148))=TRUE,\"\",AVERAGE(AE148:AF148)),IF($W$1=4,'opt2'!A36,#REF!)))","v":0.02},{"$f":"IF($AA148=\"\",\"\",IF($W$1>7,IF(ISERROR(AVERAGE(AG148:AH148))=TRUE,\"\",AVERAGE(AG148:AH148)),IF($W$1=4,'opt2'!G36,#REF!)))","v":60.55},0,{"$f":"IF($AA148=\"\",\"\",RTD(\"tos.rtd\", , \"BID\",\".\"&$AF$111&$AE$111&\"C\"&$AA148))","v":0.02},{"$f":"IF($AA148=\"\",\"\",RTD(\"tos.rtd\", , \"ASK\",\".\"&$AF$111&$AE$111&\"C\"&$AA148))","v":0.03},{"$f":"IF($AA148=\"\",\"\",RTD(\"tos.rtd\", , \"BID\",\".\"&$AF$111&$AE$111&\"P\"&$AA148))","v":62.85},{"$f":"IF($AA148=\"\",\"\",RTD(\"tos.rtd\", , \"ASK\",\".\"&$AF$111&$AE$111&\"P\"&$AA148))","v":63},null,null,null,null,null,null,null,null,null,null,null,null,null,null,null,null,null,null,null,null,null,null,null,null,null,null,null,null,null,null,null,"","","",null,null,null,null,null,null,null,null,null,null,null,null,null,null,null,null,null,null,null,null,null,""]
[null,null,null,null,null,null,null,null,null,null,null,null,null,null,null,null,null,null,null,null,"2022-11-20T09:32:01.130",null,null,null,null,36,{"$f":"IF(OR($W$1=4,$W$1>=6),IF('opt2'!F37=\"\",\"\",'opt2'!F37),\"X\")","v":235},{"$f":"IF($AA149=\"\",\"\",IF($W$1>7,IF(ISERROR(AVERAGE(AE149:AF149))=TRUE,\"\",AVERAGE(AE149:AF149)),IF($W$1=4,'opt2'!A37,#REF!)))","v":0.05},{"$f":"IF($AA149=\"\",\"\",IF($W$1>7,IF(ISERROR(AVERAGE(AG149:AH149))=TRUE,\"\",AVERAGE(AG149:AH149)),IF($W$1=4,'opt2'!G37,#REF!)))","v":93.1},0,{"$f":"IF($AA149=\"\",\"\",RTD(\"tos.rtd\", , \"BID\",\".\"&$AF$111&$AE$111&\"C\"&$AA149))","v":0.01},{"$f":"IF($AA149=\"\",\"\",RTD(\"tos.rtd\", , \"ASK\",\".\"&$AF$111&$AE$111&\"C\"&$AA149))","v":0.02},{"$f":"IF($AA149=\"\",\"\",RTD(\"tos.rtd\", , \"BID\",\".\"&$AF$111&$AE$111&\"P\"&$AA149))","v":67.849999999999994},{"$f":"IF($AA149=\"\",\"\",RTD(\"tos.rtd\", , \"ASK\",\".\"&$AF$111&$AE$111&\"P\"&$AA149))","v":68},null,null,null,null,null,null,null,null,null,null,null,null,null,null,null,null,null,null,null,null,null,null,null,null,null,null,null,null,null,null,null,"","","",null,null,null,null,null,null,null,null,null,null,null,null,null,null,null,null,null,null,null,null,null,""]
[null,null,null,null,null,null,null,null,null,null,null,null,null,null,null,null,null,null,null,null,"2022-11-21T09:32:01.130",null,null,null,null,37,{"$f":"IF(OR($W$1=4,$W$1>=6),IF('opt2'!F38=\"\",\"\",'opt2'!F38),\"X\")","v":240},{"$f":"IF($AA150=\"\",\"\",IF($W$1>7,IF(ISERROR(AVERAGE(AE150:AF150))=TRUE,\"\",AVERAGE(AE150:AF150)),IF($W$1=4,'opt2'!A38,#REF!)))","v":0.01},{"$f":"IF($AA150=\"\",\"\",IF($W$1>7,IF(ISERROR(AVERAGE(AG150:AH150))=TRUE,\"\",AVERAGE(AG150:AH150)),IF($W$1=4,'opt2'!G38,#REF!)))","v":72.599999999999994},0,{"$f":"IF($AA150=\"\",\"\",RTD(\"tos.rtd\", , \"BID\",\".\"&$AF$111&$AE$111&\"C\"&$AA150))","v":0.01},{"$f":"IF($AA150=\"\",\"\",RTD(\"tos.rtd\", , \"ASK\",\".\"&$AF$111&$AE$111&\"C\"&$AA150))","v":0.02},{"$f":"IF($AA150=\"\",\"\",RTD(\"tos.rtd\", , \"BID\",\".\"&$AF$111&$AE$111&\"P\"&$AA150))","v":72.8},{"$f":"IF($AA150=\"\",\"\",RTD(\"tos.rtd\", , \"ASK\",\".\"&$AF$111&$AE$111&\"P\"&$AA150))","v":73},null,null,null,null,null,null,null,null,null,null,null,null,null,null,null,null,null,null,null,null,null,null,null,null,null,null,null,null,null,null,null,"","","",null,null,null,null,null,null,null,null,null,null,null,null,null,null,null,null,null,null,null,null,null,""]
[null,null,null,null,null,null,null,null,null,null,null,null,null,null,null,null,null,null,null,null,null,null,null,null,null,38,{"$f":"IF(OR($W$1=4,$W$1>=6),IF('opt2'!F39=\"\",\"\",'opt2'!F39),\"X\")","v":245},{"$f":"IF($AA151=\"\",\"\",IF($W$1>7,IF(ISERROR(AVERAGE(AE151:AF151))=TRUE,\"\",AVERAGE(AE151:AF151)),IF($W$1=4,'opt2'!A39,#REF!)))","v":0.01},{"$f":"IF($AA151=\"\",\"\",IF($W$1>7,IF(ISERROR(AVERAGE(AG151:AH151))=TRUE,\"\",AVERAGE(AG151:AH151)),IF($W$1=4,'opt2'!G39,#REF!)))","v":77.95},0,{"$f":"IF($AA151=\"\",\"\",RTD(\"tos.rtd\", , \"BID\",\".\"&$AF$111&$AE$111&\"C\"&$AA151))","v":0.01},{"$f":"IF($AA151=\"\",\"\",RTD(\"tos.rtd\", , \"ASK\",\".\"&$AF$111&$AE$111&\"C\"&$AA151))","v":0.02},{"$f":"IF($AA151=\"\",\"\",RTD(\"tos.rtd\", , \"BID\",\".\"&$AF$111&$AE$111&\"P\"&$AA151))","v":77.8},{"$f":"IF($AA151=\"\",\"\",RTD(\"tos.rtd\", , \"ASK\",\".\"&$AF$111&$AE$111&\"P\"&$AA151))","v":78},null,null,null,null,null,null,null,null,null,null,null,null,null,null,null,null,null,null,null,null,null,null,null,null,null,null,null,null,null,null,null,"","","",null,null,null,null,null,null,null,null,null,null,null,null,null,null,null,null,null,null,null,null,null,""]
[null,null,null,null,null,null,null,null,null,null,null,null,null,null,null,null,null,null,null,null,null,null,null,null,null,39,{"$f":"IF(OR($W$1=4,$W$1>=6),IF('opt2'!F40=\"\",\"\",'opt2'!F40),\"X\")","v":250},{"$f":"IF($AA152=\"\",\"\",IF($W$1>7,IF(ISERROR(AVERAGE(AE152:AF152))=TRUE,\"\",AVERAGE(AE152:AF152)),IF($W$1=4,'opt2'!A40,#REF!)))","v":0.01},{"$f":"IF($AA152=\"\",\"\",IF($W$1>7,IF(ISERROR(AVERAGE(AG152:AH152))=TRUE,\"\",AVERAGE(AG152:AH152)),IF($W$1=4,'opt2'!G40,#REF!)))","v":86.95},0,{"$f":"IF($AA152=\"\",\"\",RTD(\"tos.rtd\", , \"BID\",\".\"&$AF$111&$AE$111&\"C\"&$AA152))","v":0},{"$f":"IF($AA152=\"\",\"\",RTD(\"tos.rtd\", , \"ASK\",\".\"&$AF$111&$AE$111&\"C\"&$AA152))","v":0.01},{"$f":"IF($AA152=\"\",\"\",RTD(\"tos.rtd\", , \"BID\",\".\"&$AF$111&$AE$111&\"P\"&$AA152))","v":82.8},{"$f":"IF($AA152=\"\",\"\",RTD(\"tos.rtd\", , \"ASK\",\".\"&$AF$111&$AE$111&\"P\"&$AA152))","v":83},null,null,null,null,null,null,null,null,null,null,null,null,null,null,null,null,null,null,null,null,null,null,null,null,null,null,null,null,null,null,null,"","","",null,null,null,null,null,null,null,null,null,null,null,null,null,null,null,null,null,null,null,null,null,""]
[null,null,null,null,null,null,null,null,null,null,null,null,null,null,null,null,null,null,null,null,null,null,null,null,null,40,{"$f":"IF(OR($W$1=4,$W$1>=6),IF('opt2'!F41=\"\",\"\",'opt2'!F41),\"X\")","v":255},{"$f":"IF($AA153=\"\",\"\",IF($W$1>7,IF(ISERROR(AVERAGE(AE153:AF153))=TRUE,\"\",AVERAGE(AE153:AF153)),IF($W$1=4,'opt2'!A41,#REF!)))","v":0.01},{"$f":"IF($AA153=\"\",\"\",IF($W$1>7,IF(ISERROR(AVERAGE(AG153:AH153))=TRUE,\"\",AVERAGE(AG153:AH153)),IF($W$1=4,'opt2'!G41,#REF!)))","v":102.3},0,{"$f":"IF($AA153=\"\",\"\",RTD(\"tos.rtd\", , \"BID\",\".\"&$AF$111&$AE$111&\"C\"&$AA153))","v":0},{"$f":"IF($AA153=\"\",\"\",RTD(\"tos.rtd\", , \"ASK\",\".\"&$AF$111&$AE$111&\"C\"&$AA153))","v":0.01},{"$f":"IF($AA153=\"\",\"\",RTD(\"tos.rtd\", , \"BID\",\".\"&$AF$111&$AE$111&\"P\"&$AA153))","v":87.8},{"$f":"IF($AA153=\"\",\"\",RTD(\"tos.rtd\", , \"ASK\",\".\"&$AF$111&$AE$111&\"P\"&$AA153))","v":88},null,null,null,null,null,null,null,null,null,null,null,null,null,null,null,null,null,null,null,null,null,null,null,null,null,null,null,null,null,null,null,"","","",null,null,null,null,null,null,null,null,null,null,null,null,null,null,null,null,null,null,null,null,null,""]
[null,null,null,null,null,null,null,null,null,null,null,null,null,null,null,null,null,null,null,null,null,null,null,null,null,41,{"$f":"IF(OR($W$1=4,$W$1>=6),IF('opt2'!F42=\"\",\"\",'opt2'!F42),\"X\")","v":260},{"$f":"IF($AA154=\"\",\"\",IF($W$1>7,IF(ISERROR(AVERAGE(AE154:AF154))=TRUE,\"\",AVERAGE(AE154:AF154)),IF($W$1=4,'opt2'!A42,#REF!)))","v":0.01},{"$f":"IF($AA154=\"\",\"\",IF($W$1>7,IF(ISERROR(AVERAGE(AG154:AH154))=TRUE,\"\",AVERAGE(AG154:AH154)),IF($W$1=4,'opt2'!G42,#REF!)))","v":87.8},0,{"$f":"IF($AA154=\"\",\"\",RTD(\"tos.rtd\", , \"BID\",\".\"&$AF$111&$AE$111&\"C\"&$AA154))","v":0},{"$f":"IF($AA154=\"\",\"\",RTD(\"tos.rtd\", , \"ASK\",\".\"&$AF$111&$AE$111&\"C\"&$AA154))","v":0.01},{"$f":"IF($AA154=\"\",\"\",RTD(\"tos.rtd\", , \"BID\",\".\"&$AF$111&$AE$111&\"P\"&$AA154))","v":92.8},{"$f":"IF($AA154=\"\",\"\",RTD(\"tos.rtd\", , \"ASK\",\".\"&$AF$111&$AE$111&\"P\"&$AA154))","v":93},null,null,null,null,null,null,null,null,null,null,null,null,null,null,null,null,null,null,null,null,null,null,null,null,null,null,null,null,null,null,null,"","","",null,null,null,null,null,null,null,null,null,null,null,null,null,null,null,null,null,null,null,null,null,""]
[null,null,null,null,null,null,null,null,null,null,null,null,null,null,null,null,null,null,null,null,null,null,null,null,null,42,{"$f":"IF(OR($W$1=4,$W$1>=6),IF('opt2'!F43=\"\",\"\",'opt2'!F43),\"X\")","v":265},{"$f":"IF($AA155=\"\",\"\",IF($W$1>7,IF(ISERROR(AVERAGE(AE155:AF155))=TRUE,\"\",AVERAGE(AE155:AF155)),IF($W$1=4,'opt2'!A43,#REF!)))","v":0.01},{"$f":"IF($AA155=\"\",\"\",IF($W$1>7,IF(ISERROR(AVERAGE(AG155:AH155))=TRUE,\"\",AVERAGE(AG155:AH155)),IF($W$1=4,'opt2'!G43,#REF!)))","v":97.5},0,{"$f":"IF($AA155=\"\",\"\",RTD(\"tos.rtd\", , \"BID\",\".\"&$AF$111&$AE$111&\"C\"&$AA155))","v":0},{"$f":"IF($AA155=\"\",\"\",RTD(\"tos.rtd\", , \"ASK\",\".\"&$AF$111&$AE$111&\"C\"&$AA155))","v":0.01},{"$f":"IF($AA155=\"\",\"\",RTD(\"tos.rtd\", , \"BID\",\".\"&$AF$111&$AE$111&\"P\"&$AA155))","v":97.8},{"$f":"IF($AA155=\"\",\"\",RTD(\"tos.rtd\", , \"ASK\",\".\"&$AF$111&$AE$111&\"P\"&$AA155))","v":98},null,null,null,null,null,null,null,null,null,null,null,null,null,null,null,null,null,null,null,null,null,null,null,null,null,null,null,null,null,null,null,"","","",null,null,null,null,null,null,null,null,null,null,null,null,null,null,null,null,null,null,null,null,null,""]
[null,null,null,null,null,null,null,null,null,null,null,null,null,null,null,null,null,null,null,null,null,null,null,null,null,43,{"$f":"IF(OR($W$1=4,$W$1>=6),IF('opt2'!F44=\"\",\"\",'opt2'!F44),\"X\")","v":270},{"$f":"IF($AA156=\"\",\"\",IF($W$1>7,IF(ISERROR(AVERAGE(AE156:AF156))=TRUE,\"\",AVERAGE(AE156:AF156)),IF($W$1=4,'opt2'!A44,#REF!)))","v":0.01},{"$f":"IF($AA156=\"\",\"\",IF($W$1>7,IF(ISERROR(AVERAGE(AG156:AH156))=TRUE,\"\",AVERAGE(AG156:AH156)),IF($W$1=4,'opt2'!G44,#REF!)))","v":102.85},0,{"$f":"IF($AA156=\"\",\"\",RTD(\"tos.rtd\", , \"BID\",\".\"&$AF$111&$AE$111&\"C\"&$AA156))","v":0},{"$f":"IF($AA156=\"\",\"\",RTD(\"tos.rtd\", , \"ASK\",\".\"&$AF$111&$AE$111&\"C\"&$AA156))","v":0.01},{"$f":"IF($AA156=\"\",\"\",RTD(\"tos.rtd\", , \"BID\",\".\"&$AF$111&$AE$111&\"P\"&$AA156))","v":102.8},{"$f":"IF($AA156=\"\",\"\",RTD(\"tos.rtd\", , \"ASK\",\".\"&$AF$111&$AE$111&\"P\"&$AA156))","v":103},null,null,null,null,null,null,null,null,null,null,null,null,null,null,null,null,null,null,null,null,null,null,null,null,null,null,null,null,null,null,null,"","","",null,null,null,null,null,null,null,null,null,null,null,null,null,null,null,null,null,null,null,null,null,""]
[null,null,null,null,null,null,null,null,null,null,null,null,null,null,null,null,null,null,null,null,null,null,null,null,null,44,{"$f":"IF(OR($W$1=4,$W$1>=6),IF('opt2'!F45=\"\",\"\",'opt2'!F45),\"X\")","v":280},{"$f":"IF($AA157=\"\",\"\",IF($W$1>7,IF(ISERROR(AVERAGE(AE157:AF157))=TRUE,\"\",AVERAGE(AE157:AF157)),IF($W$1=4,'opt2'!A45,#REF!)))","v":0.01},{"$f":"IF($AA157=\"\",\"\",IF($W$1>7,IF(ISERROR(AVERAGE(AG157:AH157))=TRUE,\"\",AVERAGE(AG157:AH157)),IF($W$1=4,'opt2'!G45,#REF!)))","v":107.8},0,{"$f":"IF($AA157=\"\",\"\",RTD(\"tos.rtd\", , \"BID\",\".\"&$AF$111&$AE$111&\"C\"&$AA157))","v":0},{"$f":"IF($AA157=\"\",\"\",RTD(\"tos.rtd\", , \"ASK\",\".\"&$AF$111&$AE$111&\"C\"&$AA157))","v":0.01},{"$f":"IF($AA157=\"\",\"\",RTD(\"tos.rtd\", , \"BID\",\".\"&$AF$111&$AE$111&\"P\"&$AA157))","v":112.8},{"$f":"IF($AA157=\"\",\"\",RTD(\"tos.rtd\", , \"ASK\",\".\"&$AF$111&$AE$111&\"P\"&$AA157))","v":113},null,null,null,null,null,null,null,null,null,null,null,null,null,null,null,null,null,null,null,null,null,null,null,null,null,null,null,null,null,null,null,"","","",null,null,null,null,null,null,null,null,null,null,null,null,null,null,null,null,null,null,null,null,null,""]
[null,null,null,null,null,null,null,null,null,null,null,null,null,null,null,null,null,null,null,null,null,null,null,null,null,45,{"$f":"IF(OR($W$1=4,$W$1>=6),IF('opt2'!F46=\"\",\"\",'opt2'!F46),\"X\")","v":290},{"$f":"IF($AA158=\"\",\"\",IF($W$1>7,IF(ISERROR(AVERAGE(AE158:AF158))=TRUE,\"\",AVERAGE(AE158:AF158)),IF($W$1=4,'opt2'!A46,#REF!)))","v":0.01},{"$f":"IF($AA158=\"\",\"\",IF($W$1>7,IF(ISERROR(AVERAGE(AG158:AH158))=TRUE,\"\",AVERAGE(AG158:AH158)),IF($W$1=4,'opt2'!G46,#REF!)))","v":116.75},0,{"$f":"IF($AA158=\"\",\"\",RTD(\"tos.rtd\", , \"BID\",\".\"&$AF$111&$AE$111&\"C\"&$AA158))","v":0},{"$f":"IF($AA158=\"\",\"\",RTD(\"tos.rtd\", , \"ASK\",\".\"&$AF$111&$AE$111&\"C\"&$AA158))","v":0.01},{"$f":"IF($AA158=\"\",\"\",RTD(\"tos.rtd\", , \"BID\",\".\"&$AF$111&$AE$111&\"P\"&$AA158))","v":122.8},{"$f":"IF($AA158=\"\",\"\",RTD(\"tos.rtd\", , \"ASK\",\".\"&$AF$111&$AE$111&\"P\"&$AA158))","v":123},null,null,null,null,null,null,null,null,null,null,null,null,null,null,null,null,null,null,null,null,null,null,null,null,null,null,null,null,null,null,null,"","","",null,null,null,null,null,null,null,null,null,null,null,null,null,null,null,null,null,null,null,null,null,""]
[null,null,null,null,null,null,null,null,null,null,null,null,null,null,null,null,null,null,null,null,null,null,null,null,null,46,{"$f":"IF(OR($W$1=4,$W$1>=6),IF('opt2'!F47=\"\",\"\",'opt2'!F47),\"X\")","v":300},{"$f":"IF($AA159=\"\",\"\",IF($W$1>7,IF(ISERROR(AVERAGE(AE159:AF159))=TRUE,\"\",AVERAGE(AE159:AF159)),IF($W$1=4,'opt2'!A47,#REF!)))","v":0.01},{"$f":"IF($AA159=\"\",\"\",IF($W$1>7,IF(ISERROR(AVERAGE(AG159:AH159))=TRUE,\"\",AVERAGE(AG159:AH159)),IF($W$1=4,'opt2'!G47,#REF!)))","v":130.35},0,{"$f":"IF($AA159=\"\",\"\",RTD(\"tos.rtd\", , \"BID\",\".\"&$AF$111&$AE$111&\"C\"&$AA159))","v":0},{"$f":"IF($AA159=\"\",\"\",RTD(\"tos.rtd\", , \"ASK\",\".\"&$AF$111&$AE$111&\"C\"&$AA159))","v":0.01},{"$f":"IF($AA159=\"\",\"\",RTD(\"tos.rtd\", , \"BID\",\".\"&$AF$111&$AE$111&\"P\"&$AA159))","v":132.80000000000001},{"$f":"IF($AA159=\"\",\"\",RTD(\"tos.rtd\", , \"ASK\",\".\"&$AF$111&$AE$111&\"P\"&$AA159))","v":133},null,null,null,null,null,null,null,null,null,null,null,null,null,null,null,null,null,null,null,null,null,null,null,null,null,null,null,null,null,null,null,"","","",null,null,null,null,null,null,null,null,null,null,null,null,null,null,null,null,null,null,null,null,null,""]
[null,null,null,null,null,null,null,null,null,null,null,null,null,null,null,null,null,null,null,null,null,null,null,null,null,47,{"$f":"IF(OR($W$1=4,$W$1>=6),IF('opt2'!F48=\"\",\"\",'opt2'!F48),\"X\")","v":""},{"$f":"IF($AA160=\"\",\"\",IF($W$1>7,IF(ISERROR(AVERAGE(AE160:AF160))=TRUE,\"\",AVERAGE(AE160:AF160)),IF($W$1=4,'opt2'!A48,#REF!)))","v":""},{"$f":"IF($AA160=\"\",\"\",IF($W$1>7,IF(ISERROR(AVERAGE(AG160:AH160))=TRUE,\"\",AVERAGE(AG160:AH160)),IF($W$1=4,'opt2'!G48,#REF!)))","v":""},0,{"$f":"IF($AA160=\"\",\"\",RTD(\"tos.rtd\", , \"BID\",\".\"&$AF$111&$AE$111&\"C\"&$AA160))","v":""},{"$f":"IF($AA160=\"\",\"\",RTD(\"tos.rtd\", , \"ASK\",\".\"&$AF$111&$AE$111&\"C\"&$AA160))","v":""},{"$f":"IF($AA160=\"\",\"\",RTD(\"tos.rtd\", , \"BID\",\".\"&$AF$111&$AE$111&\"P\"&$AA160))","v":""},{"$f":"IF($AA160=\"\",\"\",RTD(\"tos.rtd\", , \"ASK\",\".\"&$AF$111&$AE$111&\"P\"&$AA160))","v":""},null,null,null,null,null,null,null,null,null,null,null,null,null,null,null,null,null,null,null,null,null,null,null,null,null,null,null,null,null,null,null,"","","",null,null,null,null,null,null,null,null,null,null,null,null,null,null,null,null,null,null,null,null,null,""]
[null,null,null,null,null,null,null,null,null,null,null,null,null,null,null,null,null,null,null,null,null,null,null,null,null,48,{"$f":"IF(OR($W$1=4,$W$1>=6),IF('opt2'!F49=\"\",\"\",'opt2'!F49),\"X\")","v":""},{"$f":"IF($AA161=\"\",\"\",IF($W$1>7,IF(ISERROR(AVERAGE(AE161:AF161))=TRUE,\"\",AVERAGE(AE161:AF161)),IF($W$1=4,'opt2'!A49,#REF!)))","v":""},{"$f":"IF($AA161=\"\",\"\",IF($W$1>7,IF(ISERROR(AVERAGE(AG161:AH161))=TRUE,\"\",AVERAGE(AG161:AH161)),IF($W$1=4,'opt2'!G49,#REF!)))","v":""},0,{"$f":"IF($AA161=\"\",\"\",RTD(\"tos.rtd\", , \"BID\",\".\"&$AF$111&$AE$111&\"C\"&$AA161))","v":""},{"$f":"IF($AA161=\"\",\"\",RTD(\"tos.rtd\", , \"ASK\",\".\"&$AF$111&$AE$111&\"C\"&$AA161))","v":""},{"$f":"IF($AA161=\"\",\"\",RTD(\"tos.rtd\", , \"BID\",\".\"&$AF$111&$AE$111&\"P\"&$AA161))","v":""},{"$f":"IF($AA161=\"\",\"\",RTD(\"tos.rtd\", , \"ASK\",\".\"&$AF$111&$AE$111&\"P\"&$AA161))","v":""},null,null,null,null,null,null,null,null,null,null,null,null,null,null,null,null,null,null,null,null,null,null,null,null,null,null,null,null,null,null,null,"","","",null,null,null,null,null,null,null,null,null,null,null,null,null,null,null,null,null,null,null,null,null,""]
[null,null,null,null,null,null,null,null,null,null,null,null,null,null,null,null,null,null,null,null,null,null,null,null,null,49,{"$f":"IF(OR($W$1=4,$W$1>=6),IF('opt2'!F50=\"\",\"\",'opt2'!F50),\"X\")","v":""},{"$f":"IF($AA162=\"\",\"\",IF($W$1>7,IF(ISERROR(AVERAGE(AE162:AF162))=TRUE,\"\",AVERAGE(AE162:AF162)),IF($W$1=4,'opt2'!A50,#REF!)))","v":""},{"$f":"IF($AA162=\"\",\"\",IF($W$1>7,IF(ISERROR(AVERAGE(AG162:AH162))=TRUE,\"\",AVERAGE(AG162:AH162)),IF($W$1=4,'opt2'!G50,#REF!)))","v":""},0,{"$f":"IF($AA162=\"\",\"\",RTD(\"tos.rtd\", , \"BID\",\".\"&$AF$111&$AE$111&\"C\"&$AA162))","v":""},{"$f":"IF($AA162=\"\",\"\",RTD(\"tos.rtd\", , \"ASK\",\".\"&$AF$111&$AE$111&\"C\"&$AA162))","v":""},{"$f":"IF($AA162=\"\",\"\",RTD(\"tos.rtd\", , \"BID\",\".\"&$AF$111&$AE$111&\"P\"&$AA162))","v":""},{"$f":"IF($AA162=\"\",\"\",RTD(\"tos.rtd\", , \"ASK\",\".\"&$AF$111&$AE$111&\"P\"&$AA162))","v":""},null,null,null,null,null,null,null,null,null,null,null,null,null,null,null,null,null,null,null,null,null,null,null,null,null,null,null,null,null,null,null,"","","",null,null,null,null,null,null,null,null,null,null,null,null,null,null,null,null,null,null,null,null,null,""]
[null,null,null,null,null,null,null,null,null,null,null,null,null,null,null,null,null,null,null,null,null,null,null,null,null,50,{"$f":"IF(OR($W$1=4,$W$1>=6),IF('opt2'!F51=\"\",\"\",'opt2'!F51),\"X\")","v":""},{"$f":"IF($AA163=\"\",\"\",IF($W$1>7,IF(ISERROR(AVERAGE(AE163:AF163))=TRUE,\"\",AVERAGE(AE163:AF163)),IF($W$1=4,'opt2'!A51,#REF!)))","v":""},{"$f":"IF($AA163=\"\",\"\",IF($W$1>7,IF(ISERROR(AVERAGE(AG163:AH163))=TRUE,\"\",AVERAGE(AG163:AH163)),IF($W$1=4,'opt2'!G51,#REF!)))","v":""},0,{"$f":"IF($AA163=\"\",\"\",RTD(\"tos.rtd\", , \"BID\",\".\"&$AF$111&$AE$111&\"C\"&$AA163))","v":""},{"$f":"IF($AA163=\"\",\"\",RTD(\"tos.rtd\", , \"ASK\",\".\"&$AF$111&$AE$111&\"C\"&$AA163))","v":""},{"$f":"IF($AA163=\"\",\"\",RTD(\"tos.rtd\", , \"BID\",\".\"&$AF$111&$AE$111&\"P\"&$AA163))","v":""},{"$f":"IF($AA163=\"\",\"\",RTD(\"tos.rtd\", , \"ASK\",\".\"&$AF$111&$AE$111&\"P\"&$AA163))","v":""},null,null,null,null,null,null,null,null,null,null,null,null,null,null,null,null,null,null,null,null,null,null,null,null,null,null,null,null,null,null,null,"","","",null,null,null,null,null,null,null,null,null,null,null,null,null,null,null,null,null,null,null,null,null,""]
[null,null,null,null,null,null,null,null,null,null,null,null,null,null,null,null,null,null,null,null,null,null,null,null,null,51,{"$f":"IF(OR($W$1=4,$W$1>=6),IF('opt2'!F52=\"\",\"\",'opt2'!F52),\"X\")","v":""},{"$f":"IF($AA164=\"\",\"\",IF($W$1>7,IF(ISERROR(AVERAGE(AE164:AF164))=TRUE,\"\",AVERAGE(AE164:AF164)),IF($W$1=4,'opt2'!A52,#REF!)))","v":""},{"$f":"IF($AA164=\"\",\"\",IF($W$1>7,IF(ISERROR(AVERAGE(AG164:AH164))=TRUE,\"\",AVERAGE(AG164:AH164)),IF($W$1=4,'opt2'!G52,#REF!)))","v":""},0,{"$f":"IF($AA164=\"\",\"\",RTD(\"tos.rtd\", , \"BID\",\".\"&$AF$111&$AE$111&\"C\"&$AA164))","v":""},{"$f":"IF($AA164=\"\",\"\",RTD(\"tos.rtd\", , \"ASK\",\".\"&$AF$111&$AE$111&\"C\"&$AA164))","v":""},{"$f":"IF($AA164=\"\",\"\",RTD(\"tos.rtd\", , \"BID\",\".\"&$AF$111&$AE$111&\"P\"&$AA164))","v":""},{"$f":"IF($AA164=\"\",\"\",RTD(\"tos.rtd\", , \"ASK\",\".\"&$AF$111&$AE$111&\"P\"&$AA164))","v":""},null,null,null,null,null,null,null,null,null,null,null,null,null,null,null,null,null,null,null,null,null,null,null,null,null,null,null,null,null,null,null,"","","",null,null,null,null,null,null,null,null,null,null,null,null,null,null,null,null,null,null,null,null,null,""]
[null,null,null,null,null,null,null,null,null,null,null,null,null,null,null,null,null,null,null,null,null,null,null,null,null,52,{"$f":"IF(OR($W$1=4,$W$1>=6),IF('opt2'!F53=\"\",\"\",'opt2'!F53),\"X\")","v":""},{"$f":"IF($AA165=\"\",\"\",IF($W$1>7,IF(ISERROR(AVERAGE(AE165:AF165))=TRUE,\"\",AVERAGE(AE165:AF165)),IF($W$1=4,'opt2'!A53,#REF!)))","v":""},{"$f":"IF($AA165=\"\",\"\",IF($W$1>7,IF(ISERROR(AVERAGE(AG165:AH165))=TRUE,\"\",AVERAGE(AG165:AH165)),IF($W$1=4,'opt2'!G53,#REF!)))","v":""},0,{"$f":"IF($AA165=\"\",\"\",RTD(\"tos.rtd\", , \"BID\",\".\"&$AF$111&$AE$111&\"C\"&$AA165))","v":""},{"$f":"IF($AA165=\"\",\"\",RTD(\"tos.rtd\", , \"ASK\",\".\"&$AF$111&$AE$111&\"C\"&$AA165))","v":""},{"$f":"IF($AA165=\"\",\"\",RTD(\"tos.rtd\", , \"BID\",\".\"&$AF$111&$AE$111&\"P\"&$AA165))","v":""},{"$f":"IF($AA165=\"\",\"\",RTD(\"tos.rtd\", , \"ASK\",\".\"&$AF$111&$AE$111&\"P\"&$AA165))","v":""},null,null,null,null,null,null,null,null,null,null,null,null,null,null,null,null,null,null,null,null,null,null,null,null,null,null,null,null,null,null,null,"","","",null,null,null,null,null,null,null,null,null,null,null,null,null,null,null,null,null,null,null,null,null,""]
[null,null,null,null,null,null,null,null,null,null,null,null,null,null,null,null,null,null,null,null,null,null,null,null,null,53,{"$f":"IF(OR($W$1=4,$W$1>=6),IF('opt2'!F54=\"\",\"\",'opt2'!F54),\"X\")","v":""},{"$f":"IF($AA166=\"\",\"\",IF($W$1>7,IF(ISERROR(AVERAGE(AE166:AF166))=TRUE,\"\",AVERAGE(AE166:AF166)),IF($W$1=4,'opt2'!A54,#REF!)))","v":""},{"$f":"IF($AA166=\"\",\"\",IF($W$1>7,IF(ISERROR(AVERAGE(AG166:AH166))=TRUE,\"\",AVERAGE(AG166:AH166)),IF($W$1=4,'opt2'!G54,#REF!)))","v":""},0,{"$f":"IF($AA166=\"\",\"\",RTD(\"tos.rtd\", , \"BID\",\".\"&$AF$111&$AE$111&\"C\"&$AA166))","v":""},{"$f":"IF($AA166=\"\",\"\",RTD(\"tos.rtd\", , \"ASK\",\".\"&$AF$111&$AE$111&\"C\"&$AA166))","v":""},{"$f":"IF($AA166=\"\",\"\",RTD(\"tos.rtd\", , \"BID\",\".\"&$AF$111&$AE$111&\"P\"&$AA166))","v":""},{"$f":"IF($AA166=\"\",\"\",RTD(\"tos.rtd\", , \"ASK\",\".\"&$AF$111&$AE$111&\"P\"&$AA166))","v":""},null,null,null,null,null,null,null,null,null,null,null,null,null,null,null,null,null,null,null,null,null,null,null,null,null,null,null,null,null,null,null,"","","",null,null,null,null,null,null,null,null,null,null,null,null,null,null,null,null,null,null,null,null,null,""]
[null,null,null,null,null,null,null,null,null,null,null,null,null,null,null,null,null,null,null,null,null,null,null,null,null,54,{"$f":"IF(OR($W$1=4,$W$1>=6),IF('opt2'!F55=\"\",\"\",'opt2'!F55),\"X\")","v":""},{"$f":"IF($AA167=\"\",\"\",IF($W$1>7,IF(ISERROR(AVERAGE(AE167:AF167))=TRUE,\"\",AVERAGE(AE167:AF167)),IF($W$1=4,'opt2'!A55,#REF!)))","v":""},{"$f":"IF($AA167=\"\",\"\",IF($W$1>7,IF(ISERROR(AVERAGE(AG167:AH167))=TRUE,\"\",AVERAGE(AG167:AH167)),IF($W$1=4,'opt2'!G55,#REF!)))","v":""},0,{"$f":"IF($AA167=\"\",\"\",RTD(\"tos.rtd\", , \"BID\",\".\"&$AF$111&$AE$111&\"C\"&$AA167))","v":""},{"$f":"IF($AA167=\"\",\"\",RTD(\"tos.rtd\", , \"ASK\",\".\"&$AF$111&$AE$111&\"C\"&$AA167))","v":""},{"$f":"IF($AA167=\"\",\"\",RTD(\"tos.rtd\", , \"BID\",\".\"&$AF$111&$AE$111&\"P\"&$AA167))","v":""},{"$f":"IF($AA167=\"\",\"\",RTD(\"tos.rtd\", , \"ASK\",\".\"&$AF$111&$AE$111&\"P\"&$AA167))","v":""},null,null,null,null,null,null,null,null,null,null,null,null,null,null,null,null,null,null,null,null,null,null,null,null,null,null,null,null,null,null,null,"","","",null,null,null,null,null,null,null,null,null,null,null,null,null,null,null,null,null,null,null,null,null,""]
[null,null,null,null,null,null,null,null,null,null,null,null,null,null,null,null,null,null,null,null,null,null,null,null,null,55,{"$f":"IF(OR($W$1=4,$W$1>=6),IF('opt2'!F56=\"\",\"\",'opt2'!F56),\"X\")","v":""},{"$f":"IF($AA168=\"\",\"\",IF($W$1>7,IF(ISERROR(AVERAGE(AE168:AF168))=TRUE,\"\",AVERAGE(AE168:AF168)),IF($W$1=4,'opt2'!A56,#REF!)))","v":""},{"$f":"IF($AA168=\"\",\"\",IF($W$1>7,IF(ISERROR(AVERAGE(AG168:AH168))=TRUE,\"\",AVERAGE(AG168:AH168)),IF($W$1=4,'opt2'!G56,#REF!)))","v":""},0,{"$f":"IF($AA168=\"\",\"\",RTD(\"tos.rtd\", , \"BID\",\".\"&$AF$111&$AE$111&\"C\"&$AA168))","v":""},{"$f":"IF($AA168=\"\",\"\",RTD(\"tos.rtd\", , \"ASK\",\".\"&$AF$111&$AE$111&\"C\"&$AA168))","v":""},{"$f":"IF($AA168=\"\",\"\",RTD(\"tos.rtd\", , \"BID\",\".\"&$AF$111&$AE$111&\"P\"&$AA168))","v":""},{"$f":"IF($AA168=\"\",\"\",RTD(\"tos.rtd\", , \"ASK\",\".\"&$AF$111&$AE$111&\"P\"&$AA168))","v":""},null,null,null,null,null,null,null,null,null,null,null,null,null,null,null,null,null,null,null,null,null,null,null,null,null,null,null,null,null,null,null,"","","",null,null,null,null,null,null,null,null,null,null,null,null,null,null,null,null,null,null,null,null,null,""]
[null,null,null,null,null,null,null,null,null,null,null,null,null,null,null,null,null,null,null,null,null,null,null,null,null,56,{"$f":"IF(OR($W$1=4,$W$1>=6),IF('opt2'!F57=\"\",\"\",'opt2'!F57),\"X\")","v":""},{"$f":"IF($AA169=\"\",\"\",IF($W$1>7,IF(ISERROR(AVERAGE(AE169:AF169))=TRUE,\"\",AVERAGE(AE169:AF169)),IF($W$1=4,'opt2'!A57,#REF!)))","v":""},{"$f":"IF($AA169=\"\",\"\",IF($W$1>7,IF(ISERROR(AVERAGE(AG169:AH169))=TRUE,\"\",AVERAGE(AG169:AH169)),IF($W$1=4,'opt2'!G57,#REF!)))","v":""},0,{"$f":"IF($AA169=\"\",\"\",RTD(\"tos.rtd\", , \"BID\",\".\"&$AF$111&$AE$111&\"C\"&$AA169))","v":""},{"$f":"IF($AA169=\"\",\"\",RTD(\"tos.rtd\", , \"ASK\",\".\"&$AF$111&$AE$111&\"C\"&$AA169))","v":""},{"$f":"IF($AA169=\"\",\"\",RTD(\"tos.rtd\", , \"BID\",\".\"&$AF$111&$AE$111&\"P\"&$AA169))","v":""},{"$f":"IF($AA169=\"\",\"\",RTD(\"tos.rtd\", , \"ASK\",\".\"&$AF$111&$AE$111&\"P\"&$AA169))","v":""},null,null,null,null,null,null,null,null,null,null,null,null,null,null,null,null,null,null,null,null,null,null,null,null,null,null,null,null,null,null,null,"","","",null,null,null,null,null,null,null,null,null,null,null,null,null,null,null,null,null,null,null,null,null,""]
[null,null,null,null,null,null,null,null,null,null,null,null,null,null,null,null,null,null,null,null,null,null,null,null,null,57,{"$f":"IF(OR($W$1=4,$W$1>=6),IF('opt2'!F58=\"\",\"\",'opt2'!F58),\"X\")","v":""},{"$f":"IF($AA170=\"\",\"\",IF($W$1>7,IF(ISERROR(AVERAGE(AE170:AF170))=TRUE,\"\",AVERAGE(AE170:AF170)),IF($W$1=4,'opt2'!A58,#REF!)))","v":""},{"$f":"IF($AA170=\"\",\"\",IF($W$1>7,IF(ISERROR(AVERAGE(AG170:AH170))=TRUE,\"\",AVERAGE(AG170:AH170)),IF($W$1=4,'opt2'!G58,#REF!)))","v":""},0,{"$f":"IF($AA170=\"\",\"\",RTD(\"tos.rtd\", , \"BID\",\".\"&$AF$111&$AE$111&\"C\"&$AA170))","v":""},{"$f":"IF($AA170=\"\",\"\",RTD(\"tos.rtd\", , \"ASK\",\".\"&$AF$111&$AE$111&\"C\"&$AA170))","v":""},{"$f":"IF($AA170=\"\",\"\",RTD(\"tos.rtd\", , \"BID\",\".\"&$AF$111&$AE$111&\"P\"&$AA170))","v":""},{"$f":"IF($AA170=\"\",\"\",RTD(\"tos.rtd\", , \"ASK\",\".\"&$AF$111&$AE$111&\"P\"&$AA170))","v":""},null,null,null,null,null,null,null,null,null,null,null,null,null,null,null,null,null,null,null,null,null,null,null,null,null,null,null,null,null,null,null,"","","",null,null,null,null,null,null,null,null,null,null,null,null,null,null,null,null,null,null,null,null,null,""]
[null,null,null,null,null,null,null,null,null,null,null,null,null,null,null,null,null,null,null,null,null,null,null,null,null,58,{"$f":"IF(OR($W$1=4,$W$1>=6),IF('opt2'!F59=\"\",\"\",'opt2'!F59),\"X\")","v":""},{"$f":"IF($AA171=\"\",\"\",IF($W$1>7,IF(ISERROR(AVERAGE(AE171:AF171))=TRUE,\"\",AVERAGE(AE171:AF171)),IF($W$1=4,'opt2'!A59,#REF!)))","v":""},{"$f":"IF($AA171=\"\",\"\",IF($W$1>7,IF(ISERROR(AVERAGE(AG171:AH171))=TRUE,\"\",AVERAGE(AG171:AH171)),IF($W$1=4,'opt2'!G59,#REF!)))","v":""},0,{"$f":"IF($AA171=\"\",\"\",RTD(\"tos.rtd\", , \"BID\",\".\"&$AF$111&$AE$111&\"C\"&$AA171))","v":""},{"$f":"IF($AA171=\"\",\"\",RTD(\"tos.rtd\", , \"ASK\",\".\"&$AF$111&$AE$111&\"C\"&$AA171))","v":""},{"$f":"IF($AA171=\"\",\"\",RTD(\"tos.rtd\", , \"BID\",\".\"&$AF$111&$AE$111&\"P\"&$AA171))","v":""},{"$f":"IF($AA171=\"\",\"\",RTD(\"tos.rtd\", , \"ASK\",\".\"&$AF$111&$AE$111&\"P\"&$AA171))","v":""},null,null,null,null,null,null,null,null,null,null,null,null,null,null,null,null,null,null,null,null,null,null,null,null,null,null,null,null,null,null,null,"","","",null,null,null,null,null,null,null,null,null,null,null,null,null,null,null,null,null,null,null,null,null,""]
[null,null,null,null,null,null,null,null,null,null,null,null,null,null,null,null,null,null,null,null,null,null,null,null,null,59,{"$f":"IF(OR($W$1=4,$W$1>=6),IF('opt2'!F60=\"\",\"\",'opt2'!F60),\"X\")","v":""},{"$f":"IF($AA172=\"\",\"\",IF($W$1>7,IF(ISERROR(AVERAGE(AE172:AF172))=TRUE,\"\",AVERAGE(AE172:AF172)),IF($W$1=4,'opt2'!A60,#REF!)))","v":""},{"$f":"IF($AA172=\"\",\"\",IF($W$1>7,IF(ISERROR(AVERAGE(AG172:AH172))=TRUE,\"\",AVERAGE(AG172:AH172)),IF($W$1=4,'opt2'!G60,#REF!)))","v":""},0,{"$f":"IF($AA172=\"\",\"\",RTD(\"tos.rtd\", , \"BID\",\".\"&$AF$111&$AE$111&\"C\"&$AA172))","v":""},{"$f":"IF($AA172=\"\",\"\",RTD(\"tos.rtd\", , \"ASK\",\".\"&$AF$111&$AE$111&\"C\"&$AA172))","v":""},{"$f":"IF($AA172=\"\",\"\",RTD(\"tos.rtd\", , \"BID\",\".\"&$AF$111&$AE$111&\"P\"&$AA172))","v":""},{"$f":"IF($AA172=\"\",\"\",RTD(\"tos.rtd\", , \"ASK\",\".\"&$AF$111&$AE$111&\"P\"&$AA172))","v":""},null,null,null,null,null,null,null,null,null,null,null,null,null,null,null,null,null,null,null,null,null,null,null,null,null,null,null,null,null,null,null,"","","",null,null,null,null,null,null,null,null,null,null,null,null,null,null,null,null,null,null,null,null,null,""]
[null,null,null,null,null,null,null,null,null,null,null,null,null,null,null,null,null,null,null,null,null,null,null,null,null,60,{"$f":"IF(OR($W$1=4,$W$1>=6),IF('opt2'!F61=\"\",\"\",'opt2'!F61),\"X\")","v":""},{"$f":"IF($AA173=\"\",\"\",IF($W$1>7,IF(ISERROR(AVERAGE(AE173:AF173))=TRUE,\"\",AVERAGE(AE173:AF173)),IF($W$1=4,'opt2'!A61,#REF!)))","v":""},{"$f":"IF($AA173=\"\",\"\",IF($W$1>7,IF(ISERROR(AVERAGE(AG173:AH173))=TRUE,\"\",AVERAGE(AG173:AH173)),IF($W$1=4,'opt2'!G61,#REF!)))","v":""},0,{"$f":"IF($AA173=\"\",\"\",RTD(\"tos.rtd\", , \"BID\",\".\"&$AF$111&$AE$111&\"C\"&$AA173))","v":""},{"$f":"IF($AA173=\"\",\"\",RTD(\"tos.rtd\", , \"ASK\",\".\"&$AF$111&$AE$111&\"C\"&$AA173))","v":""},{"$f":"IF($AA173=\"\",\"\",RTD(\"tos.rtd\", , \"BID\",\".\"&$AF$111&$AE$111&\"P\"&$AA173))","v":""},{"$f":"IF($AA173=\"\",\"\",RTD(\"tos.rtd\", , \"ASK\",\".\"&$AF$111&$AE$111&\"P\"&$AA173))","v":""},null,null,null,null,null,null,null,null,null,null,null,null,null,null,null,null,null,null,null,null,null,null,null,null,null,null,null,null,null,null,null,"","","",null,null,null,null,null,null,null,null,null,null,null,null,null,null,null,null,null,null,null,null,null,""]
[null,null,null,null,null,null,null,null,null,null,null,null,null,null,null,null,null,null,null,null,null,null,null,null,null,61,{"$f":"IF(OR($W$1=4,$W$1>=6),IF('opt2'!F62=\"\",\"\",'opt2'!F62),\"X\")","v":""},{"$f":"IF($AA174=\"\",\"\",IF($W$1>7,IF(ISERROR(AVERAGE(AE174:AF174))=TRUE,\"\",AVERAGE(AE174:AF174)),IF($W$1=4,'opt2'!A62,#REF!)))","v":""},{"$f":"IF($AA174=\"\",\"\",IF($W$1>7,IF(ISERROR(AVERAGE(AG174:AH174))=TRUE,\"\",AVERAGE(AG174:AH174)),IF($W$1=4,'opt2'!G62,#REF!)))","v":""},0,{"$f":"IF($AA174=\"\",\"\",RTD(\"tos.rtd\", , \"BID\",\".\"&$AF$111&$AE$111&\"C\"&$AA174))","v":""},{"$f":"IF($AA174=\"\",\"\",RTD(\"tos.rtd\", , \"ASK\",\".\"&$AF$111&$AE$111&\"C\"&$AA174))","v":""},{"$f":"IF($AA174=\"\",\"\",RTD(\"tos.rtd\", , \"BID\",\".\"&$AF$111&$AE$111&\"P\"&$AA174))","v":""},{"$f":"IF($AA174=\"\",\"\",RTD(\"tos.rtd\", , \"ASK\",\".\"&$AF$111&$AE$111&\"P\"&$AA174))","v":""},null,null,null,null,null,null,null,null,null,null,null,null,null,null,null,null,null,null,null,null,null,null,null,null,null,null,null,null,null,null,null,"","","",null,null,null,null,null,null,null,null,null,null,null,null,null,null,null,null,null,null,null,null,null,""]
[null,null,null,null,null,null,null,null,null,null,null,null,null,null,null,null,null,null,null,null,null,null,null,null,null,62,{"$f":"IF(OR($W$1=4,$W$1>=6),IF('opt2'!F63=\"\",\"\",'opt2'!F63),\"X\")","v":""},{"$f":"IF($AA175=\"\",\"\",IF($W$1>7,IF(ISERROR(AVERAGE(AE175:AF175))=TRUE,\"\",AVERAGE(AE175:AF175)),IF($W$1=4,'opt2'!A63,#REF!)))","v":""},{"$f":"IF($AA175=\"\",\"\",IF($W$1>7,IF(ISERROR(AVERAGE(AG175:AH175))=TRUE,\"\",AVERAGE(AG175:AH175)),IF($W$1=4,'opt2'!G63,#REF!)))","v":""},0,{"$f":"IF($AA175=\"\",\"\",RTD(\"tos.rtd\", , \"BID\",\".\"&$AF$111&$AE$111&\"C\"&$AA175))","v":""},{"$f":"IF($AA175=\"\",\"\",RTD(\"tos.rtd\", , \"ASK\",\".\"&$AF$111&$AE$111&\"C\"&$AA175))","v":""},{"$f":"IF($AA175=\"\",\"\",RTD(\"tos.rtd\", , \"BID\",\".\"&$AF$111&$AE$111&\"P\"&$AA175))","v":""},{"$f":"IF($AA175=\"\",\"\",RTD(\"tos.rtd\", , \"ASK\",\".\"&$AF$111&$AE$111&\"P\"&$AA175))","v":""},null,null,null,null,null,null,null,null,null,null,null,null,null,null,null,null,null,null,null,null,null,null,null,null,null,null,null,null,null,null,null,"","","",null,null,null,null,null,null,null,null,null,null,null,null,null,null,null,null,null,null,null,null,null,""]
[null,null,null,null,null,null,null,null,null,null,null,null,null,null,null,null,null,null,null,null,null,null,null,null,null,63,{"$f":"IF(OR($W$1=4,$W$1>=6),IF('opt2'!F64=\"\",\"\",'opt2'!F64),\"X\")","v":""},{"$f":"IF($AA176=\"\",\"\",IF($W$1>7,IF(ISERROR(AVERAGE(AE176:AF176))=TRUE,\"\",AVERAGE(AE176:AF176)),IF($W$1=4,'opt2'!A64,#REF!)))","v":""},{"$f":"IF($AA176=\"\",\"\",IF($W$1>7,IF(ISERROR(AVERAGE(AG176:AH176))=TRUE,\"\",AVERAGE(AG176:AH176)),IF($W$1=4,'opt2'!G64,#REF!)))","v":""},0,{"$f":"IF($AA176=\"\",\"\",RTD(\"tos.rtd\", , \"BID\",\".\"&$AF$111&$AE$111&\"C\"&$AA176))","v":""},{"$f":"IF($AA176=\"\",\"\",RTD(\"tos.rtd\", , \"ASK\",\".\"&$AF$111&$AE$111&\"C\"&$AA176))","v":""},{"$f":"IF($AA176=\"\",\"\",RTD(\"tos.rtd\", , \"BID\",\".\"&$AF$111&$AE$111&\"P\"&$AA176))","v":""},{"$f":"IF($AA176=\"\",\"\",RTD(\"tos.rtd\", , \"ASK\",\".\"&$AF$111&$AE$111&\"P\"&$AA176))","v":""},null,null,null,null,null,null,null,null,null,null,null,null,null,null,null,null,null,null,null,null,null,null,null,null,null,null,null,null,null,null,null,"","","",null,null,null,null,null,null,null,null,null,null,null,null,null,null,null,null,null,null,null,null,null,""]
[null,null,null,null,null,null,null,null,null,null,null,null,null,null,null,null,null,null,null,null,null,null,null,null,null,64,{"$f":"IF(OR($W$1=4,$W$1>=6),IF('opt2'!F65=\"\",\"\",'opt2'!F65),\"X\")","v":""},{"$f":"IF($AA177=\"\",\"\",IF($W$1>7,IF(ISERROR(AVERAGE(AE177:AF177))=TRUE,\"\",AVERAGE(AE177:AF177)),IF($W$1=4,'opt2'!A65,#REF!)))","v":""},{"$f":"IF($AA177=\"\",\"\",IF($W$1>7,IF(ISERROR(AVERAGE(AG177:AH177))=TRUE,\"\",AVERAGE(AG177:AH177)),IF($W$1=4,'opt2'!G65,#REF!)))","v":""},0,{"$f":"IF($AA177=\"\",\"\",RTD(\"tos.rtd\", , \"BID\",\".\"&$AF$111&$AE$111&\"C\"&$AA177))","v":""},{"$f":"IF($AA177=\"\",\"\",RTD(\"tos.rtd\", , \"ASK\",\".\"&$AF$111&$AE$111&\"C\"&$AA177))","v":""},{"$f":"IF($AA177=\"\",\"\",RTD(\"tos.rtd\", , \"BID\",\".\"&$AF$111&$AE$111&\"P\"&$AA177))","v":""},{"$f":"IF($AA177=\"\",\"\",RTD(\"tos.rtd\", , \"ASK\",\".\"&$AF$111&$AE$111&\"P\"&$AA177))","v":""},null,null,null,null,null,null,null,null,null,null,null,null,null,null,null,null,null,null,null,null,null,null,null,null,null,null,null,null,null,null,null,"","","",null,null,null,null,null,null,null,null,null,null,null,null,null,null,null,null,null,null,null,null,null,""]
[null,null,null,null,null,null,null,null,null,null,null,null,null,null,null,null,null,null,null,null,null,null,null,null,null,65,{"$f":"IF(OR($W$1=4,$W$1>=6),IF('opt2'!F66=\"\",\"\",'opt2'!F66),\"X\")","v":""},{"$f":"IF($AA178=\"\",\"\",IF($W$1>7,IF(ISERROR(AVERAGE(AE178:AF178))=TRUE,\"\",AVERAGE(AE178:AF178)),IF($W$1=4,'opt2'!A66,#REF!)))","v":""},{"$f":"IF($AA178=\"\",\"\",IF($W$1>7,IF(ISERROR(AVERAGE(AG178:AH178))=TRUE,\"\",AVERAGE(AG178:AH178)),IF($W$1=4,'opt2'!G66,#REF!)))","v":""},{"$f":"AD71","v":0},{"$f":"IF($AA178=\"\",\"\",RTD(\"tos.rtd\", , \"BID\",\".\"&$AF$111&$AE$111&\"C\"&$AA178))","v":""},{"$f":"IF($AA178=\"\",\"\",RTD(\"tos.rtd\", , \"ASK\",\".\"&$AF$111&$AE$111&\"C\"&$AA178))","v":""},{"$f":"IF($AA178=\"\",\"\",RTD(\"tos.rtd\", , \"BID\",\".\"&$AF$111&$AE$111&\"P\"&$AA178))","v":""},{"$f":"IF($AA178=\"\",\"\",RTD(\"tos.rtd\", , \"ASK\",\".\"&$AF$111&$AE$111&\"P\"&$AA178))","v":""},null,null,null,null,null,null,null,null,null,null,null,null,null,null,null,null,null,null,null,null,null,null,null,null,null,null,null,null,null,null,null,"","","",null,null,null,null,null,null,null,null,null,null,null,null,null,null,null,null,null,null,null,null,null,""]
[null,null,null,null,null,null,null,null,null,null,null,null,null,null,null,null,null,null,null,null,null,null,null,null,null,66,{"$f":"IF(OR($W$1=4,$W$1>=6),IF('opt2'!F67=\"\",\"\",'opt2'!F67),\"X\")","v":""},{"$f":"IF($AA179=\"\",\"\",IF($W$1>7,IF(ISERROR(AVERAGE(AE179:AF179))=TRUE,\"\",AVERAGE(AE179:AF179)),IF($W$1=4,'opt2'!A67,#REF!)))","v":""},{"$f":"IF($AA179=\"\",\"\",IF($W$1>7,IF(ISERROR(AVERAGE(AG179:AH179))=TRUE,\"\",AVERAGE(AG179:AH179)),IF($W$1=4,'opt2'!G67,#REF!)))","v":""},0,{"$f":"IF($AA179=\"\",\"\",RTD(\"tos.rtd\", , \"BID\",\".\"&$AF$111&$AE$111&\"C\"&$AA179))","v":""},{"$f":"IF($AA179=\"\",\"\",RTD(\"tos.rtd\", , \"ASK\",\".\"&$AF$111&$AE$111&\"C\"&$AA179))","v":""},{"$f":"IF($AA179=\"\",\"\",RTD(\"tos.rtd\", , \"BID\",\".\"&$AF$111&$AE$111&\"P\"&$AA179))","v":""},{"$f":"IF($AA179=\"\",\"\",RTD(\"tos.rtd\", , \"ASK\",\".\"&$AF$111&$AE$111&\"P\"&$AA179))","v":""},null,null,null,null,null,null,null,null,null,null,null,null,null,null,null,null,null,null,null,null,null,null,null,null,null,null,null,null,null,null,null,"","",""]
[null,null,null,null,null,null,null,null,null,null,null,null,null,null,null,null,null,null,null,null,null,null,null,null,null,67,{"$f":"IF(OR($W$1=4,$W$1>=6),IF('opt2'!F68=\"\",\"\",'opt2'!F68),\"X\")","v":""},{"$f":"IF($AA180=\"\",\"\",IF($W$1>7,IF(ISERROR(AVERAGE(AE180:AF180))=TRUE,\"\",AVERAGE(AE180:AF180)),IF($W$1=4,'opt2'!A68,#REF!)))","v":""},{"$f":"IF($AA180=\"\",\"\",IF($W$1>7,IF(ISERROR(AVERAGE(AG180:AH180))=TRUE,\"\",AVERAGE(AG180:AH180)),IF($W$1=4,'opt2'!G68,#REF!)))","v":""},0,{"$f":"IF($AA180=\"\",\"\",RTD(\"tos.rtd\", , \"BID\",\".\"&$AF$111&$AE$111&\"C\"&$AA180))","v":""},{"$f":"IF($AA180=\"\",\"\",RTD(\"tos.rtd\", , \"ASK\",\".\"&$AF$111&$AE$111&\"C\"&$AA180))","v":""},{"$f":"IF($AA180=\"\",\"\",RTD(\"tos.rtd\", , \"BID\",\".\"&$AF$111&$AE$111&\"P\"&$AA180))","v":""},{"$f":"IF($AA180=\"\",\"\",RTD(\"tos.rtd\", , \"ASK\",\".\"&$AF$111&$AE$111&\"P\"&$AA180))","v":""},null,null,null,null,null,null,null,null,null,null,null,null,null,null,null,null,null,null,null,null,null,null,null,null,null,null,null,null,null,null,null,"","",""]
[null,null,null,null,null,null,null,null,null,null,null,null,null,null,null,null,null,null,null,null,null,null,null,null,null,68,{"$f":"IF(OR($W$1=4,$W$1>=6),IF('opt2'!F69=\"\",\"\",'opt2'!F69),\"X\")","v":""},{"$f":"IF($AA181=\"\",\"\",IF($W$1>7,IF(ISERROR(AVERAGE(AE181:AF181))=TRUE,\"\",AVERAGE(AE181:AF181)),IF($W$1=4,'opt2'!A69,#REF!)))","v":""},{"$f":"IF($AA181=\"\",\"\",IF($W$1>7,IF(ISERROR(AVERAGE(AG181:AH181))=TRUE,\"\",AVERAGE(AG181:AH181)),IF($W$1=4,'opt2'!G69,#REF!)))","v":""},0,{"$f":"IF($AA181=\"\",\"\",RTD(\"tos.rtd\", , \"BID\",\".\"&$AF$111&$AE$111&\"C\"&$AA181))","v":""},{"$f":"IF($AA181=\"\",\"\",RTD(\"tos.rtd\", , \"ASK\",\".\"&$AF$111&$AE$111&\"C\"&$AA181))","v":""},{"$f":"IF($AA181=\"\",\"\",RTD(\"tos.rtd\", , \"BID\",\".\"&$AF$111&$AE$111&\"P\"&$AA181))","v":""},{"$f":"IF($AA181=\"\",\"\",RTD(\"tos.rtd\", , \"ASK\",\".\"&$AF$111&$AE$111&\"P\"&$AA181))","v":""},null,null,null,null,null,null,null,null,null,null,null,null,null,null,null,null,null,null,null,null,null,null,null,null,null,null,null,null,null,null,null,"","",""]
[null,null,null,null,null,null,null,null,null,null,null,null,null,null,null,null,null,null,null,null,null,null,null,null,null,69,{"$f":"IF(OR($W$1=4,$W$1>=6),IF('opt2'!F70=\"\",\"\",'opt2'!F70),\"X\")","v":""},{"$f":"IF($AA182=\"\",\"\",IF($W$1>7,IF(ISERROR(AVERAGE(AE182:AF182))=TRUE,\"\",AVERAGE(AE182:AF182)),IF($W$1=4,'opt2'!A70,#REF!)))","v":""},{"$f":"IF($AA182=\"\",\"\",IF($W$1>7,IF(ISERROR(AVERAGE(AG182:AH182))=TRUE,\"\",AVERAGE(AG182:AH182)),IF($W$1=4,'opt2'!G70,#REF!)))","v":""},0,{"$f":"IF($AA182=\"\",\"\",RTD(\"tos.rtd\", , \"BID\",\".\"&$AF$111&$AE$111&\"C\"&$AA182))","v":""},{"$f":"IF($AA182=\"\",\"\",RTD(\"tos.rtd\", , \"ASK\",\".\"&$AF$111&$AE$111&\"C\"&$AA182))","v":""},{"$f":"IF($AA182=\"\",\"\",RTD(\"tos.rtd\", , \"BID\",\".\"&$AF$111&$AE$111&\"P\"&$AA182))","v":""},{"$f":"IF($AA182=\"\",\"\",RTD(\"tos.rtd\", , \"ASK\",\".\"&$AF$111&$AE$111&\"P\"&$AA182))","v":""},null,null,null,null,null,null,null,null,null,null,null,null,null,null,null,null,null,null,null,null,null,null,null,null,null,null,null,null,null,null,null,"","",""]
[null,null,null,null,null,null,null,null,null,null,null,null,null,null,null,null,null,null,null,null,null,null,null,null,null,70,{"$f":"IF(OR($W$1=4,$W$1>=6),IF('opt2'!F71=\"\",\"\",'opt2'!F71),\"X\")","v":""},{"$f":"IF($AA183=\"\",\"\",IF($W$1>7,IF(ISERROR(AVERAGE(AE183:AF183))=TRUE,\"\",AVERAGE(AE183:AF183)),IF($W$1=4,'opt2'!A71,#REF!)))","v":""},{"$f":"IF($AA183=\"\",\"\",IF($W$1>7,IF(ISERROR(AVERAGE(AG183:AH183))=TRUE,\"\",AVERAGE(AG183:AH183)),IF($W$1=4,'opt2'!G71,#REF!)))","v":""},0,{"$f":"IF($AA183=\"\",\"\",RTD(\"tos.rtd\", , \"BID\",\".\"&$AF$111&$AE$111&\"C\"&$AA183))","v":""},{"$f":"IF($AA183=\"\",\"\",RTD(\"tos.rtd\", , \"ASK\",\".\"&$AF$111&$AE$111&\"C\"&$AA183))","v":""},{"$f":"IF($AA183=\"\",\"\",RTD(\"tos.rtd\", , \"BID\",\".\"&$AF$111&$AE$111&\"P\"&$AA183))","v":""},{"$f":"IF($AA183=\"\",\"\",RTD(\"tos.rtd\", , \"ASK\",\".\"&$AF$111&$AE$111&\"P\"&$AA183))","v":""},null,null,null,null,null,null,null,null,null,null,null,null,null,null,null,null,null,null,null,null,null,null,null,null,null,null,null,null,null,null,null,"","",""]
[null,null,null,null,null,null,null,null,null,null,null,null,null,null,null,null,null,null,null,null,null,null,null,null,null,71,{"$f":"IF(OR($W$1=4,$W$1>=6),IF('opt2'!F72=\"\",\"\",'opt2'!F72),\"X\")","v":""},{"$f":"IF($AA184=\"\",\"\",IF($W$1>7,IF(ISERROR(AVERAGE(AE184:AF184))=TRUE,\"\",AVERAGE(AE184:AF184)),IF($W$1=4,'opt2'!A72,#REF!)))","v":""},{"$f":"IF($AA184=\"\",\"\",IF($W$1>7,IF(ISERROR(AVERAGE(AG184:AH184))=TRUE,\"\",AVERAGE(AG184:AH184)),IF($W$1=4,'opt2'!G72,#REF!)))","v":""},0,{"$f":"IF($AA184=\"\",\"\",RTD(\"tos.rtd\", , \"BID\",\".\"&$AF$111&$AE$111&\"C\"&$AA184))","v":""},{"$f":"IF($AA184=\"\",\"\",RTD(\"tos.rtd\", , \"ASK\",\".\"&$AF$111&$AE$111&\"C\"&$AA184))","v":""},{"$f":"IF($AA184=\"\",\"\",RTD(\"tos.rtd\", , \"BID\",\".\"&$AF$111&$AE$111&\"P\"&$AA184))","v":""},{"$f":"IF($AA184=\"\",\"\",RTD(\"tos.rtd\", , \"ASK\",\".\"&$AF$111&$AE$111&\"P\"&$AA184))","v":""},null,null,null,null,null,null,null,null,null,null,null,null,null,null,null,null,null,null,null,null,null,null,null,null,null,null,null,null,null,null,null,"","",""]
[null,null,null,null,null,null,null,null,null,null,null,null,null,null,null,null,null,null,null,null,null,null,null,null,null,72,{"$f":"IF(OR($W$1=4,$W$1>=6),IF('opt2'!F73=\"\",\"\",'opt2'!F73),\"X\")","v":""},{"$f":"IF($AA185=\"\",\"\",IF($W$1>7,IF(ISERROR(AVERAGE(AE185:AF185))=TRUE,\"\",AVERAGE(AE185:AF185)),IF($W$1=4,'opt2'!A73,#REF!)))","v":""},{"$f":"IF($AA185=\"\",\"\",IF($W$1>7,IF(ISERROR(AVERAGE(AG185:AH185))=TRUE,\"\",AVERAGE(AG185:AH185)),IF($W$1=4,'opt2'!G73,#REF!)))","v":""},0,{"$f":"IF($AA185=\"\",\"\",RTD(\"tos.rtd\", , \"BID\",\".\"&$AF$111&$AE$111&\"C\"&$AA185))","v":""},{"$f":"IF($AA185=\"\",\"\",RTD(\"tos.rtd\", , \"ASK\",\".\"&$AF$111&$AE$111&\"C\"&$AA185))","v":""},{"$f":"IF($AA185=\"\",\"\",RTD(\"tos.rtd\", , \"BID\",\".\"&$AF$111&$AE$111&\"P\"&$AA185))","v":""},{"$f":"IF($AA185=\"\",\"\",RTD(\"tos.rtd\", , \"ASK\",\".\"&$AF$111&$AE$111&\"P\"&$AA185))","v":""},null,null,null,null,null,null,null,null,null,null,null,null,null,null,null,null,null,null,null,null,null,null,null,null,null,null,null,null,null,null,null,"","",""]
[null,null,null,null,null,null,null,null,null,null,null,null,null,null,null,null,null,null,null,null,null,null,null,null,null,73,{"$f":"IF(OR($W$1=4,$W$1>=6),IF('opt2'!F74=\"\",\"\",'opt2'!F74),\"X\")","v":""},{"$f":"IF($AA186=\"\",\"\",IF($W$1>7,IF(ISERROR(AVERAGE(AE186:AF186))=TRUE,\"\",AVERAGE(AE186:AF186)),IF($W$1=4,'opt2'!A74,#REF!)))","v":""},{"$f":"IF($AA186=\"\",\"\",IF($W$1>7,IF(ISERROR(AVERAGE(AG186:AH186))=TRUE,\"\",AVERAGE(AG186:AH186)),IF($W$1=4,'opt2'!G74,#REF!)))","v":""},0,{"$f":"IF($AA186=\"\",\"\",RTD(\"tos.rtd\", , \"BID\",\".\"&$AF$111&$AE$111&\"C\"&$AA186))","v":""},{"$f":"IF($AA186=\"\",\"\",RTD(\"tos.rtd\", , \"ASK\",\".\"&$AF$111&$AE$111&\"C\"&$AA186))","v":""},{"$f":"IF($AA186=\"\",\"\",RTD(\"tos.rtd\", , \"BID\",\".\"&$AF$111&$AE$111&\"P\"&$AA186))","v":""},{"$f":"IF($AA186=\"\",\"\",RTD(\"tos.rtd\", , \"ASK\",\".\"&$AF$111&$AE$111&\"P\"&$AA186))","v":""},null,null,null,null,null,null,null,null,null,null,null,null,null,null,null,null,null,null,null,null,null,null,null,null,null,null,null,null,null,null,null,"","",""]
[null,null,null,null,null,null,null,null,null,null,null,null,null,null,null,null,null,null,null,null,null,null,null,null,null,74,{"$f":"IF(OR($W$1=4,$W$1>=6),IF('opt2'!F75=\"\",\"\",'opt2'!F75),\"X\")","v":""},{"$f":"IF($AA187=\"\",\"\",IF($W$1>7,IF(ISERROR(AVERAGE(AE187:AF187))=TRUE,\"\",AVERAGE(AE187:AF187)),IF($W$1=4,'opt2'!A75,#REF!)))","v":""},{"$f":"IF($AA187=\"\",\"\",IF($W$1>7,IF(ISERROR(AVERAGE(AG187:AH187))=TRUE,\"\",AVERAGE(AG187:AH187)),IF($W$1=4,'opt2'!G75,#REF!)))","v":""},0,{"$f":"IF($AA187=\"\",\"\",RTD(\"tos.rtd\", , \"BID\",\".\"&$AF$111&$AE$111&\"C\"&$AA187))","v":""},{"$f":"IF($AA187=\"\",\"\",RTD(\"tos.rtd\", , \"ASK\",\".\"&$AF$111&$AE$111&\"C\"&$AA187))","v":""},{"$f":"IF($AA187=\"\",\"\",RTD(\"tos.rtd\", , \"BID\",\".\"&$AF$111&$AE$111&\"P\"&$AA187))","v":""},{"$f":"IF($AA187=\"\",\"\",RTD(\"tos.rtd\", , \"ASK\",\".\"&$AF$111&$AE$111&\"P\"&$AA187))","v":""},null,null,null,null,null,null,null,null,null,null,null,null,null,null,null,null,null,null,null,null,null,null,null,null,null,null,null,null,null,null,null,"","",""]
[null,null,null,null,null,null,null,null,null,null,null,null,null,null,null,null,null,null,null,null,null,null,null,null,null,75,{"$f":"IF(OR($W$1=4,$W$1>=6),IF('opt2'!F76=\"\",\"\",'opt2'!F76),\"X\")","v":""},{"$f":"IF($AA188=\"\",\"\",IF($W$1>7,IF(ISERROR(AVERAGE(AE188:AF188))=TRUE,\"\",AVERAGE(AE188:AF188)),IF($W$1=4,'opt2'!A76,#REF!)))","v":""},{"$f":"IF($AA188=\"\",\"\",IF($W$1>7,IF(ISERROR(AVERAGE(AG188:AH188))=TRUE,\"\",AVERAGE(AG188:AH188)),IF($W$1=4,'opt2'!G76,#REF!)))","v":""},0,{"$f":"IF($AA188=\"\",\"\",RTD(\"tos.rtd\", , \"BID\",\".\"&$AF$111&$AE$111&\"C\"&$AA188))","v":""},{"$f":"IF($AA188=\"\",\"\",RTD(\"tos.rtd\", , \"ASK\",\".\"&$AF$111&$AE$111&\"C\"&$AA188))","v":""},{"$f":"IF($AA188=\"\",\"\",RTD(\"tos.rtd\", , \"BID\",\".\"&$AF$111&$AE$111&\"P\"&$AA188))","v":""},{"$f":"IF($AA188=\"\",\"\",RTD(\"tos.rtd\", , \"ASK\",\".\"&$AF$111&$AE$111&\"P\"&$AA188))","v":""},null,null,null,null,null,null,null,null,null,null,null,null,null,null,null,null,null,null,null,null,null,null,null,null,null,null,null,null,null,null,null,"","",""]
[null,null,null,null,null,null,null,null,null,null,null,null,null,null,null,null,null,null,null,null,null,null,null,null,null,76,{"$f":"IF(OR($W$1=4,$W$1>=6),IF('opt2'!F77=\"\",\"\",'opt2'!F77),\"X\")","v":""},{"$f":"IF($AA189=\"\",\"\",IF($W$1>7,IF(ISERROR(AVERAGE(AE189:AF189))=TRUE,\"\",AVERAGE(AE189:AF189)),IF($W$1=4,'opt2'!A77,#REF!)))","v":""},{"$f":"IF($AA189=\"\",\"\",IF($W$1>7,IF(ISERROR(AVERAGE(AG189:AH189))=TRUE,\"\",AVERAGE(AG189:AH189)),IF($W$1=4,'opt2'!G77,#REF!)))","v":""},0,{"$f":"IF($AA189=\"\",\"\",RTD(\"tos.rtd\", , \"BID\",\".\"&$AF$111&$AE$111&\"C\"&$AA189))","v":""},{"$f":"IF($AA189=\"\",\"\",RTD(\"tos.rtd\", , \"ASK\",\".\"&$AF$111&$AE$111&\"C\"&$AA189))","v":""},{"$f":"IF($AA189=\"\",\"\",RTD(\"tos.rtd\", , \"BID\",\".\"&$AF$111&$AE$111&\"P\"&$AA189))","v":""},{"$f":"IF($AA189=\"\",\"\",RTD(\"tos.rtd\", , \"ASK\",\".\"&$AF$111&$AE$111&\"P\"&$AA189))","v":""},null,null,null,null,null,null,null,null,null,null,null,null,null,null,null,null,null,null,null,null,null,null,null,null,null,null,null,null,null,null,null,"","",""]
[null,null,null,null,null,null,null,null,null,null,null,null,null,null,null,null,null,null,null,null,null,null,null,null,null,77,{"$f":"IF(OR($W$1=4,$W$1>=6),IF('opt2'!F78=\"\",\"\",'opt2'!F78),\"X\")","v":""},{"$f":"IF($AA190=\"\",\"\",IF($W$1>7,IF(ISERROR(AVERAGE(AE190:AF190))=TRUE,\"\",AVERAGE(AE190:AF190)),IF($W$1=4,'opt2'!A78,#REF!)))","v":""},{"$f":"IF($AA190=\"\",\"\",IF($W$1>7,IF(ISERROR(AVERAGE(AG190:AH190))=TRUE,\"\",AVERAGE(AG190:AH190)),IF($W$1=4,'opt2'!G78,#REF!)))","v":""},0,{"$f":"IF($AA190=\"\",\"\",RTD(\"tos.rtd\", , \"BID\",\".\"&$AF$111&$AE$111&\"C\"&$AA190))","v":""},{"$f":"IF($AA190=\"\",\"\",RTD(\"tos.rtd\", , \"ASK\",\".\"&$AF$111&$AE$111&\"C\"&$AA190))","v":""},{"$f":"IF($AA190=\"\",\"\",RTD(\"tos.rtd\", , \"BID\",\".\"&$AF$111&$AE$111&\"P\"&$AA190))","v":""},{"$f":"IF($AA190=\"\",\"\",RTD(\"tos.rtd\", , \"ASK\",\".\"&$AF$111&$AE$111&\"P\"&$AA190))","v":""},null,null,null,null,null,null,null,null,null,null,null,null,null,null,null,null,null,null,null,null,null,null,null,null,null,null,null,null,null,null,null,"","",""]
[null,null,null,null,null,null,null,null,null,null,null,null,null,null,null,null,null,null,null,null,null,null,null,null,null,78,{"$f":"IF(OR($W$1=4,$W$1>=6),IF('opt2'!F79=\"\",\"\",'opt2'!F79),\"X\")","v":""},{"$f":"IF($AA191=\"\",\"\",IF($W$1>7,IF(ISERROR(AVERAGE(AE191:AF191))=TRUE,\"\",AVERAGE(AE191:AF191)),IF($W$1=4,'opt2'!A79,#REF!)))","v":""},{"$f":"IF($AA191=\"\",\"\",IF($W$1>7,IF(ISERROR(AVERAGE(AG191:AH191))=TRUE,\"\",AVERAGE(AG191:AH191)),IF($W$1=4,'opt2'!G79,#REF!)))","v":""},0,{"$f":"IF($AA191=\"\",\"\",RTD(\"tos.rtd\", , \"BID\",\".\"&$AF$111&$AE$111&\"C\"&$AA191))","v":""},{"$f":"IF($AA191=\"\",\"\",RTD(\"tos.rtd\", , \"ASK\",\".\"&$AF$111&$AE$111&\"C\"&$AA191))","v":""},{"$f":"IF($AA191=\"\",\"\",RTD(\"tos.rtd\", , \"BID\",\".\"&$AF$111&$AE$111&\"P\"&$AA191))","v":""},{"$f":"IF($AA191=\"\",\"\",RTD(\"tos.rtd\", , \"ASK\",\".\"&$AF$111&$AE$111&\"P\"&$AA191))","v":""},null,null,null,null,null,null,null,null,null,null,null,null,null,null,null,null,null,null,null,null,null,null,null,null,null,null,null,null,null,null,null,"","",""]
[null,null,null,null,null,null,null,null,null,null,null,null,null,null,null,null,null,null,null,null,null,null,null,null,null,79,{"$f":"IF(OR($W$1=4,$W$1>=6),IF('opt2'!F80=\"\",\"\",'opt2'!F80),\"X\")","v":""},{"$f":"IF($AA192=\"\",\"\",IF($W$1>7,IF(ISERROR(AVERAGE(AE192:AF192))=TRUE,\"\",AVERAGE(AE192:AF192)),IF($W$1=4,'opt2'!A80,#REF!)))","v":""},{"$f":"IF($AA192=\"\",\"\",IF($W$1>7,IF(ISERROR(AVERAGE(AG192:AH192))=TRUE,\"\",AVERAGE(AG192:AH192)),IF($W$1=4,'opt2'!G80,#REF!)))","v":""},0,{"$f":"IF($AA192=\"\",\"\",RTD(\"tos.rtd\", , \"BID\",\".\"&$AF$111&$AE$111&\"C\"&$AA192))","v":""},{"$f":"IF($AA192=\"\",\"\",RTD(\"tos.rtd\", , \"ASK\",\".\"&$AF$111&$AE$111&\"C\"&$AA192))","v":""},{"$f":"IF($AA192=\"\",\"\",RTD(\"tos.rtd\", , \"BID\",\".\"&$AF$111&$AE$111&\"P\"&$AA192))","v":""},{"$f":"IF($AA192=\"\",\"\",RTD(\"tos.rtd\", , \"ASK\",\".\"&$AF$111&$AE$111&\"P\"&$AA192))","v":""},null,null,null,null,null,null,null,null,null,null,null,null,null,null,null,null,null,null,null,null,null,null,null,null,null,null,null,null,null,null,null,{"$f":"IF(ISNUMBER(CA192)=FALSE,\"\",CB192)","v":""},{"$f":"IF(BN192=\"\",\"\",IF($W$11=2,BV192,AVERAGE(BY192:BZ192)))","v":""},{"$f":"IF(BN192=\"\",\"\",IF($W$11=2,CD192,AVERAGE(CG192:CH192)))","v":""}]
[null,null,null,null,null,null,null,null,null,null,null,null,null,null,null,null,null,null,null,null,null,null,null,null,null,80,{"$f":"IF(OR($W$1=4,$W$1>=6),IF('opt2'!F81=\"\",\"\",'opt2'!F81),\"X\")","v":""},{"$f":"IF($AA193=\"\",\"\",IF($W$1>7,IF(ISERROR(AVERAGE(AE193:AF193))=TRUE,\"\",AVERAGE(AE193:AF193)),IF($W$1=4,'opt2'!A81,#REF!)))","v":""},{"$f":"IF($AA193=\"\",\"\",IF($W$1>7,IF(ISERROR(AVERAGE(AG193:AH193))=TRUE,\"\",AVERAGE(AG193:AH193)),IF($W$1=4,'opt2'!G81,#REF!)))","v":""},0,{"$f":"IF($AA193=\"\",\"\",RTD(\"tos.rtd\", , \"BID\",\".\"&$AF$111&$AE$111&\"C\"&$AA193))","v":""},{"$f":"IF($AA193=\"\",\"\",RTD(\"tos.rtd\", , \"ASK\",\".\"&$AF$111&$AE$111&\"C\"&$AA193))","v":""},{"$f":"IF($AA193=\"\",\"\",RTD(\"tos.rtd\", , \"BID\",\".\"&$AF$111&$AE$111&\"P\"&$AA193))","v":""},{"$f":"IF($AA193=\"\",\"\",RTD(\"tos.rtd\", , \"ASK\",\".\"&$AF$111&$AE$111&\"P\"&$AA193))","v":""},null,null,null,null,null,null,null,null,null,null,null,null,null,null,null,null,null,null,null,null,null,null,null,null,null,null,null,null,null,null,null,"","",""]
[null,null,null,null,null,null,null,null,null,null,null,null,null,null,null,null,null,null,null,null,null,null,null,null,null,81,{"$f":"IF(OR($W$1=4,$W$1>=6),IF('opt2'!F82=\"\",\"\",'opt2'!F82),\"X\")","v":""},{"$f":"IF($AA194=\"\",\"\",IF($W$1>7,IF(ISERROR(AVERAGE(AE194:AF194))=TRUE,\"\",AVERAGE(AE194:AF194)),IF($W$1=4,'opt2'!A82,#REF!)))","v":""},{"$f":"IF($AA194=\"\",\"\",IF($W$1>7,IF(ISERROR(AVERAGE(AG194:AH194))=TRUE,\"\",AVERAGE(AG194:AH194)),IF($W$1=4,'opt2'!G82,#REF!)))","v":""},0,{"$f":"IF($AA194=\"\",\"\",RTD(\"tos.rtd\", , \"BID\",\".\"&$AF$111&$AE$111&\"C\"&$AA194))","v":""},{"$f":"IF($AA194=\"\",\"\",RTD(\"tos.rtd\", , \"ASK\",\".\"&$AF$111&$AE$111&\"C\"&$AA194))","v":""},{"$f":"IF($AA194=\"\",\"\",RTD(\"tos.rtd\", , \"BID\",\".\"&$AF$111&$AE$111&\"P\"&$AA194))","v":""},{"$f":"IF($AA194=\"\",\"\",RTD(\"tos.rtd\", , \"ASK\",\".\"&$AF$111&$AE$111&\"P\"&$AA194))","v":""},null,null,null,null,null,null,null,null,null,null,null,null,null,null,null,null,null,null,null,null,null,null,null,null,null,null,null,null,null,null,null,"","",""]
[null,null,null,null,null,null,null,null,null,null,null,null,null,null,null,null,null,null,null,null,null,null,null,null,null,82,{"$f":"IF(OR($W$1=4,$W$1>=6),IF('opt2'!F83=\"\",\"\",'opt2'!F83),\"X\")","v":""},{"$f":"IF($AA195=\"\",\"\",IF($W$1>7,IF(ISERROR(AVERAGE(AE195:AF195))=TRUE,\"\",AVERAGE(AE195:AF195)),IF($W$1=4,'opt2'!A83,#REF!)))","v":""},{"$f":"IF($AA195=\"\",\"\",IF($W$1>7,IF(ISERROR(AVERAGE(AG195:AH195))=TRUE,\"\",AVERAGE(AG195:AH195)),IF($W$1=4,'opt2'!G83,#REF!)))","v":""},0,{"$f":"IF($AA195=\"\",\"\",RTD(\"tos.rtd\", , \"BID\",\".\"&$AF$111&$AE$111&\"C\"&$AA195))","v":""},{"$f":"IF($AA195=\"\",\"\",RTD(\"tos.rtd\", , \"ASK\",\".\"&$AF$111&$AE$111&\"C\"&$AA195))","v":""},{"$f":"IF($AA195=\"\",\"\",RTD(\"tos.rtd\", , \"BID\",\".\"&$AF$111&$AE$111&\"P\"&$AA195))","v":""},{"$f":"IF($AA195=\"\",\"\",RTD(\"tos.rtd\", , \"ASK\",\".\"&$AF$111&$AE$111&\"P\"&$AA195))","v":""},null,null,null,null,null,null,null,null,null,null,null,null,null,null,null,null,null,null,null,null,null,null,null,null,null,null,null,null,null,null,null,"","",""]
[null,null,null,null,null,null,null,null,null,null,null,null,null,null,null,null,null,null,null,null,null,null,null,null,null,83,{"$f":"IF(OR($W$1=4,$W$1>=6),IF('opt2'!F84=\"\",\"\",'opt2'!F84),\"X\")","v":""},{"$f":"IF($AA196=\"\",\"\",IF($W$1>7,IF(ISERROR(AVERAGE(AE196:AF196))=TRUE,\"\",AVERAGE(AE196:AF196)),IF($W$1=4,'opt2'!A84,#REF!)))","v":""},{"$f":"IF($AA196=\"\",\"\",IF($W$1>7,IF(ISERROR(AVERAGE(AG196:AH196))=TRUE,\"\",AVERAGE(AG196:AH196)),IF($W$1=4,'opt2'!G84,#REF!)))","v":""},0,{"$f":"IF($AA196=\"\",\"\",RTD(\"tos.rtd\", , \"BID\",\".\"&$AF$111&$AE$111&\"C\"&$AA196))","v":""},{"$f":"IF($AA196=\"\",\"\",RTD(\"tos.rtd\", , \"ASK\",\".\"&$AF$111&$AE$111&\"C\"&$AA196))","v":""},{"$f":"IF($AA196=\"\",\"\",RTD(\"tos.rtd\", , \"BID\",\".\"&$AF$111&$AE$111&\"P\"&$AA196))","v":""},{"$f":"IF($AA196=\"\",\"\",RTD(\"tos.rtd\", , \"ASK\",\".\"&$AF$111&$AE$111&\"P\"&$AA196))","v":""},null,null,null,null,null,null,null,null,null,null,null,null,null,null,null,null,null,null,null,null,null,null,null,null,null,null,null,null,null,null,null,"","",""]
[null,null,null,null,null,null,null,null,null,null,null,null,null,null,null,null,null,null,null,null,null,null,null,null,null,84,{"$f":"IF(OR($W$1=4,$W$1>=6),IF('opt2'!F85=\"\",\"\",'opt2'!F85),\"X\")","v":""},{"$f":"IF($AA197=\"\",\"\",IF($W$1>7,IF(ISERROR(AVERAGE(AE197:AF197))=TRUE,\"\",AVERAGE(AE197:AF197)),IF($W$1=4,'opt2'!A85,#REF!)))","v":""},{"$f":"IF($AA197=\"\",\"\",IF($W$1>7,IF(ISERROR(AVERAGE(AG197:AH197))=TRUE,\"\",AVERAGE(AG197:AH197)),IF($W$1=4,'opt2'!G85,#REF!)))","v":""},0,{"$f":"IF($AA197=\"\",\"\",RTD(\"tos.rtd\", , \"BID\",\".\"&$AF$111&$AE$111&\"C\"&$AA197))","v":""},{"$f":"IF($AA197=\"\",\"\",RTD(\"tos.rtd\", , \"ASK\",\".\"&$AF$111&$AE$111&\"C\"&$AA197))","v":""},{"$f":"IF($AA197=\"\",\"\",RTD(\"tos.rtd\", , \"BID\",\".\"&$AF$111&$AE$111&\"P\"&$AA197))","v":""},{"$f":"IF($AA197=\"\",\"\",RTD(\"tos.rtd\", , \"ASK\",\".\"&$AF$111&$AE$111&\"P\"&$AA197))","v":""},null,null,null,null,null,null,null,null,null,null,null,null,null,null,null,null,null,null,null,null,null,null,null,null,null,null,null,null,null,null,null,"","",""]
[null,null,null,null,null,null,null,null,null,null,null,null,null,null,null,null,null,null,null,null,null,null,null,null,null,85,{"$f":"IF(OR($W$1=4,$W$1>=6),IF('opt2'!F86=\"\",\"\",'opt2'!F86),\"X\")","v":""},{"$f":"IF($AA198=\"\",\"\",IF($W$1>7,IF(ISERROR(AVERAGE(AE198:AF198))=TRUE,\"\",AVERAGE(AE198:AF198)),IF($W$1=4,'opt2'!A86,#REF!)))","v":""},{"$f":"IF($AA198=\"\",\"\",IF($W$1>7,IF(ISERROR(AVERAGE(AG198:AH198))=TRUE,\"\",AVERAGE(AG198:AH198)),IF($W$1=4,'opt2'!G86,#REF!)))","v":""},0,{"$f":"IF($AA198=\"\",\"\",RTD(\"tos.rtd\", , \"BID\",\".\"&$AF$111&$AE$111&\"C\"&$AA198))","v":""},{"$f":"IF($AA198=\"\",\"\",RTD(\"tos.rtd\", , \"ASK\",\".\"&$AF$111&$AE$111&\"C\"&$AA198))","v":""},{"$f":"IF($AA198=\"\",\"\",RTD(\"tos.rtd\", , \"BID\",\".\"&$AF$111&$AE$111&\"P\"&$AA198))","v":""},{"$f":"IF($AA198=\"\",\"\",RTD(\"tos.rtd\", , \"ASK\",\".\"&$AF$111&$AE$111&\"P\"&$AA198))","v":""},null,null,null,null,null,null,null,null,null,null,null,null,null,null,null,null,null,null,null,null,null,null,null,null,null,null,null,null,null,null,null,"","",""]
[null,null,null,null,null,null,null,null,null,null,null,null,null,null,null,null,null,null,null,null,null,null,null,null,null,86,{"$f":"IF(OR($W$1=4,$W$1>=6),IF('opt2'!F87=\"\",\"\",'opt2'!F87),\"X\")","v":""},{"$f":"IF($AA199=\"\",\"\",IF($W$1>7,IF(ISERROR(AVERAGE(AE199:AF199))=TRUE,\"\",AVERAGE(AE199:AF199)),IF($W$1=4,'opt2'!A87,#REF!)))","v":""},{"$f":"IF($AA199=\"\",\"\",IF($W$1>7,IF(ISERROR(AVERAGE(AG199:AH199))=TRUE,\"\",AVERAGE(AG199:AH199)),IF($W$1=4,'opt2'!G87,#REF!)))","v":""},0,{"$f":"IF($AA199=\"\",\"\",RTD(\"tos.rtd\", , \"BID\",\".\"&$AF$111&$AE$111&\"C\"&$AA199))","v":""},{"$f":"IF($AA199=\"\",\"\",RTD(\"tos.rtd\", , \"ASK\",\".\"&$AF$111&$AE$111&\"C\"&$AA199))","v":""},{"$f":"IF($AA199=\"\",\"\",RTD(\"tos.rtd\", , \"BID\",\".\"&$AF$111&$AE$111&\"P\"&$AA199))","v":""},{"$f":"IF($AA199=\"\",\"\",RTD(\"tos.rtd\", , \"ASK\",\".\"&$AF$111&$AE$111&\"P\"&$AA199))","v":""},null,null,null,null,null,null,null,null,null,null,null,null,null,null,null,null,null,null,null,null,null,null,null,null,null,null,null,null,null,null,null,"","",""]
[null,null,null,null,null,null,null,null,null,null,null,null,null,null,null,null,null,null,null,null,null,null,null,null,null,87,{"$f":"IF(OR($W$1=4,$W$1>=6),IF('opt2'!F88=\"\",\"\",'opt2'!F88),\"X\")","v":""},{"$f":"IF($AA200=\"\",\"\",IF($W$1>7,IF(ISERROR(AVERAGE(AE200:AF200))=TRUE,\"\",AVERAGE(AE200:AF200)),IF($W$1=4,'opt2'!A88,#REF!)))","v":""},{"$f":"IF($AA200=\"\",\"\",IF($W$1>7,IF(ISERROR(AVERAGE(AG200:AH200))=TRUE,\"\",AVERAGE(AG200:AH200)),IF($W$1=4,'opt2'!G88,#REF!)))","v":""},0,{"$f":"IF($AA200=\"\",\"\",RTD(\"tos.rtd\", , \"BID\",\".\"&$AF$111&$AE$111&\"C\"&$AA200))","v":""},{"$f":"IF($AA200=\"\",\"\",RTD(\"tos.rtd\", , \"ASK\",\".\"&$AF$111&$AE$111&\"C\"&$AA200))","v":""},{"$f":"IF($AA200=\"\",\"\",RTD(\"tos.rtd\", , \"BID\",\".\"&$AF$111&$AE$111&\"P\"&$AA200))","v":""},{"$f":"IF($AA200=\"\",\"\",RTD(\"tos.rtd\", , \"ASK\",\".\"&$AF$111&$AE$111&\"P\"&$AA200))","v":""},null,null,null,null,null,null,null,null,null,null,null,null,null,null,null,null,null,null,null,null,null,null,null,null,null,null,null,null,null,null,null,"","",""]
[null,null,null,null,null,null,null,null,null,null,null,null,null,null,null,null,null,null,null,null,null,null,null,null,null,88,{"$f":"IF(OR($W$1=4,$W$1>=6),IF('opt2'!F89=\"\",\"\",'opt2'!F89),\"X\")","v":""},{"$f":"IF($AA201=\"\",\"\",IF($W$1>7,IF(ISERROR(AVERAGE(AE201:AF201))=TRUE,\"\",AVERAGE(AE201:AF201)),IF($W$1=4,'opt2'!A89,#REF!)))","v":""},{"$f":"IF($AA201=\"\",\"\",IF($W$1>7,IF(ISERROR(AVERAGE(AG201:AH201))=TRUE,\"\",AVERAGE(AG201:AH201)),IF($W$1=4,'opt2'!G89,#REF!)))","v":""},0,{"$f":"IF($AA201=\"\",\"\",RTD(\"tos.rtd\", , \"BID\",\".\"&$AF$111&$AE$111&\"C\"&$AA201))","v":""},{"$f":"IF($AA201=\"\",\"\",RTD(\"tos.rtd\", , \"ASK\",\".\"&$AF$111&$AE$111&\"C\"&$AA201))","v":""},{"$f":"IF($AA201=\"\",\"\",RTD(\"tos.rtd\", , \"BID\",\".\"&$AF$111&$AE$111&\"P\"&$AA201))","v":""},{"$f":"IF($AA201=\"\",\"\",RTD(\"tos.rtd\", , \"ASK\",\".\"&$AF$111&$AE$111&\"P\"&$AA201))","v":""},null,null,null,null,null,null,null,null,null,null,null,null,null,null,null,null,null,null,null,null,null,null,null,null,null,null,null,null,null,null,null,"","",""]
[null,null,null,null,null,null,null,null,null,null,null,null,null,null,null,null,null,null,null,null,null,null,null,null,null,89,{"$f":"IF(OR($W$1=4,$W$1>=6),IF('opt2'!F90=\"\",\"\",'opt2'!F90),\"X\")","v":""},{"$f":"IF($AA202=\"\",\"\",IF($W$1>7,IF(ISERROR(AVERAGE(AE202:AF202))=TRUE,\"\",AVERAGE(AE202:AF202)),IF($W$1=4,'opt2'!A90,#REF!)))","v":""},{"$f":"IF($AA202=\"\",\"\",IF($W$1>7,IF(ISERROR(AVERAGE(AG202:AH202))=TRUE,\"\",AVERAGE(AG202:AH202)),IF($W$1=4,'opt2'!G90,#REF!)))","v":""},0,{"$f":"IF($AA202=\"\",\"\",RTD(\"tos.rtd\", , \"BID\",\".\"&$AF$111&$AE$111&\"C\"&$AA202))","v":""},{"$f":"IF($AA202=\"\",\"\",RTD(\"tos.rtd\", , \"ASK\",\".\"&$AF$111&$AE$111&\"C\"&$AA202))","v":""},{"$f":"IF($AA202=\"\",\"\",RTD(\"tos.rtd\", , \"BID\",\".\"&$AF$111&$AE$111&\"P\"&$AA202))","v":""},{"$f":"IF($AA202=\"\",\"\",RTD(\"tos.rtd\", , \"ASK\",\".\"&$AF$111&$AE$111&\"P\"&$AA202))","v":""},null,null,null,null,null,null,null,null,null,null,null,null,null,null,null,null,null,null,null,null,null,null,null,null,null,null,null,null,null,null,null,"","",""]
[null,null,null,null,null,null,null,null,null,null,null,null,null,null,null,null,null,null,null,null,null,null,null,null,null,90,{"$f":"IF(OR($W$1=4,$W$1>=6),IF('opt2'!F91=\"\",\"\",'opt2'!F91),\"X\")","v":""},{"$f":"IF($AA203=\"\",\"\",IF($W$1>7,IF(ISERROR(AVERAGE(AE203:AF203))=TRUE,\"\",AVERAGE(AE203:AF203)),IF($W$1=4,'opt2'!A91,#REF!)))","v":""},{"$f":"IF($AA203=\"\",\"\",IF($W$1>7,IF(ISERROR(AVERAGE(AG203:AH203))=TRUE,\"\",AVERAGE(AG203:AH203)),IF($W$1=4,'opt2'!G91,#REF!)))","v":""},0,{"$f":"IF($AA203=\"\",\"\",RTD(\"tos.rtd\", , \"BID\",\".\"&$AF$111&$AE$111&\"C\"&$AA203))","v":""},{"$f":"IF($AA203=\"\",\"\",RTD(\"tos.rtd\", , \"ASK\",\".\"&$AF$111&$AE$111&\"C\"&$AA203))","v":""},{"$f":"IF($AA203=\"\",\"\",RTD(\"tos.rtd\", , \"BID\",\".\"&$AF$111&$AE$111&\"P\"&$AA203))","v":""},{"$f":"IF($AA203=\"\",\"\",RTD(\"tos.rtd\", , \"ASK\",\".\"&$AF$111&$AE$111&\"P\"&$AA203))","v":""},null,null,null,null,null,null,null,null,null,null,null,null,null,null,null,null,null,null,null,null,null,null,null,null,null,null,null,null,null,null,null,"","",""]
[null,null,null,null,null,null,null,null,null,null,null,null,null,null,null,null,null,null,null,null,null,null,null,null,null,91,{"$f":"IF(OR($W$1=4,$W$1>=6),IF('opt2'!F92=\"\",\"\",'opt2'!F92),\"X\")","v":""},{"$f":"IF($AA204=\"\",\"\",IF($W$1>7,IF(ISERROR(AVERAGE(AE204:AF204))=TRUE,\"\",AVERAGE(AE204:AF204)),IF($W$1=4,'opt2'!A92,#REF!)))","v":""},{"$f":"IF($AA204=\"\",\"\",IF($W$1>7,IF(ISERROR(AVERAGE(AG204:AH204))=TRUE,\"\",AVERAGE(AG204:AH204)),IF($W$1=4,'opt2'!G92,#REF!)))","v":""},0,{"$f":"IF($AA204=\"\",\"\",RTD(\"tos.rtd\", , \"BID\",\".\"&$AF$111&$AE$111&\"C\"&$AA204))","v":""},{"$f":"IF($AA204=\"\",\"\",RTD(\"tos.rtd\", , \"ASK\",\".\"&$AF$111&$AE$111&\"C\"&$AA204))","v":""},{"$f":"IF($AA204=\"\",\"\",RTD(\"tos.rtd\", , \"BID\",\".\"&$AF$111&$AE$111&\"P\"&$AA204))","v":""},{"$f":"IF($AA204=\"\",\"\",RTD(\"tos.rtd\", , \"ASK\",\".\"&$AF$111&$AE$111&\"P\"&$AA204))","v":""},null,null,null,null,null,null,null,null,null,null,null,null,null,null,null,null,null,null,null,null,null,null,null,null,null,null,null,null,null,null,null,"","",""]
[null,null,null,null,null,null,null,null,null,null,null,null,null,null,null,null,null,null,null,null,null,null,null,null,null,92,{"$f":"IF(OR($W$1=4,$W$1>=6),IF('opt2'!F93=\"\",\"\",'opt2'!F93),\"X\")","v":""},{"$f":"IF($AA205=\"\",\"\",IF($W$1>7,IF(ISERROR(AVERAGE(AE205:AF205))=TRUE,\"\",AVERAGE(AE205:AF205)),IF($W$1=4,'opt2'!A93,#REF!)))","v":""},{"$f":"IF($AA205=\"\",\"\",IF($W$1>7,IF(ISERROR(AVERAGE(AG205:AH205))=TRUE,\"\",AVERAGE(AG205:AH205)),IF($W$1=4,'opt2'!G93,#REF!)))","v":""},0,{"$f":"IF($AA205=\"\",\"\",RTD(\"tos.rtd\", , \"BID\",\".\"&$AF$111&$AE$111&\"C\"&$AA205))","v":""},{"$f":"IF($AA205=\"\",\"\",RTD(\"tos.rtd\", , \"ASK\",\".\"&$AF$111&$AE$111&\"C\"&$AA205))","v":""},{"$f":"IF($AA205=\"\",\"\",RTD(\"tos.rtd\", , \"BID\",\".\"&$AF$111&$AE$111&\"P\"&$AA205))","v":""},{"$f":"IF($AA205=\"\",\"\",RTD(\"tos.rtd\", , \"ASK\",\".\"&$AF$111&$AE$111&\"P\"&$AA205))","v":""},null,null,null,null,null,null,null,null,null,null,null,null,null,null,null,null,null,null,null,null,null,null,null,null,null,null,null,null,null,null,null,"","",""]
[null,null,null,null,null,null,null,null,null,null,null,null,null,null,null,null,null,null,null,null,null,null,null,null,null,93,{"$f":"IF(OR($W$1=4,$W$1>=6),IF('opt2'!F94=\"\",\"\",'opt2'!F94),\"X\")","v":""},{"$f":"IF($AA206=\"\",\"\",IF($W$1>7,IF(ISERROR(AVERAGE(AE206:AF206))=TRUE,\"\",AVERAGE(AE206:AF206)),IF($W$1=4,'opt2'!A94,#REF!)))","v":""},{"$f":"IF($AA206=\"\",\"\",IF($W$1>7,IF(ISERROR(AVERAGE(AG206:AH206))=TRUE,\"\",AVERAGE(AG206:AH206)),IF($W$1=4,'opt2'!G94,#REF!)))","v":""},0,{"$f":"IF($AA206=\"\",\"\",RTD(\"tos.rtd\", , \"BID\",\".\"&$AF$111&$AE$111&\"C\"&$AA206))","v":""},{"$f":"IF($AA206=\"\",\"\",RTD(\"tos.rtd\", , \"ASK\",\".\"&$AF$111&$AE$111&\"C\"&$AA206))","v":""},{"$f":"IF($AA206=\"\",\"\",RTD(\"tos.rtd\", , \"BID\",\".\"&$AF$111&$AE$111&\"P\"&$AA206))","v":""},{"$f":"IF($AA206=\"\",\"\",RTD(\"tos.rtd\", , \"ASK\",\".\"&$AF$111&$AE$111&\"P\"&$AA206))","v":""},null,null,null,null,null,null,null,null,null,null,null,null,null,null,null,null,null,null,null,null,null,null,null,null,null,null,null,null,null,null,null,"","",""]
[null,null,null,null,null,null,null,null,null,null,null,null,null,null,null,null,null,null,null,null,null,null,null,null,null,94,{"$f":"IF(OR($W$1=4,$W$1>=6),IF('opt2'!F95=\"\",\"\",'opt2'!F95),\"X\")","v":""},{"$f":"IF($AA207=\"\",\"\",IF($W$1>7,IF(ISERROR(AVERAGE(AE207:AF207))=TRUE,\"\",AVERAGE(AE207:AF207)),IF($W$1=4,'opt2'!A95,#REF!)))","v":""},{"$f":"IF($AA207=\"\",\"\",IF($W$1>7,IF(ISERROR(AVERAGE(AG207:AH207))=TRUE,\"\",AVERAGE(AG207:AH207)),IF($W$1=4,'opt2'!G95,#REF!)))","v":""},0,{"$f":"IF($AA207=\"\",\"\",RTD(\"tos.rtd\", , \"BID\",\".\"&$AF$111&$AE$111&\"C\"&$AA207))","v":""},{"$f":"IF($AA207=\"\",\"\",RTD(\"tos.rtd\", , \"ASK\",\".\"&$AF$111&$AE$111&\"C\"&$AA207))","v":""},{"$f":"IF($AA207=\"\",\"\",RTD(\"tos.rtd\", , \"BID\",\".\"&$AF$111&$AE$111&\"P\"&$AA207))","v":""},{"$f":"IF($AA207=\"\",\"\",RTD(\"tos.rtd\", , \"ASK\",\".\"&$AF$111&$AE$111&\"P\"&$AA207))","v":""},null,null,null,null,null,null,null,null,null,null,null,null,null,null,null,null,null,null,null,null,null,null,null,null,null,null,null,null,null,null,null,"","",""]
[null,null,null,null,null,null,null,null,null,null,null,null,null,null,null,null,null,null,null,null,null,null,null,null,null,95,{"$f":"IF(OR($W$1=4,$W$1>=6),IF('opt2'!F96=\"\",\"\",'opt2'!F96),\"X\")","v":""},{"$f":"IF($AA208=\"\",\"\",IF($W$1>7,IF(ISERROR(AVERAGE(AE208:AF208))=TRUE,\"\",AVERAGE(AE208:AF208)),IF($W$1=4,'opt2'!A96,#REF!)))","v":""},{"$f":"IF($AA208=\"\",\"\",IF($W$1>7,IF(ISERROR(AVERAGE(AG208:AH208))=TRUE,\"\",AVERAGE(AG208:AH208)),IF($W$1=4,'opt2'!G96,#REF!)))","v":""},0,{"$f":"IF($AA208=\"\",\"\",RTD(\"tos.rtd\", , \"BID\",\".\"&$AF$111&$AE$111&\"C\"&$AA208))","v":""},{"$f":"IF($AA208=\"\",\"\",RTD(\"tos.rtd\", , \"ASK\",\".\"&$AF$111&$AE$111&\"C\"&$AA208))","v":""},{"$f":"IF($AA208=\"\",\"\",RTD(\"tos.rtd\", , \"BID\",\".\"&$AF$111&$AE$111&\"P\"&$AA208))","v":""},{"$f":"IF($AA208=\"\",\"\",RTD(\"tos.rtd\", , \"ASK\",\".\"&$AF$111&$AE$111&\"P\"&$AA208))","v":""},null,null,null,null,null,null,null,null,null,null,null,null,null,null,null,null,null,null,null,null,null,null,null,null,null,null,null,null,null,null,null,"","",""]
[null,null,null,null,null,null,null,null,null,null,null,null,null,null,null,null,null,null,null,null,null,null,null,null,null,96,{"$f":"IF(OR($W$1=4,$W$1>=6),IF('opt2'!F97=\"\",\"\",'opt2'!F97),\"X\")","v":""},{"$f":"IF($AA209=\"\",\"\",IF($W$1>7,IF(ISERROR(AVERAGE(AE209:AF209))=TRUE,\"\",AVERAGE(AE209:AF209)),IF($W$1=4,'opt2'!A97,#REF!)))","v":""},{"$f":"IF($AA209=\"\",\"\",IF($W$1>7,IF(ISERROR(AVERAGE(AG209:AH209))=TRUE,\"\",AVERAGE(AG209:AH209)),IF($W$1=4,'opt2'!G97,#REF!)))","v":""},0,{"$f":"IF($AA209=\"\",\"\",RTD(\"tos.rtd\", , \"BID\",\".\"&$AF$111&$AE$111&\"C\"&$AA209))","v":""},{"$f":"IF($AA209=\"\",\"\",RTD(\"tos.rtd\", , \"ASK\",\".\"&$AF$111&$AE$111&\"C\"&$AA209))","v":""},{"$f":"IF($AA209=\"\",\"\",RTD(\"tos.rtd\", , \"BID\",\".\"&$AF$111&$AE$111&\"P\"&$AA209))","v":""},{"$f":"IF($AA209=\"\",\"\",RTD(\"tos.rtd\", , \"ASK\",\".\"&$AF$111&$AE$111&\"P\"&$AA209))","v":""},null,null,null,null,null,null,null,null,null,null,null,null,null,null,null,null,null,null,null,null,null,null,null,null,null,null,null,null,null,null,null,"","",""]
[null,null,null,null,null,null,null,null,null,null,null,null,null,null,null,null,null,null,null,null,null,null,null,null,null,97,{"$f":"IF(OR($W$1=4,$W$1>=6),IF('opt2'!F98=\"\",\"\",'opt2'!F98),\"X\")","v":""},{"$f":"IF($AA210=\"\",\"\",IF($W$1>7,IF(ISERROR(AVERAGE(AE210:AF210))=TRUE,\"\",AVERAGE(AE210:AF210)),IF($W$1=4,'opt2'!A98,#REF!)))","v":""},{"$f":"IF($AA210=\"\",\"\",IF($W$1>7,IF(ISERROR(AVERAGE(AG210:AH210))=TRUE,\"\",AVERAGE(AG210:AH210)),IF($W$1=4,'opt2'!G98,#REF!)))","v":""},0,{"$f":"IF($AA210=\"\",\"\",RTD(\"tos.rtd\", , \"BID\",\".\"&$AF$111&$AE$111&\"C\"&$AA210))","v":""},{"$f":"IF($AA210=\"\",\"\",RTD(\"tos.rtd\", , \"ASK\",\".\"&$AF$111&$AE$111&\"C\"&$AA210))","v":""},{"$f":"IF($AA210=\"\",\"\",RTD(\"tos.rtd\", , \"BID\",\".\"&$AF$111&$AE$111&\"P\"&$AA210))","v":""},{"$f":"IF($AA210=\"\",\"\",RTD(\"tos.rtd\", , \"ASK\",\".\"&$AF$111&$AE$111&\"P\"&$AA210))","v":""},null,null,null,null,null,null,null,null,null,null,null,null,null,null,null,null,null,null,null,null,null,null,null,null,null,null,null,null,null,null,null,"","",""]
[null,null,null,null,null,null,null,null,null,null,null,null,null,null,null,null,null,null,null,null,null,null,null,null,null,98,{"$f":"IF(OR($W$1=4,$W$1>=6),IF('opt2'!F99=\"\",\"\",'opt2'!F99),\"X\")","v":""},{"$f":"IF($AA211=\"\",\"\",IF($W$1>7,IF(ISERROR(AVERAGE(AE211:AF211))=TRUE,\"\",AVERAGE(AE211:AF211)),IF($W$1=4,'opt2'!A99,#REF!)))","v":""},{"$f":"IF($AA211=\"\",\"\",IF($W$1>7,IF(ISERROR(AVERAGE(AG211:AH211))=TRUE,\"\",AVERAGE(AG211:AH211)),IF($W$1=4,'opt2'!G99,#REF!)))","v":""},0,{"$f":"IF($AA211=\"\",\"\",RTD(\"tos.rtd\", , \"BID\",\".\"&$AF$111&$AE$111&\"C\"&$AA211))","v":""},{"$f":"IF($AA211=\"\",\"\",RTD(\"tos.rtd\", , \"ASK\",\".\"&$AF$111&$AE$111&\"C\"&$AA211))","v":""},{"$f":"IF($AA211=\"\",\"\",RTD(\"tos.rtd\", , \"BID\",\".\"&$AF$111&$AE$111&\"P\"&$AA211))","v":""},{"$f":"IF($AA211=\"\",\"\",RTD(\"tos.rtd\", , \"ASK\",\".\"&$AF$111&$AE$111&\"P\"&$AA211))","v":""},null,null,null,null,null,null,null,null,null,null,null,null,null,null,null,null,null,null,null,null,null,null,null,null,null,null,null,null,null,null,null,"","",""]
[null,null,null,null,null,null,null,null,null,null,null,null,null,null,null,null,null,null,null,null,null,null,null,null,null,99,{"$f":"IF(OR($W$1=4,$W$1>=6),IF('opt2'!F100=\"\",\"\",'opt2'!F100),\"X\")","v":""},{"$f":"IF($AA212=\"\",\"\",IF($W$1>7,IF(ISERROR(AVERAGE(AE212:AF212))=TRUE,\"\",AVERAGE(AE212:AF212)),IF($W$1=4,'opt2'!A100,#REF!)))","v":""},{"$f":"IF($AA212=\"\",\"\",IF($W$1>7,IF(ISERROR(AVERAGE(AG212:AH212))=TRUE,\"\",AVERAGE(AG212:AH212)),IF($W$1=4,'opt2'!G100,#REF!)))","v":""},0,{"$f":"IF($AA212=\"\",\"\",RTD(\"tos.rtd\", , \"BID\",\".\"&$AF$111&$AE$111&\"C\"&$AA212))","v":""},{"$f":"IF($AA212=\"\",\"\",RTD(\"tos.rtd\", , \"ASK\",\".\"&$AF$111&$AE$111&\"C\"&$AA212))","v":""},{"$f":"IF($AA212=\"\",\"\",RTD(\"tos.rtd\", , \"BID\",\".\"&$AF$111&$AE$111&\"P\"&$AA212))","v":""},{"$f":"IF($AA212=\"\",\"\",RTD(\"tos.rtd\", , \"ASK\",\".\"&$AF$111&$AE$111&\"P\"&$AA212))","v":""},null,null,null,null,null,null,null,null,null,null,null,null,null,null,null,null,null,null,null,null,null,null,null,null,null,null,null,null,null,null,null,"","",""]
[null,null,null,null,null,null,null,null,null,null,null,null,null,null,null,null,null,null,null,null,null,null,null,null,null,100,{"$f":"IF(OR($W$1=4,$W$1>=6),IF('opt2'!F101=\"\",\"\",'opt2'!F101),\"X\")","v":""},{"$f":"IF($AA213=\"\",\"\",IF($W$1>7,IF(ISERROR(AVERAGE(AE213:AF213))=TRUE,\"\",AVERAGE(AE213:AF213)),IF($W$1=4,'opt2'!A101,#REF!)))","v":""},{"$f":"IF($AA213=\"\",\"\",IF($W$1>7,IF(ISERROR(AVERAGE(AG213:AH213))=TRUE,\"\",AVERAGE(AG213:AH213)),IF($W$1=4,'opt2'!G101,#REF!)))","v":""},0,{"$f":"IF($AA213=\"\",\"\",RTD(\"tos.rtd\", , \"BID\",\".\"&$AF$111&$AE$111&\"C\"&$AA213))","v":""},{"$f":"IF($AA213=\"\",\"\",RTD(\"tos.rtd\", , \"ASK\",\".\"&$AF$111&$AE$111&\"C\"&$AA213))","v":""},{"$f":"IF($AA213=\"\",\"\",RTD(\"tos.rtd\", , \"BID\",\".\"&$AF$111&$AE$111&\"P\"&$AA213))","v":""},{"$f":"IF($AA213=\"\",\"\",RTD(\"tos.rtd\", , \"ASK\",\".\"&$AF$111&$AE$111&\"P\"&$AA213))","v":""},null,null,null,null,null,null,null,null,null,null,null,null,null,null,null,null,null,null,null,null,null,null,null,null,null,null,null,null,null,null,null,"","",""]
[]
[]
[]
[]
[]
[null,null,null,null,null,null,null,null,null,null,null,null,"IB FUT",{"$f":"YEAR(N220)&IF(MONTH(N220)<10,\"0\",\"\")&MONTH(N220)&IF(DAY(N220)<10,\"0\",\"\")&DAY(N220)","v":"19000100"}]
[null,null,null,null,null,null,null,null,null,null,null,null,1,{"$f":"VLOOKUP($X$22,$M$223:$W$242,O244)","v":"00:00:00"},{"$f":"VLOOKUP($X$22,$M$223:$X$242,P244)","v":"00:00:00"}]
[]
[null,null,null,null,null,null,null,null,null,null,null,null,null,"fut","fut opt","cl","cl opt","gc","gc opt","ES/nq","ES/nq OPT","6E","6E OPT"]
[null,null,null,null,null,null,null,null,null,null,null,null,1,{"$f":"VLOOKUP(M223,$M$223:$U$242,$O$244)","v":"2018-06-20"},{"$f":"VLOOKUP(M223,$M$223:$U$242,$P$244)","v":"2018-07-17"},"2018-06-20","2018-07-17","2018-06-27","2018-05-24","2018-06-15","2018-06-15",{"$f":"T223+3","v":"2018-06-18"},"2018-06-18"]
[null,null,null,null,null,null,null,null,null,null,null,null,2,{"$f":"VLOOKUP(M224,$M$223:$U$242,$O$244)","v":"2018-07-20"},{"$f":"VLOOKUP(M224,$M$223:$U$242,$P$244)","v":"2018-08-16"},"2018-07-20","2018-08-16","2018-08-29","2018-07-26","2018-09-21","2018-09-21","2018-09-24","2018-09-24"]
[null,null,null,null,null,null,null,null,null,null,null,null,3,"2018-08-21","2018-09-17","2018-08-21","2018-09-17","2018-10-29","2018-09-25","2018-12-21","2018-12-21","2018-12-24","2018-12-24"]
[null,null,null,null,null,null,null,null,null,null,null,null,4,"2018-09-20","2018-10-17","2018-09-20","2018-10-17","2018-12-27","2018-11-27"]
[null,null,null,null,null,null,null,null,null,null,null,null,5,"2018-10-22","2018-11-14","2018-10-22","2018-11-14"]
[null,null,null,null,null,null,null,null,null,null,null,null,6,"2018-11-19","2018-12-26","2018-11-19","2018-12-26"]
[null,null,null,null,null,null,null,null,null,null,null,null,7,"00:00:00","00:00:00"]
[null,null,null,null,null,null,null,null,null,null,null,null,8,"00:00:00","00:00:00"]
[null,null,null,null,null,null,null,null,null,null,null,null,9,"00:00:00","00:00:00"]
[null,null,null,null,null,null,null,null,null,null,null,null,10,"00:00:00","00:00:00"]
[null,null,null,null,null,null,null,null,null,null,null,null,11,"00:00:00","00:00:00"]
[null,null,null,null,null,null,null,null,null,null,null,null,12,"00:00:00","00:00:00"]
[null,null,null,null,null,null,null,null,null,null,null,null,13,"00:00:00","00:00:00"]
[null,null,null,null,null,null,null,null,null,null,null,null,14,"00:00:00","00:00:00"]
[null,null,null,null,null,null,null,null,null,null,null,null,15,"00:00:00","00:00:00"]
[null,null,null,null,null,null,null,null,null,null,null,null,16,"00:00:00","00:00:00"]
[null,null,null,null,null,null,null,null,null,null,null,null,17,"00:00:00","00:00:00"]
[null,null,null,null,null,null,null,null,null,null,null,null,18,"00:00:00","00:00:00"]
[null,null,null,null,null,null,null,null,null,null,null,null,19,"00:00:00","00:00:00"]
[null,null,null,null,null,null,null,null,null,null,null,null,20,"00:00:00","00:00:00"]
[]
[null,null,null,null,null,null,null,null,null,null,null,null,"CL",null,{"$f":"IF(ISERROR(VLOOKUP($Z$2,$N$245:$O$249,2))=TRUE,4,VLOOKUP($Z$2,$N$245:$O$249,2))","v":4},{"$f":"IF(ISERROR(VLOOKUP($Z$2,$N$245:$P$249,3))=TRUE,5,VLOOKUP($Z$2,$N$245:$P$249,3))","v":5}]
[null,null,null,null,null,null,null,null,null,null,null,null,1,"cl",4,5]
[null,null,null,null,null,null,null,null,null,null,null,null,2,"es",8,9]
[null,null,null,null,null,null,null,null,null,null,null,null,3,"eur",10,11]
[null,null,null,null,null,null,null,null,null,null,null,null,4,"gc",8,9]
[null,null,null,null,null,null,null,null,null,null,null,null,5,"nq",6,7]
[null,null,null,null,null,null,null,null,null,null,null,null,6]
[null,null,null,null,null,null,null,null,null,null,null,null,7]
[null,null,null,null,null,null,null,null,null,null,null,null,8]
[null,null,null,null,null,null,null,null,null,null,null,null,9]
[null,null,null,null,null,null,null,null,null,null,null,null,10]

{"sheet":"opt","index":4,"n_rows":125,"n_cols":23,"rows_kept":125,"cut":false,"hidden":true,"merged":[]}
["Last Price","Change","% Change","Volume","Open Interest","Strike","Last Price","Change","% Change","Volume","Open Interest",null,null,"Ticker",{"$f":"sum!B2","v":"AAPL"},null,{"$f":"VLOOKUP(R1,Q2:R24,2)","v":"2022-09-30"},9,10,null,{"$f":"VLOOKUP(W1,U2:W41,3,FALSE)","v":"2022-09-16"},null,2]
[127,-0.95,-7.4000000000000003E-3,7,271,40,0.01,0,"-",2,5925,null,null,"Expire",{"$f":"sum!D2","v":"2022-09-16"},{"$f":"\"\"&((O2-DATE(1970,1,1))*60*60*24)","v":"1663286400"},1,{"$f":"ROUND(NOW(),0)+7-WEEKDAY(ROUND(NOW(),0)+7-6)","v":"2022-09-02"},null,null,1,{"$f":"VALUE(CONCATENATE(MONTH(NOW()),\"/20/\",YEAR(NOW())))","v":"2022-08-20"},{"$f":"DATE(YEAR(V2),MONTH(V2),1+7*3)-WEEKDAY(DATE(YEAR(V2),MONTH(V2),8-6))","v":"2022-08-19"}]
[125.95,-0.25,-2E-3,6,438,41.25,0.01,0,"-",1,1298,null,null,null,null,null,2,{"$f":"R2+3","v":"2022-09-05"},null,null,{"$f":"U2+1","v":2},{"$f":"V2+30","v":"2022-09-19"},{"$f":"DATE(YEAR(V3),MONTH(V3),1+7*3)-WEEKDAY(DATE(YEAR(V3),MONTH(V3),8-6))","v":"2022-09-16"}]
[125.1,-0.6,-4.7999999999999996E-3,48,157,42.5,0.02,0,"-",9,427,null,null,null,null,null,3,{"$f":"R2+5","v":"2022-09-07"},null,null,{"$f":"U3+1","v":3},{"$f":"V2+60","v":"2022-10-19"},{"$f":"DATE(YEAR(V4),MONTH(V4),1+7*3)-WEEKDAY(DATE(YEAR(V4),MONTH(V4),8-6))","v":"2022-10-21"}]
[123.7,0,"-",35,140,43.75,0.01,0,"-",10,314,null,null,null,null,null,4,{"$f":"R2+7","v":"2022-09-09"},null,null,4,{"$f":"V2+90","v":"2022-11-18"},"2022-11-18"]
[122.85,0,"-",48,95,45,0.01,0,"-",100,2034,null,null,null,null,null,5,{"$f":"R2+10","v":"2022-09-12"},null,null,5,{"$f":"V2+121","v":"2022-12-19"},"2022-12-16"]
[127.55,0,"-",1,69,46.25,0.01,0,"-",2,5308,null,null,null,null,null,6,{"$f":"R2+12","v":"2022-09-14"},null,null,6,{"$f":"V2+152","v":"2023-01-19"},"2023-01-20"]
[119.2,-0.65,-5.4000000000000003E-3,1,38,47.5,0.01,0,"-",9,4117,null,null,null,null,null,7,{"$f":"R2+14","v":"2022-09-16"},null,null,7,{"$f":"V2+152+360","v":"2024-01-14"},"2024-01-19"]
[123.05,0,"-",4,32,48.75,0.01,0,"-",15,784,null,null,null,null,null,8,{"$f":"R2+21","v":"2022-09-23"},null,null,8,{"$f":"$V$2+152+365*2","v":"2025-01-18"},"2025-01-17"]
[116.8,-0.85,-7.1999999999999998E-3,7,183,50,0.01,0,"-",100,3257,null,null,null,null,null,9,{"$f":"R2+28","v":"2022-09-30"},null,null,9,{"$f":"$V$2+152+365*3","v":"2026-01-18"},"2026-01-16"]
[115.35,0,"-",1,101,52.5,0.02,0,"-",120,1595,null,null,null,null,null,10,{"$f":"R2+35","v":"2022-10-07"},null,null,10,null,"WEEKLY'S:"]
[111.7,-1.1499999999999999,-1.0200000000000001E-2,1,102,55,0.01,0,"-",4,2568,null,null,null,null,null,11,{"$f":"R2+42","v":"2022-10-14"},null,null,11,null,{"$f":"ROUNDDOWN(NOW()+7-WEEKDAY(NOW()+1),0)","v":"2022-09-02"}]
[110.55,0,"-",22,90,57.5,0.01,0,"-",12,2050,null,null,null,null,null,12,{"$f":"R2+70","v":"2022-11-11"},null,null,12,null,{"$f":"ROUNDDOWN(NOW()+7-WEEKDAY(NOW()+3),0)","v":"2022-08-31"}]
[107.6,0.15,1.4E-3,10,58,60,0.01,0,"-",3,1890,null,null,null,null,null,13,{"$f":"R2+98","v":"2022-12-09"},null,null,13,null,{"$f":"W12+7","v":"2022-09-09"}]
[104.6,-0.7,-6.6E-3,3,80,62.5,0.01,0,"-",37,3109,null,null,null,null,null,14,{"$f":"R2+126","v":"2023-01-06"},null,null,14,null,{"$f":"W13+7","v":"2022-09-07"}]
[102.93,0,"-",1,108,65,0.01,0,"-",3,2123,null,null,null,null,null,15,{"$f":"R2+161","v":"2023-02-10"},null,null,15,null,{"$f":"W14+7","v":"2022-09-16"}]
[99.6,-1.7,-1.6799999999999999E-2,1,55,67.5,0.04,0,"-",31,1870,null,null,null,null,null,16,{"$f":"R2+189","v":"2023-03-10"},null,null,16,null,"2022-09-14"]
[101.8,0,"-",15,37,70,0.02,0,"-",1,2817,null,null,null,null,null,17,{"$f":"R2+217","v":"2023-04-07"},null,null,17,null,"2022-09-23"]
[95.7,0,"-",13,46,72.5,0.01,0,"-",5,1054,null,null,null,null,null,18,{"$f":"R2+308","v":"2023-07-07"},null,null,18,null,"2022-09-21"]
[92.45,0,"-",6,294,75,0.01,0,"-",21,2093,null,null,null,null,null,19,{"$f":"R2+343","v":"2023-08-11"},null,null,19,null,"2022-09-30"]
[91.35,0,"-",11,95,76.25,0.01,0,"-",118,741,null,null,null,null,null,20,{"$f":"R2+399","v":"2023-10-06"},null,null,20,null,"2022-09-28"]
[89.85,0,"-",7,80,77.5,0.01,0,"-",155,5775,null,null,null,null,null,21,{"$f":"R2+525","v":"2024-02-09"},null,null,21,null,"2022-10-07"]
[89.5,0,"-",3,16,78.75,0.01,0,"-",10,1112,null,null,null,null,null,22,{"$f":"R2+679","v":"2024-07-12"},null,null,22,null,"2022-10-05"]
[87.6,0,"-",33,210,80,0.01,0,"-",1,5313,null,null,null,null,null,23,null,null,null,23,null,"2022-10-14"]
[87,0,"-",5,149,81.25,0.01,0,"-",10,2615,null,null,null,null,null,null,null,null,null,24,null,"2022-10-12"]
[85.45,0,"-",1,110,82.5,0.01,0,"-",2,5399,null,null,null,null,null,null,null,null,null,25,null,"2022-10-21"]
[83.05,-1.75,-2.06E-2,11,201,83.75,0.01,0,"-",40,501,null,null,null,null,null,null,null,null,null,26,null,"2022-10-19"]
[82.4,0,"-",34,156,85,0.01,0,"-",10,2022,null,null,null,null,null,null,null,null,null,27,null,"2022-10-28"]
[81.400000000000006,0.35,4.3E-3,32,270,86.25,0.01,0,"-",10,581,null,null,null,null,null,null,null,null,null,28,null,"2022-10-26"]
[79.75,-1.1499999999999999,-1.4200000000000001E-2,31,1268,87.5,0.01,0,"-",108,2952,null,null,null,null,null,null,null,null,null,29,null,"2022-11-04"]
[77.349999999999994,-0.2,-2.5999999999999999E-3,47,6432,90,0.01,0,"-",142,7713,null,null,null,null,null,null,null,null,null,30,null,"2022-11-02"]
[75.599999999999994,0,"-",9,973,92.5,0.01,0,"-",2,1481,null,null,null,null,null,null,null,null,null,31,null,"2022-11-11"]
[72.94,0,"-",7,1636,95,0.01,0,"-",110,11448,null,null,null,null,null,null,null,null,null,32,null,"2022-11-09"]
[74.150000000000006,0,"-",45,990,97.5,0.01,0,"-",9,3745,null,null,null,null,null,null,null,null,null,33,null,"2022-11-18"]
[67.7,-0.06,-8.9999999999999998E-4,1,4493,100,0.01,0,"-",23,22868,null,null,null,null,null,null,null,null,null,34,null,"2022-11-16"]
[69.67,0,"-",7,623,102.5,0.01,0,"-",67,3050,null,null,null,null,null,null,null,null,null,35,null,"2022-11-25"]
[63,0,"-",35,922,105,0.02,0.01,1,1,7306,null,null,null,null,null,null,null,null,null,36,null,"2022-11-23"]
[60,-0.1,-1.6999999999999999E-3,2,2234,107.5,0.02,0,"-",117,4106,null,null,null,null,null,null,null,null,null,37,null,"2022-12-02"]
[57.46,-0.85,-1.46E-2,1,2662,110,0.02,0,"-",55,12030,null,null,null,null,null,null,null,null,null,38,null,"2022-11-30"]
[54.8,-0.75,-1.35E-2,9,2383,112.5,0.03,0,"-",2,4646,null,null,null,null,null,null,null,null,null,39,null,"2022-12-09"]
[51.84,-0.76,-1.44E-2,10,2574,115,0.03,0,"-",191,94713,null,null,null,null,null,null,null,null,null,40,null,"2022-12-07"]
[49.5,-0.55000000000000004,-1.0999999999999999E-2,34,3484,117.5,0.04,0.01,0.33329999999999999,200,7881]
[47.45,0.11,2.3E-3,30,2574,120,0.05,0,"-",124,28098]
[44.37,-1.18,-2.5899999999999999E-2,6,2969,122.5,7.0000000000000007E-2,0.01,0.16669999999999999,652,10633]
[42.35,0.03,6.9999999999999999E-4,4,21416,125,7.0000000000000007E-2,0.01,0.16669999999999999,583,126446]
[38.1,0,"-",5,13597,130,0.1,-0.02,-0.16669999999999999,5197,41731]
[32.450000000000003,-7.0000000000000007E-2,-2.2000000000000001E-3,54,7545,135,0.13,-0.04,-0.23530000000000001,15555,47623]
[28,0.1,3.5999999999999999E-3,34,22039,140,0.2,-0.08,-0.28570000000000001,3101,63195]
[22.79,-0.56999999999999995,-2.4400000000000002E-2,38,18585,145,0.33,-0.11,-0.25,1770,35143]
[18.3,0.09,4.8999999999999998E-3,117,57158,150,0.56999999999999995,-0.18,-0.24,5849,106131]
[15.8,-0.75,-4.53E-2,65,131,152.5,0.8,-0.18,-0.1837,1676,1652]
[13.49,-0.05,-3.7000000000000002E-3,221,49089,155,1.01,-0.28000000000000003,-0.21709999999999999,25207,71859]
[11.45,-0.5,-4.1799999999999997E-2,121,531,157.5,1.36,-0.35,-0.20469999999999999,1021,1827]
[9.75,0.05,5.1999999999999998E-3,523,50960,160,1.85,-0.38,-0.1704,4139,48691]
[7.9,0.24,3.1300000000000001E-2,115,414,162.5,2.4500000000000002,-0.44,-0.1522,705,1873]
[6.13,-0.02,-3.3E-3,1277,86025,165,3.26,-0.45,-0.12130000000000001,7334,78838]
[4.5999999999999996,-0.05,-1.0800000000000001E-2,941,1640,167.5,4.25,-0.42,-8.9899999999999994E-2,791,2133]
[3.3,-0.05,-1.49E-2,6773,78974,170,5.45,-0.5,-8.4000000000000005E-2,1829,64773]
[2.21,-0.08,-3.49E-2,1098,3113,172.5,6.85,-0.52,-7.0599999999999996E-2,513,711]
[1.4,-0.06,-4.1099999999999998E-2,3481,48729,175,8.6,-0.45,-4.9700000000000001E-2,816,28109]
[0.84,-0.06,-6.6699999999999995E-2,1535,4426,177.5,11,0.45,4.2700000000000002E-2,40,208]
[0.49,-0.04,-7.5499999999999998E-2,2769,53712,180,13.05,-0.15,-1.14E-2,336,20127]
[0.28000000000000003,-0.04,-0.125,575,1377,182.5,15.05,-0.4,-2.5899999999999999E-2,118,198]
[0.15,-0.03,-0.16669999999999999,5767,70126,185,17.45,0.05,2.8999999999999998E-3,183,5931]
[0.1,-0.01,-9.0899999999999995E-2,101,5435,187.5,20.85,0.75,3.73E-2,26,210]
[7.0000000000000007E-2,-0.01,-0.125,366,28340,190,22.91,0.61,2.7400000000000001E-2,7,2475]
[0.05,0,"-",5,262,192.5,25.45,0,"-",5,7]
[0.04,0,"-",70,16413,195,27.8,0.55000000000000004,2.0199999999999999E-2,8,497]
[0.04,0,"-",6,12,197.5,30.3,0.65,2.1899999999999999E-2,1,0]
[0.03,0,"-",172,20365,200,32.9,0.75,2.3300000000000001E-2,22,38]
[0.02,0,"-",180,907,205,37.700000000000003,0,"-",1,0]
[0.02,0,"-",27,8254,210,42.4,0,"-",3,5]
[0.01,0,"-",2,884,215,47.57,0,"-",3,0]
[0.01,0,"-",2,6606,220,52.06,0,"-",121,1504]
[0.01,0,"-",106,8213,225,56.8,0,"-",5,0]
[0.01,0,"-",2,4217,230,62.05,0,"-",5,5]
[0.01,0,"-",406,665,235,61,0,"-",2,0]
[0.01,0,"-",1001,5511,240,71.650000000000006,0,"-",8,0]
[0.01,0,"-",15,0,245,71.150000000000006,0,"-",2,0]
[0.03,0,"-",1,31509,250,82,0,"-",9,0]
[0.01,0,"-",2,8021,260,85.85,0,"-",31,0]
[0.01,0,"-",8,683,270,102.55,0,"-",2,0]
[0.01,0,"-",1,1046,280,111.8,0,"-",13,0]
[0.01,0,"-",6,1785,290,115.55,0,"-",37,0]
[0.01,0,"-",2,8938,300,132.19999999999999,0,"-",4,0]
[218,0,"-",1,142,305,29.52,0,"-",1,67]
[215.66,-2.4,-1.0999999999999999E-2,4,127,310,25.4,0,"-",12,785]
[219.4,-0.01,0,2,49,315,27.92,0.02,6.9999999999999999E-4,1,52]
[208,-0.02,-1E-4,1,207,320,29.72,0.02,6.9999999999999999E-4,2,90]
[210.4,0.02,1E-4,1,112,325,29.48,-0.01,-2.9999999999999997E-4,1,50]
[202.86,-1.45,-7.1000000000000004E-3,4,138,330,31.08,0.02,5.9999999999999995E-4,2,30]
[195,0,"-",1,87,335,33.4,1.5,4.7E-2,1,48]
[196.5,-3.5,-1.7500000000000002E-2,3,170,340,33.6,0,"-",2,0]
[186.52,0.02,1E-4,1,93,345,35.520000000000003,0.02,5.9999999999999995E-4,1,0]
[188.15,-0.87,-4.5999999999999999E-3,3,721,350,38.75,1.05,2.7900000000000001E-2,6,119]
[182.7,0.22,1.1999999999999999E-3,27,837,360,42.2,2.2400000000000002,5.6099999999999997E-2,2,460]
[177,4.3,2.4899999999999999E-2,3,359,370,42.84,-0.01,-2.0000000000000001E-4,2,90]
[169.34,0.49,2.8999999999999998E-3,6,594,380,48.64,0.24,5.0000000000000001E-3,1,127]
[163.9,0.45,2.8E-3,12,261,390,52.72,1.1499999999999999,2.23E-2,1,47]
[157,-1.22,-7.7000000000000002E-3,44,0,400,56.85,0.02,4.0000000000000002E-4,6,817]
[150.44,-1.1100000000000001,-7.3000000000000001E-3,12,194,410,60.75,-0.3,-4.8999999999999998E-3,2,68]
[149.34,0.74,5.0000000000000001E-3,22,570,420,65.400000000000006,1.22,1.9E-2,4,60]
[143.80000000000001,1.05,7.4000000000000003E-3,10,882,430,69.05,-0.34,-4.8999999999999998E-3,1,114]
[137.44,-0.15,-1.1000000000000001E-3,6,353,440,73.290000000000006,0,"-",12,177]
[132.80000000000001,0.68,5.1000000000000004E-3,4,926,450,80,-0.76,-9.4000000000000004E-3,1,123]
[128.25,0.45,3.5000000000000001E-3,1,595,460,83.19,0,"-",1,39]
[122.5,-0.69,-5.5999999999999999E-3,22,932,470,87.15,0,"-",10,0]
[118.8,-0.09,-8.0000000000000004E-4,131,366,480,95.45,0,"-",2,7]
[114,-0.42,-3.7000000000000002E-3,30,0,490,101.2,0,"-",8,0]
[108.5,-3,-2.69E-2,169,6512,500,108.5,2.8,2.6499999999999999E-2,11,318]
[101.43,0.16,1.6000000000000001E-3,194,1339,520,122,6.25,5.3999999999999999E-2,18,19]
[95.17,0.49,5.1999999999999998E-3,29,1205,540,126.4,0,"-",1,48]
[88.4,0.7,8.0000000000000002E-3,81,1958,560,143.30000000000001,0,"-",33,18]
[79.25,-3.35,-4.0599999999999997E-2,23,1568,580,"-","-","-","-","-"]
[76.55,-0.05,-6.9999999999999999E-4,57,1016,600,172,-0.1,-5.9999999999999995E-4,1,19]
[73.7,2.0499999999999998,2.86E-2,130,216,620,"-","-","-","-","-"]
[1386,1320.05,20.015899999999998,3,102,640,226.35,0,"-","-",2]
[1200,1138.8699999999999,18.630299999999998,28,10,660,236.4,0,"-",1,3]
[1338.4,1281.9000000000001,22.688500000000001,111,6,680,23.2,-205.13,-0.89839999999999998,2,16]
[1089.4000000000001,1032.9000000000001,18.281400000000001,9,4,700,22.2,-227.8,-0.91120000000000001,23,7]
[324.69,273.19,5.3047000000000004,30,26,720,6,-258.10000000000002,-0.97729999999999995,10,113]
[1262.5999999999999,1215.0999999999999,25.581099999999999,17,1,740,26.8,-252.5,-0.90400000000000003,"-",1322]
[306.89,266.99,6.6914999999999996,16,197,800,"-","-","-","-","-"]
[31.47,1.17,3.8600000000000002E-2,172,1,900,424.83,0,"-","-",3]
[24.75,1.1000000000000001,4.65E-2,1315,"-",1000,521.65,3.86,7.4999999999999997E-3,17,"-"]

{"sheet":"opt2","index":5,"n_rows":47,"n_cols":23,"rows_kept":47,"cut":false,"hidden":true,"merged":[]}
["Last Price","Change","% Change","Volume","Open Interest","Strike","Last Price","Change","% Change","Volume","Open Interest",null,null,"Ticker",{"$f":"sum!B2","v":"AAPL"},null,{"$f":"VLOOKUP(R1,Q2:R24,2)","v":"2022-10-07"},10,null,null,{"$f":"VLOOKUP(W1,U2:W41,3,FALSE)","v":"2022-10-21"},null,3]
[119.7,0,"-",19,192,50,0.01,0,"-",1,2145,null,null,"Expire",{"$f":"sum!D116","v":"2022-10-21"},{"$f":"\"\"&((O2-DATE(1970,1,1))*60*60*24)","v":"1666310400"},1,{"$f":"ROUND(NOW(),0)+7-WEEKDAY(ROUND(NOW(),0)+7-6)","v":"2022-09-02"},null,null,1,{"$f":"VALUE(CONCATENATE(MONTH(NOW()),\"/20/\",YEAR(NOW())))","v":"2022-08-20"},{"$f":"DATE(YEAR(V2),MONTH(V2),1+7*3)-WEEKDAY(DATE(YEAR(V2),MONTH(V2),8-6))","v":"2022-08-19"}]
[106.75,0,"-",1,288,60,0.01,0,"-",1,2620,null,null,null,null,null,2,{"$f":"R2+3","v":"2022-09-05"},null,null,{"$f":"U2+1","v":2},{"$f":"V2+30","v":"2022-09-19"},{"$f":"DATE(YEAR(V3),MONTH(V3),1+7*3)-WEEKDAY(DATE(YEAR(V3),MONTH(V3),8-6))","v":"2022-09-16"}]
[102.95,0,"-",23,514,70,0.01,0,"-",2,3374,null,null,null,null,null,3,{"$f":"R2+5","v":"2022-09-07"},null,null,{"$f":"U3+1","v":3},{"$f":"V2+60","v":"2022-10-19"},{"$f":"DATE(YEAR(V4),MONTH(V4),1+7*3)-WEEKDAY(DATE(YEAR(V4),MONTH(V4),8-6))","v":"2022-10-21"}]
[97.15,0,"-",2,595,75,0.01,0,"-",100,1389,null,null,null,null,null,4,{"$f":"R2+7","v":"2022-09-09"},null,null,4,{"$f":"V2+90","v":"2022-11-18"},"2022-11-18"]
[91.1,3.85,4.41E-2,7,495,80,0.02,0,"-",47,3301,null,null,null,null,null,5,{"$f":"R2+10","v":"2022-09-12"},null,null,5,{"$f":"V2+121","v":"2022-12-19"},"2022-12-16"]
[84.15,0,"-",7,355,85,0.03,0,"-",1,2786,null,null,null,null,null,6,{"$f":"R2+12","v":"2022-09-14"},null,null,6,{"$f":"V2+152","v":"2023-01-19"},"2023-01-20"]
[79.900000000000006,0,"-",1,695,90,0.03,0,"-",1,2437,null,null,null,null,null,7,{"$f":"R2+14","v":"2022-09-16"},null,null,7,{"$f":"V2+152+360","v":"2024-01-14"},"2024-01-19"]
[72.95,0,"-",6,245,95,0.06,0,"-",391,2133,null,null,null,null,null,8,{"$f":"R2+21","v":"2022-09-23"},null,null,8,{"$f":"$V$2+152+365*2","v":"2025-01-18"},"2025-01-17"]
[69.75,0,"-",1,610,100,0.08,0.01,0.1429,124,12545,null,null,null,null,null,9,{"$f":"R2+28","v":"2022-09-30"},null,null,9,{"$f":"$V$2+152+365*3","v":"2026-01-18"},"2026-01-16"]
[63.5,0.8,1.2800000000000001E-2,6,637,105,0.11,0.02,0.22220000000000001,12,4573,null,null,null,null,null,10,{"$f":"R2+35","v":"2022-10-07"},null,null,10,null,"WEEKLY'S:"]
[59.35,0,"-",83,992,110,0.16,0.03,0.23080000000000001,40,14758,null,null,null,null,null,11,{"$f":"R2+42","v":"2022-10-14"},null,null,11,null,{"$f":"ROUNDDOWN(NOW()+7-WEEKDAY(NOW()+1),0)","v":"2022-09-02"}]
[53.45,0.4,7.4999999999999997E-3,2,532,115,0.2,0.02,0.1111,16,6073,null,null,null,null,null,12,{"$f":"R2+70","v":"2022-11-11"},null,null,12,null,{"$f":"ROUNDDOWN(NOW()+7-WEEKDAY(NOW()+3),0)","v":"2022-08-31"}]
[49.05,-0.97,-1.9400000000000001E-2,4,1468,120,0.3,0.06,0.25,368,10457,null,null,null,null,null,13,{"$f":"R2+98","v":"2022-12-09"},null,null,13,null,{"$f":"W12+7","v":"2022-09-09"}]
[45.13,0,"-",5,676,125,0.42,0.09,0.2727,109,13342,null,null,null,null,null,14,{"$f":"R2+126","v":"2023-01-06"},null,null,14,null,{"$f":"W13+7","v":"2022-09-07"}]
[38.299999999999997,-1.7,-4.2500000000000003E-2,38,1137,130,0.6,0.16,0.36359999999999998,1874,17556,null,null,null,null,null,15,{"$f":"R2+161","v":"2023-02-10"},null,null,15,null,{"$f":"W14+7","v":"2022-09-16"}]
[33.090000000000003,-2.93,-8.1299999999999997E-2,4,1653,135,0.83,0.22,0.36070000000000002,262,20095,null,null,null,null,null,16,{"$f":"R2+189","v":"2023-03-10"},null,null,16,null,"2022-09-14"]
[29.3,-2.1,-6.6900000000000001E-2,4,9731,140,1.1599999999999999,0.31,0.36470000000000002,1260,40752,null,null,null,null,null,17,{"$f":"R2+217","v":"2023-04-07"},null,null,17,null,"2022-09-23"]
[23.85,-2.65,-0.1,36,3614,145,1.64,0.41,0.33329999999999999,2614,28767,null,null,null,null,null,18,{"$f":"R2+308","v":"2023-07-07"},null,null,18,null,"2022-09-21"]
[20,-2.15,-9.7100000000000006E-2,44,10529,150,2.4500000000000002,0.7,0.4,2263,52001,null,null,null,null,null,19,{"$f":"R2+343","v":"2023-08-11"},null,null,19,null,"2022-09-30"]
[15.6,-2.4500000000000002,-0.13569999999999999,26,8757,155,3.43,0.94,0.3775,1542,30561,null,null,null,null,null,20,{"$f":"R2+399","v":"2023-10-06"},null,null,20,null,"2022-09-28"]
[11.85,-2.31,-0.16309999999999999,137,14193,160,4.55,1,0.28170000000000001,1778,31875,null,null,null,null,null,21,{"$f":"R2+525","v":"2024-02-09"},null,null,21,null,"2022-10-07"]
[8.9,-1.75,-0.1643,197,33929,165,6.25,1.35,0.27550000000000002,1980,40423,null,null,null,null,null,22,{"$f":"R2+679","v":"2024-07-12"},null,null,22,null,"2022-10-05"]
[6.08,-1.39,-0.18609999999999999,1394,57813,170,8.6,1.85,0.27410000000000001,1580,35958,null,null,null,null,null,23,null,null,null,23,null,"2022-10-14"]
[3.75,-1.1499999999999999,-0.23469999999999999,3381,29019,175,11.6,2.4,0.26090000000000002,562,12256,null,null,null,null,null,null,null,null,null,24,null,"2022-10-12"]
[2.2799999999999998,-0.64,-0.21920000000000001,6450,49669,180,14.97,2.66,0.21609999999999999,288,5271,null,null,null,null,null,null,null,null,null,25,null,"2022-10-21"]
[1.22,-0.41,-0.2515,690,25564,185,19.03,2,0.1174,285,2780,null,null,null,null,null,null,null,null,null,26,null,"2022-10-19"]
[0.67,-0.2,-0.22989999999999999,1024,18437,190,23.27,2.62,0.12690000000000001,24,1206,null,null,null,null,null,null,null,null,null,27,null,"2022-10-28"]
[0.36,-0.08,-0.18179999999999999,452,5350,195,27.65,1.46,5.57E-2,101,457,null,null,null,null,null,null,null,null,null,28,null,"2022-10-26"]
[0.19,-0.04,-0.1739,937,7958,200,31.79,0.7,2.2499999999999999E-2,3,49,null,null,null,null,null,null,null,null,null,29,null,"2022-11-04"]
[0.13,0,"-",71,4871,205,37.619999999999997,1.51,4.1799999999999997E-2,2,143,null,null,null,null,null,null,null,null,null,30,null,"2022-11-02"]
[0.09,0,"-",8,2039,210,40.799999999999997,0,"-",11,19,null,null,null,null,null,null,null,null,null,31,null,"2022-11-11"]
[0.05,0,"-",9,1890,215,42.9,0,"-",1,1,null,null,null,null,null,null,null,null,null,32,null,"2022-11-09"]
[0.04,0.01,0.33329999999999999,2,3210,220,52.2,0.25,4.7999999999999996E-3,12,0,null,null,null,null,null,null,null,null,null,33,null,"2022-11-18"]
[0.03,0,"-",106,2200,225,55.55,0,"-",2,0,null,null,null,null,null,null,null,null,null,34,null,"2022-11-16"]
[0.02,0,"-",22,960,230,60.55,0,"-",1,0,null,null,null,null,null,null,null,null,null,35,null,"2022-11-25"]
[0.05,0,"-",10,833,235,93.1,0,"-","-",0,null,null,null,null,null,null,null,null,null,36,null,"2022-11-23"]
[0.01,0,"-",100,451,240,72.599999999999994,72.599999999999994,"-","-","-",null,null,null,null,null,null,null,null,null,37,null,"2022-12-02"]
[0.01,0,"-",100,1773,245,77.95,77.95,"-","-","-",null,null,null,null,null,null,null,null,null,38,null,"2022-11-30"]
[0.01,0,"-",14,1325,250,86.95,0,"-",4,0,null,null,null,null,null,null,null,null,null,39,null,"2022-12-09"]
[0.01,0,"-",3,1154,255,102.3,0,"-",1,0,null,null,null,null,null,null,null,null,null,40,null,"2022-12-07"]
[0.01,0,"-",2,718,260,87.8,0,"-",1,0]
[0.01,0,"-",1,325,265,97.5,0,"-",16,0]
[0.01,0,"-",71,1011,270,102.85,0,"-",5,0]
[0.01,0,"-",2,592,280,107.8,0,"-",9,0]
[0.01,0,"-",1,1028,290,116.75,0,"-",2,2]
[0.01,0,"-",5,1916,300,130.35,0,"-",106,0]

{"sheet":"s","index":6,"n_rows":2,"n_cols":13,"rows_kept":2,"cut":false,"hidden":true,"merged":[]}
["Symbol","Last Price","Change","Chg %","Currency","Market Time","Volume","Shares","Avg Vol (3m)","Day Range","52-Wk Range","Day Chart","Market Cap"]
["AAPL",167.92,0.69,4.1000000000000003E-3,"USD","12:16PM EDT","27.872M","-","75.171M",null,null,null,"2.699T"]

{"sheet":"H","index":7,"n_rows":102,"n_cols":26,"rows_kept":102,"cut":false,"hidden":true,"merged":[]}
["Date","Open","High","Low","Close*","Adj Close**","Volume",null,null,{"$f":"(MONTH(K1))-1","v":7},{"$f":"K4-375","v":"2021-08-18T09:32:01.130"},null,null,"daily chng",null,null,null,null,"50ma","30avg daily chang",null,null,null,1,{"$f":"VLOOKUP(X1,W2:Y5,3)","v":0.23897626810714645},"sd"]
["2022-03-23",167.99,172.64,167.65,170.21,169.72,98062700,null,null,{"$f":"DAY(K1)","v":18},{"$f":"MIN(F2:F261)","v":129.88},null,null,{"$f":"IF(OR(F3=\"\",F2=\"\"),\"\",ABS(F2-F3)/F3)","v":2.2181252520596845E-2},null,null,null,{"$f":"VLOOKUP(X1,W2:Y5,3)","v":0.23897626810714645},{"$f":"AVERAGE(F2:F52)","v":159.2122},{"$f":"AVERAGE(N2:N31)","v":1.7456671930782749E-2},null,null,1,{"$f":"CONCATENATE(\"30d \",INT(Y2*100),\"%vol  stdev+/-\",ROUND(Z2,1))","v":"30d 23%vol  stdev+/-4.8"},{"$f":"STDEV($N$2:N32)*SQRT(254)","v":0.23897626810714645},{"$f":"STDEV(E2:E23)","v":4.8419935252642929}]
["2022-03-24",171.06,174.14,170.21,174.07,173.57,90131400,null,null,{"$f":"YEAR(K1)","v":2021},{"$f":"MAX(E2:E261)","v":178.96},null,null,{"$f":"IF(OR(F4=\"\",F3=\"\"),\"\",ABS(F3-F4)/F4)","v":3.7309149351395115E-3},null,null,null,null,{"$f":"AVERAGE(F3:F53)","v":158.72139999999999},null,null,null,2,{"$f":"CONCATENATE(\"60d \",INT(Y3*100),\"%vol  stdev+/-\",ROUND(Z3,1))","v":"60d 25%vol  stdev+/-11.7"},{"$f":"STDEV($N$2:N62)*SQRT(254)","v":0.25446047049661474},{"$f":"STDEV(E2:E44)","v":11.657131918463477}]
["2022-03-25",173.88,175.28,172.75,174.72,174.22,80546200,null,null,{"$f":"(MONTH(K4))-1","v":7},{"$f":"NOW()","v":"2022-08-28T09:32:01.130"},null,null,5.0256996002284154E-3,null,null,null,null,{"$f":"AVERAGE(F4:F54)","v":158.1688},null,null,null,3,{"$f":"CONCATENATE(\"90d \",INT(Y4*100),\"%vol  stdev+/-\",ROUND(Z4,1))","v":"90d 22%vol  stdev+/-14.3"},{"$f":"STDEV($N$2:N92)*SQRT(254)","v":0.22742354962050557},{"$f":"STDEV(E2:E65)","v":14.27588888946077}]
["2022-03-28",172.17,175.73,172,175.6,175.1,90371900,null,null,{"$f":"DAY(K4)","v":28},null,null,null,1.8772765480526726E-2,null,null,null,null,null,null,null,null,4,{"$f":"CONCATENATE(\"1yr   \",INT(Y5*100),\"%vol  stdev+/-\",ROUND(Z5,1))","v":"1yr   22%vol  stdev+/-13"},{"$f":"STDEV($N$2:N258)*SQRT(254)","v":0.22939453716023397},{"$f":"STDEV(E2:E259)","v":12.974634247342149}]
["2022-03-29",176.69,179.01,176.34,178.96,178.45,100589400,null,null,{"$f":"YEAR(K4)","v":2022},null,null,null,6.7133024935123421E-3]
["2022-03-30",178.55,179.61,176.7,177.77,177.26,92633200,null,null,null,null,null,null,1.8092010797771393E-2]
["2022-03-31",177.84,178.03,174.4,174.61,174.11,103049300,null,null,null,null,null,null,1.7260226684311108E-3]
["2022-04-01",174.03,174.88,171.94,174.31,173.81,78751300,null,null,null,null,null,null,2.3155173382791008E-2]
["2022-04-04",174.57,178.49,174.44,178.44,177.93,76468400,null,null,null,null,null,null,1.9305682859761711E-2]
["2022-04-05",177.5,178.3,174.42,175.06,174.56,73401800,null,null,null,null,null,null,1.879304307225399E-2]
["2022-04-06",172.36,173.63,170.13,171.83,171.34,89058800,null,null,null,null,null,null,1.8060005825808463E-3]
["2022-04-07",171.16,173.36,169.85,172.14,171.65,77594700,null,null,null,null,null,null,1.2087264150943463E-2]
["2022-04-08",171.78,171.78,169.2,170.09,169.6,76575500,null,null,null,null,null,null,2.6137463697967045E-2]
["2022-04-11",168.71,169.03,165.5,165.75,165.28,72246700,null,null,null,null,null,null,1.1364995812896314E-2]
["2022-04-12",168.02,169.87,166.64,167.66,167.18,79265200,null,null,null,null,null,null,1.6067329762815549E-2]
["2022-04-13",167.39,171.04,166.77,170.4,169.91,70618900,null,null,null,null,null,null,3.0882174493386746E-2]
["2022-04-14",170.62,171.27,165.04,165.29,164.82,75329400,null,null,null,null,null,null,1.3365735115431279E-3]
["2022-04-18",163.92,166.6,163.57,165.07,164.6,69023900,null,null,null,null,null,null,1.3898873711957783E-2]
["2022-04-19",165.02,167.82,163.91,167.4,166.92,67723800,null,null,null,null,null,null,1.0194902548724886E-3]
["2022-04-20",168.76,168.88,166.1,167.23,166.75,67929800,null,null,null,null,null,null,4.8207291352817799E-3]
["2022-04-21",168.91,171.53,165.91,166.42,165.95,87227800,null,null,null,null,null,null,2.8636955308993836E-2]
["2022-04-22",166.46,167.87,161.5,161.79,161.33000000000001,84882400,null,null,null,null,null,null,6.710996182735963E-3]
["2022-04-25",161.12,163.16999999999999,158.46,162.88,162.41999999999999,96046400,null,null,null,null,null,null,3.8823153181963499E-2]
["2022-04-26",162.25,162.34,156.72,156.80000000000001,156.35,95623200,null,null,null,null,null,null,1.4732257238021379E-3]
["2022-04-27",155.91,159.79,155.38,156.57,156.12,88063200,null,null,null,null,null,null,4.3206471777900247E-2]
["2022-04-28",159.25,164.52,158.93,163.63999999999999,163.16999999999999,130216800,null,null,null,null,null,null,3.7977099236641214E-2]
["2022-04-29",161.84,166.2,157.25,157.65,157.19999999999999,131747600,null,null,null,null,null,null,1.9681290076820667E-3]
["2022-05-02",156.71,158.22999999999999,153.27000000000001,157.96,157.51,123055300,null,null,null,null,null,null,9.5579450418160732E-3]
["2022-05-03",158.15,160.71,156.32,159.47999999999999,159.03,88966500,null,null,null,null,null,null,3.9383871942011539E-2]
["2022-05-04",159.66999999999999,166.48,159.26,166.02,165.55,108256500,null,null,null,null,null,null,5.9045547594677707E-2]
["2022-05-05",163.85,164.08,154.94999999999999,156.77000000000001,156.32,130525300,null,null,null,null,null,null,4.7115751941933601E-3]
["2022-05-06",156.01,159.44,154.18,157.28,157.06,116124600,null,null,null,null,null,null,""]
["2022-05-06","0.23 Dividend",null,null,null,null,null,null,null,null,null,null,null,""]
["2022-05-09",154.93,155.83000000000001,151.49,152.06,151.85,131577900,null,null,null,null,null,null,1.5878159429682546E-2]
["2022-05-10",155.52000000000001,156.74,152.93,154.51,154.30000000000001,115366700,null,null,null,null,null,null,5.4682159945317839E-2]
["2022-05-11",153.5,155.44999999999999,145.81,146.5,146.30000000000001,142689800,null,null,null,null,null,null,2.7676313571227854E-2]
["2022-05-12",142.77000000000001,146.19999999999999,138.80000000000001,142.56,142.36000000000001,182602000,null,null,null,null,null,null,3.0971342999114988E-2]
["2022-05-13",144.59,148.1,143.11000000000001,147.11000000000001,146.91,113990900,null,null,null,null,null,null,1.0802256777212008E-2]
["2022-05-16",145.55000000000001,147.52000000000001,144.18,145.54,145.34,86643800,null,null,null,null,null,null,2.4760115413004078E-2]
["2022-05-17",148.86000000000001,149.77000000000001,146.68,149.24,149.03,78336300,null,null,null,null,null,null,5.9806570900298651E-2]
["2022-05-18",146.85,147.36000000000001,139.9,140.82,140.62,109742900,null,null,null,null,null,null,2.522601341498985E-2]
["2022-05-19",139.88,141.66,136.6,137.35,137.16,136095600,null,null,null,null,null,null,1.7467248908297605E-3]
["2022-05-20",139.09,140.69999999999999,132.61000000000001,137.59,137.4,137426100,null,null,null,null,null,null,3.8555734378279971E-2]
["2022-05-23",137.79,143.26,137.65,143.11000000000001,142.91,117726300,null,null,null,null,null,null,1.9547692088178706E-2]
["2022-05-24",140.81,141.97,137.33000000000001,140.36000000000001,140.16999999999999,104132700,null,null,null,null,null,null,1.1401696002282121E-3]
["2022-05-25",138.43,141.79,138.34,140.52000000000001,140.33000000000001,92482700,null,null,null,null,null,null,2.2635464549380136E-2]
["2022-05-26",137.38999999999999,144.34,137.13999999999999,143.78,143.58000000000001,90601500,null,null,null,null,null,null,3.9148765308171012E-2]
["2022-05-27",145.38999999999999,149.68,145.26,149.63999999999999,149.43,90978500,null,null,null,null,null,null,5.3824934400861961E-3]
["2022-05-31",149.07,150.66,146.84,148.84,148.63,103718400,null,null,null,null,null,null,8.7542087542084477E-4]
["2022-06-01",149.9,151.74,147.68,148.71,148.5,74286600,null,null,null,null,null,null,1.6556291390728478E-2]
["2022-06-02",147.83000000000001,151.27000000000001,146.86000000000001,151.21,151,72348100,null,null,null,null,null,null,4.0088166414106577E-2]
["2022-06-03",146.9,147.97,144.46,145.38,145.18,88570300,null,null,null,null,null,null,5.2076195696861101E-3]
["2022-06-06",147.03,148.57,144.9,146.13999999999999,145.94,71598400,null,null,null,null,null,null,1.7239057239057255E-2]
["2022-06-07",144.35,149,144.1,148.71,148.5,67808200,null,null,null,null,null,null,5.076142131979695E-3]
["2022-06-08",148.58000000000001,149.87,147.46,147.96,147.75,53950200,null,null,null,null,null,null,3.7278854254422934E-2]
["2022-06-09",147.08000000000001,147.94999999999999,142.53,142.63999999999999,142.44,69473000,null,null,null,null,null,null,4.0163575288447495E-2]
["2022-06-10",140.28,140.76,137.06,137.13,136.94,91437900,null,null,null,null,null,null,3.9787395596051704E-2]
["2022-06-13",132.87,135.19999999999999,131.44,131.88,131.69999999999999,122207100,null,null,null,null,null,null,6.6375018856541243E-3]
["2022-06-14",133.13,133.88999999999999,131.47999999999999,132.76,132.58000000000001,84784300,null,null,null,null,null,null,1.966873706004138E-2]
["2022-06-15",134.29,137.34,132.16,135.43,135.24,91533000,null,null,null,null,null,null,4.1268863566369066E-2]
["2022-06-16",132.08000000000001,132.38999999999999,129.04,130.06,129.88,108123900,null,null,null,null,null,null,1.1417262901507078E-2]
["2022-06-17",130.07,133.08000000000001,129.81,131.56,131.38,134520300,null,null,null,null,null,null,3.1692216981132157E-2]
["2022-06-21",133.41999999999999,137.06,133.32,135.87,135.68,81000500,null,null,null,null,null,null,3.8472920982539969E-3]
["2022-06-22",134.79,137.76,133.91,135.35,135.16,73409200,null,null,null,null,null,null,2.1147161066048782E-2]
["2022-06-23",136.82,138.59,135.63,138.27000000000001,138.08000000000001,72433800,null,null,null,null,null,null,2.389368019228047E-2]
["2022-06-24",139.9,141.91,139.77000000000001,141.66,141.46,89116800,null,null,null,null,null,null,{"$f":"IF(OR(F68=\"\",F67=\"\"),\"\",ABS(F67-F68)/F68)","v":0}]
["2022-06-27",142.69999999999999,143.49,140.97,141.66,141.46,70207900,null,null,null,null,null,null,3.0673952641165812E-2]
["2022-06-28",142.13,143.41999999999999,137.32,137.44,137.25,67083400,null,null,null,null,null,null,1.2873993095512026E-2]
["2022-06-29",137.46,140.66999999999999,136.66999999999999,139.22999999999999,139.04,66242400,null,null,null,null,null,null,1.838423789643295E-2]
["2022-06-30",137.25,138.37,133.77000000000001,136.72,136.53,98964500,null,null,null,null,null,null,1.5929075969439294E-2]
["2022-07-01",136.04,139.04,135.66,138.93,138.74,71051600,null,null,null,null,null,null,1.853423882286364E-2]
["2022-07-05",137.77000000000001,141.61000000000001,136.93,141.56,141.36000000000001,73353800,null,null,null,null,null,null,9.5291479820626759E-3]
["2022-07-06",141.35,144.12,141.08000000000001,142.91999999999999,142.72,74064300,null,null,null,null,null,null,2.3469038658912124E-2]
["2022-07-07",143.29,146.55000000000001,143.28,146.35,146.15,66253700,null,null,null,null,null,null,4.6989921002451489E-3]
["2022-07-08",145.26,147.55000000000001,145,147.04,146.84,64547800,null,null,null,null,null,null,1.4999654385843756E-2]
["2022-07-11",145.66999999999999,146.63999999999999,143.78,144.87,144.66999999999999,63141600,null,null,null,null,null,null,6.7966497322532547E-3]
["2022-07-12",145.76,148.44999999999999,145.05000000000001,145.86000000000001,145.66,77588800,null,null,null,null,null,null,2.5466308761787084E-3]
["2022-07-13",142.99,146.44999999999999,142.12,145.49,145.29,71185600,null,null,null,null,null,null,2.003237555645487E-2]
["2022-07-14",144.08000000000001,148.94999999999999,143.25,148.47,148.26,78140700,null,null,null,null,null,null,1.1336356361696566E-2]
["2022-07-15",149.78,150.86000000000001,148.19999999999999,150.16999999999999,149.96,76259900,null,null,null,null,null,null,2.1039014094096843E-2]
["2022-07-18",150.74,151.57,146.69999999999999,147.07,146.87,81420900,null,null,null,null,null,null,2.5996418860667073E-2]
["2022-07-19",147.91999999999999,151.22999999999999,146.91,151,150.79,82982400,null,null,null,null,null,null,1.334816462736387E-2]
["2022-07-20",151.12,153.72,150.37,153.04,152.83000000000001,64823400,null,null,null,null,null,null,1.4826274737316979E-2]
["2022-07-21",154.5,155.57,151.94,155.35,155.13,65086600,null,null,null,null,null,null,8.1232128931635044E-3]
["2022-07-22",155.38999999999999,156.28,153.41,154.09,153.88,66675400,null,null,null,null,null,null,7.4636637423070992E-3]
["2022-07-25",154.01,155.04,152.28,152.94999999999999,152.74,53623900,null,null,null,null,null,null,8.9173657441047813E-3]
["2022-07-26",152.26,153.09,150.80000000000001,151.6,151.38999999999999,55138700,null,null,null,null,null,null,3.3084243469374768E-2]
["2022-07-27",152.58000000000001,157.33000000000001,152.16,156.79,156.57,78620700,null,null,null,null,null,null,3.5639279577420117E-3]
["2022-07-28",156.97999999999999,157.63999999999999,154.41,157.35,157.13,81378700,null,null,null,null,null,null,3.1735272368745411E-2]
["2022-07-29",161.24,163.63,159.5,162.51,162.28,101689200,null,null,null,null,null,null,6.1380122760246085E-3]
["2022-08-01",161.01,163.59,160.88999999999999,161.51,161.29,67829400,null,null,null,null,null,null,9.3873208586269484E-3]
["2022-08-02",160.1,162.41,159.63,160.01,159.79,59907000,null,null,null,null,null,null,3.6829415310428049E-2]
["2022-08-03",160.84,166.59,160.75,166.13,165.9,82507500,null,null,null,null,null,null,1.9326005556226185E-3]
["2022-08-04",166.01,167.19,164.43,165.81,165.58,55474100,null,null,null,null,null,null,1.3909888116118427E-3]
["2022-08-05",163.21,165.85,163,165.35,165.35,56646600,null,null,null,null,null,null,""]
["2022-08-05","0.23 Dividend",null,null,null,null,null,null,null,null,null,null,null,""]
["2022-08-08",166.37,167.81,164.2,164.87,164.87,60276900,null,null,null,null,null,null,3.0317729808381611E-4]
["2022-08-09",164.02,165.82,163.25,164.92,164.92,63135500,null,null,null,null,null,null,2.5525880406523406E-2]
["2022-08-10",167.68,169.34,166.9,169.24,169.24,70076000,null,null,null,null,null,null,1.2982414729139553E-3]
["2022-08-11",170.06,170.99,168.89,169.46,169.46,34758701]
["*Close price adjusted for splits.**Adjusted close price adjusted for splits and dividend and/or capital gain distributions."]

{"sheet":"ino","index":8,"n_rows":269,"n_cols":44,"rows_kept":269,"cut":false,"hidden":true,"merged":[]}
["Market","Name","Open","High","Low","Last","Change","Pct","Time",null,null,null,null,null,null,null,null,null,null,null,null,"'NYMEX_CL.U22",null,null,{"$f":"AA1&AC1&AD1","v":"NYMEX_CL.U22"},2,{"$f":"VLOOKUP(Z1,$Y$3:$AA$52,3)","v":"NYMEX_CL"},{"$f":"IF(Z1=50,sum!B2,VLOOKUP(Z1,$Y$3:$AB$52,4))","v":"CL"},{"$f":"VLOOKUP(AE1,AC3:AE14,3)","v":".U"},{"$f":"VLOOKUP(AF1,AC3:AG14,5)","v":"22"},9,6,null,null,"expire est"]
["CL.U22","CRUDE OIL Sep 2022",90.39,92.09,88.38,90.77,-0.43,-4.7999999999999996E-3,"16:53:00","add to portfolio",null,null,null,null,null,null,null,null,null,null,null,null,null,null,{"$f":"IF(AND(Z1>=29,Z1<=34),\"fx\",\"nofx\")","v":"nofx"},{"$f":"IF(Z1=50,sum!B2,\"/\"&VLOOKUP(Z1,$Y$3:$AB$100,2)&\" \"&AA2)","v":"/crude oil * ib Sep2022"},{"$f":"VLOOKUP(AE1,AC3:AD14,2)&VLOOKUP(AF1,AC3:AF14,4)","v":"Sep2022"},{"$f":"IF(Z1=100,sum!B2,\"/\"&VLOOKUP(Z1,$AM$3:$AO$100,3))","v":"/CLU22"},null,null,{"$f":"RIGHT(VLOOKUP(AE1,AC3:AE14,3),1)","v":"U"},{"$f":"VLOOKUP(AF1,AC3:AG14,5)","v":"22"},null,{"$f":"AE2&AF2","v":"U22"},{"$f":"VALUE(AE1&\"/15/\"&VLOOKUP(AF1,AC3:AG14,4))","v":"2022-09-15"},null,null,null,null,{"$f":"CONCATENATE(AH4,AI4)","v":".V22"},{"$f":"VLOOKUP(sum!B2,AQ3:AR50,2)","v":{"$error":"#N/A"}}]
[null,null,null,null,null,null,null,null,null,null,null,null,null,null,null,null,null,null,null,null,null,null,null,null,1,{"$f":"sum!B2","v":"AAPL"},null,{"$f":"Z3","v":"AAPL"},1,"Jan",".F",2017,"17",{"$f":"MONTH(NOW()+45)","v":10},{"$f":"YEAR(NOW()+45)","v":2022},null,null,null,1,{"$f":"CONCATENATE(AA3,$AN$2)","v":".V22"},null,null,"CBOT_BO.N06",36]
["Expiration","Strike","CALL",null,null,null,"PUT",null,null,null,null,null,null,null,null,null,null,null,null,null,null,null,null,null,2,"crude oil * ib","NYMEX_CL","CL",2,"Feb",".G",2018,"18",{"$f":"VLOOKUP(AH3,AC3:AE14,3)","v":".V"},{"$f":"VLOOKUP(AI3,AF3:AG14,2)","v":"22"},null,null,null,2,{"$f":"CONCATENATE(AA4,$AN$2)","v":"NYMEX_CL.V22"},{"$f":"AB4&$AH$2","v":"CLU22"},null,"CBOT_C.N06",3]
[null,null,"symbol","last","change","openint","symbol","last","change","openint",null,null,null,null,null,null,null,null,null,null,null,null,null,null,3,"coffee","NYBOT_KC","KC",3,"Mar",".H",2019,"19",null,null,null,null,null,3,"NYBOT_KC.V22",{"$f":"AB5&$AH$2","v":"KCU22"},null,"CBOT_DJ.N06",4]
["2022-08-17",8.5,null,null,null,null,"LO.U22.850P",0.01,null,20,null,null,null,null,null,null,null,null,null,null,null,null,null,null,4,"corn*","CBOT_ZC",{"$f":"IF('Y2'!$W$1=5,\"ZC\",\"ZC\")","v":"ZC"},4,"Apr",".J",2020,"20",null,null,null,null,null,4,"CBOT_ZC.V22","ZCU22",null,"CBOT_FF.N06",44]
["2022-08-17",9,null,null,null,null,"LO.U22.900P",0.01,null,20,null,null,null,null,null,null,null,null,null,null,null,null,null,null,5,"dow emini ym","CBOT_DJ","YM",5,"May",".K",2021,"21",null,null,null,null,null,5,"CBOT_DJ.V22","YMU22",null,"CBOT_FV.N06",45]
["2022-08-17",9.5,null,null,null,null,"LO.U22.950P",0.01,null,1,null,null,null,null,null,null,null,null,null,null,null,null,null,null,6,"lean hogs","CME_HE","HE",6,"Jun",".M",2022,"22",null,null,null,null,null,6,"CME_HE.V22","HEU22",null,"CBOT_O.N06",35]
["2022-08-17",10,null,null,null,null,"LO.U22.1000P",0.01,null,14,null,null,null,null,null,null,null,null,null,null,null,null,null,null,7,"gold * ib","NYMEX_GC",{"$f":"IF('Y2'!$W$1=5,\"G\",\"GC\")","v":"GC"},7,"Jul",".N",2023,"23",null,null,null,null,null,7,"NYMEX_GC.V22","GCU22",null,"CBOT_RR.N06",37]
["2022-08-17",10.5,"LO.U22.1050C",85.92,87.5,null,null,null,null,null,null,null,null,null,null,null,null,null,null,null,null,null,null,null,8,"natural gas*","NYMEX_NG","NG",8,"Aug",".Q",2024,"24",null,null,null,null,null,8,"NYMEX_NG.V22","NGU22",null,"CBOT_S.N06",15]
["2022-08-17",11,"LO.U22.1100C",77.11,null,5,null,null,null,null,null,null,null,null,null,null,null,null,null,null,null,null,null,null,9,"heating oil*","NYMEX_HO","HO",9,"Sep",".U",2025,"25",null,null,null,null,null,9,"NYMEX_HO.V22","HOU22",null,"CBOT_US.N06",21]
["2022-08-17",14,"LO.U22.1400C",76.5,null,5,null,null,null,null,null,null,null,null,null,null,null,null,null,null,null,null,null,null,10,"unleaded gasoline*","NYMEX_RB","RB",10,"Oct",".V",2026,"26",null,null,null,null,null,10,"NYMEX_RB.V22","RBU22",null,"CBOT_W.N06",16]
["2022-08-17",15,"LO.U22.1500C",86.5,null,null,"LO.U22.1500P",0.01,-0.08,11,null,null,null,null,null,null,null,null,null,null,null,null,null,null,11,"lumber","CME_LBS",{"$f":"IF('Y2'!$W$1=5,\"LB\",\"LBS\")","v":"LBS"},11,"Nov",".X",2027,"27",null,null,null,null,null,11,"CME_LBS.V22","LBSU22",null,"CME_AD.N06",34]
["2022-08-17",18,null,null,null,null,"LO.U22.1800P",0.23,0.17,null,null,null,null,null,null,null,null,null,null,null,null,null,null,null,12,"orange juice","NYBOT_OJ","OJ",12,"Dec",".Z",2028,"28",null,null,null,null,null,12,"NYBOT_OJ.V22","OJU22",null,"CME_BP.N06",28]
["2022-08-17",18.5,null,null,null,null,"LO.U22.1850P",0.24,0.21,null,null,null,null,null,null,null,null,null,null,null,null,null,null,null,13,"cocoa","NYBOT_CC","CC",null,null,null,null,null,null,null,null,null,null,13,"NYBOT_CC.V22","CCU22",null,"CME_BR.N06",30]
["2022-08-17",19,null,null,null,null,"LO.U22.1900P",0.01,null,1,null,null,null,null,null,null,null,null,null,null,null,null,null,null,14,"sugar","NYBOT_SB","SB",null,null,null,null,null,null,null,null,null,null,14,"NYBOT_SB.V22","SBU22",null,"CME_CD.N06",32]
["2022-08-17",20,null,null,null,null,"LO.U22.2000P",0.01,0,494,null,null,null,null,null,null,null,null,null,null,null,null,null,null,15,"cotton","NYBOT_CT","CT",null,null,null,null,null,null,null,null,null,null,15,"NYBOT_CT.V22","CTU22",null,"CME_DJ.N06",43]
["2022-08-17",21,null,null,null,null,"LO.U22.2100P",0.26,-0.12,2,null,null,null,null,null,null,null,null,null,null,null,null,null,null,16,"soybeans*","CBOT_ZS",{"$f":"IF('Y2'!$W$1=9,\"ZS\",\"SZ\")","v":"SZ"},null,null,null,null,null,null,null,null,null,null,16,"CBOT_ZS.V22","SZU22",null,"CME_EC.N06",33]
["2022-08-17",22,null,null,null,null,"LO.U22.2200P",0.01,0.02,10,null,null,null,null,null,null,null,null,null,null,null,null,null,null,17,"wheat*","CBOT_ZW",{"$f":"IF('Y2'!$W$1=9,\"ZW\",\"ZW\")","v":"ZW"},null,null,null,null,null,null,null,null,null,null,17,"CBOT_ZW.V22","ZWU22",null,"CME_ED.N06",22]
["2022-08-17",23,null,null,null,null,"LO.U22.2300P",0.01,-0.32,1,null,null,null,null,null,null,null,null,null,null,null,null,null,null,18,"sp 500","CME_SP","SP",null,null,null,null,null,null,null,null,null,null,18,{"$f":"CONCATENATE(AA20,$AN$2,\".E\")","v":"CME_SP.V22.E"},"SPU22",null,"CME_EL.N06",47]
["2022-08-17",23.5,null,null,null,null,"LO.U22.2350P",0.01,0.04,3,null,null,null,null,null,null,null,null,null,null,null,null,null,null,19,"emini sp* ib","CME_ES","ES",null,null,null,null,null,null,null,null,null,null,19,"CME_ES.V22","ESU22",null,"CME_ES.N06",18]
["2022-08-17",24.5,null,null,null,null,"LO.U22.2450P",0.01,0.02,10,null,null,null,null,null,null,null,null,null,null,null,null,null,null,20,"nasdaq 100","CME_ND","NQ",null,null,null,null,null,null,null,null,null,null,20,{"$f":"CONCATENATE(AA22,$AN$2,\".E\")","v":"CME_ND.V22.E"},"NQU22",null,"CME_FC.N06",48]
["2022-08-17",25,null,null,null,null,"LO.U22.2500P",0.01,0.01,206,null,null,null,null,null,null,null,null,null,null,null,null,null,null,21,"emini nasdaq* ib","CME_NQ","NQ",null,null,null,null,null,null,null,null,null,null,21,"CME_NQ.V22","NQU22",null,"CME_GI.N06",42]
["2022-08-17",26,null,null,null,null,"LO.U22.2600P",0.47,-0.28999999999999998,1,null,null,null,null,null,null,null,null,null,null,null,null,null,22,22,"us treas bond 10y","CBOT_US",{"$f":"IF('Y2'!$W$1=5,\"US\",\"ZN\")","v":"ZN"},null,null,null,null,null,null,null,null,null,null,22,"CBOT_US.V22","ZNU22",null,"CME_JY.N06",31]
["2022-08-17",27,null,null,null,null,"LO.U22.2700P",0.01,0.01,35,null,null,null,null,null,null,null,null,null,null,null,null,null,null,23,"eurodollar","CME_GE","GE",null,null,null,null,null,null,null,null,null,null,23,"CME_GE.V22","GEU22",null,"CME_LB.N06",10]
["2022-08-17",27.5,null,null,null,null,"LO.U22.2750P",0.01,0.04,30,null,null,null,null,null,null,null,null,null,null,null,null,null,null,24,"live cattle","CME_LE",{"$f":"IF('Y2'!$W$1=5,\"LC\",\"LE\")","v":"LE"},null,null,null,null,null,null,null,null,null,null,24,"CME_LE.V22","LEU22",null,"CME_LC.N06",23]
["2022-08-17",28,null,null,null,null,"LO.U22.2800P",0.01,0,35,null,null,null,null,null,null,null,null,null,null,null,null,null,null,25,"pork bellies","CME_PB","PB",null,null,null,null,null,null,null,null,null,null,25,"CME_PB.V22","PBU22",null,"CME_LH.N06",5]
["2022-08-17",29,null,null,null,null,"LO.U22.2900P",0.01,null,2,null,null,null,null,null,null,null,null,null,null,null,null,null,null,26,"silver ","NYMEX_SI","SI",null,null,null,null,null,null,null,null,null,null,26,"NYMEX_SI.V22","SIU22",null,"CME_MD.N06",40]
["2022-08-17",30,null,null,null,null,"LO.U22.3000P",0.01,0,1330,null,null,null,null,null,null,null,null,null,null,null,null,null,null,27,"copper ","NYMEX_HG","HG",null,null,null,null,null,null,null,null,null,null,27,"NYMEX_HG.V22","HGU22",null,"CME_ND.N06",19]
["2022-08-17",30.5,null,null,null,null,"LO.U22.3050P",1.26,1.47,null,null,null,null,null,null,null,null,null,null,null,null,null,null,null,28,"platinum","NYMEX_PL","PL",null,null,null,null,null,null,null,null,null,null,28,{"$f":"CONCATENATE(AA30,$AN$2)","v":"NYMEX_PL.V22"},"PLU22",null,"CME_NK.N06",41]
["2022-08-17",31,null,null,null,null,"LO.U22.3100P",0.01,0,131,null,null,null,null,null,null,null,null,null,null,null,null,null,null,29,"british pound*","CME_BP",{"$f":"IF('Y2'!$W$1=9,\"6B\",\"BP\")","v":"BP"},null,null,null,null,null,null,null,null,null,null,29,{"$f":"CONCATENATE(AA31,$AN$2)","v":"CME_BP.V22"},"BPU22",null,"CME_NQ.N06",20]
["2022-08-17",31.5,null,null,null,null,"LO.U22.3150P",0.01,-1.38,1,null,null,null,null,null,null,null,null,null,null,null,null,null,null,30,"brazilian rand","CME_BR","BR",null,null,null,null,null,null,null,null,null,null,30,"CME_BR.V22","BRU22",null,"CME_PB.N06",24]
["2022-08-17",32,null,null,null,null,"LO.U22.3200P",0.01,0,200,null,null,null,null,null,null,null,null,null,null,null,null,null,null,31,"japanese yen*","CME_JY",{"$f":"IF('Y2'!$W$1=9,\"6J\",\"JY\")","v":"JY"},null,null,null,null,null,null,null,null,null,null,31,"CME_JY.V22","JYU22",null,"CME_RL.N06",39]
["2022-08-17",32.5,null,null,null,null,"LO.U22.3250P",0.01,-1.1200000000000001,1,null,null,null,null,null,null,null,null,null,null,null,null,null,null,32,"canadian dollar*","CME_CD",{"$f":"IF('Y2'!$W$1=5,\"CD\",\"6C\")","v":"6C"},null,null,null,null,null,null,null,null,null,null,32,"CME_CD.V22","6CU22",null,"CME_SP.N06",17]
["2022-08-17",33,null,null,null,null,"LO.U22.3300P",0.01,0,644,null,null,null,null,null,null,null,null,null,null,null,null,null,null,33,"euro fx*","CME_EC",{"$f":"IF('Y2'!$W$1=9,\"6E\",\"EC\")","v":"EC"},null,null,null,null,null,null,null,null,null,null,33,"CME_EC.V22","ECU22",null,"CME_TB.N06",46]
["2022-08-17",33.5,null,null,null,null,"LO.U22.3350P",0.01,0.02,3,null,null,null,null,null,null,null,null,null,null,null,null,null,null,34,"australian dollar*","CME_AD",{"$f":"IF('Y2'!$W$1=9,\"6A\",\"AD\")","v":"AD"},null,null,null,null,null,null,null,null,null,null,34,"CME_AD.V22","ADU22",null,"NYBOT_CC.N06",12]
["2022-08-17",34,null,null,null,null,"LO.U22.3400P",0.01,0,919,null,null,null,null,null,null,null,null,null,null,null,null,null,null,35,"oats","CBOT_ZO",{"$f":"IF('Y2'!$W$1=9,\"ZO\",\"ZO\")","v":"ZO"},null,null,null,null,null,null,null,null,null,null,35,"CBOT_ZO.V22","ZOU22",null,"NYBOT_CT.N06",14]
["2022-08-17",35,null,null,null,null,"LO.U22.3500P",0.01,0,1296,null,null,null,null,null,null,null,null,null,null,null,null,null,null,36,"soybean oil","CBOT_ZL","BO",null,null,null,null,null,null,null,null,null,null,36,"CBOT_ZL.V22","BOU22",null,"NYBOT_DX.N06",38]
["2022-08-17",35.5,null,null,null,null,"LO.U22.3550P",0.01,0.54,1,null,null,null,null,null,null,null,null,null,null,null,null,null,null,37,"rough rice","CBOT_ZR","ZR",null,null,null,null,null,null,null,null,null,null,37,"CBOT_ZR.V22","ZRU22",null,"NYBOT_KC.N06",2]
["2022-08-17",36,null,null,null,null,"LO.U22.3600P",0.01,null,78,null,null,null,null,null,null,null,null,null,null,null,null,null,null,38,"dollar index","NYBOT_DX","DX",null,null,null,null,null,null,null,null,null,null,38,"NYBOT_DX.V22","DXU22",null,"NYBOT_OJ.N06",11]
["2022-08-17",36.5,null,null,null,null,"LO.U22.3650P",0.01,0.39,17,null,null,null,null,null,null,null,null,null,null,null,null,null,null,39,"russel 2000 index","CME_TF","TF",null,null,null,null,null,null,null,null,null,null,39,"CME_TF.V22","TFU22",null,"NYBOT_SB.N06",13]
["2022-08-17",37,null,null,null,null,"LO.U22.3700P",0.01,0,328,null,null,null,null,null,null,null,null,null,null,null,null,null,null,40,"sp midcap 400","CME_MD","MD",null,null,null,null,null,null,null,null,null,null,40,"CME_MD.V22","MDU22",null,"NYMEX_CL.N06",1]
["2022-08-17",37.5,null,null,null,null,"LO.U22.3750P",0.01,-0.02,41,null,null,null,null,null,null,null,null,null,null,null,null,null,null,41,"nikkei 225","CME_NK","NK",null,null,null,null,null,null,null,null,null,null,41,"CME_NK.V22","NKU22",null,"NYMEX_GC.N06",6]
["2022-08-17",38,null,null,null,null,"LO.U22.3800P",0.01,0,115,null,null,null,null,null,null,null,null,null,null,null,null,null,null,42,"cheese - cash settled","CME_CSC","CSC",null,null,null,null,null,null,null,null,null,null,42,"CME_CSC.V22","CSCU22",null,"NYMEX_HG.N06",26]
["2022-08-17",38.5,null,null,null,null,"LO.U22.3850P",0.01,-0.01,26,null,null,null,null,null,null,null,null,null,null,null,null,null,null,43,"dow jones","CME_DJ","DJ",null,null,null,null,null,null,null,null,null,null,43,"CME_DJ.V22","DJU22",null,"NYMEX_HO.N06",8]
["2022-08-17",39,null,null,null,null,"LO.U22.3900P",0.01,0,433,null,null,null,null,null,null,null,null,null,null,null,null,null,null,44,"fed funds rate 30 day","CBOT_FF","FF",null,null,null,null,null,null,null,null,null,null,44,"CBOT_FF.V22","FFU22",null,"NYMEX_HU.N06",9]
["2022-08-17",39.5,null,null,null,null,"LO.U22.3950P",0.01,-0.02,218,null,null,null,null,null,null,null,null,null,null,null,null,null,null,45,"treas notes 5yr","CBOT_FV","FV",null,null,null,null,null,null,null,null,null,null,45,"CBOT_FV.V22","FVU22",null,"NYMEX_NG.N06",7]
["2022-08-17",40,"LO.U22.4000C",48.11,null,1950,"LO.U22.4000P",0.01,0,3674,null,null,null,null,null,null,null,null,null,null,null,null,null,null,46,"us treas bills 13wk","CME_TB","TB",null,null,null,null,null,null,null,null,null,null,46,"CME_TB.V22","TBU22",null,"NYMEX_PA.N06",49]
["2022-08-17",40.5,null,null,null,null,"LO.U22.4050P",0.01,-0.01,184,null,null,null,null,null,null,null,null,null,null,null,null,null,null,47,"euroyen libor","CME_EL","EL",null,null,null,null,null,null,null,null,null,null,47,"CME_EL.V22","ELU22",null,"NYMEX_PL.N06",27]
["2022-08-17",41,"LO.U22.4100C",47.11,59.57,1,"LO.U22.4100P",0.01,-0.01,81,null,null,null,null,null,null,null,null,null,null,null,null,null,null,48,"feeder cattle","CME_FC","FC",null,null,null,null,null,null,null,null,null,null,48,"CME_FC.V22","FCU22",null,"NYMEX_SI.N06",25]
["2022-08-17",41.5,null,null,null,null,"LO.U22.4150P",0.01,0.01,11,null,null,null,null,null,null,null,null,null,null,null,null,null,null,49,"palladium","NYMEX_PA","PA",null,null,null,null,null,null,null,null,null,null,49,"NYMEX_PA.V22","PAU22"]
["2022-08-17",42,null,null,null,null,"LO.U22.4200P",0.01,0,759,null,null,null,null,null,null,null,null,null,null,null,null,null,null,50,"milk","CME_DC","DC",null,null,null,null,null,null,null,null,null,null,50,"CME_DC.V22","DCU22"]
["2022-08-17",42.5,null,null,null,null,"LO.U22.4250P",0.01,-0.04,18]
["2022-08-17",43,null,null,null,null,"LO.U22.4300P",0.01,0.03,106]
["2022-08-17",43.5,null,null,null,null,"LO.U22.4350P",0.01,0,5]
["2022-08-17",44,null,null,null,null,"LO.U22.4400P",0.01,-0.01,84]
["2022-08-17",44.5,null,null,null,null,"LO.U22.4450P",0.01,0,53]
["2022-08-17",45,"LO.U22.4500C",43.11,null,1100,"LO.U22.4500P",0.01,0,2093]
["2022-08-17",45.5,null,null,null,null,"LO.U22.4550P",0.01,-0.01,92]
["2022-08-17",46,null,null,null,null,"LO.U22.4600P",0.01,0,20]
["2022-08-17",46.5,null,null,null,null,"LO.U22.4650P",0.01,0.12,27]
["2022-08-17",47,null,null,null,null,"LO.U22.4700P",0.01,0,632]
["2022-08-17",47.5,null,null,null,null,"LO.U22.4750P",0.01,0,15]
["2022-08-17",48,null,null,null,null,"LO.U22.4800P",0.01,0,521]
["2022-08-17",48.5,null,null,null,null,"LO.U22.4850P",0.01,0,519]
["2022-08-17",49,"LO.U22.4900C",39.11,null,20,"LO.U22.4900P",0.01,0,301]
["2022-08-17",49.5,null,null,null,null,"LO.U22.4950P",0.01,0,464]
["2022-08-17",50,"LO.U22.5000C",38.11,null,1408,"LO.U22.5000P",0.01,0,8751]
["2022-08-17",50.5,"LO.U22.5050C",37.61,null,50,"LO.U22.5050P",0.01,-0.01,978]
["2022-08-17",51,"LO.U22.5100C",37.11,null,26,"LO.U22.5100P",0.01,0,467]
["2022-08-17",51.5,null,null,null,null,"LO.U22.5150P",0.01,-0.12,266]
["2022-08-17",52,null,null,null,null,"LO.U22.5200P",0.01,0,237]
["2022-08-17",52.5,null,null,null,null,"LO.U22.5250P",0.01,0,48]
["2022-08-17",53,null,null,null,null,"LO.U22.5300P",0.01,0,333]
["2022-08-17",53.5,null,null,null,null,"LO.U22.5350P",0.01,-0.01,46]
["2022-08-17",54,"LO.U22.5400C",34.11,19.809999999999999,26,"LO.U22.5400P",0.01,0,191]
["2022-08-17",54.5,null,null,null,null,"LO.U22.5450P",0.01,-0.01,123]
["2022-08-17",55,"LO.U22.5500C",33.11,0.25,303,"LO.U22.5500P",0.01,0,5420]
["2022-08-17",55.5,"LO.U22.5550C",43.12,15.67,3,"LO.U22.5550P",0.01,0,573]
["2022-08-17",56,null,null,null,null,"LO.U22.5600P",0.01,-0.01,319]
["2022-08-17",56.5,"LO.U22.5650C",42.12,1.04,5,"LO.U22.5650P",0.01,-0.01,319]
["2022-08-17",57,"LO.U22.5700C",31.11,0.26,776,"LO.U22.5700P",0.01,-0.01,729]
["2022-08-17",57.5,"LO.U22.5750C",41.12,18.510000000000002,1,"LO.U22.5750P",0.01,0,107]
["2022-08-17",58,"LO.U22.5800C",40.619999999999997,16.899999999999999,5,"LO.U22.5800P",0.01,-0.01,689]
["2022-08-17",58.5,null,null,null,null,"LO.U22.5850P",0.01,-0.01,140]
["2022-08-17",59,null,null,null,null,"LO.U22.5900P",0.01,0,110]
["2022-08-17",59.5,"LO.U22.5950C",39.119999999999997,15.91,1,"LO.U22.5950P",0.01,0,314]
["2022-08-17",60,"LO.U22.6000C",28.11,0,950,"LO.U22.6000P",0.01,0,13559]
["2022-08-17",60.5,null,null,null,null,"LO.U22.6050P",0.01,-0.01,314]
["2022-08-17",61,"LO.U22.6100C",27.11,5.86,101,"LO.U22.6100P",0.01,0,154]
["2022-08-17",61.5,"LO.U22.6150C",26.61,15.59,84,"LO.U22.6150P",0.01,0.01,206]
["2022-08-17",62,"LO.U22.6200C",26.11,null,700,"LO.U22.6200P",0.01,0,1852]
["2022-08-17",62.5,"LO.U22.6250C",25.61,null,13,"LO.U22.6250P",0.01,0,409]
["2022-08-17",63,"LO.U22.6300C",25.11,null,24,"LO.U22.6300P",0.01,0,954]
["2022-08-17",63.5,"LO.U22.6350C",24.61,null,775,"LO.U22.6350P",0.01,0,249]
["2022-08-17",64,"LO.U22.6400C",24.11,null,1,"LO.U22.6400P",0.01,0,613]
["2022-08-17",64.5,"LO.U22.6450C",23.61,-0.16,33,"LO.U22.6450P",0.01,0,47]
["2022-08-17",65,"LO.U22.6500C",23.11,-0.86,2315,"LO.U22.6500P",0.01,0,7711]
["2022-08-17",65.5,"LO.U22.6550C",22.61,1,114,"LO.U22.6550P",0.01,0,151]
["2022-08-17",66,"LO.U22.6600C",22.11,2.09,86,"LO.U22.6600P",0.01,0,1074]
["2022-08-17",66.5,"LO.U22.6650C",21.61,-4.95,21,"LO.U22.6650P",0.01,0,290]
["2022-08-17",67,"LO.U22.6700C",21.11,0.22,131,"LO.U22.6700P",0.01,0,2601]
["2022-08-17",67.5,"LO.U22.6750C",20.61,-2.5499999999999998,253,"LO.U22.6750P",0.01,0,870]
["2022-08-17",68,"LO.U22.6800C",20.11,1.17,800,"LO.U22.6800P",0.01,0,1133]
["2022-08-17",68.5,"LO.U22.6850C",19.61,-4.8899999999999997,168,"LO.U22.6850P",0.01,0,215]
["2022-08-17",69,"LO.U22.6900C",19.11,-3.41,501,"LO.U22.6900P",0.01,0,1360]
["2022-08-17",69.5,"LO.U22.6950C",18.61,-2.33,257,"LO.U22.6950P",0.01,0,498]
["2022-08-17",70,"LO.U22.7000C",18.11,-4.33,7713,"LO.U22.7000P",0.01,0,12252]
["2022-08-17",70.5,"LO.U22.7050C",17.61,-3.49,7,"LO.U22.7050P",0.01,0,375]
["2022-08-17",71,"LO.U22.7100C",17.11,-0.77,37,"LO.U22.7100P",0.01,0,590]
["2022-08-17",71.5,"LO.U22.7150C",16.61,-4.72,104,"LO.U22.7150P",0.01,0,169]
["2022-08-17",72,"LO.U22.7200C",16.11,2.09,899,"LO.U22.7200P",0.01,0.01,1315]
["2022-08-17",72.5,"LO.U22.7250C",15.61,1.17,856,"LO.U22.7250P",0.02,-0.01,790]
["2022-08-17",73,"LO.U22.7300C",15.11,0.85,21,"LO.U22.7300P",0.02,-0.01,722]
["2022-08-17",73.5,"LO.U22.7350C",14.61,-2.73,1104,"LO.U22.7350P",0.02,-0.01,597]
["2022-08-17",74,"LO.U22.7400C",14.11,null,279,"LO.U22.7400P",0.02,0,577]
["2022-08-17",74.5,"LO.U22.7450C",13.61,-2.88,2052,"LO.U22.7450P",0.02,-0.02,832]
["2022-08-17",75,"LO.U22.7500C",13.11,-2.8,4527,"LO.U22.7500P",0.01,-0.01,5980]
["2022-08-17",75.5,"LO.U22.7550C",12.61,-1.23,927,"LO.U22.7550P",0.03,0.01,953]
["2022-08-17",76,"LO.U22.7600C",12.11,20.7,1,"LO.U22.7600P",0.03,0,945]
["2022-08-17",76.5,"LO.U22.7650C",11.61,-5.24,154,"LO.U22.7650P",0.03,-0.02,641]
["2022-08-17",77,"LO.U22.7700C",11.11,-2.71,183,"LO.U22.7700P",0.01,-0.03,1867]
["2022-08-17",77.5,"LO.U22.7750C",10.61,0.21,108,"LO.U22.7750P",0.01,-0.02,475]
["2022-08-17",78,"LO.U22.7800C",10.11,-3.37,884,"LO.U22.7800P",0.01,-0.03,5603]
["2022-08-17",78.5,"LO.U22.7850C",9.61,1.56,37,"LO.U22.7850P",0.01,-0.03,401]
["2022-08-17",79,"LO.U22.7900C",9.11,1.1200000000000001,155,"LO.U22.7900P",0.01,-0.03,951]
["2022-08-17",79.5,"LO.U22.7950C",8.61,-1.79,98,"LO.U22.7950P",0.01,-0.06,715]
["2022-08-17",80,"LO.U22.8000C",8.11,-0.2,6680,"LO.U22.8000P",0.01,-0.06,15762]
["2022-08-17",80.5,"LO.U22.8050C",7.61,1.36,14,"LO.U22.8050P",0.01,-7.0000000000000007E-2,536]
["2022-08-17",81,"LO.U22.8100C",7.11,-2.2000000000000002,210,"LO.U22.8100P",0.01,-0.08,2580]
["2022-08-17",81.5,"LO.U22.8150C",6.61,0.49,103,"LO.U22.8150P",0.01,-0.09,695]
["2022-08-17",82,"LO.U22.8200C",6.11,1.21,705,"LO.U22.8200P",0.01,-0.1,3142]
["2022-08-17",82.5,"LO.U22.8250C",5.61,1.33,107,"LO.U22.8250P",0.01,-0.13,1162]
["2022-08-17",83,"LO.U22.8300C",5.1100000000000003,-4.8600000000000003,251,"LO.U22.8300P",0.02,-0.12,1350]
["2022-08-17",83.5,"LO.U22.8350C",4.6100000000000003,-2.17,343,"LO.U22.8350P",0.04,-0.18,912]
["2022-08-17",84,"LO.U22.8400C",4.1100000000000003,-1.22,1008,"LO.U22.8400P",0.01,-0.25,2689]
["2022-08-17",84.5,"LO.U22.8450C",3.61,-1.55,379,"LO.U22.8450P",0.01,-0.43,1055]
["2022-08-17",85,"LO.U22.8500C",3.11,0.05,6010,"LO.U22.8500P",0.01,-0.39,11252]
["2022-08-17",85.5,"LO.U22.8550C",2.61,0.12,126,"LO.U22.8550P",0.01,-0.52,917]
["2022-08-17",86,"LO.U22.8600C",2.11,0.5,371,"LO.U22.8600P",0.01,-0.7,1299]
["2022-08-17",86.5,"LO.U22.8650C",1.61,-0.25,871,"LO.U22.8650P",0.01,-0.87,1863]
["2022-08-17",87,"LO.U22.8700C",1.1100000000000001,0.1,503,"LO.U22.8700P",0.01,-1.0900000000000001,1908]
["2022-08-17",87.5,"LO.U22.8750C",0.61,-0.35,406,"LO.U22.8750P",0.01,-1.49,546]
["2022-08-17",88,"LO.U22.8800C",0.11,-0.35,1509,"LO.U22.8800P",0.1,-1.67,1274]
["2022-08-17",88.5,"LO.U22.8850C",0.03,-0.56999999999999995,592,"LO.U22.8850P",0.39,-1.93,1189]
["2022-08-17",89,"LO.U22.8900C",0.01,-0.47,1237,"LO.U22.8900P",0.89,-1.42,1299]
["2022-08-17",89.5,"LO.U22.8950C",0.01,-0.33,379,"LO.U22.8950P",1.39,-2.0699999999999998,704]
["2022-08-17",90,"LO.U22.9000C",0.01,-0.28999999999999998,10390,"LO.U22.9000P",1.89,-1.21,12439]
["2022-08-17",90.5,"LO.U22.9050C",0.02,-0.2,1114,"LO.U22.9050P",2.39,-0.75,939]
["2022-08-17",91,"LO.U22.9100C",0.01,-0.17,1415,"LO.U22.9100P",2.89,-1.69,1175]
["2022-08-17",91.5,"LO.U22.9150C",0.01,-0.14000000000000001,275,"LO.U22.9150P",3.39,-0.33,754]
["2022-08-17",92,"LO.U22.9200C",0.01,-0.1,3377,"LO.U22.9200P",3.89,-0.32,1009]
["2022-08-17",92.5,"LO.U22.9250C",0.01,-0.08,767,"LO.U22.9250P",4.3899999999999997,-0.94,672]
["2022-08-17",93,"LO.U22.9300C",0.01,-0.03,1414,"LO.U22.9300P",4.8899999999999997,-0.19,1420]
["2022-08-17",93.5,"LO.U22.9350C",0.01,-0.06,1706,"LO.U22.9350P",5.39,0.37,422]
["2022-08-17",94,"LO.U22.9400C",0.01,-0.04,2355,"LO.U22.9400P",5.89,-0.65,1668]
["2022-08-17",94.5,"LO.U22.9450C",0.01,-0.02,729,"LO.U22.9450P",6.39,0.18,352]
["2022-08-17",95,"LO.U22.9500C",0.01,-0.01,7251,"LO.U22.9500P",6.89,1.92,6008]
["2022-08-17",95.5,"LO.U22.9550C",0.01,-0.02,1486,"LO.U22.9550P",7.39,-3.2,548]
["2022-08-17",96,"LO.U22.9600C",0.02,0,2362,"LO.U22.9600P",7.89,0.43,1422]
["2022-08-17",96.5,"LO.U22.9650C",0.01,-0.01,765,"LO.U22.9650P",8.39,4.8,1149]
["2022-08-17",97,"LO.U22.9700C",0.02,-0.01,2337,"LO.U22.9700P",8.89,-0.38,1737]
["2022-08-17",97.5,"LO.U22.9750C",0.02,-0.03,1524,"LO.U22.9750P",9.39,2.84,329]
["2022-08-17",98,"LO.U22.9800C",0.01,0,2309,"LO.U22.9800P",9.89,-1.73,1571]
["2022-08-17",98.5,"LO.U22.9850C",0.01,-0.01,856,"LO.U22.9850P",10.39,-1.36,793]
["2022-08-17",99,"LO.U22.9900C",0.01,-0.02,2002,"LO.U22.9900P",10.89,2.73,685]
["2022-08-17",99.5,"LO.U22.9950C",0.01,-0.03,435,"LO.U22.9950P",11.39,-1.67,312]
["2022-08-17",100,"LO.U22.10000C",0.01,0,11219,"LO.U22.10000P",11.89,-0.2,8112]
["2022-08-17",100.5,"LO.U22.10050C",0.01,-0.03,657,"LO.U22.10050P",12.39,2.93,326]
["2022-08-17",101,"LO.U22.10100C",0.01,-0.02,3531,"LO.U22.10100P",12.89,4.72,892]
["2022-08-17",101.5,"LO.U22.10150C",0.01,0,1342,"LO.U22.10150P",13.39,0.3,550]
["2022-08-17",102,"LO.U22.10200C",0.01,-0.02,1527,"LO.U22.10200P",13.89,4.46,580]
["2022-08-17",102.5,"LO.U22.10250C",0.01,-0.03,1148,"LO.U22.10250P",14.39,5.53,451]
["2022-08-17",103,"LO.U22.10300C",0.01,-0.01,1595,"LO.U22.10300P",14.89,0.18,652]
["2022-08-17",103.5,"LO.U22.10350C",0.01,-0.01,973,"LO.U22.10350P",15.39,-1.79,308]
["2022-08-17",104,"LO.U22.10400C",0.01,0,1240,"LO.U22.10400P",15.89,3.4,562]
["2022-08-17",104.5,"LO.U22.10450C",0.01,-0.01,1244,"LO.U22.10450P",16.39,0.61,1474]
["2022-08-17",105,"LO.U22.10500C",0.01,0,10075,"LO.U22.10500P",16.89,0.28999999999999998,1786]
["2022-08-17",105.5,"LO.U22.10550C",0.01,-0.01,712,"LO.U22.10550P",17.39,3.23,673]
["2022-08-17",106,"LO.U22.10600C",0.01,-0.01,5392,"LO.U22.10600P",17.89,0.94,350]
["2022-08-17",106.5,"LO.U22.10650C",0.01,-0.01,1099,"LO.U22.10650P",18.39,-0.41,488]
["2022-08-17",107,"LO.U22.10700C",0.01,-0.01,990,"LO.U22.10700P",18.89,4.21,245]
["2022-08-17",107.5,"LO.U22.10750C",0.01,-0.02,994,"LO.U22.10750P",19.39,-3.23,368]
["2022-08-17",108,"LO.U22.10800C",0.01,-0.01,2266,"LO.U22.10800P",19.89,-1.76,805]
["2022-08-17",108.5,"LO.U22.10850C",0.01,-0.03,1156,"LO.U22.10850P",20.39,-0.1,97]
["2022-08-17",109,"LO.U22.10900C",0.01,-0.01,1709,"LO.U22.10900P",20.89,4.0999999999999996,606]
["2022-08-17",109.5,"LO.U22.10950C",0.01,-0.01,607,"LO.U22.10950P",21.39,2.64,41]
["2022-08-17",110,"LO.U22.11000C",0.01,-0.01,7904,"LO.U22.11000P",21.89,-7.0000000000000007E-2,2167]
["2022-08-17",110.5,"LO.U22.11050C",0.01,0,1269,"LO.U22.11050P",22.39,3.44,165]
["2022-08-17",111,"LO.U22.11100C",0.01,0,1819,"LO.U22.11100P",22.89,3.99,652]
["2022-08-17",111.5,"LO.U22.11150C",0.01,-0.01,973,"LO.U22.11150P",23.39,3.77,317]
["2022-08-17",112,"LO.U22.11200C",0.01,-0.01,1296,"LO.U22.11200P",23.89,-0.36,327]
["2022-08-17",112.5,"LO.U22.11250C",0.01,-0.01,1098,"LO.U22.11250P",24.39,0.17,407]
["2022-08-17",113,"LO.U22.11300C",0.01,-0.01,1150,"LO.U22.11300P",24.89,0.81,318]
["2022-08-17",113.5,"LO.U22.11350C",0.01,0,524,"LO.U22.11350P",25.39,-0.8,86]
["2022-08-17",114,"LO.U22.11400C",0.01,-0.01,774,"LO.U22.11400P",25.89,3.88,301]
["2022-08-17",114.5,"LO.U22.11450C",0.01,-0.01,476,"LO.U22.11450P",26.39,-1.53,124]
["2022-08-17",115,"LO.U22.11500C",0.01,0,6155,"LO.U22.11500P",26.89,1.5,910]
["2022-08-17",115.5,"LO.U22.11550C",0.01,0,648,"LO.U22.11550P",27.39,4.5,63]
["2022-08-17",116,"LO.U22.11600C",0.01,0,1305,"LO.U22.11600P",27.89,0.28999999999999998,1051]
["2022-08-17",116.5,"LO.U22.11650C",0.01,0,280,"LO.U22.11650P",28.39,-2.08,74]
["2022-08-17",117,"LO.U22.11700C",0.01,0,1044,"LO.U22.11700P",28.89,-0.88,75]
["2022-08-17",117.5,"LO.U22.11750C",0.01,0,737,"LO.U22.11750P",29.39,4.25,98]
["2022-08-17",118,"LO.U22.11800C",0.01,0,3255,"LO.U22.11800P",29.89,-0.23,76]
["2022-08-17",118.5,"LO.U22.11850C",0.01,0,375,"LO.U22.11850P",30.39,3.46,5]
["2022-08-17",119,"LO.U22.11900C",0.01,0,1295,"LO.U22.11900P",30.89,-1.38,21]
["2022-08-17",119.5,"LO.U22.11950C",0.01,0.01,137,"LO.U22.11950P",31.39,-5.8,39]
["2022-08-17",120,"LO.U22.12000C",0.01,0,14713,"LO.U22.12000P",31.89,-0.84,311]
["2022-08-17",120.5,"LO.U22.12050C",0.01,-0.01,844,"LO.U22.12050P",32.39,4.5599999999999996,5]
["2022-08-17",121,"LO.U22.12100C",0.01,-0.01,2283,"LO.U22.12100P",26.65,5.69,1]
["2022-08-17",121.5,"LO.U22.12150C",0.01,-0.01,951,"LO.U22.12150P",33.39,-0.61,1]
["2022-08-17",122,"LO.U22.12200C",0.01,0,751,"LO.U22.12200P",33.89,-1.0900000000000001,22]
["2022-08-17",122.5,"LO.U22.12250C",0.01,0,221,"LO.U22.12250P",34.39,4.18,1]
["2022-08-17",123,"LO.U22.12300C",0.01,0,637]
["2022-08-17",123.5,"LO.U22.12350C",0.01,0,546,"LO.U22.12350P",35.39,28.91,1]
["2022-08-17",124,"LO.U22.12400C",0.01,0,498]
["2022-08-17",124.5,"LO.U22.12450C",0.01,0,509,"LO.U22.12450P",36.39,5.1100000000000003,25]
["2022-08-17",125,"LO.U22.12500C",0.01,0,7516,"LO.U22.12500P",36.89,0.3,3]
["2022-08-17",125.5,"LO.U22.12550C",0.01,0,259,"LO.U22.12550P",33.57,22.1,1]
["2022-08-17",126,"LO.U22.12600C",0.01,0,865,"LO.U22.12600P",34.07,1.94,2]
["2022-08-17",126.5,"LO.U22.12650C",0.01,0,392,"LO.U22.12650P",38.39,32.549999999999997,1]
["2022-08-17",127,"LO.U22.12700C",0.01,0,497]
["2022-08-17",127.5,"LO.U22.12750C",0.01,0,236,"LO.U22.12750P",39.39,-3.78,3]
["2022-08-17",128,"LO.U22.12800C",0.01,0,2433]
["2022-08-17",128.5,"LO.U22.12850C",0.01,0,990]
["2022-08-17",129,"LO.U22.12900C",0.01,0,1667,"LO.U22.12900P",40.89,-0.95,4]
["2022-08-17",129.5,"LO.U22.12950C",0.01,0,158,"LO.U22.12950P",41.39,-3.79,4]
["2022-08-17",130,"LO.U22.13000C",0.01,0,5042,"LO.U22.13000P",41.89,3.28,35]
["2022-08-17",130.5,"LO.U22.13050C",0.01,0,112,"LO.U22.13050P",42.39,-4.1399999999999997,2]
["2022-08-17",131,"LO.U22.13100C",0.01,0,330,"LO.U22.13100P",42.89,-2.31,5]
["2022-08-17",131.5,"LO.U22.13150C",0.01,0,338,"LO.U22.13150P",43.39,3.94,1]
["2022-08-17",132,"LO.U22.13200C",0.01,0,378,"LO.U22.13200P",43.89,33.67,1]
["2022-08-17",132.5,"LO.U22.13250C",0.01,0,520,"LO.U22.13250P",44.39,18.940000000000001,1]
["2022-08-17",133,"LO.U22.13300C",0.01,-0.01,178,"LO.U22.13300P",44.89,-0.13,1]
["2022-08-17",133.5,"LO.U22.13350C",0.01,0,174,"LO.U22.13350P",45.39,28.34,1]
["2022-08-17",134,"LO.U22.13400C",0.01,-0.01,228]
["2022-08-17",134.5,"LO.U22.13450C",0.01,-0.02,233,"LO.U22.13450P",46.39,37.64,1]
["2022-08-17",135,"LO.U22.13500C",0.01,0,3149,"LO.U22.13500P",40.659999999999997,-1.65,1]
["2022-08-17",135.5,"LO.U22.13550C",0.01,0,298]
["2022-08-17",137.5,"LO.U22.13750C",0.01,-0.02,76]
["2022-08-17",140,"LO.U22.14000C",0.01,0,5796,"LO.U22.14000P",51.89,0.24,1]
["2022-08-17",142.5,"LO.U22.14250C",0.01,0.01,193,"LO.U22.14250P",54.39,0.89,1]
["2022-08-17",145,"LO.U22.14500C",0.01,0,1625,"LO.U22.14500P",56.89,-2.02,1]
["2022-08-17",147.5,"LO.U22.14750C",0.01,0.01,267,"LO.U22.14750P",53.16,50.13,2]
["2022-08-17",150,"LO.U22.15000C",0.01,0,7388,"LO.U22.15000P",61.89,4.75,64]
["2022-08-17",152.5,"LO.U22.15250C",0.01,-0.02,58]
["2022-08-17",155,"LO.U22.15500C",0.01,0.01,4558,"LO.U22.15500P",64.5,53.4,1]
["2022-08-17",157.5,"LO.U22.15750C",0.01,0,34]
["2022-08-17",160,"LO.U22.16000C",0.01,0,4649,"LO.U22.16000P",65.3,66.709999999999994,5]
["2022-08-17",162.5,"LO.U22.16250C",0.01,0,15,"LO.U22.16250P",67.8,69.11,1]
["2022-08-17",165,"LO.U22.16500C",0.01,0,1571,"LO.U22.16500P",76.89,-27.34,1]
["2022-08-17",167.5,"LO.U22.16750C",0.01,0,247,"LO.U22.16750P",86.91,-1.19]
["2022-08-17",170,"LO.U22.17000C",0.01,0,929]
["2022-08-17",172.5,"LO.U22.17250C",0.01,0.01,67]
["2022-08-17",175,"LO.U22.17500C",0.01,0,926]
["2022-08-17",177.5,"LO.U22.17750C",0.01,0.01,434]
["2022-08-17",180,"LO.U22.18000C",0.01,0,463]
["2022-08-17",182.5,"LO.U22.18250C",0.01,0,54]
["2022-08-17",185,"LO.U22.18500C",0.01,0,749]
["2022-08-17",190,"LO.U22.19000C",0.01,0,670]
["2022-08-17",195,"LO.U22.19500C",0.01,0,238]
["2022-08-17",200,"LO.U22.20000C",0.01,0,1294]
["2022-08-17",205,"LO.U22.20500C",0.01,0,203]
["2022-08-17",210,"LO.U22.21000C",0.01,0,407,"LO.U22.21000P",119.5,-0.49,13]
["2022-08-17",215,"LO.U22.21500C",0.01,-0.01,382,"LO.U22.21500P",124.5,0.34,10]
["2022-08-17",220,"LO.U22.22000C",0.01,-0.01,168,"LO.U22.22000P",129.5,-0.89,10]
["2022-08-17",225,"LO.U22.22500C",0.01,0,282,"LO.U22.22500P",134.5,3.2,11]
["2022-08-17",230,"LO.U22.23000C",0.01,0,198,"LO.U22.23000P",139.5,-0.68,5]
["2022-08-17",235,"LO.U22.23500C",0.01,0,125,"LO.U22.23500P",146.88999999999999,-1.26,1]